{"text_format":"1","workbook":"xlsx","n_sheets":26,"sheets":["Results 16","Results 2014","Scratch Final 13","Points 2014","Points","Stats","Age Adjustments","Fastest times","Counting Results (2015)","Team (2015)","Individual (2015)","Points (2015)","Scratch (2015)","Results 2015","Scratch 2014","Rota 2014","Accounts","Scratch 13","Points 13","Results 2013","Points 2012","2011&12","Results 12 & 13","Rota 13","Club 10","Scratch Comps"],"not_rendered":{"charts":1,"images":8,"macros":1,"external_links":0,"defined_names":28,"comments":2,"pivot_tables":0},"unopened":[],"bounds":{"document_bytes":16777216,"sheet_cells":100000,"rows_first":2000,"rows_last":500,"rows_between":2000,"halvings":0,"cell_chars":16384,"cell_head_chars":4096},"cells_cut":0,"cells_raw":0,"read":"whole","date_system":"1900"}

{"sheet":"Results 16","index":0,"n_rows":940,"n_cols":18,"rows_kept":940,"cut":false,"hidden":true,"merged":[[258,2,258,3],[56,2,56,3],[74,2,74,3],[122,2,122,3],[147,2,147,3],[207,2,207,3],[454,2,454,3],[408,2,408,3],[376,2,376,3],[330,2,330,3],[276,2,276,3]]}
[1,1,null,null,"00:01:00",null,null,null," "]
[2,{"$f":"IF(F2=F1,\"=\",A2)","v":"="},null,null,null,null,null,null,"http://www.swindon-rc.co.uk/documents/Scratch.pdf"]
[3,{"$f":"IF(F3=F2,\"=\",A3)","v":"="},null,null,null,null,null,null,"prohost19.34sp.com"]
[null,null,null,null,null,null,null,null,"swindonrccouk"]
[null,null,null,null,null,null,null,null,"wobble99"]
[null,null,null,null,null,null,null,null,"http://www.swindon-rc.co.uk/documents/Rota.pdf"]
[]
[null,null,"Prologue - 14 April 2016",null,"Split Time","Total Time","m.p.h."]
[1,1,"Dan Guest","Performance Cycles","00:10:52","00:21:01",28.548770816812056]
[2,{"$f":"IF(F10=F9,\"=\",A10)","v":2},"Matt Woods","Performance Cycles","00:11:28","00:21:31",27.885360185902403]
[3,{"$f":"IF(F11=F10,\"=\",A11)","v":3},"James Stewart","Performance Cycles","00:11:24","00:21:44",27.607361963190186]
[4,{"$f":"IF(F12=F11,\"=\",A12)","v":4},"Niel Dunnage","Swindon RC","00:11:45","00:22:29",26.686434395848778]
[5,5,"Alex King","Performance Cycles","00:11:49","00:22:34",26.587887740029544]
[6,6,"Peter Garnett","Swindon RC","00:11:54","00:22:55",26.181818181818187]
[7,7,"Henry Slade","Performance Cycles","00:12:04","00:23:12",25.862068965517242]
[8,8,"Rory Gilling","Performance Cycles","00:12:19","00:23:24",25.641025641025639]
[9,9,"Jim Curry","Performance Cycles","00:12:11","00:23:31",25.513819985825652]
[10,10,"Alex Willis","Performance Cycles","00:12:23","00:23:35",25.441696113074205]
[11,11,"Giles White","Sherwood CC","00:12:28","00:23:54",25.104602510460253]
[12,12,"Gary Smith","Ride 24/7","00:12:17","00:24:02",24.965325936199722]
[13,13,"Tom Denley","Performance Cycles","00:12:23","00:24:11",24.810475534114406]
[14,14,"Gethin Musk","Performance Cycles","00:12:44","00:24:25",24.573378839590447]
[15,15,"Mitch Evans","Ride 24/7","00:12:45","00:24:26",24.556616643929058]
[16,16,"Tom Sewell","Cotswold Veldrijden","00:12:55","00:24:31",24.47314751869477]
[17,17,"Ewen Lewis","Swindon Wheelers","00:12:47","00:24:39",24.340770791075055]
[18,18,"Joe Barry","Performance Cycles","00:12:56","00:24:44",24.258760107816713]
[19,19,"Andy McIntyre","Performance Cycles","00:13:27","00:25:15",23.762376237623766]
[20,20,"Bryan Telford","Team Swindon Cycles","00:12:57","00:25:18",23.715415019762847]
[21,21,"Archie Scott","Cotswold Veldrijden","00:13:17","00:25:24",23.622047244094489]
[22,22,"Sarah Gunn","Performance Cycles","00:13:25","00:25:33",23.483365949119374]
[23,"=","Pete Jeans","Swindon RC","00:13:25","00:25:33",23.483365949119374]
[24,24,"Harriet Guest","Performance Cycles","00:13:15","00:25:38",23.407022106631988]
[25,25,"Jeff Smith","Swindon RC","00:13:31","00:25:43",23.331173039533379]
[26,26,"Les Sheppard","Swindon Wheelers","00:13:26","00:25:55",23.15112540192926]
[27,27,"John Simmons","Performance Cycles","00:13:31","00:25:56",23.136246786632388]
[28,28,"Tom Radburn","Veloton","00:13:37","00:25:59",23.091725465041694]
[29,29,"Alex Foyn","Corinium CC","00:13:21","00:26:00",23.07692307692308]
[30,30,"Marc Allen","Swindon RC","00:14:02","00:26:32",22.613065326633166]
[31,31,"Martin Mason","Performance Cycles","00:14:08","00:26:56",22.277227722772281]
[32,32,"Paul Fuchs","Corinium CC","00:14:07","00:27:01",22.208513263417643]
[33,33,"Wendy Nicholls","Kinetic One","00:14:06","00:27:03",22.181146025878007]
[34,34,"Bernie Beale","Swindon RC","00:14:19","00:27:14",22.031823745410037]
[35,35,"Mike Brien","Swindon Wheelers","00:14:31","00:28:02",21.403091557669441]
[36,36,"Allan Semple","SRC","00:14:31","00:28:17",21.213906894519742]
[37,37,"Allan Norwood","Corinium CC","00:15:06","00:29:00",20.689655172413797]
[38,38,"Katie Scott","Swindon RC","00:15:06","00:29:03",20.654044750430291]
[39,39,"Adam Worrall",0,"00:15:50","00:30:28",19.693654266958426]
[40,40,"Steve Dearlove","Swindon RC","00:15:50","00:30:29",19.682886823400768]
[41,41,"Chris Brooks","Swindon Wheelers","00:16:00","00:30:49",19.469983775013521]
[42,42,"Mandy Scott","Cotswold Veldrijden","00:16:34","00:31:41",18.937401367701209]
[43,43,"Paul Wood","Swindon Wheelers","00:16:27","00:32:03",18.720748829953198]
[44,44,"Lew Lawton",0,"00:16:39","00:32:06",18.691588785046729]
[45,45,"Carol Clarke","Performance Cycles","00:17:06","00:32:27",18.489984591679509]
[46,46,"Darren Harrisson","Swindon Wheelers","00:15:58","00:32:30",18.461538461538463]
[47,47,"Annie Pegler","Corinium CC","00:17:10","00:33:13",18.063221274460613]
[48,48,"Neil Lewis","Swindon RC","00:17:15","00:33:27",17.937219730941706]
[null,null,"Wroughton - Beckhampton 17 April 2016",null,null,"Time","m.p.h."]
[1,1,"Danny Smith","Swindon RC","","00:45:14",23.212969786293296]
[2,{"$f":"IF(F59=F58,\"=\",A59)","v":2},"Peter Garnett","Swindon RC","","00:45:29",23.085379259802124]
[3,{"$f":"IF(F60=F59,\"=\",A60)","v":3},"Malcolm Walklett","Swindon RC","","00:45:45",22.95081967213115]
[4,{"$f":"IF(F61=F60,\"=\",A61)","v":4},"Neil Hancock","Swindon RC","","00:46:45",22.459893048128347]
[5,5,"Les Liddiard","Swindon RC","","00:47:20",22.183098591549296,null,{"$f":"IF(COUNTIF(#REF!,'Results 16'!#REF!)>COUNTIF(Points!$C$10:$C$86,'Results 16'!#REF!),\"Not on Comps\",\"\")","v":{"$error":"#REF!"}}]
[6,6,"Jeff Smith","Swindon RC","","00:48:23",21.701687909059597]
[7,7,"Richard Craig","Swindon RC","","00:48:36",21.60493827160494]
[8,8,"Pete Collins","Swindon RC","","00:48:52",21.487039563437929]
[9,9,"Roy Carless","Swindon RC","","00:49:18",21.298174442190675]
[10,10,"Chris Broad-Drake","Swindon RC","","00:49:31",21.204981487714576]
[11,11,"Ed Goss","Swindon RC","","00:49:53",21.049114600735049]
[12,"=","Pete Jeans","Team Swindon Cycles","","00:49:53",21.049114600735049]
[13,13,"Marc Allen","Swindon RC","","00:50:26",20.819563780568412]
[14,14,"Mick Murkin","Swindon RC","","00:53:12",19.736842105263161]
[15,15,"Gary Vickery","Swindon RC","","00:53:27",19.644527595884004]
[16,16,"Dave Gibson","Swindon RC","","01:01:56",16.953713670613563]
[17,17,"Lew Lawton","Swindon RC","","01:04:13",16.350895406177006]
[null,null,"2016-04-21",null,"Split Time","Total Time","m.p.h."]
[1,1,"James Stewart","Performance Cycles","00:11:09","00:21:20",28.125]
[2,{"$f":"IF(F77=F76,\"=\",A77)","v":2},"Pete Hutchinson","Cotswold Veldrijden","00:11:40","00:22:15",26.966292134831463]
[3,{"$f":"IF(F78=F77,\"=\",A78)","v":3},"Jacob Pilkington","Performance Cycles","00:11:40","00:22:16",26.946107784431138]
[4,{"$f":"IF(F79=F78,\"=\",A79)","v":4},"Niel Dunnage","Cotswold Veldrijden","00:11:39","00:22:27",26.726057906458795,null,{"$f":"IF(COUNTIF(#REF!,'Results 16'!#REF!)>COUNTIF(Points!$C$10:$C$86,'Results 16'!#REF!),\"Not on Comps\",\"\")","v":{"$error":"#REF!"}}]
[5,5,"Peter Garnett","Swindon RC","00:11:44","00:22:31",26.646928201332347]
[6,6,"Alex King","Performance Cycles","00:11:47","00:22:36",26.548672566371682]
[7,7,"Chris Wood","Performance Cycles","00:12:08","00:23:29",25.5500354861604]
[8,8,"Gethin Musk","Performance Cycles","00:12:29","00:23:46",25.245441795231415]
[9,"=","Richard Cooper","Swindon RC","00:12:19","00:23:46",25.245441795231415]
[10,10,"Gary Smith","Ride 24/7","00:12:18","00:23:49",25.192442267319805]
[11,11,"Tom Denley","Performance Cycles","00:12:37","00:24:09",24.844720496894411]
[12,12,"Jason Costello","Team Swindon Cycles","00:12:36","00:24:23",24.606971975393034]
[13,13,"Mick Sharratt","73 Degrees Bikes","00:12:49","00:24:43",24.275118004045854]
[14,14,"Joe Barry","Performance Cycles","00:12:55","00:24:49",24.177300201477504]
[15,15,"Matt Seddon","Performance Cycles","00:12:51","00:24:51",24.144869215291752]
[16,16,"Pete Jeans","Team Swindon Cycles","00:13:06","00:25:00",24]
[17,17,"Bryan Telford","Team Swindon Cycles","00:12:49","00:25:01",23.984010659560294]
[18,18,"Tom Radburn","Veloton","00:13:13","00:25:18",23.715415019762847]
[19,19,"Steve Buckley","Ride 24/7","00:13:13","00:25:19",23.69980250164582]
[20,20,"Rowan Brown","Swindon Wheelers","00:13:24","00:25:44",23.316062176165804]
[21,21,"Les Sheppard","Swindon Wheelers","00:13:27","00:25:49",23.240800516462233]
[22,22,"John Simmons","Performance Cycles","00:13:31","00:25:52",23.195876288659793]
[23,23,"Dave Gibson","Swindon RC","00:13:31","00:25:54",23.166023166023169]
[24,24,"Alex Foyn","Corinium CC","00:13:21","00:25:56",23.136246786632388]
[25,25,"Marc Allen","Swindon RC","00:13:51","00:26:00",23.07692307692308]
[26,26,"Mark Foyn","Corinium CC","00:13:41","00:26:15",22.857142857142861]
[27,27,"Ady Short","Swindon Wheelers","00:13:42","00:26:19",22.799240025332491]
[28,28,"Andrew Telling","Performance Cycles","00:13:42","00:26:32",22.613065326633166]
[29,29,"Paul Fuchs","Corinium CC","00:13:57","00:26:47",22.401991288114502]
[30,30,"Kevin Lister","Corinium CC","00:13:51","00:26:54",22.304832713754649]
[31,31,"Ben Gamsa","Performance Cycles","00:14:02","00:26:56",22.277227722772281]
[32,32,"Gerry Peppin","Corinium CC","00:14:03","00:27:07",22.126613398893671]
[33,33,"Stephen Chapman","Corinium CC","00:14:03","00:27:10",22.085889570552151]
[34,34,"Ben Hunt","Performance Cycles","00:14:05","00:27:11",22.072348252605764]
[35,35,"Mike Brien","Swindon Wheelers","00:14:16","00:27:40",21.686746987951807]
[36,36,"Allan Semple","Swindon RC","","00:27:41",21.673690547862734]
[37,37,"Chris Kane","Swindon Wheelers","00:14:26","00:27:45",21.621621621621625]
[38,38,"Tom List","Swindon RC","00:15:00","00:28:39",20.942408376963353]
[39,39,"Nick Fiore","Cotswold Veldrijden","00:14:50","00:28:47",20.84539664157499]
[40,40,"Kyle Wallace","Cotswold Veldrijden","00:15:04","00:28:50",20.809248554913296]
[41,41,"Charlotte Berry","Performance Cycles","00:15:36","00:29:45",20.168067226890756,null,{"$f":"IF(COUNTIF(#REF!,'Results 16'!#REF!)>COUNTIF(Points!$C$10:$C$86,'Results 16'!#REF!),\"Not on Comps\",\"\")","v":{"$error":"#REF!"}}]
[42,42,"Adam Worrall","Swindon Wheelers","00:15:57","00:30:54",19.417475728155342,null,{"$f":"IF(COUNTIF(#REF!,'Results 16'!#REF!)>COUNTIF(Points!$C$10:$C$86,'Results 16'!#REF!),\"Not on Comps\",\"\")","v":{"$error":"#REF!"}}]
[43,43,"Denis Hedges","Corinium CC","00:16:20","00:31:52",18.82845188284519,null,{"$f":"IF(COUNTIF(#REF!,'Results 16'!#REF!)>COUNTIF(Points!$C$10:$C$86,'Results 16'!#REF!),\"Not on Comps\",\"\")","v":{"$error":"#REF!"}}]
[44,44,"Paul Wood","Swindon Wheelers","00:16:40","00:32:35",18.414322250639387,null,{"$f":"IF(COUNTIF(#REF!,'Results 16'!#REF!)>COUNTIF(Points!$C$10:$C$86,'Results 16'!#REF!),\"Not on Comps\",\"\")","v":{"$error":"#REF!"}}]
[45,45,"Annie Pegler","Corinium CC","00:17:09","00:33:14",18.054162487462388,null,{"$f":"IF(COUNTIF(#REF!,'Results 16'!#REF!)>COUNTIF(Points!$C$10:$C$86,'Results 16'!#REF!),\"Not on Comps\",\"\")","v":{"$error":"#REF!"}}]
[46,46,"Ross Gregory","Corinium CC","00:17:11","00:33:18",18.018018018018019,null,{"$f":"IF(COUNTIF(#REF!,'Results 16'!#REF!)>COUNTIF(Points!$C$10:$C$86,'Results 16'!#REF!),\"Not on Comps\",\"\")","v":{"$error":"#REF!"}}]
[47,47,"Howard Seward","Swindon RC","00:16:03","00:35:46",16.775396085740915,null,{"$f":"IF(COUNTIF(#REF!,'Results 16'!#REF!)>COUNTIF(Points!$C$10:$C$86,'Results 16'!#REF!),\"Not on Comps\",\"\")","v":{"$error":"#REF!"}}]
[null,null,"2016-04-28",null,"Split Time","Total Time","m.p.h.",null,{"$f":"IF(COUNTIF(#REF!,'Results 16'!#REF!)>COUNTIF(Points!$C$10:$C$86,'Results 16'!#REF!),\"Not on Comps\",\"\")","v":{"$error":"#REF!"}}]
[1,1,"Dan Guest","Performance Cycles","00:11:01","00:21:15",28.235294117647058,null,{"$f":"IF(COUNTIF(#REF!,'Results 16'!#REF!)>COUNTIF(Points!$C$10:$C$86,'Results 16'!#REF!),\"Not on Comps\",\"\")","v":{"$error":"#REF!"}}]
[2,{"$f":"IF(F125=F124,\"=\",A125)","v":2},"Pete Hutchinson","Cotswold Veldrijden","00:11:49","00:22:38",26.50957290132548,null,{"$f":"IF(COUNTIF(#REF!,'Results 16'!#REF!)>COUNTIF(Points!$C$10:$C$86,'Results 16'!#REF!),\"Not on Comps\",\"\")","v":{"$error":"#REF!"}}]
[3,{"$f":"IF(F126=F125,\"=\",A126)","v":3},"Niel Dunnage","Cotswold Veldrijden","00:12:09","00:23:03",26.03036876355748,null,{"$f":"IF(COUNTIF(#REF!,'Results 16'!#REF!)>COUNTIF(Points!$C$10:$C$86,'Results 16'!#REF!),\"Not on Comps\",\"\")","v":{"$error":"#REF!"}}]
[4,{"$f":"IF(F127=F126,\"=\",A127)","v":4},"Gethin Musk","Performance Cycles","00:12:36","00:24:10",24.827586206896555,null,{"$f":"IF(COUNTIF(#REF!,'Results 16'!#REF!)>COUNTIF(Points!$C$10:$C$86,'Results 16'!#REF!),\"Not on Comps\",\"\")","v":{"$error":"#REF!"}}]
[5,5,"Tom Denley","Performance Cycles","00:12:36","00:24:21",24.640657084188913,null,{"$f":"IF(COUNTIF(#REF!,'Results 16'!#REF!)>COUNTIF(Points!$C$10:$C$86,'Results 16'!#REF!),\"Not on Comps\",\"\")","v":{"$error":"#REF!"}}]
[6,6,"Matt Seddon","Performance Cycles","00:12:48","00:24:24",24.590163934426233,null,{"$f":"IF(COUNTIF(#REF!,'Results 16'!#REF!)>COUNTIF(Points!$C$10:$C$86,'Results 16'!#REF!),\"Not on Comps\",\"\")","v":{"$error":"#REF!"}}]
[7,7,"Bryan Telford","Team Swindon Cycles","00:13:05","00:25:10",23.841059602649008,null,{"$f":"IF(COUNTIF(#REF!,'Results 16'!#REF!)>COUNTIF(Points!$C$10:$C$86,'Results 16'!#REF!),\"Not on Comps\",\"\")","v":{"$error":"#REF!"}}]
[8,8,"Mick Sharratt","Swindon RC","00:13:19","00:25:31",23.514043109079036,null,{"$f":"IF(COUNTIF(#REF!,'Results 16'!#REF!)>COUNTIF(Points!$C$10:$C$86,'Results 16'!#REF!),\"Not on Comps\",\"\")","v":{"$error":"#REF!"}}]
[9,9,"Lewis Braithwaite","Ride 24/7","00:13:22","00:25:42",23.346303501945524,null,{"$f":"IF(COUNTIF(#REF!,'Results 16'!#REF!)>COUNTIF(Points!$C$10:$C$86,'Results 16'!#REF!),\"Not on Comps\",\"\")","v":{"$error":"#REF!"}}]
[10,10,"Ewen Lewis","Swindon Wheelers","00:13:33","00:25:59",23.091725465041694,null,{"$f":"IF(COUNTIF(#REF!,'Results 16'!#REF!)>COUNTIF(Points!$C$10:$C$86,'Results 16'!#REF!),\"Not on Comps\",\"\")","v":{"$error":"#REF!"}}]
[11,11,"Harriet Guest","Performance Cycles","00:13:34","00:26:17",22.828154724159798,null,{"$f":"IF(COUNTIF(#REF!,'Results 16'!#REF!)>COUNTIF(Points!$C$10:$C$86,'Results 16'!#REF!),\"Not on Comps\",\"\")","v":{"$error":"#REF!"}}]
[12,12,"Les Sheppard","Swindon Wheelers","00:13:42","00:26:22",22.756005056890015,null,{"$f":"IF(COUNTIF(#REF!,'Results 16'!#REF!)>COUNTIF(Points!$C$10:$C$86,'Results 16'!#REF!),\"Not on Comps\",\"\")","v":{"$error":"#REF!"}}]
[13,13,"Daniel Wood","Performance Cycles","00:14:15","00:27:30",21.818181818181824,null,{"$f":"IF(COUNTIF(#REF!,'Results 16'!#REF!)>COUNTIF(Points!$C$10:$C$86,'Results 16'!#REF!),\"Not on Comps\",\"\")","v":{"$error":"#REF!"}}]
[14,14,"Marc Allen","Swindon RC","00:14:40","00:27:38",21.712907117008445,null,{"$f":"IF(COUNTIF(#REF!,'Results 16'!#REF!)>COUNTIF(Points!$C$10:$C$86,'Results 16'!#REF!),\"Not on Comps\",\"\")","v":{"$error":"#REF!"}}]
[15,15,"Mark Phillips","Swindon RC","00:14:45","00:28:37",20.966802562609203,null,{"$f":"IF(COUNTIF(#REF!,'Results 16'!#REF!)>COUNTIF(Points!$C$10:$C$86,'Results 16'!#REF!),\"Not on Comps\",\"\")","v":{"$error":"#REF!"}}]
[16,16,"Bernie Beale","Swindon RC","00:15:06","00:28:58",20.713463751438436,null,{"$f":"IF(COUNTIF(#REF!,'Results 16'!#REF!)>COUNTIF(Points!$C$10:$C$86,'Results 16'!#REF!),\"Not on Comps\",\"\")","v":{"$error":"#REF!"}}]
[17,17,"Kyle Wallace","Cotswold Veldrijden","00:15:37","00:29:12",20.547945205479454,null,{"$f":"IF(COUNTIF(#REF!,'Results 16'!#REF!)>COUNTIF(Points!$C$10:$C$86,'Results 16'!#REF!),\"Not on Comps\",\"\")","v":{"$error":"#REF!"}}]
[18,18,"Howard Seward","Swindon RC","00:15:45","00:30:14",19.845644983461963,null,{"$f":"IF(COUNTIF(#REF!,'Results 16'!#REF!)>COUNTIF(Points!$C$10:$C$86,'Results 16'!#REF!),\"Not on Comps\",\"\")","v":{"$error":"#REF!"}}]
[19,19,"Denis Hedges","Corinium CC","00:17:33","00:33:28",17.928286852589643,null,{"$f":"IF(COUNTIF(#REF!,'Results 16'!#REF!)>COUNTIF(Points!$C$10:$C$86,'Results 16'!#REF!),\"Not on Comps\",\"\")","v":{"$error":"#REF!"}}]
[20,20,"Dave Miatt","Corinium CC","00:17:37","00:33:42",17.804154302670625,null,{"$f":"IF(COUNTIF(#REF!,'Results 16'!#REF!)>COUNTIF(Points!$C$10:$C$86,'Results 16'!#REF!),\"Not on Comps\",\"\")","v":{"$error":"#REF!"}}]
[21,21,"Carol Clarke","Performance Cycles","00:17:51","00:34:14",17.526777020447906,null,{"$f":"IF(COUNTIF(#REF!,'Results 16'!#REF!)>COUNTIF(Points!$C$10:$C$86,'Results 16'!#REF!),\"Not on Comps\",\"\")","v":{"$error":"#REF!"}}]
[22,22,"Jason Wood","Swindon Wheelers","00:17:29","00:34:20",17.475728155339805,null,{"$f":"IF(COUNTIF(#REF!,'Results 16'!#REF!)>COUNTIF(Points!$C$10:$C$86,'Results 16'!#REF!),\"Not on Comps\",\"\")","v":{"$error":"#REF!"}}]
[23,23,"Paul Wood","Swindon Wheelers","00:18:45","00:35:56",16.697588126159555,null,{"$f":"IF(COUNTIF(#REF!,'Results 16'!#REF!)>COUNTIF(Points!$C$10:$C$86,'Results 16'!#REF!),\"Not on Comps\",\"\")","v":{"$error":"#REF!"}}]
[24,24,"Jason Costello","Team Swindon Cycles","00:24:21","00:37:27",16.021361815754339,null,{"$f":"IF(COUNTIF(#REF!,'Results 16'!#REF!)>COUNTIF(Points!$C$10:$C$86,'Results 16'!#REF!),\"Not on Comps\",\"\")","v":{"$error":"#REF!"}}]
[null,null,"2016-05-05",null,"Split Time","Total Time","m.p.h.",null,{"$f":"IF(COUNTIF(#REF!,'Results 16'!#REF!)>COUNTIF(Points!$C$10:$C$86,'Results 16'!#REF!),\"Not on Comps\",\"\")","v":{"$error":"#REF!"}}]
[1,1,"Pete Hutchinson","Cotswold Veldrijden","00:11:51","00:22:21",26.845637583892621,null,{"$f":"IF(COUNTIF(#REF!,'Results 16'!#REF!)>COUNTIF(Points!$C$10:$C$86,'Results 16'!#REF!),\"Not on Comps\",\"\")","v":{"$error":"#REF!"}}]
[2,{"$f":"IF(F150=F149,\"=\",A150)","v":2},"Peter Garnett","Swindon RC","00:11:48","00:22:35",26.568265682656826,null,{"$f":"IF(COUNTIF(#REF!,'Results 16'!#REF!)>COUNTIF(Points!$C$10:$C$86,'Results 16'!#REF!),\"Not on Comps\",\"\")","v":{"$error":"#REF!"}}]
[3,{"$f":"IF(F151=F150,\"=\",A151)","v":3},"Robin Short","Performance Cycles","00:12:04","00:22:48",26.315789473684216,null,{"$f":"IF(COUNTIF(#REF!,'Results 16'!#REF!)>COUNTIF(Points!$C$10:$C$86,'Results 16'!#REF!),\"Not on Comps\",\"\")","v":{"$error":"#REF!"}}]
[4,{"$f":"IF(F152=F151,\"=\",A152)","v":4},"Alex Willis","Performance Cycles","00:11:57","00:22:54",26.200873362445417,null,{"$f":"IF(COUNTIF(#REF!,'Results 16'!#REF!)>COUNTIF(Points!$C$10:$C$86,'Results 16'!#REF!),\"Not on Comps\",\"\")","v":{"$error":"#REF!"}}]
[5,5,"Jim Curry","Performance Cycles","00:12:03","00:23:02",26.049204052098414,null,{"$f":"IF(COUNTIF(#REF!,'Results 16'!#REF!)>COUNTIF(Points!$C$10:$C$86,'Results 16'!#REF!),\"Not on Comps\",\"\")","v":{"$error":"#REF!"}}]
[6,6,"Joe Schvartz","Team Swindon Cycles","00:12:20","00:23:17",25.769506084466713,null,{"$f":"IF(COUNTIF(#REF!,'Results 16'!#REF!)>COUNTIF(Points!$C$10:$C$86,'Results 16'!#REF!),\"Not on Comps\",\"\")","v":{"$error":"#REF!"}}]
[7,7,"Felix Wilkinson","Veloton","00:12:28","00:23:18",25.751072961373392,null,{"$f":"IF(COUNTIF(#REF!,'Results 16'!#REF!)>COUNTIF(Points!$C$10:$C$86,'Results 16'!#REF!),\"Not on Comps\",\"\")","v":{"$error":"#REF!"}}]
[8,8,"Les Liddiard","Swindon RC","00:12:24","00:23:32",25.495750708215297,null,{"$f":"IF(COUNTIF(#REF!,'Results 16'!#REF!)>COUNTIF(Points!$C$10:$C$86,'Results 16'!#REF!),\"Not on Comps\",\"\")","v":{"$error":"#REF!"}}]
[9,9,"Chris Wood","Performance Cycles","00:12:19","00:23:39",25.369978858350951,null,{"$f":"IF(COUNTIF(#REF!,'Results 16'!#REF!)>COUNTIF(Points!$C$10:$C$86,'Results 16'!#REF!),\"Not on Comps\",\"\")","v":{"$error":"#REF!"}}]
[10,10,"David Wright","Veloton","00:12:19","00:23:47",25.227750525578134,null,{"$f":"IF(COUNTIF(#REF!,'Results 16'!#REF!)>COUNTIF(Points!$C$10:$C$86,'Results 16'!#REF!),\"Not on Comps\",\"\")","v":{"$error":"#REF!"}}]
[11,11,"Paul Clarkson","Kingston Wheelers","00:12:42","00:23:51",25.157232704402514,null,{"$f":"IF(COUNTIF(#REF!,'Results 16'!#REF!)>COUNTIF(Points!$C$10:$C$86,'Results 16'!#REF!),\"Not on Comps\",\"\")","v":{"$error":"#REF!"}}]
[12,12,"Jason Costello","Team Swindon Cycles","00:12:37","00:23:55",25.087108013937282,null,{"$f":"IF(COUNTIF(#REF!,'Results 16'!#REF!)>COUNTIF(Points!$C$10:$C$86,'Results 16'!#REF!),\"Not on Comps\",\"\")","v":{"$error":"#REF!"}}]
[13,13,"Andy McIntyre","Performance Cycles","00:12:52","00:24:32",24.456521739130437,null,{"$f":"IF(COUNTIF(#REF!,'Results 16'!#REF!)>COUNTIF(Points!$C$10:$C$86,'Results 16'!#REF!),\"Not on Comps\",\"\")","v":{"$error":"#REF!"}}]
[14,14,"Steve Davies","Swindon RC","00:12:50","00:24:33",24.439918533604885,null,{"$f":"IF(COUNTIF(#REF!,'Results 16'!#REF!)>COUNTIF(Points!$C$10:$C$86,'Results 16'!#REF!),\"Not on Comps\",\"\")","v":{"$error":"#REF!"}}]
[15,15,"Mick Sharratt","Swindon RC","00:12:57","00:24:39",24.340770791075055,null,{"$f":"IF(COUNTIF(#REF!,'Results 16'!#REF!)>COUNTIF(Points!$C$10:$C$86,'Results 16'!#REF!),\"Not on Comps\",\"\")","v":{"$error":"#REF!"}}]
[16,16,"Tom Radburn","Veloton","00:12:50","00:24:51",24.144869215291752,null,{"$f":"IF(COUNTIF(#REF!,'Results 16'!#REF!)>COUNTIF(Points!$C$10:$C$86,'Results 16'!#REF!),\"Not on Comps\",\"\")","v":{"$error":"#REF!"}}]
[17,17,"Tim Strong","Ride 24/7","00:13:09","00:24:58",24.032042723631509,null,{"$f":"IF(COUNTIF(#REF!,'Results 16'!#REF!)>COUNTIF(Points!$C$10:$C$86,'Results 16'!#REF!),\"Not on Comps\",\"\")","v":{"$error":"#REF!"}}]
[18,18,"Sarah Gunn","Performance Cycles","00:13:06","00:25:02",23.96804260985353,null,{"$f":"IF(COUNTIF(#REF!,'Results 16'!#REF!)>COUNTIF(Points!$C$10:$C$86,'Results 16'!#REF!),\"Not on Comps\",\"\")","v":{"$error":"#REF!"}}]
[19,19,"Bryan Telford","Team Swindon Cycles","00:12:56","00:25:04",23.936170212765958,null,{"$f":"IF(COUNTIF(#REF!,'Results 16'!#REF!)>COUNTIF(Points!$C$10:$C$86,'Results 16'!#REF!),\"Not on Comps\",\"\")","v":{"$error":"#REF!"}}]
[20,20,"Pete Jeans","Team Swindon Cycles","00:13:17","00:25:10",23.841059602649008,null,{"$f":"IF(COUNTIF(#REF!,'Results 16'!#REF!)>COUNTIF(Points!$C$10:$C$86,'Results 16'!#REF!),\"Not on Comps\",\"\")","v":{"$error":"#REF!"}}]
[21,21,"Steve Buckley","Ride 24/7","00:13:15","00:25:17",23.731048121292023,null,{"$f":"IF(COUNTIF(#REF!,'Results 16'!#REF!)>COUNTIF(Points!$C$10:$C$86,'Results 16'!#REF!),\"Not on Comps\",\"\")","v":{"$error":"#REF!"}}]
[22,22,"Mark Foyn","Corinium CC","00:13:09","00:25:21",23.668639053254438,null,{"$f":"IF(COUNTIF(#REF!,'Results 16'!#REF!)>COUNTIF(Points!$C$10:$C$86,'Results 16'!#REF!),\"Not on Comps\",\"\")","v":{"$error":"#REF!"}}]
[23,23,"Simon James","Corinium CC","00:13:23","00:25:25",23.606557377049182,null,{"$f":"IF(COUNTIF(#REF!,'Results 16'!#REF!)>COUNTIF(Points!$C$10:$C$86,'Results 16'!#REF!),\"Not on Comps\",\"\")","v":{"$error":"#REF!"}}]
[24,24,"Les Sheppard","Swindon Wheelers","00:13:29","00:25:38",23.407022106631988,null,{"$f":"IF(COUNTIF(#REF!,'Results 16'!#REF!)>COUNTIF(Points!$C$10:$C$86,'Results 16'!#REF!),\"Not on Comps\",\"\")","v":{"$error":"#REF!"}}]
[25,25,"Trevor Hodges","Corinium CC","00:13:18","00:25:48",23.255813953488374,null,{"$f":"IF(COUNTIF(#REF!,'Results 16'!#REF!)>COUNTIF(Points!$C$10:$C$86,'Results 16'!#REF!),\"Not on Comps\",\"\")","v":{"$error":"#REF!"}}]
[26,"=","Marc Allen","Swindon RC","00:13:52","00:25:48",23.255813953488374,null,{"$f":"IF(COUNTIF(#REF!,'Results 16'!#REF!)>COUNTIF(Points!$C$10:$C$86,'Results 16'!#REF!),\"Not on Comps\",\"\")","v":{"$error":"#REF!"}}]
[27,27,"Jeff Smith","Swindon RC","00:13:38","00:25:55",23.15112540192926,null,{"$f":"IF(COUNTIF(#REF!,'Results 16'!#REF!)>COUNTIF(Points!$C$10:$C$86,'Results 16'!#REF!),\"Not on Comps\",\"\")","v":{"$error":"#REF!"}}]
[28,28,"Daniel Wood","Performance Cycles","00:13:28","00:26:00",23.07692307692308,null,{"$f":"IF(COUNTIF(#REF!,'Results 16'!#REF!)>COUNTIF(Points!$C$10:$C$86,'Results 16'!#REF!),\"Not on Comps\",\"\")","v":{"$error":"#REF!"}}]
[29,29,"Simon Weston","Ride 24/7","00:13:40","00:26:18",22.813688212927758,null,{"$f":"IF(COUNTIF(#REF!,'Results 16'!#REF!)>COUNTIF(Points!$C$10:$C$86,'Results 16'!#REF!),\"Not on Comps\",\"\")","v":{"$error":"#REF!"}}]
[30,30,"Gerry Peppin","Corinium CC","00:13:59","00:26:34",22.584692597239652,null,{"$f":"IF(COUNTIF(#REF!,'Results 16'!#REF!)>COUNTIF(Points!$C$10:$C$86,'Results 16'!#REF!),\"Not on Comps\",\"\")","v":{"$error":"#REF!"}}]
[31,31,"Mark Phillips","Swindon RC","00:13:43","00:26:36",22.556390977443613,null,{"$f":"IF(COUNTIF(#REF!,'Results 16'!#REF!)>COUNTIF(Points!$C$10:$C$86,'Results 16'!#REF!),\"Not on Comps\",\"\")","v":{"$error":"#REF!"}}]
[32,32,"James Pocock","Ride 24/7","00:13:56","00:26:45",22.429906542056074,null,{"$f":"IF(COUNTIF(#REF!,'Results 16'!#REF!)>COUNTIF(Points!$C$10:$C$86,'Results 16'!#REF!),\"Not on Comps\",\"\")","v":{"$error":"#REF!"}}]
[33,33,"Bernie Beale","Swindon RC","00:14:16","00:27:06",22.140221402214024,null,{"$f":"IF(COUNTIF(#REF!,'Results 16'!#REF!)>COUNTIF(Points!$C$10:$C$86,'Results 16'!#REF!),\"Not on Comps\",\"\")","v":{"$error":"#REF!"}}]
[34,34,"Kevin Lister","Corinium CC","00:13:50","00:27:11",22.072348252605764,null,{"$f":"IF(COUNTIF(#REF!,'Results 16'!#REF!)>COUNTIF(Points!$C$10:$C$86,'Results 16'!#REF!),\"Not on Comps\",\"\")","v":{"$error":"#REF!"}}]
[35,"=","Stephen Chapman","Corinium CC","00:14:11","00:27:11",22.072348252605764,null,{"$f":"IF(COUNTIF(#REF!,'Results 16'!#REF!)>COUNTIF(Points!$C$10:$C$86,'Results 16'!#REF!),\"Not on Comps\",\"\")","v":{"$error":"#REF!"}}]
[36,36,"Paul Fuchs","Corinium CC","00:14:18","00:27:14",22.031823745410037,null,{"$f":"IF(COUNTIF(#REF!,'Results 16'!#REF!)>COUNTIF(Points!$C$10:$C$86,'Results 16'!#REF!),\"Not on Comps\",\"\")","v":{"$error":"#REF!"}}]
[37,37,"Todd Cumberpatch","Performance Cycles","00:14:22","00:27:28",21.844660194174761,null,{"$f":"IF(COUNTIF(#REF!,'Results 16'!#REF!)>COUNTIF(Points!$C$10:$C$86,'Results 16'!#REF!),\"Not on Comps\",\"\")","v":{"$error":"#REF!"}}]
[38,38,"Rob Patterson","Swindon RC","00:14:24","00:27:42",21.660649819494584,null,{"$f":"IF(COUNTIF(#REF!,'Results 16'!#REF!)>COUNTIF(Points!$C$10:$C$86,'Results 16'!#REF!),\"Not on Comps\",\"\")","v":{"$error":"#REF!"}}]
[39,39,"Allan Semple","Swindon RC","00:14:33","00:27:49",21.569802276812464,null,{"$f":"IF(COUNTIF(#REF!,'Results 16'!#REF!)>COUNTIF(Points!$C$10:$C$86,'Results 16'!#REF!),\"Not on Comps\",\"\")","v":{"$error":"#REF!"}}]
[40,40,"Jon Grace","Swindon Wheelers","00:14:42","00:27:55",21.492537313432837,null,{"$f":"IF(COUNTIF(#REF!,'Results 16'!#REF!)>COUNTIF(Points!$C$10:$C$86,'Results 16'!#REF!),\"Not on Comps\",\"\")","v":{"$error":"#REF!"}}]
[41,41,"John Smith","Swindon RC","00:14:47","00:28:13",21.264028352037801,null,{"$f":"IF(COUNTIF(#REF!,'Results 16'!#REF!)>COUNTIF(Points!$C$10:$C$86,'Results 16'!#REF!),\"Not on Comps\",\"\")","v":{"$error":"#REF!"}}]
[42,42,"Kyle Wallace","Cotswold Veldrijden","00:15:02","00:28:18",21.201413427561839,null,{"$f":"IF(COUNTIF(#REF!,'Results 16'!#REF!)>COUNTIF(Points!$C$10:$C$86,'Results 16'!#REF!),\"Not on Comps\",\"\")","v":{"$error":"#REF!"}}]
[43,43,"Roy Carless","Swindon RC","00:15:00","00:28:26",21.101992966002346,null,{"$f":"IF(COUNTIF(#REF!,'Results 16'!#REF!)>COUNTIF(Points!$C$10:$C$86,'Results 16'!#REF!),\"Not on Comps\",\"\")","v":{"$error":"#REF!"}}]
[44,44,"Becky Cox","Swindon Wheelers","00:15:05","00:28:30",21.05263157894737,null,{"$f":"IF(COUNTIF(#REF!,'Results 16'!#REF!)>COUNTIF(Points!$C$10:$C$86,'Results 16'!#REF!),\"Not on Comps\",\"\")","v":{"$error":"#REF!"}}]
[45,45,"Howard Seward","Swindon RC","00:14:54","00:28:35",20.99125364431487,null,{"$f":"IF(COUNTIF(#REF!,'Results 16'!#REF!)>COUNTIF(Points!$C$10:$C$86,'Results 16'!#REF!),\"Not on Comps\",\"\")","v":{"$error":"#REF!"}}]
[46,46,"Allan Norwood","Corinium CC","00:14:56","00:28:46",20.857473928157592,null,{"$f":"IF(COUNTIF(#REF!,'Results 16'!#REF!)>COUNTIF(Points!$C$10:$C$86,'Results 16'!#REF!),\"Not on Comps\",\"\")","v":{"$error":"#REF!"}}]
[47,47,"Nick Fiore","Cotswold Veldrijden","00:15:00","00:28:51",20.797227036395149,null,{"$f":"IF(COUNTIF(#REF!,'Results 16'!#REF!)>COUNTIF(Points!$C$10:$C$86,'Results 16'!#REF!),\"Not on Comps\",\"\")","v":{"$error":"#REF!"}}]
[48,48,"David Parkin","Swindon RC","00:15:09","00:28:56",20.737327188940093,null,{"$f":"IF(COUNTIF(#REF!,'Results 16'!#REF!)>COUNTIF(Points!$C$10:$C$86,'Results 16'!#REF!),\"Not on Comps\",\"\")","v":{"$error":"#REF!"}}]
[49,49,"Kieran Golding","Swindon RC","00:15:20","00:29:16",20.501138952164009,null,{"$f":"IF(COUNTIF(#REF!,'Results 16'!#REF!)>COUNTIF(Points!$C$10:$C$86,'Results 16'!#REF!),\"Not on Comps\",\"\")","v":{"$error":"#REF!"}}]
[50,50,"Steve Dearlove","Swindon RC","00:15:25","00:29:43",20.190689848569825,null,{"$f":"IF(COUNTIF(#REF!,'Results 16'!#REF!)>COUNTIF(Points!$C$10:$C$86,'Results 16'!#REF!),\"Not on Comps\",\"\")","v":{"$error":"#REF!"}}]
[51,51,"Denis Hedges","Corinium CC","00:15:46","00:30:35",19.618528610354225,null,{"$f":"IF(COUNTIF(#REF!,'Results 16'!#REF!)>COUNTIF(Points!$C$10:$C$86,'Results 16'!#REF!),\"Not on Comps\",\"\")","v":{"$error":"#REF!"}}]
[52,52,"Lew Lawton","Swindon RC","00:16:02","00:31:10",19.251336898395724,null,{"$f":"IF(COUNTIF(#REF!,'Results 16'!#REF!)>COUNTIF(Points!$C$10:$C$86,'Results 16'!#REF!),\"Not on Comps\",\"\")","v":{"$error":"#REF!"}}]
[53,53,"Darren Harrisson","Swindon Wheelers","00:16:10","00:31:27",19.077901430842605,null,{"$f":"IF(COUNTIF(#REF!,'Results 16'!#REF!)>COUNTIF(Points!$C$10:$C$86,'Results 16'!#REF!),\"Not on Comps\",\"\")","v":{"$error":"#REF!"}}]
[54,54,"Annie Pegler","Corinium CC","00:16:25","00:31:38",18.967334035827189,null,{"$f":"IF(COUNTIF(#REF!,'Results 16'!#REF!)>COUNTIF(Points!$C$10:$C$86,'Results 16'!#REF!),\"Not on Comps\",\"\")","v":{"$error":"#REF!"}}]
[55,55,"Marguerite Miatt","Corinium CC","00:16:40","00:31:45",18.897637795275593,null,{"$f":"IF(COUNTIF(#REF!,'Results 16'!#REF!)>COUNTIF(Points!$C$10:$C$86,'Results 16'!#REF!),\"Not on Comps\",\"\")","v":{"$error":"#REF!"}}]
[56,56,"Neil Lewis","Swindon RC","00:16:45","00:32:08",18.672199170124482,null,{"$f":"IF(COUNTIF(#REF!,'Results 16'!#REF!)>COUNTIF(Points!$C$10:$C$86,'Results 16'!#REF!),\"Not on Comps\",\"\")","v":{"$error":"#REF!"}}]
[57,57,"Ross Gregory","Corinium CC","00:17:06","00:32:38",18.386108273748722,null,{"$f":"IF(COUNTIF(#REF!,'Results 16'!#REF!)>COUNTIF(Points!$C$10:$C$86,'Results 16'!#REF!),\"Not on Comps\",\"\")","v":{"$error":"#REF!"}}]
[58,58,"Jason Wood","Swindon Wheelers","00:17:15","00:33:25",17.955112219451372,null,{"$f":"IF(COUNTIF(#REF!,'Results 16'!#REF!)>COUNTIF(Points!$C$10:$C$86,'Results 16'!#REF!),\"Not on Comps\",\"\")","v":{"$error":"#REF!"}}]
[59,{"$f":"IF(F207=F206,\"=\",A207)","v":59},"Paul Wood","Swindon Wheelers","00:17:40","00:34:11",17.552413456850321,null,{"$f":"IF(COUNTIF(#REF!,'Results 16'!#REF!)>COUNTIF(Points!$C$10:$C$86,'Results 16'!#REF!),\"Not on Comps\",\"\")","v":{"$error":"#REF!"}}]
[null,null,"2016-05-12",null,"Split Time","Total Time","m.p.h.",null,{"$f":"IF(COUNTIF(#REF!,'Results 16'!#REF!)>COUNTIF(Points!$C$10:$C$86,'Results 16'!#REF!),\"Not on Comps\",\"\")","v":{"$error":"#REF!"}}]
[1,1,"Rory Gilling","Performance Cycles","00:10:58","00:21:14",28.257456828885399,null,{"$f":"IF(COUNTIF(#REF!,'Results 16'!#REF!)>COUNTIF(Points!$C$10:$C$86,'Results 16'!#REF!),\"Not on Comps\",\"\")","v":{"$error":"#REF!"}}]
[2,{"$f":"IF(F210=F209,\"=\",A210)","v":2},"Jacob Pilkington","Performance Cycles","00:11:16","00:21:47",27.543993879112474,null,{"$f":"IF(COUNTIF(#REF!,'Results 16'!#REF!)>COUNTIF(Points!$C$10:$C$86,'Results 16'!#REF!),\"Not on Comps\",\"\")","v":{"$error":"#REF!"}}]
[3,{"$f":"IF(F211=F210,\"=\",A211)","v":3},"Pete Hutchinson","Cotswold Veldrijden","00:11:34","00:22:01",27.252081756245271,null,{"$f":"IF(COUNTIF(#REF!,'Results 16'!#REF!)>COUNTIF(Points!$C$10:$C$86,'Results 16'!#REF!),\"Not on Comps\",\"\")","v":{"$error":"#REF!"}}]
[4,{"$f":"IF(F212=F211,\"=\",A212)","v":4},"Henry Slade","Performance Cycles","00:11:34","00:22:13",27.00675168792198,null,{"$f":"IF(COUNTIF(#REF!,'Results 16'!#REF!)>COUNTIF(Points!$C$10:$C$86,'Results 16'!#REF!),\"Not on Comps\",\"\")","v":{"$error":"#REF!"}}]
[5,5,"Peter Garnett","Swindon RC","00:11:35","00:22:16",26.946107784431138,null,{"$f":"IF(COUNTIF(#REF!,'Results 16'!#REF!)>COUNTIF(Points!$C$10:$C$86,'Results 16'!#REF!),\"Not on Comps\",\"\")","v":{"$error":"#REF!"}}]
[6,6,"Alex King","Performance Cycles","00:11:43","00:22:39",26.490066225165563,null,{"$f":"IF(COUNTIF(#REF!,'Results 16'!#REF!)>COUNTIF(Points!$C$10:$C$86,'Results 16'!#REF!),\"Not on Comps\",\"\")","v":{"$error":"#REF!"}}]
[7,7,"Chez Davies","West Suffolk Wheelers","00:11:53","00:23:04",26.011560693641616,null,{"$f":"IF(COUNTIF(#REF!,'Results 16'!#REF!)>COUNTIF(Points!$C$10:$C$86,'Results 16'!#REF!),\"Not on Comps\",\"\")","v":{"$error":"#REF!"}}]
[8,"=","Joe Schvartz","Team Swindon Cycles","00:12:00","00:23:04",26.011560693641616,null,{"$f":"IF(COUNTIF(#REF!,'Results 16'!#REF!)>COUNTIF(Points!$C$10:$C$86,'Results 16'!#REF!),\"Not on Comps\",\"\")","v":{"$error":"#REF!"}}]
[9,9,"Chris Wood","Performance Cycles","00:11:57","00:23:16",25.787965616045849,null,{"$f":"IF(COUNTIF(#REF!,'Results 16'!#REF!)>COUNTIF(Points!$C$10:$C$86,'Results 16'!#REF!),\"Not on Comps\",\"\")","v":{"$error":"#REF!"}}]
[10,10,"Steve Yates","Corinium CC","00:12:04","00:23:22",25.677603423680463,null,{"$f":"IF(COUNTIF(#REF!,'Results 16'!#REF!)>COUNTIF(Points!$C$10:$C$86,'Results 16'!#REF!),\"Not on Comps\",\"\")","v":{"$error":"#REF!"}}]
[11,11,"Rob Merrison","Swindon RC","00:12:28","00:23:44",25.280898876404493,null,{"$f":"IF(COUNTIF(#REF!,'Results 16'!#REF!)>COUNTIF(Points!$C$10:$C$86,'Results 16'!#REF!),\"Not on Comps\",\"\")","v":{"$error":"#REF!"}}]
[12,12,"Ash Edwards","Army Cycling Union","00:12:20","00:23:46",25.245441795231415,null,{"$f":"IF(COUNTIF(#REF!,'Results 16'!#REF!)>COUNTIF(Points!$C$10:$C$86,'Results 16'!#REF!),\"Not on Comps\",\"\")","v":{"$error":"#REF!"}}]
[13,13,"Mick Sharratt","Swindon RC","00:12:27","00:23:56",25.069637883008358,null,{"$f":"IF(COUNTIF(#REF!,'Results 16'!#REF!)>COUNTIF(Points!$C$10:$C$86,'Results 16'!#REF!),\"Not on Comps\",\"\")","v":{"$error":"#REF!"}}]
[14,14,"Steve Davies","Swindon RC","00:12:33","00:24:04",24.930747922437675,null,{"$f":"IF(COUNTIF(#REF!,'Results 16'!#REF!)>COUNTIF(Points!$C$10:$C$86,'Results 16'!#REF!),\"Not on Comps\",\"\")","v":{"$error":"#REF!"}}]
[15,15,"Ewen Lewis","Swindon Wheelers","00:12:28","00:24:05",24.913494809688583,null,{"$f":"IF(COUNTIF(#REF!,'Results 16'!#REF!)>COUNTIF(Points!$C$10:$C$86,'Results 16'!#REF!),\"Not on Comps\",\"\")","v":{"$error":"#REF!"}}]
[16,16,"Jason Costello","Team Swindon Cycles","00:12:30","00:24:08",24.861878453038674,null,{"$f":"IF(COUNTIF(#REF!,'Results 16'!#REF!)>COUNTIF(Points!$C$10:$C$86,'Results 16'!#REF!),\"Not on Comps\",\"\")","v":{"$error":"#REF!"}}]
[17,17,"Rowan Brown","Swindon Wheelers","00:12:45","00:24:30",24.489795918367349,null,{"$f":"IF(COUNTIF(#REF!,'Results 16'!#REF!)>COUNTIF(Points!$C$10:$C$86,'Results 16'!#REF!),\"Not on Comps\",\"\")","v":{"$error":"#REF!"}}]
[18,18,"Sarah Gunn","Performance Cycles","00:12:41","00:24:36",24.390243902439025,null,{"$f":"IF(COUNTIF(#REF!,'Results 16'!#REF!)>COUNTIF(Points!$C$10:$C$86,'Results 16'!#REF!),\"Not on Comps\",\"\")","v":{"$error":"#REF!"}}]
[19,19,"Marc Allen","Swindon RC","00:13:13","00:24:57",24.048096192384772,null,{"$f":"IF(COUNTIF(#REF!,'Results 16'!#REF!)>COUNTIF(Points!$C$10:$C$86,'Results 16'!#REF!),\"Not on Comps\",\"\")","v":{"$error":"#REF!"}}]
[20,20,"Les Sheppard","Swindon Wheelers","00:12:55","00:25:00",24,null,{"$f":"IF(COUNTIF(#REF!,'Results 16'!#REF!)>COUNTIF(Points!$C$10:$C$86,'Results 16'!#REF!),\"Not on Comps\",\"\")","v":{"$error":"#REF!"}}]
[21,21,"Daniel Wood","Performance Cycles","00:13:03","00:25:05",23.920265780730901,null,{"$f":"IF(COUNTIF(#REF!,'Results 16'!#REF!)>COUNTIF(Points!$C$10:$C$86,'Results 16'!#REF!),\"Not on Comps\",\"\")","v":{"$error":"#REF!"}}]
[22,22,"Mark Kent","Swindon RC","00:13:10","00:25:12",23.80952380952381,null,{"$f":"IF(COUNTIF(#REF!,'Results 16'!#REF!)>COUNTIF(Points!$C$10:$C$86,'Results 16'!#REF!),\"Not on Comps\",\"\")","v":{"$error":"#REF!"}}]
[23,23,"Nick Lowe","Cotswold Veldrijden","00:13:01","00:25:22",23.653088042049934,null,{"$f":"IF(COUNTIF(#REF!,'Results 16'!#REF!)>COUNTIF(Points!$C$10:$C$86,'Results 16'!#REF!),\"Not on Comps\",\"\")","v":{"$error":"#REF!"}}]
[24,24,"Wendy Nicholls","Kinetic One","00:13:25","00:25:38",23.407022106631988,null,{"$f":"IF(COUNTIF(#REF!,'Results 16'!#REF!)>COUNTIF(Points!$C$10:$C$86,'Results 16'!#REF!),\"Not on Comps\",\"\")","v":{"$error":"#REF!"}}]
[25,25,"Dave Gibson","Swindon RC","00:13:13","00:25:41",23.361453601557432,null,{"$f":"IF(COUNTIF(#REF!,'Results 16'!#REF!)>COUNTIF(Points!$C$10:$C$86,'Results 16'!#REF!),\"Not on Comps\",\"\")","v":{"$error":"#REF!"}}]
[26,26,"Bernie Beale","Swindon RC","00:13:22","00:26:05",23.003194888178914,null,{"$f":"IF(COUNTIF(#REF!,'Results 16'!#REF!)>COUNTIF(Points!$C$10:$C$86,'Results 16'!#REF!),\"Not on Comps\",\"\")","v":{"$error":"#REF!"}}]
[27,27,"Jeff Smith","Swindon RC","00:13:41","00:26:26",22.698612862547289,null,{"$f":"IF(COUNTIF(#REF!,'Results 16'!#REF!)>COUNTIF(Points!$C$10:$C$86,'Results 16'!#REF!),\"Not on Comps\",\"\")","v":{"$error":"#REF!"}}]
[28,28,"Martin Mason","Performance Cycles","00:13:49","00:26:32",22.613065326633166,null,{"$f":"IF(COUNTIF(#REF!,'Results 16'!#REF!)>COUNTIF(Points!$C$10:$C$86,'Results 16'!#REF!),\"Not on Comps\",\"\")","v":{"$error":"#REF!"}}]
[29,29,"Gerry Peppin","Corinium CC","00:13:51","00:26:55",22.291021671826627,null,{"$f":"IF(COUNTIF(#REF!,'Results 16'!#REF!)>COUNTIF(Points!$C$10:$C$86,'Results 16'!#REF!),\"Not on Comps\",\"\")","v":{"$error":"#REF!"}}]
[30,30,"Stephen Chapman","Corinium CC","00:13:46","00:26:59",22.235948116121062,null,{"$f":"IF(COUNTIF(#REF!,'Results 16'!#REF!)>COUNTIF(Points!$C$10:$C$86,'Results 16'!#REF!),\"Not on Comps\",\"\")","v":{"$error":"#REF!"}}]
[31,31,"Steve Turtle","Swindon Wheelers","00:14:02","00:27:08",22.113022113022115,null,{"$f":"IF(COUNTIF(#REF!,'Results 16'!#REF!)>COUNTIF(Points!$C$10:$C$86,'Results 16'!#REF!),\"Not on Comps\",\"\")","v":{"$error":"#REF!"}}]
[32,32,"Ben Gamsa","Performance Cycles","00:14:18","00:27:19",21.964612568639414,null,{"$f":"IF(COUNTIF(#REF!,'Results 16'!#REF!)>COUNTIF(Points!$C$10:$C$86,'Results 16'!#REF!),\"Not on Comps\",\"\")","v":{"$error":"#REF!"}}]
[33,33,"Donna Short","Performance Cycles","00:14:18","00:27:21",21.937842778793421,null,{"$f":"IF(COUNTIF(#REF!,'Results 16'!#REF!)>COUNTIF(Points!$C$10:$C$86,'Results 16'!#REF!),\"Not on Comps\",\"\")","v":{"$error":"#REF!"}}]
[34,34,"Mike Brien","Swindon Wheelers","00:14:17","00:27:36",21.739130434782609,null,{"$f":"IF(COUNTIF(#REF!,'Results 16'!#REF!)>COUNTIF(Points!$C$10:$C$86,'Results 16'!#REF!),\"Not on Comps\",\"\")","v":{"$error":"#REF!"}}]
[35,35,"Richard Gower","Performance Cycles","00:14:24","00:27:43",21.64762477450391,null,{"$f":"IF(COUNTIF(#REF!,'Results 16'!#REF!)>COUNTIF(Points!$C$10:$C$86,'Results 16'!#REF!),\"Not on Comps\",\"\")","v":{"$error":"#REF!"}}]
[36,36,"Tom List","Swindon RC","00:14:28","00:27:48",21.582733812949641,null,{"$f":"IF(COUNTIF(#REF!,'Results 16'!#REF!)>COUNTIF(Points!$C$10:$C$86,'Results 16'!#REF!),\"Not on Comps\",\"\")","v":{"$error":"#REF!"}}]
[37,37,"Rob Patterson","Swindon RC","00:14:15","00:27:53",21.518230723251644,null,{"$f":"IF(COUNTIF(#REF!,'Results 16'!#REF!)>COUNTIF(Points!$C$10:$C$86,'Results 16'!#REF!),\"Not on Comps\",\"\")","v":{"$error":"#REF!"}}]
[38,38,"Kyle Wallace","Cotswold Veldrijden","00:14:51","00:27:54",21.50537634408602,null,{"$f":"IF(COUNTIF(#REF!,'Results 16'!#REF!)>COUNTIF(Points!$C$10:$C$86,'Results 16'!#REF!),\"Not on Comps\",\"\")","v":{"$error":"#REF!"}}]
[39,39,"Allan Norwood","Corinium CC","00:14:18","00:27:56",21.47971360381862,null,{"$f":"IF(COUNTIF(#REF!,'Results 16'!#REF!)>COUNTIF(Points!$C$10:$C$86,'Results 16'!#REF!),\"Not on Comps\",\"\")","v":{"$error":"#REF!"}}]
[40,40,"Howard King","Swindon Wheelers","00:14:39","00:28:38",20.954598370197907,null,{"$f":"IF(COUNTIF(#REF!,'Results 16'!#REF!)>COUNTIF(Points!$C$10:$C$86,'Results 16'!#REF!),\"Not on Comps\",\"\")","v":{"$error":"#REF!"}}]
[41,41,"Kieran Golding","Swindon RC","00:14:54","00:28:52",20.785219399538107,null,{"$f":"IF(COUNTIF(#REF!,'Results 16'!#REF!)>COUNTIF(Points!$C$10:$C$86,'Results 16'!#REF!),\"Not on Comps\",\"\")","v":{"$error":"#REF!"}}]
[42,42,"Charlotte Berry","Performance Cycles","00:15:11","00:29:03",20.654044750430291,null,{"$f":"IF(COUNTIF(#REF!,'Results 16'!#REF!)>COUNTIF(Points!$C$10:$C$86,'Results 16'!#REF!),\"Not on Comps\",\"\")","v":{"$error":"#REF!"}}]
[43,43,"Denis Hedges","Corinium CC","00:15:12","00:29:25",20.396600566572239,null,{"$f":"IF(COUNTIF(#REF!,'Results 16'!#REF!)>COUNTIF(Points!$C$10:$C$86,'Results 16'!#REF!),\"Not on Comps\",\"\")","v":{"$error":"#REF!"}}]
[44,44,"Chris Brooks","Swindon Wheelers","00:15:22","00:29:49",20.122973728339858,null,{"$f":"IF(COUNTIF(#REF!,'Results 16'!#REF!)>COUNTIF(Points!$C$10:$C$86,'Results 16'!#REF!),\"Not on Comps\",\"\")","v":{"$error":"#REF!"}}]
[45,45,"Darren Harrisson","Swindon Wheelers","00:15:22","00:29:53",20.078081427774681,null,{"$f":"IF(COUNTIF(#REF!,'Results 16'!#REF!)>COUNTIF(Points!$C$10:$C$86,'Results 16'!#REF!),\"Not on Comps\",\"\")","v":{"$error":"#REF!"}}]
[46,46,"Marguerite Miatt","Corinium CC","00:16:11","00:31:13",19.220501868659905,null,{"$f":"IF(COUNTIF(#REF!,'Results 16'!#REF!)>COUNTIF(Points!$C$10:$C$86,'Results 16'!#REF!),\"Not on Comps\",\"\")","v":{"$error":"#REF!"}}]
[47,47,"Annie Pegler","Corinium CC","00:16:14","00:31:17",19.179541822056475,null,{"$f":"IF(COUNTIF(#REF!,'Results 16'!#REF!)>COUNTIF(Points!$C$10:$C$86,'Results 16'!#REF!),\"Not on Comps\",\"\")","v":{"$error":"#REF!"}}]
[48,48,"Ross Gregory","Corinium CC","00:16:55","00:32:46",18.311291963377418,null,{"$f":"IF(COUNTIF(#REF!,'Results 16'!#REF!)>COUNTIF(Points!$C$10:$C$86,'Results 16'!#REF!),\"Not on Comps\",\"\")","v":{"$error":"#REF!"}}]
[49,49,"Paul Wood","Swindon Wheelers","00:17:30","00:34:01",17.638412542871141,null,{"$f":"IF(COUNTIF(#REF!,'Results 16'!#REF!)>COUNTIF(Points!$C$10:$C$86,'Results 16'!#REF!),\"Not on Comps\",\"\")","v":{"$error":"#REF!"}}]
[null,null,"Pete Hutchinson (2nd ride)","Cotswold Veldrijden","00:11:42","00:22:27",26.726057906458795,null,{"$f":"IF(COUNTIF(#REF!,'Results 16'!#REF!)>COUNTIF(Points!$C$10:$C$86,'Results 16'!#REF!),\"Not on Comps\",\"\")","v":{"$error":"#REF!"}}]
[null,null,"Come & Try It 14/05/2016",null,"Split Time","Total Time","m.p.h.",null,{"$f":"IF(COUNTIF(#REF!,'Results 16'!#REF!)>COUNTIF(Points!$C$10:$C$86,'Results 16'!#REF!),\"Not on Comps\",\"\")","v":{"$error":"#REF!"}}]
[null,null,"Allen Loudon","Swindon RC","00:13:58","00:26:51",22.346368715083798,1,{"$f":"IF(COUNTIF(#REF!,'Results 16'!#REF!)>COUNTIF(Points!$C$10:$C$86,'Results 16'!#REF!),\"Not on Comps\",\"\")","v":{"$error":"#REF!"}}]
[null,null,"Lee Rayfield","Swindon RC","00:14:54","00:28:46",20.857473928157592,2,{"$f":"IF(COUNTIF(#REF!,'Results 16'!#REF!)>COUNTIF(Points!$C$10:$C$86,'Results 16'!#REF!),\"Not on Comps\",\"\")","v":{"$error":"#REF!"}}]
[null,null,"Oisin Kelly","Swindon RC","00:14:09","00:27:18",21.978021978021975,3,{"$f":"IF(COUNTIF(#REF!,'Results 16'!#REF!)>COUNTIF(Points!$C$10:$C$86,'Results 16'!#REF!),\"Not on Comps\",\"\")","v":{"$error":"#REF!"}}]
[null,null,"Paul Cooper","Swindon RC","00:14:20","00:27:41",21.673690547862734,4,{"$f":"IF(COUNTIF(#REF!,'Results 16'!#REF!)>COUNTIF(Points!$C$10:$C$86,'Results 16'!#REF!),\"Not on Comps\",\"\")","v":{"$error":"#REF!"}}]
[null,null,"Roy Carless","Swindon RC","00:14:16","00:27:29",21.831412977562163,5,{"$f":"IF(COUNTIF(#REF!,'Results 16'!#REF!)>COUNTIF(Points!$C$10:$C$86,'Results 16'!#REF!),\"Not on Comps\",\"\")","v":{"$error":"#REF!"}}]
[null,null,"Pete Collins","Swindon RC","00:13:53","00:27:00",22.222222222222225,6,{"$f":"IF(COUNTIF(#REF!,'Results 16'!#REF!)>COUNTIF(Points!$C$10:$C$86,'Results 16'!#REF!),\"Not on Comps\",\"\")","v":{"$error":"#REF!"}}]
[null,null,"Danny Smith","Swindon RC","00:12:39","00:24:12",24.793388429752067,7,{"$f":"IF(COUNTIF(#REF!,'Results 16'!#REF!)>COUNTIF(Points!$C$10:$C$86,'Results 16'!#REF!),\"Not on Comps\",\"\")","v":{"$error":"#REF!"}}]
[null,null,"Chris Broad-Drake","Swindon RC","00:12:43","00:24:23",24.606971975393034,8,{"$f":"IF(COUNTIF(#REF!,'Results 16'!#REF!)>COUNTIF(Points!$C$10:$C$86,'Results 16'!#REF!),\"Not on Comps\",\"\")","v":{"$error":"#REF!"}}]
[null,null,"Alastair Stagg","Swindon RC","00:15:06","00:29:03",20.654044750430291,9,{"$f":"IF(COUNTIF(#REF!,'Results 16'!#REF!)>COUNTIF(Points!$C$10:$C$86,'Results 16'!#REF!),\"Not on Comps\",\"\")","v":{"$error":"#REF!"}}]
[null,null,"Will Graves","Swindon RC","00:14:34","00:27:49",21.569802276812464,10,{"$f":"IF(COUNTIF(#REF!,'Results 16'!#REF!)>COUNTIF(Points!$C$10:$C$86,'Results 16'!#REF!),\"Not on Comps\",\"\")","v":{"$error":"#REF!"}}]
[null,null,"Jasvinder Jugdev",0,"00:13:54","00:26:44",22.443890274314214,11,{"$f":"IF(COUNTIF(#REF!,'Results 16'!#REF!)>COUNTIF(Points!$C$10:$C$86,'Results 16'!#REF!),\"Not on Comps\",\"\")","v":{"$error":"#REF!"}}]
[null,null,"Neil Lewis","Swindon RC","00:16:39","00:32:37",18.39550332141032,12,{"$f":"IF(COUNTIF(#REF!,'Results 16'!#REF!)>COUNTIF(Points!$C$10:$C$86,'Results 16'!#REF!),\"Not on Comps\",\"\")","v":{"$error":"#REF!"}}]
[null,null,"Howard Seward","Swindon RC","00:14:54","00:29:15",20.512820512820511,13,{"$f":"IF(COUNTIF(#REF!,'Results 16'!#REF!)>COUNTIF(Points!$C$10:$C$86,'Results 16'!#REF!),\"Not on Comps\",\"\")","v":{"$error":"#REF!"}}]
[null,null,"Marc Allen","Swindon RC","00:13:30","00:25:51",23.210831721470019,14,{"$f":"IF(COUNTIF(#REF!,'Results 16'!#REF!)>COUNTIF(Points!$C$10:$C$86,'Results 16'!#REF!),\"Not on Comps\",\"\")","v":{"$error":"#REF!"}}]
[null,null,"Matt Washburn",0,"00:14:38","00:28:11",21.289178001182734,15,{"$f":"IF(COUNTIF(#REF!,'Results 16'!#REF!)>COUNTIF(Points!$C$10:$C$86,'Results 16'!#REF!),\"Not on Comps\",\"\")","v":{"$error":"#REF!"}}]
[null,null,"Naomi Eaton",0,"00:15:13","00:28:58",20.713463751438436,16,{"$f":"IF(COUNTIF(#REF!,'Results 16'!#REF!)>COUNTIF(Points!$C$10:$C$86,'Results 16'!#REF!),\"Not on Comps\",\"\")","v":{"$error":"#REF!"}}]
[null,null,"Niel Dunnage","Cotswold Veldrijden","00:12:06","00:23:37",25.405786873676785,17,{"$f":"IF(COUNTIF(#REF!,'Results 16'!#REF!)>COUNTIF(Points!$C$10:$C$86,'Results 16'!#REF!),\"Not on Comps\",\"\")","v":{"$error":"#REF!"}}]
[null,null,"2016-05-19",null,"Split Time","Total Time","m.p.h.",null,{"$f":"IF(COUNTIF(#REF!,'Results 16'!#REF!)>COUNTIF(Points!$C$10:$C$86,'Results 16'!#REF!),\"Not on Comps\",\"\")","v":{"$error":"#REF!"}}]
[1,1,"Rory Gilling","Performance Cycles","00:11:27","00:21:42",27.649769585253456,null,{"$f":"IF(COUNTIF(#REF!,'Results 16'!#REF!)>COUNTIF(Points!$C$10:$C$86,'Results 16'!#REF!),\"Not on Comps\",\"\")","v":{"$error":"#REF!"}}]
[2,{"$f":"IF(F279=F278,\"=\",A279)","v":2},"Jacob Pilkington","Performance Cycles","00:11:30","00:22:00",27.272727272727277,null,{"$f":"IF(COUNTIF(#REF!,'Results 16'!#REF!)>COUNTIF(Points!$C$10:$C$86,'Results 16'!#REF!),\"Not on Comps\",\"\")","v":{"$error":"#REF!"}}]
[3,{"$f":"IF(F280=F279,\"=\",A280)","v":3},"Pete Hutchinson","Cotswold Veldrijden","00:11:44","00:22:19",26.885735623599704,null,{"$f":"IF(COUNTIF(#REF!,'Results 16'!#REF!)>COUNTIF(Points!$C$10:$C$86,'Results 16'!#REF!),\"Not on Comps\",\"\")","v":{"$error":"#REF!"}}]
[4,{"$f":"IF(F281=F280,\"=\",A281)","v":4},"Peter Garnett","Swindon RC","00:11:52","00:22:42",26.431718061674008,null,{"$f":"IF(COUNTIF(#REF!,'Results 16'!#REF!)>COUNTIF(Points!$C$10:$C$86,'Results 16'!#REF!),\"Not on Comps\",\"\")","v":{"$error":"#REF!"}}]
[5,5,"Alex King","Performance Cycles","00:11:52","00:22:49",26.296566837107378,null,{"$f":"IF(COUNTIF(#REF!,'Results 16'!#REF!)>COUNTIF(Points!$C$10:$C$86,'Results 16'!#REF!),\"Not on Comps\",\"\")","v":{"$error":"#REF!"}}]
[6,6,"Niel Dunnage","Cotswold Veldrijden","00:11:48","00:22:50",26.277372262773724,null,{"$f":"IF(COUNTIF(#REF!,'Results 16'!#REF!)>COUNTIF(Points!$C$10:$C$86,'Results 16'!#REF!),\"Not on Comps\",\"\")","v":{"$error":"#REF!"}}]
[7,7,"Robin Short","Performance Cycles","00:11:58","00:22:52",26.239067055393587,null,{"$f":"IF(COUNTIF(#REF!,'Results 16'!#REF!)>COUNTIF(Points!$C$10:$C$86,'Results 16'!#REF!),\"Not on Comps\",\"\")","v":{"$error":"#REF!"}}]
[8,8,"Les Liddiard","Swindon RC","00:12:18","00:23:14",25.824964131994264,null,{"$f":"IF(COUNTIF(#REF!,'Results 16'!#REF!)>COUNTIF(Points!$C$10:$C$86,'Results 16'!#REF!),\"Not on Comps\",\"\")","v":{"$error":"#REF!"}}]
[9,9,"Tom Denley","Performance Cycles","00:12:01","00:23:24",25.641025641025639,null,{"$f":"IF(COUNTIF(#REF!,'Results 16'!#REF!)>COUNTIF(Points!$C$10:$C$86,'Results 16'!#REF!),\"Not on Comps\",\"\")","v":{"$error":"#REF!"}}]
[10,10,"Felix Wilkinson","Veloton","00:12:24","00:23:33",25.477707006369428,null,{"$f":"IF(COUNTIF(#REF!,'Results 16'!#REF!)>COUNTIF(Points!$C$10:$C$86,'Results 16'!#REF!),\"Not on Comps\",\"\")","v":{"$error":"#REF!"}}]
[11,11,"Adrian Williams","Ride 24/7","00:12:19","00:23:41",25.33427163969036,null,{"$f":"IF(COUNTIF(#REF!,'Results 16'!#REF!)>COUNTIF(Points!$C$10:$C$86,'Results 16'!#REF!),\"Not on Comps\",\"\")","v":{"$error":"#REF!"}}]
[12,12,"Andy McIntyre","Performance Cycles","00:12:46","00:24:12",24.793388429752067,null,{"$f":"IF(COUNTIF(#REF!,'Results 16'!#REF!)>COUNTIF(Points!$C$10:$C$86,'Results 16'!#REF!),\"Not on Comps\",\"\")","v":{"$error":"#REF!"}}]
[13,13,"Mick Sharratt","Swindon RC","00:12:50","00:24:14",24.759284731774414,null,{"$f":"IF(COUNTIF(#REF!,'Results 16'!#REF!)>COUNTIF(Points!$C$10:$C$86,'Results 16'!#REF!),\"Not on Comps\",\"\")","v":{"$error":"#REF!"}}]
[14,14,"Jason Costello","Team Swindon Cycles","00:12:38","00:24:15",24.742268041237114,null,{"$f":"IF(COUNTIF(#REF!,'Results 16'!#REF!)>COUNTIF(Points!$C$10:$C$86,'Results 16'!#REF!),\"Not on Comps\",\"\")","v":{"$error":"#REF!"}}]
[15,15,"David Wright","Veloton","00:12:32","00:24:18",24.691358024691365,null,{"$f":"IF(COUNTIF(#REF!,'Results 16'!#REF!)>COUNTIF(Points!$C$10:$C$86,'Results 16'!#REF!),\"Not on Comps\",\"\")","v":{"$error":"#REF!"}}]
[16,16,"Rob Merrison","Swindon RC","00:12:50","00:24:23",24.606971975393034,null,{"$f":"IF(COUNTIF(#REF!,'Results 16'!#REF!)>COUNTIF(Points!$C$10:$C$86,'Results 16'!#REF!),\"Not on Comps\",\"\")","v":{"$error":"#REF!"}}]
[17,17,"Sarah Gunn","Performance Cycles","00:12:50","00:24:37",24.373730534867978,null,{"$f":"IF(COUNTIF(#REF!,'Results 16'!#REF!)>COUNTIF(Points!$C$10:$C$86,'Results 16'!#REF!),\"Not on Comps\",\"\")","v":{"$error":"#REF!"}}]
[18,18,"Nick Lowe","Cotswold Veldrijden","00:12:51","00:24:58",24.032042723631509,null,{"$f":"IF(COUNTIF(#REF!,'Results 16'!#REF!)>COUNTIF(Points!$C$10:$C$86,'Results 16'!#REF!),\"Not on Comps\",\"\")","v":{"$error":"#REF!"}}]
[19,19,"Pete Scott","Cotswold Veldrijden","00:12:57","00:25:02",23.96804260985353,null,{"$f":"IF(COUNTIF(#REF!,'Results 16'!#REF!)>COUNTIF(Points!$C$10:$C$86,'Results 16'!#REF!),\"Not on Comps\",\"\")","v":{"$error":"#REF!"}}]
[20,20,"John Wickett","Ciren Tri Club","00:13:20","00:25:19",23.69980250164582,null,{"$f":"IF(COUNTIF(#REF!,'Results 16'!#REF!)>COUNTIF(Points!$C$10:$C$86,'Results 16'!#REF!),\"Not on Comps\",\"\")","v":{"$error":"#REF!"}}]
[21,21,"Ady Short","Swindon Wheelers","00:13:17","00:25:22",23.653088042049934,null,{"$f":"IF(COUNTIF(#REF!,'Results 16'!#REF!)>COUNTIF(Points!$C$10:$C$86,'Results 16'!#REF!),\"Not on Comps\",\"\")","v":{"$error":"#REF!"}}]
[22,22,"Mark Foyn","Corinium CC","00:13:05","00:25:29",23.544800523217788,null,{"$f":"IF(COUNTIF(#REF!,'Results 16'!#REF!)>COUNTIF(Points!$C$10:$C$86,'Results 16'!#REF!),\"Not on Comps\",\"\")","v":{"$error":"#REF!"}}]
[23,23,"Harriet Guest","Performance Cycles","00:13:19","00:25:39",23.391812865497077,null,{"$f":"IF(COUNTIF(#REF!,'Results 16'!#REF!)>COUNTIF(Points!$C$10:$C$86,'Results 16'!#REF!),\"Not on Comps\",\"\")","v":{"$error":"#REF!"}}]
[24,24,"Dave Gibson","Swindon RC","00:13:31","00:25:48",23.255813953488374,null,{"$f":"IF(COUNTIF(#REF!,'Results 16'!#REF!)>COUNTIF(Points!$C$10:$C$86,'Results 16'!#REF!),\"Not on Comps\",\"\")","v":{"$error":"#REF!"}}]
[25,25,"Wendy Nicholls","Kinetic One","00:13:35","00:25:51",23.210831721470019,null,{"$f":"IF(COUNTIF(#REF!,'Results 16'!#REF!)>COUNTIF(Points!$C$10:$C$86,'Results 16'!#REF!),\"Not on Comps\",\"\")","v":{"$error":"#REF!"}}]
[26,26,"John Simmons","Performance Cycles","00:13:27","00:25:52",23.195876288659793,null,{"$f":"IF(COUNTIF(#REF!,'Results 16'!#REF!)>COUNTIF(Points!$C$10:$C$86,'Results 16'!#REF!),\"Not on Comps\",\"\")","v":{"$error":"#REF!"}}]
[27,27,"Marc Allen","Swindon RC","00:13:41","00:25:53",23.180940115904704,null,{"$f":"IF(COUNTIF(#REF!,'Results 16'!#REF!)>COUNTIF(Points!$C$10:$C$86,'Results 16'!#REF!),\"Not on Comps\",\"\")","v":{"$error":"#REF!"}}]
[28,28,"Walter Featherstone","Swindon RC","00:13:40","00:26:09",22.94455066921606,null,{"$f":"IF(COUNTIF(#REF!,'Results 16'!#REF!)>COUNTIF(Points!$C$10:$C$86,'Results 16'!#REF!),\"Not on Comps\",\"\")","v":{"$error":"#REF!"}}]
[29,29,"Trevor Hodges","Corinium CC","00:13:43","00:26:17",22.828154724159798,null,{"$f":"IF(COUNTIF(#REF!,'Results 16'!#REF!)>COUNTIF(Points!$C$10:$C$86,'Results 16'!#REF!),\"Not on Comps\",\"\")","v":{"$error":"#REF!"}}]
[30,30,"Stephen Chapman","Corinium CC","00:13:40","00:26:27",22.684310018903592,null,{"$f":"IF(COUNTIF(#REF!,'Results 16'!#REF!)>COUNTIF(Points!$C$10:$C$86,'Results 16'!#REF!),\"Not on Comps\",\"\")","v":{"$error":"#REF!"}}]
[31,31,"Jeff Smith","Swindon RC","00:13:58","00:26:41",22.485946283572769,null,{"$f":"IF(COUNTIF(#REF!,'Results 16'!#REF!)>COUNTIF(Points!$C$10:$C$86,'Results 16'!#REF!),\"Not on Comps\",\"\")","v":{"$error":"#REF!"}}]
[32,32,"Bernie Beale","Swindon RC","00:13:49","00:26:48",22.388059701492537,null,{"$f":"IF(COUNTIF(#REF!,'Results 16'!#REF!)>COUNTIF(Points!$C$10:$C$86,'Results 16'!#REF!),\"Not on Comps\",\"\")","v":{"$error":"#REF!"}}]
[33,33,"Corinne Clark","Performance Cycles","00:14:05","00:27:08",22.113022113022115,null,{"$f":"IF(COUNTIF(#REF!,'Results 16'!#REF!)>COUNTIF(Points!$C$10:$C$86,'Results 16'!#REF!),\"Not on Comps\",\"\")","v":{"$error":"#REF!"}}]
[34,34,"Paul Fuchs","Corinium CC","00:14:09","00:27:09",22.099447513812155,null,{"$f":"IF(COUNTIF(#REF!,'Results 16'!#REF!)>COUNTIF(Points!$C$10:$C$86,'Results 16'!#REF!),\"Not on Comps\",\"\")","v":{"$error":"#REF!"}}]
[35,35,"Todd Cumberpatch","Performance Cycles","00:14:07","00:27:13",22.045315370483774,null,{"$f":"IF(COUNTIF(#REF!,'Results 16'!#REF!)>COUNTIF(Points!$C$10:$C$86,'Results 16'!#REF!),\"Not on Comps\",\"\")","v":{"$error":"#REF!"}}]
[36,36,"Kevin Lister","Corinium CC","00:14:04","00:27:26",21.871202916160389,null,{"$f":"IF(COUNTIF(#REF!,'Results 16'!#REF!)>COUNTIF(Points!$C$10:$C$86,'Results 16'!#REF!),\"Not on Comps\",\"\")","v":{"$error":"#REF!"}}]
[37,37,"Steve Turtle","Swindon Wheelers","00:14:14","00:27:32",21.791767554479417,null,{"$f":"IF(COUNTIF(#REF!,'Results 16'!#REF!)>COUNTIF(Points!$C$10:$C$86,'Results 16'!#REF!),\"Not on Comps\",\"\")","v":{"$error":"#REF!"}}]
[38,38,"Gerry Peppin","Corinium CC","00:14:21","00:27:41",21.673690547862734,null,{"$f":"IF(COUNTIF(#REF!,'Results 16'!#REF!)>COUNTIF(Points!$C$10:$C$86,'Results 16'!#REF!),\"Not on Comps\",\"\")","v":{"$error":"#REF!"}}]
[39,39,"Mike Brien","Swindon Wheelers","00:14:40","00:27:55",21.492537313432837,null,{"$f":"IF(COUNTIF(#REF!,'Results 16'!#REF!)>COUNTIF(Points!$C$10:$C$86,'Results 16'!#REF!),\"Not on Comps\",\"\")","v":{"$error":"#REF!"}}]
[40,40,"Allan Semple","Swindon RC","00:14:42","00:28:07",21.339656194427977,null,{"$f":"IF(COUNTIF(#REF!,'Results 16'!#REF!)>COUNTIF(Points!$C$10:$C$86,'Results 16'!#REF!),\"Not on Comps\",\"\")","v":{"$error":"#REF!"}}]
[41,41,"Allan Norwood","Corinium CC","00:14:32","00:28:08",21.327014218009477,null,{"$f":"IF(COUNTIF(#REF!,'Results 16'!#REF!)>COUNTIF(Points!$C$10:$C$86,'Results 16'!#REF!),\"Not on Comps\",\"\")","v":{"$error":"#REF!"}}]
[42,42,"Rob Patterson","Swindon RC","00:14:40","00:28:33",21.015761821366027,null,{"$f":"IF(COUNTIF(#REF!,'Results 16'!#REF!)>COUNTIF(Points!$C$10:$C$86,'Results 16'!#REF!),\"Not on Comps\",\"\")","v":{"$error":"#REF!"}}]
[43,43,"Nick Fiore","Cotswold Veldrijden","00:14:55","00:29:03",20.654044750430291,null,{"$f":"IF(COUNTIF(#REF!,'Results 16'!#REF!)>COUNTIF(Points!$C$10:$C$86,'Results 16'!#REF!),\"Not on Comps\",\"\")","v":{"$error":"#REF!"}}]
[44,44,"Kieran Golding","Swindon RC","00:15:16","00:29:28",20.361990950226247,null,{"$f":"IF(COUNTIF(#REF!,'Results 16'!#REF!)>COUNTIF(Points!$C$10:$C$86,'Results 16'!#REF!),\"Not on Comps\",\"\")","v":{"$error":"#REF!"}}]
[45,45,"Denis Hedges","Corinium CC","00:15:43","00:30:12",19.867549668874172,null,{"$f":"IF(COUNTIF(#REF!,'Results 16'!#REF!)>COUNTIF(Points!$C$10:$C$86,'Results 16'!#REF!),\"Not on Comps\",\"\")","v":{"$error":"#REF!"}}]
[46,46,"Darren Harrisson","Swindon Wheelers","00:15:43","00:30:23",19.747668678003294,null,{"$f":"IF(COUNTIF(#REF!,'Results 16'!#REF!)>COUNTIF(Points!$C$10:$C$86,'Results 16'!#REF!),\"Not on Comps\",\"\")","v":{"$error":"#REF!"}}]
[47,47,"Annie Pegler","Corinium CC","00:16:13","00:30:57",19.386106623586432,null,{"$f":"IF(COUNTIF(#REF!,'Results 16'!#REF!)>COUNTIF(Points!$C$10:$C$86,'Results 16'!#REF!),\"Not on Comps\",\"\")","v":{"$error":"#REF!"}}]
[48,48,"Dave Richards","Swindon Wheelers","00:16:37","00:31:22",19.128586609989373,null,{"$f":"IF(COUNTIF(#REF!,'Results 16'!#REF!)>COUNTIF(Points!$C$10:$C$86,'Results 16'!#REF!),\"Not on Comps\",\"\")","v":{"$error":"#REF!"}}]
[49,49,"Marguerite Miatt","Corinium CC","00:16:31","00:31:39",18.957345971563985,null,{"$f":"IF(COUNTIF(#REF!,'Results 16'!#REF!)>COUNTIF(Points!$C$10:$C$86,'Results 16'!#REF!),\"Not on Comps\",\"\")","v":{"$error":"#REF!"}}]
[50,50,"Ross Gregory","Corinium CC","00:17:15","00:32:54",18.237082066869302,null,{"$f":"IF(COUNTIF(#REF!,'Results 16'!#REF!)>COUNTIF(Points!$C$10:$C$86,'Results 16'!#REF!),\"Not on Comps\",\"\")","v":{"$error":"#REF!"}}]
[51,51,"Jason Wood","Swindon Wheelers","00:17:18","00:33:00",18.181818181818183,null,{"$f":"IF(COUNTIF(#REF!,'Results 16'!#REF!)>COUNTIF(Points!$C$10:$C$86,'Results 16'!#REF!),\"Not on Comps\",\"\")","v":{"$error":"#REF!"}}]
[52,52,"Carol Clarke","Performance Cycles","00:17:31","00:33:08",18.108651911468815,null,{"$f":"IF(COUNTIF(#REF!,'Results 16'!#REF!)>COUNTIF(Points!$C$10:$C$86,'Results 16'!#REF!),\"Not on Comps\",\"\")","v":{"$error":"#REF!"}}]
[53,53,"Paul Wood","Swindon Wheelers","00:17:55","00:34:06",17.595307917888565,null,{"$f":"IF(COUNTIF(#REF!,'Results 16'!#REF!)>COUNTIF(Points!$C$10:$C$86,'Results 16'!#REF!),\"Not on Comps\",\"\")","v":{"$error":"#REF!"}}]
[null,null,"2016-05-26",null,"Split Time","Total Time","m.p.h.",null,{"$f":"IF(COUNTIF(#REF!,'Results 16'!#REF!)>COUNTIF(Points!$C$10:$C$86,'Results 16'!#REF!),\"Not on Comps\",\"\")","v":{"$error":"#REF!"}}]
[1,1,"Jacob Pilkington","Performance Cycles","00:11:06","00:21:08",28.391167192429023,null,{"$f":"IF(COUNTIF(#REF!,'Results 16'!#REF!)>COUNTIF(Points!$C$10:$C$86,'Results 16'!#REF!),\"Not on Comps\",\"\")","v":{"$error":"#REF!"}}]
[2,{"$f":"IF(F333=F332,\"=\",A333)","v":2},"Peter Garnett","Swindon RC","00:11:19","00:22:00",27.272727272727277,null,{"$f":"IF(COUNTIF(#REF!,'Results 16'!#REF!)>COUNTIF(Points!$C$10:$C$86,'Results 16'!#REF!),\"Not on Comps\",\"\")","v":{"$error":"#REF!"}}]
[3,{"$f":"IF(F334=F333,\"=\",A334)","v":3},"Pete Hutchinson","Cotswold Veldrijden","00:11:42","00:22:20",26.865671641791042,null,{"$f":"IF(COUNTIF(#REF!,'Results 16'!#REF!)>COUNTIF(Points!$C$10:$C$86,'Results 16'!#REF!),\"Not on Comps\",\"\")","v":{"$error":"#REF!"}}]
[4,{"$f":"IF(F335=F334,\"=\",A335)","v":4},"Alex King","Performance Cycles","00:11:40","00:22:30",26.666666666666668,null,{"$f":"IF(COUNTIF(#REF!,'Results 16'!#REF!)>COUNTIF(Points!$C$10:$C$86,'Results 16'!#REF!),\"Not on Comps\",\"\")","v":{"$error":"#REF!"}}]
[5,5,"Les Liddiard","Swindon RC","00:11:55","00:22:59",26.105873821609862,null,{"$f":"IF(COUNTIF(#REF!,'Results 16'!#REF!)>COUNTIF(Points!$C$10:$C$86,'Results 16'!#REF!),\"Not on Comps\",\"\")","v":{"$error":"#REF!"}}]
[6,6,"Tom Denley","Performance Cycles","00:11:56","00:23:17",25.769506084466713,null,{"$f":"IF(COUNTIF(#REF!,'Results 16'!#REF!)>COUNTIF(Points!$C$10:$C$86,'Results 16'!#REF!),\"Not on Comps\",\"\")","v":{"$error":"#REF!"}}]
[7,7,"Joe Schvartz","Team Swindon Cycles","00:12:10","00:23:19",25.732666190135813,null,{"$f":"IF(COUNTIF(#REF!,'Results 16'!#REF!)>COUNTIF(Points!$C$10:$C$86,'Results 16'!#REF!),\"Not on Comps\",\"\")","v":{"$error":"#REF!"}}]
[8,"=","David Wright","Veloton","00:12:12","00:23:19",25.732666190135813,null,{"$f":"IF(COUNTIF(#REF!,'Results 16'!#REF!)>COUNTIF(Points!$C$10:$C$86,'Results 16'!#REF!),\"Not on Comps\",\"\")","v":{"$error":"#REF!"}}]
[9,9,"Chris Wood","Performance Cycles","00:12:05","00:23:30",25.531914893617024,null,{"$f":"IF(COUNTIF(#REF!,'Results 16'!#REF!)>COUNTIF(Points!$C$10:$C$86,'Results 16'!#REF!),\"Not on Comps\",\"\")","v":{"$error":"#REF!"}}]
[10,10,"Gethin Musk","Performance Cycles","","00:23:37",25.405786873676785,null,{"$f":"IF(COUNTIF(#REF!,'Results 16'!#REF!)>COUNTIF(Points!$C$10:$C$86,'Results 16'!#REF!),\"Not on Comps\",\"\")","v":{"$error":"#REF!"}}]
[11,11,"Jason Costello","Team Swindon Cycles","00:12:23","00:23:52",25.139664804469273,null,{"$f":"IF(COUNTIF(#REF!,'Results 16'!#REF!)>COUNTIF(Points!$C$10:$C$86,'Results 16'!#REF!),\"Not on Comps\",\"\")","v":{"$error":"#REF!"}}]
[12,12,"Chris Broad-Drake","Swindon RC","00:12:28","00:23:56",25.069637883008358,null,{"$f":"IF(COUNTIF(#REF!,'Results 16'!#REF!)>COUNTIF(Points!$C$10:$C$86,'Results 16'!#REF!),\"Not on Comps\",\"\")","v":{"$error":"#REF!"}}]
[13,13,"Felix Wilkinson","Veloton","00:12:36","00:23:58",25.034770514603618,null,{"$f":"IF(COUNTIF(#REF!,'Results 16'!#REF!)>COUNTIF(Points!$C$10:$C$86,'Results 16'!#REF!),\"Not on Comps\",\"\")","v":{"$error":"#REF!"}}]
[14,14,"Steve Davies","Swindon RC","00:12:26","00:24:03",24.948024948024951,null,{"$f":"IF(COUNTIF(#REF!,'Results 16'!#REF!)>COUNTIF(Points!$C$10:$C$86,'Results 16'!#REF!),\"Not on Comps\",\"\")","v":{"$error":"#REF!"}}]
[15,15,"Rowan Brown","Swindon Wheelers","00:12:36","00:24:10",24.827586206896555,null,{"$f":"IF(COUNTIF(#REF!,'Results 16'!#REF!)>COUNTIF(Points!$C$10:$C$86,'Results 16'!#REF!),\"Not on Comps\",\"\")","v":{"$error":"#REF!"}}]
[16,16,"Martin Mason","Performance Cycles","00:12:42","00:24:20",24.657534246575342,null,{"$f":"IF(COUNTIF(#REF!,'Results 16'!#REF!)>COUNTIF(Points!$C$10:$C$86,'Results 16'!#REF!),\"Not on Comps\",\"\")","v":{"$error":"#REF!"}}]
[17,17,"Neil Hancock","Swindon RC","00:12:47","00:24:37",24.373730534867978,null,{"$f":"IF(COUNTIF(#REF!,'Results 16'!#REF!)>COUNTIF(Points!$C$10:$C$86,'Results 16'!#REF!),\"Not on Comps\",\"\")","v":{"$error":"#REF!"}}]
[18,18,"Pete Jeans","Team Swindon Cycles","00:13:00","00:24:51",24.144869215291752,null,{"$f":"IF(COUNTIF(#REF!,'Results 16'!#REF!)>COUNTIF(Points!$C$10:$C$86,'Results 16'!#REF!),\"Not on Comps\",\"\")","v":{"$error":"#REF!"}}]
[19,19,"Mark Foyn","Corinium CC","00:12:48","00:24:53",24.112525117213664,null,{"$f":"IF(COUNTIF(#REF!,'Results 16'!#REF!)>COUNTIF(Points!$C$10:$C$86,'Results 16'!#REF!),\"Not on Comps\",\"\")","v":{"$error":"#REF!"}}]
[20,20,"Dave Gibson","Swindon RC","00:13:08","00:24:56",24.064171122994654,null,{"$f":"IF(COUNTIF(#REF!,'Results 16'!#REF!)>COUNTIF(Points!$C$10:$C$86,'Results 16'!#REF!),\"Not on Comps\",\"\")","v":{"$error":"#REF!"}}]
[21,21,"Ady Short","Swindon Wheelers","00:13:04","00:25:04",23.936170212765958,null,{"$f":"IF(COUNTIF(#REF!,'Results 16'!#REF!)>COUNTIF(Points!$C$10:$C$86,'Results 16'!#REF!),\"Not on Comps\",\"\")","v":{"$error":"#REF!"}}]
[22,22,"Trevor Hodges","Corinium CC","00:13:02","00:25:07",23.888520238885203,null,{"$f":"IF(COUNTIF(#REF!,'Results 16'!#REF!)>COUNTIF(Points!$C$10:$C$86,'Results 16'!#REF!),\"Not on Comps\",\"\")","v":{"$error":"#REF!"}}]
[23,23,"Harry Ward","Performance Cycles","00:13:06","00:25:15",23.762376237623766,null,{"$f":"IF(COUNTIF(#REF!,'Results 16'!#REF!)>COUNTIF(Points!$C$10:$C$86,'Results 16'!#REF!),\"Not on Comps\",\"\")","v":{"$error":"#REF!"}}]
[24,"=","Pete Collins","Swindon RC","00:13:00","00:25:15",23.762376237623766,null,{"$f":"IF(COUNTIF(#REF!,'Results 16'!#REF!)>COUNTIF(Points!$C$10:$C$86,'Results 16'!#REF!),\"Not on Comps\",\"\")","v":{"$error":"#REF!"}}]
[25,"=","Nick Lowe","Cotswold Veldrijden","00:12:59","00:25:15",23.762376237623766,null,{"$f":"IF(COUNTIF(#REF!,'Results 16'!#REF!)>COUNTIF(Points!$C$10:$C$86,'Results 16'!#REF!),\"Not on Comps\",\"\")","v":{"$error":"#REF!"}}]
[26,26,"Marc Allen","Swindon RC","00:13:15","00:25:17",23.731048121292023,null,{"$f":"IF(COUNTIF(#REF!,'Results 16'!#REF!)>COUNTIF(Points!$C$10:$C$86,'Results 16'!#REF!),\"Not on Comps\",\"\")","v":{"$error":"#REF!"}}]
[27,27,"Clive Rivers","Performance Cycles","00:13:10","00:25:23",23.637557452396589,null,{"$f":"IF(COUNTIF(#REF!,'Results 16'!#REF!)>COUNTIF(Points!$C$10:$C$86,'Results 16'!#REF!),\"Not on Comps\",\"\")","v":{"$error":"#REF!"}}]
[28,28,"Andy Claxton","Ride 24/7","00:13:15","00:25:28",23.560209424083769,null,{"$f":"IF(COUNTIF(#REF!,'Results 16'!#REF!)>COUNTIF(Points!$C$10:$C$86,'Results 16'!#REF!),\"Not on Comps\",\"\")","v":{"$error":"#REF!"}}]
[29,29,"Mark Phillips","Swindon RC","00:13:23","00:26:05",23.003194888178914,null,{"$f":"IF(COUNTIF(#REF!,'Results 16'!#REF!)>COUNTIF(Points!$C$10:$C$86,'Results 16'!#REF!),\"Not on Comps\",\"\")","v":{"$error":"#REF!"}}]
[30,30,"Stephen Chapman","Corinium CC","00:13:29","00:26:11",22.915340547422023,null,{"$f":"IF(COUNTIF(#REF!,'Results 16'!#REF!)>COUNTIF(Points!$C$10:$C$86,'Results 16'!#REF!),\"Not on Comps\",\"\")","v":{"$error":"#REF!"}}]
[31,31,"Donna Short","Performance Cycles","00:13:41","00:26:31",22.627278441231926,null,{"$f":"IF(COUNTIF(#REF!,'Results 16'!#REF!)>COUNTIF(Points!$C$10:$C$86,'Results 16'!#REF!),\"Not on Comps\",\"\")","v":{"$error":"#REF!"}}]
[32,32,"Paul Fuchs","Corinium CC","00:13:46","00:26:34",22.584692597239652,null,{"$f":"IF(COUNTIF(#REF!,'Results 16'!#REF!)>COUNTIF(Points!$C$10:$C$86,'Results 16'!#REF!),\"Not on Comps\",\"\")","v":{"$error":"#REF!"}}]
[33,33,"Kevin Lister","Corinium CC","00:13:47","00:26:36",22.556390977443613,null,{"$f":"IF(COUNTIF(#REF!,'Results 16'!#REF!)>COUNTIF(Points!$C$10:$C$86,'Results 16'!#REF!),\"Not on Comps\",\"\")","v":{"$error":"#REF!"}}]
[34,34,"Howard Seward","Swindon RC","","00:26:54",22.304832713754649,null,{"$f":"IF(COUNTIF(#REF!,'Results 16'!#REF!)>COUNTIF(Points!$C$10:$C$86,'Results 16'!#REF!),\"Not on Comps\",\"\")","v":{"$error":"#REF!"}}]
[35,35,"Allan Norwood","Corinium CC","00:14:09","00:27:43",21.64762477450391,null,{"$f":"IF(COUNTIF(#REF!,'Results 16'!#REF!)>COUNTIF(Points!$C$10:$C$86,'Results 16'!#REF!),\"Not on Comps\",\"\")","v":{"$error":"#REF!"}}]
[36,36,"Becky Cox","Swindon Wheelers","00:14:44","00:27:55",21.492537313432837,null,{"$f":"IF(COUNTIF(#REF!,'Results 16'!#REF!)>COUNTIF(Points!$C$10:$C$86,'Results 16'!#REF!),\"Not on Comps\",\"\")","v":{"$error":"#REF!"}}]
[37,37,"David Parkin","Swindon RC","00:14:40","00:28:17",21.213906894519742,null,{"$f":"IF(COUNTIF(#REF!,'Results 16'!#REF!)>COUNTIF(Points!$C$10:$C$86,'Results 16'!#REF!),\"Not on Comps\",\"\")","v":{"$error":"#REF!"}}]
[38,38,"Charlotte Berry","Performance Cycles","00:14:55","00:28:38",20.954598370197907,null,{"$f":"IF(COUNTIF(#REF!,'Results 16'!#REF!)>COUNTIF(Points!$C$10:$C$86,'Results 16'!#REF!),\"Not on Comps\",\"\")","v":{"$error":"#REF!"}}]
[39,39,"Kieran Golding","Swindon RC","00:14:59","00:28:52",20.785219399538107,null,{"$f":"IF(COUNTIF(#REF!,'Results 16'!#REF!)>COUNTIF(Points!$C$10:$C$86,'Results 16'!#REF!),\"Not on Comps\",\"\")","v":{"$error":"#REF!"}}]
[40,40,"Steve Dearlove","Swindon RC","00:15:03","00:29:02",20.66590126291619,null,{"$f":"IF(COUNTIF(#REF!,'Results 16'!#REF!)>COUNTIF(Points!$C$10:$C$86,'Results 16'!#REF!),\"Not on Comps\",\"\")","v":{"$error":"#REF!"}}]
[41,41,"Darren Harrisson","Swindon Wheelers","00:15:08","00:29:25",20.396600566572239,null,{"$f":"IF(COUNTIF(#REF!,'Results 16'!#REF!)>COUNTIF(Points!$C$10:$C$86,'Results 16'!#REF!),\"Not on Comps\",\"\")","v":{"$error":"#REF!"}}]
[42,42,"Lew Lawton","Swindon RC","00:15:09","00:29:27",20.373514431239389,null,{"$f":"IF(COUNTIF(#REF!,'Results 16'!#REF!)>COUNTIF(Points!$C$10:$C$86,'Results 16'!#REF!),\"Not on Comps\",\"\")","v":{"$error":"#REF!"}}]
[43,43,"Annie Pegler","Corinium CC","00:15:33","00:30:08",19.911504424778762,null,{"$f":"IF(COUNTIF(#REF!,'Results 16'!#REF!)>COUNTIF(Points!$C$10:$C$86,'Results 16'!#REF!),\"Not on Comps\",\"\")","v":{"$error":"#REF!"}}]
[44,44,"Marguerite Miatt","Corinium CC","00:16:07","00:30:55",19.40700808625337,null,{"$f":"IF(COUNTIF(#REF!,'Results 16'!#REF!)>COUNTIF(Points!$C$10:$C$86,'Results 16'!#REF!),\"Not on Comps\",\"\")","v":{"$error":"#REF!"}}]
[45,45,"Ross Gregory","Corinium CC","00:16:49","00:32:20",18.556701030927837,null,{"$f":"IF(COUNTIF(#REF!,'Results 16'!#REF!)>COUNTIF(Points!$C$10:$C$86,'Results 16'!#REF!),\"Not on Comps\",\"\")","v":{"$error":"#REF!"}}]
[null,null,"2016-06-02",null,"Split Time","Total Time","m.p.h.",null,{"$f":"IF(COUNTIF(#REF!,'Results 16'!#REF!)>COUNTIF(Points!$C$10:$C$86,'Results 16'!#REF!),\"Not on Comps\",\"\")","v":{"$error":"#REF!"}}]
[1,1,"Jacob Pilkington","Performance Cycles","00:11:17","00:21:34",27.820710973724886,null,{"$f":"IF(COUNTIF(#REF!,'Results 16'!#REF!)>COUNTIF(Points!$C$10:$C$86,'Results 16'!#REF!),\"Not on Comps\",\"\")","v":{"$error":"#REF!"}}]
[2,{"$f":"IF(F379=F378,\"=\",A379)","v":2},"Peter Garnett","Swindon RC","00:11:43","00:22:38",26.50957290132548,null,{"$f":"IF(COUNTIF(#REF!,'Results 16'!#REF!)>COUNTIF(Points!$C$10:$C$86,'Results 16'!#REF!),\"Not on Comps\",\"\")","v":{"$error":"#REF!"}}]
[3,{"$f":"IF(F380=F379,\"=\",A380)","v":3},"Rory Gilling","Performance Cycles","00:11:44","00:22:39",26.490066225165563,null,{"$f":"IF(COUNTIF(#REF!,'Results 16'!#REF!)>COUNTIF(Points!$C$10:$C$86,'Results 16'!#REF!),\"Not on Comps\",\"\")","v":{"$error":"#REF!"}}]
[4,{"$f":"IF(F381=F380,\"=\",A381)","v":4},"Jim Curry","Performance Cycles","00:12:01","00:23:25",25.622775800711747,null,{"$f":"IF(COUNTIF(#REF!,'Results 16'!#REF!)>COUNTIF(Points!$C$10:$C$86,'Results 16'!#REF!),\"Not on Comps\",\"\")","v":{"$error":"#REF!"}}]
[5,5,"Steve Yates","Corinium CC","00:12:11","00:23:31",25.513819985825652,null,{"$f":"IF(COUNTIF(#REF!,'Results 16'!#REF!)>COUNTIF(Points!$C$10:$C$86,'Results 16'!#REF!),\"Not on Comps\",\"\")","v":{"$error":"#REF!"}}]
[6,6,"Rob Merrison","Swindon RC","00:12:20","00:23:40",25.35211267605634,null,{"$f":"IF(COUNTIF(#REF!,'Results 16'!#REF!)>COUNTIF(Points!$C$10:$C$86,'Results 16'!#REF!),\"Not on Comps\",\"\")","v":{"$error":"#REF!"}}]
[7,7,"Robin Short","Performance Cycles","00:12:09","00:23:43",25.2986647926915,null,{"$f":"IF(COUNTIF(#REF!,'Results 16'!#REF!)>COUNTIF(Points!$C$10:$C$86,'Results 16'!#REF!),\"Not on Comps\",\"\")","v":{"$error":"#REF!"}}]
[8,8,"Ash Edwards","Army Cycling Union","00:12:31","00:23:54",25.104602510460253,null,{"$f":"IF(COUNTIF(#REF!,'Results 16'!#REF!)>COUNTIF(Points!$C$10:$C$86,'Results 16'!#REF!),\"Not on Comps\",\"\")","v":{"$error":"#REF!"}}]
[9,9,"Andy Claxton","Ride 24/7","00:12:33","00:24:00",25,null,{"$f":"IF(COUNTIF(#REF!,'Results 16'!#REF!)>COUNTIF(Points!$C$10:$C$86,'Results 16'!#REF!),\"Not on Comps\",\"\")","v":{"$error":"#REF!"}}]
[10,10,"Mick Sharratt","73 Degrees Bikes","00:12:29","00:24:14",24.759284731774414,null,{"$f":"IF(COUNTIF(#REF!,'Results 16'!#REF!)>COUNTIF(Points!$C$10:$C$86,'Results 16'!#REF!),\"Not on Comps\",\"\")","v":{"$error":"#REF!"}}]
[11,11,"Martin Mason","Performance Cycles","00:12:42","00:24:28",24.52316076294278,null,{"$f":"IF(COUNTIF(#REF!,'Results 16'!#REF!)>COUNTIF(Points!$C$10:$C$86,'Results 16'!#REF!),\"Not on Comps\",\"\")","v":{"$error":"#REF!"}}]
[12,12,"Paul O'Driscoll","Team Swindon Cycles","00:12:51","00:24:45",24.242424242424246,null,{"$f":"IF(COUNTIF(#REF!,'Results 16'!#REF!)>COUNTIF(Points!$C$10:$C$86,'Results 16'!#REF!),\"Not on Comps\",\"\")","v":{"$error":"#REF!"}}]
[13,"=","Pete Scott","Cotswold Veldrijden","00:12:44","00:24:45",24.242424242424246,null,{"$f":"IF(COUNTIF(#REF!,'Results 16'!#REF!)>COUNTIF(Points!$C$10:$C$86,'Results 16'!#REF!),\"Not on Comps\",\"\")","v":{"$error":"#REF!"}}]
[14,14,"Steve Davies","Swindon RC","00:13:05","00:25:07",23.888520238885203,null,{"$f":"IF(COUNTIF(#REF!,'Results 16'!#REF!)>COUNTIF(Points!$C$10:$C$86,'Results 16'!#REF!),\"Not on Comps\",\"\")","v":{"$error":"#REF!"}}]
[15,15,"Mark Foyn","Corinium CC","00:12:59","00:25:12",23.80952380952381,null,{"$f":"IF(COUNTIF(#REF!,'Results 16'!#REF!)>COUNTIF(Points!$C$10:$C$86,'Results 16'!#REF!),\"Not on Comps\",\"\")","v":{"$error":"#REF!"}}]
[16,16,"Dave Gibson","Swindon RC","00:13:07","00:25:22",23.653088042049934,null,{"$f":"IF(COUNTIF(#REF!,'Results 16'!#REF!)>COUNTIF(Points!$C$10:$C$86,'Results 16'!#REF!),\"Not on Comps\",\"\")","v":{"$error":"#REF!"}}]
[17,17,"Pete Jeans","Team Swindon Cycles","00:13:14","00:25:28",23.560209424083769,null,{"$f":"IF(COUNTIF(#REF!,'Results 16'!#REF!)>COUNTIF(Points!$C$10:$C$86,'Results 16'!#REF!),\"Not on Comps\",\"\")","v":{"$error":"#REF!"}}]
[18,18,"Marc Allen","Swindon RC","00:13:37","00:25:49",23.240800516462233,null,{"$f":"IF(COUNTIF(#REF!,'Results 16'!#REF!)>COUNTIF(Points!$C$10:$C$86,'Results 16'!#REF!),\"Not on Comps\",\"\")","v":{"$error":"#REF!"}}]
[19,19,"Mark Phillips","Swindon RC","00:13:40","00:26:12",22.900763358778629,null,{"$f":"IF(COUNTIF(#REF!,'Results 16'!#REF!)>COUNTIF(Points!$C$10:$C$86,'Results 16'!#REF!),\"Not on Comps\",\"\")","v":{"$error":"#REF!"}}]
[20,20,"Paul Fuchs","Corinium CC","00:13:55","00:26:39",22.514071294559102,null,{"$f":"IF(COUNTIF(#REF!,'Results 16'!#REF!)>COUNTIF(Points!$C$10:$C$86,'Results 16'!#REF!),\"Not on Comps\",\"\")","v":{"$error":"#REF!"}}]
[21,21,"Bernie Beale","Swindon RC","00:13:49","00:26:48",22.388059701492537,null,{"$f":"IF(COUNTIF(#REF!,'Results 16'!#REF!)>COUNTIF(Points!$C$10:$C$86,'Results 16'!#REF!),\"Not on Comps\",\"\")","v":{"$error":"#REF!"}}]
[22,22,"Stephen Chapman","Corinium CC","00:13:53","00:26:49",22.374145431945308,null,{"$f":"IF(COUNTIF(#REF!,'Results 16'!#REF!)>COUNTIF(Points!$C$10:$C$86,'Results 16'!#REF!),\"Not on Comps\",\"\")","v":{"$error":"#REF!"}}]
[23,23,"Mike Brien","Swindon Wheelers","00:14:07","00:27:17",21.991447770311549,null,{"$f":"IF(COUNTIF(#REF!,'Results 16'!#REF!)>COUNTIF(Points!$C$10:$C$86,'Results 16'!#REF!),\"Not on Comps\",\"\")","v":{"$error":"#REF!"}}]
[24,"=","Gerry Peppin","Corinium CC","00:14:11","00:27:17",21.991447770311549,null,{"$f":"IF(COUNTIF(#REF!,'Results 16'!#REF!)>COUNTIF(Points!$C$10:$C$86,'Results 16'!#REF!),\"Not on Comps\",\"\")","v":{"$error":"#REF!"}}]
[25,25,"Allan Semple","Swindon RC","00:14:10","00:27:25",21.884498480243163,null,{"$f":"IF(COUNTIF(#REF!,'Results 16'!#REF!)>COUNTIF(Points!$C$10:$C$86,'Results 16'!#REF!),\"Not on Comps\",\"\")","v":{"$error":"#REF!"}}]
[26,26,"Richard Gower","Performance Cycles","00:14:40","00:28:05",21.36498516320475,null,{"$f":"IF(COUNTIF(#REF!,'Results 16'!#REF!)>COUNTIF(Points!$C$10:$C$86,'Results 16'!#REF!),\"Not on Comps\",\"\")","v":{"$error":"#REF!"}}]
[27,27,"Daniel Darby","Swindon RC","00:14:31","00:28:09",21.314387211367674,null,{"$f":"IF(COUNTIF(#REF!,'Results 16'!#REF!)>COUNTIF(Points!$C$10:$C$86,'Results 16'!#REF!),\"Not on Comps\",\"\")","v":{"$error":"#REF!"}}]
[28,28,"Howard Seward","Swindon RC","00:14:34","00:28:22",21.151586368977672,null,{"$f":"IF(COUNTIF(#REF!,'Results 16'!#REF!)>COUNTIF(Points!$C$10:$C$86,'Results 16'!#REF!),\"Not on Comps\",\"\")","v":{"$error":"#REF!"}}]
[29,29,"Nick Fiore","Cotswold Veldrijden","00:14:43","00:28:43",20.89378990133488,null,{"$f":"IF(COUNTIF(#REF!,'Results 16'!#REF!)>COUNTIF(Points!$C$10:$C$86,'Results 16'!#REF!),\"Not on Comps\",\"\")","v":{"$error":"#REF!"}}]
[30,30,"Annie Pegler","Corinium CC","00:16:24","00:31:26",19.08801696712619,null,{"$f":"IF(COUNTIF(#REF!,'Results 16'!#REF!)>COUNTIF(Points!$C$10:$C$86,'Results 16'!#REF!),\"Not on Comps\",\"\")","v":{"$error":"#REF!"}}]
[31,31,"Paul Wood","Swindon Wheelers","00:17:14","00:33:31",17.901541521631028,null,{"$f":"IF(COUNTIF(#REF!,'Results 16'!#REF!)>COUNTIF(Points!$C$10:$C$86,'Results 16'!#REF!),\"Not on Comps\",\"\")","v":{"$error":"#REF!"}}]
[null,null,"2016-06-09",null,"Split Time","Total Time","m.p.h.",null,{"$f":"IF(COUNTIF(#REF!,'Results 16'!#REF!)>COUNTIF(Points!$C$10:$C$86,'Results 16'!#REF!),\"Not on Comps\",\"\")","v":{"$error":"#REF!"}}]
[1,1,"Jacob Pilkington","Performance Cycles","00:10:54","00:20:58",28.616852146263913,null,{"$f":"IF(COUNTIF(#REF!,'Results 16'!#REF!)>COUNTIF(Points!$C$10:$C$86,'Results 16'!#REF!),\"Not on Comps\",\"\")","v":{"$error":"#REF!"}}]
[2,{"$f":"IF(F411=F410,\"=\",A411)","v":2},"Rory Gilling","Performance Cycles","00:11:19","00:21:50",27.480916030534349,null,{"$f":"IF(COUNTIF(#REF!,'Results 16'!#REF!)>COUNTIF(Points!$C$10:$C$86,'Results 16'!#REF!),\"Not on Comps\",\"\")","v":{"$error":"#REF!"}}]
[3,{"$f":"IF(F412=F411,\"=\",A412)","v":3},"Peter Garnett","Swindon RC","00:11:24","00:22:02",27.231467473524962,null,{"$f":"IF(COUNTIF(#REF!,'Results 16'!#REF!)>COUNTIF(Points!$C$10:$C$86,'Results 16'!#REF!),\"Not on Comps\",\"\")","v":{"$error":"#REF!"}}]
[4,{"$f":"IF(F413=F412,\"=\",A413)","v":4},"Pete Hutchinson","Cotswold Veldrijden","00:11:33","00:22:08",27.108433734939762,null,{"$f":"IF(COUNTIF(#REF!,'Results 16'!#REF!)>COUNTIF(Points!$C$10:$C$86,'Results 16'!#REF!),\"Not on Comps\",\"\")","v":{"$error":"#REF!"}}]
[5,5,"Alex King","Performance Cycles","00:11:40","00:22:26",26.745913818722144,null,{"$f":"IF(COUNTIF(#REF!,'Results 16'!#REF!)>COUNTIF(Points!$C$10:$C$86,'Results 16'!#REF!),\"Not on Comps\",\"\")","v":{"$error":"#REF!"}}]
[6,"=","Les Liddiard","Swindon RC","00:11:48","00:22:26",26.745913818722144,null,{"$f":"IF(COUNTIF(#REF!,'Results 16'!#REF!)>COUNTIF(Points!$C$10:$C$86,'Results 16'!#REF!),\"Not on Comps\",\"\")","v":{"$error":"#REF!"}}]
[7,7,"Chris Wood","Performance Cycles","00:12:00","00:22:48",26.315789473684216,null,{"$f":"IF(COUNTIF(#REF!,'Results 16'!#REF!)>COUNTIF(Points!$C$10:$C$86,'Results 16'!#REF!),\"Not on Comps\",\"\")","v":{"$error":"#REF!"}}]
[8,8,"Jim Curry","Performance Cycles","00:12:04","00:22:59",26.105873821609862,null,{"$f":"IF(COUNTIF(#REF!,'Results 16'!#REF!)>COUNTIF(Points!$C$10:$C$86,'Results 16'!#REF!),\"Not on Comps\",\"\")","v":{"$error":"#REF!"}}]
[9,9,"Steve Yates","Ride 24/7","00:12:16","00:23:29",25.5500354861604,null,{"$f":"IF(COUNTIF(#REF!,'Results 16'!#REF!)>COUNTIF(Points!$C$10:$C$86,'Results 16'!#REF!),\"Not on Comps\",\"\")","v":{"$error":"#REF!"}}]
[10,10,"Rob Merrison","Swindon RC","00:12:26","00:23:35",25.441696113074205,null,{"$f":"IF(COUNTIF(#REF!,'Results 16'!#REF!)>COUNTIF(Points!$C$10:$C$86,'Results 16'!#REF!),\"Not on Comps\",\"\")","v":{"$error":"#REF!"}}]
[11,11,"Jason Costello","Team Swindon Cycles","00:12:22","00:23:41",25.33427163969036,null,{"$f":"IF(COUNTIF(#REF!,'Results 16'!#REF!)>COUNTIF(Points!$C$10:$C$86,'Results 16'!#REF!),\"Not on Comps\",\"\")","v":{"$error":"#REF!"}}]
[12,"=","Pete Scott","Swindon RC","00:12:46","00:23:41",25.33427163969036,null,{"$f":"IF(COUNTIF(#REF!,'Results 16'!#REF!)>COUNTIF(Points!$C$10:$C$86,'Results 16'!#REF!),\"Not on Comps\",\"\")","v":{"$error":"#REF!"}}]
[13,13,"Mick Sharratt","73 Degrees Bikes","00:12:41","00:23:47",25.227750525578134,null,{"$f":"IF(COUNTIF(#REF!,'Results 16'!#REF!)>COUNTIF(Points!$C$10:$C$86,'Results 16'!#REF!),\"Not on Comps\",\"\")","v":{"$error":"#REF!"}}]
[14,14,"Dave Gibson","Swindon RC","00:12:49","00:24:31",24.47314751869477,null,{"$f":"IF(COUNTIF(#REF!,'Results 16'!#REF!)>COUNTIF(Points!$C$10:$C$86,'Results 16'!#REF!),\"Not on Comps\",\"\")","v":{"$error":"#REF!"}}]
[15,15,"Les Sheppard","Swindon Wheelers","00:12:45","00:24:35",24.406779661016952,null,{"$f":"IF(COUNTIF(#REF!,'Results 16'!#REF!)>COUNTIF(Points!$C$10:$C$86,'Results 16'!#REF!),\"Not on Comps\",\"\")","v":{"$error":"#REF!"}}]
[16,16,"Steve Davies","Swindon RC","00:12:48","00:24:36",24.390243902439025,null,{"$f":"IF(COUNTIF(#REF!,'Results 16'!#REF!)>COUNTIF(Points!$C$10:$C$86,'Results 16'!#REF!),\"Not on Comps\",\"\")","v":{"$error":"#REF!"}}]
[17,17,"Marc Allen","Swindon RC","00:13:06","00:24:40",24.324324324324323,null,{"$f":"IF(COUNTIF(#REF!,'Results 16'!#REF!)>COUNTIF(Points!$C$10:$C$86,'Results 16'!#REF!),\"Not on Comps\",\"\")","v":{"$error":"#REF!"}}]
[18,18,"Trevor Hodges","Corinium CC","00:13:04","00:24:47",24.209818426361803,null,{"$f":"IF(COUNTIF(#REF!,'Results 16'!#REF!)>COUNTIF(Points!$C$10:$C$86,'Results 16'!#REF!),\"Not on Comps\",\"\")","v":{"$error":"#REF!"}}]
[19,19,"Steve Buckley","Ride 24/7","00:12:59","00:24:51",24.144869215291752,null,{"$f":"IF(COUNTIF(#REF!,'Results 16'!#REF!)>COUNTIF(Points!$C$10:$C$86,'Results 16'!#REF!),\"Not on Comps\",\"\")","v":{"$error":"#REF!"}}]
[20,20,"Pete Jeans","Team Swindon Cycles","00:13:12","00:24:58",24.032042723631509,null,{"$f":"IF(COUNTIF(#REF!,'Results 16'!#REF!)>COUNTIF(Points!$C$10:$C$86,'Results 16'!#REF!),\"Not on Comps\",\"\")","v":{"$error":"#REF!"}}]
[21,21,"Harry Ward","Performance Cycles","00:12:56","00:25:01",23.984010659560294,null,{"$f":"IF(COUNTIF(#REF!,'Results 16'!#REF!)>COUNTIF(Points!$C$10:$C$86,'Results 16'!#REF!),\"Not on Comps\",\"\")","v":{"$error":"#REF!"}}]
[22,22,"Alex Foyn","Corinium CC","00:12:59","00:25:02",23.96804260985353,null,{"$f":"IF(COUNTIF(#REF!,'Results 16'!#REF!)>COUNTIF(Points!$C$10:$C$86,'Results 16'!#REF!),\"Not on Comps\",\"\")","v":{"$error":"#REF!"}}]
[23,23,"Michael Knight","Cheltenham CCC","00:13:14","00:25:07",23.888520238885203,null,{"$f":"IF(COUNTIF(#REF!,'Results 16'!#REF!)>COUNTIF(Points!$C$10:$C$86,'Results 16'!#REF!),\"Not on Comps\",\"\")","v":{"$error":"#REF!"}}]
[24,24,"Mark Foyn","Corinium CC","00:13:06","00:25:11",23.825281270681671,null,{"$f":"IF(COUNTIF(#REF!,'Results 16'!#REF!)>COUNTIF(Points!$C$10:$C$86,'Results 16'!#REF!),\"Not on Comps\",\"\")","v":{"$error":"#REF!"}}]
[25,25,"Mark Phillips","Swindon RC","","00:25:17",23.731048121292023,null,{"$f":"IF(COUNTIF(#REF!,'Results 16'!#REF!)>COUNTIF(Points!$C$10:$C$86,'Results 16'!#REF!),\"Not on Comps\",\"\")","v":{"$error":"#REF!"}}]
[26,26,"Bernie Beale","Swindon RC","00:13:21","00:25:30",23.529411764705884,null,{"$f":"IF(COUNTIF(#REF!,'Results 16'!#REF!)>COUNTIF(Points!$C$10:$C$86,'Results 16'!#REF!),\"Not on Comps\",\"\")","v":{"$error":"#REF!"}}]
[27,27,"Walter Featherstone","Swindon RC","00:13:29","00:25:37",23.422251138581654,null,{"$f":"IF(COUNTIF(#REF!,'Results 16'!#REF!)>COUNTIF(Points!$C$10:$C$86,'Results 16'!#REF!),\"Not on Comps\",\"\")","v":{"$error":"#REF!"}}]
[28,28,"Jeff Smith","Swindon RC","00:13:40","00:25:53",23.180940115904704,null,{"$f":"IF(COUNTIF(#REF!,'Results 16'!#REF!)>COUNTIF(Points!$C$10:$C$86,'Results 16'!#REF!),\"Not on Comps\",\"\")","v":{"$error":"#REF!"}}]
[29,29,"Stephen Chapman","Corinium CC","00:13:38","00:26:08",22.959183673469393,null,{"$f":"IF(COUNTIF(#REF!,'Results 16'!#REF!)>COUNTIF(Points!$C$10:$C$86,'Results 16'!#REF!),\"Not on Comps\",\"\")","v":{"$error":"#REF!"}}]
[30,30,"Gerry Peppin","Corinium CC","00:13:57","00:26:40",22.5,null,{"$f":"IF(COUNTIF(#REF!,'Results 16'!#REF!)>COUNTIF(Points!$C$10:$C$86,'Results 16'!#REF!),\"Not on Comps\",\"\")","v":{"$error":"#REF!"}}]
[31,31,"Mike Brien","Swindon Wheelers","00:14:05","00:26:44",22.443890274314214,null,{"$f":"IF(COUNTIF(#REF!,'Results 16'!#REF!)>COUNTIF(Points!$C$10:$C$86,'Results 16'!#REF!),\"Not on Comps\",\"\")","v":{"$error":"#REF!"}}]
[32,32,"Allan Semple","Swindon RC","00:14:08","00:26:54",22.304832713754649,null,{"$f":"IF(COUNTIF(#REF!,'Results 16'!#REF!)>COUNTIF(Points!$C$10:$C$86,'Results 16'!#REF!),\"Not on Comps\",\"\")","v":{"$error":"#REF!"}}]
[33,33,"Rob Patterson","Swindon RC","00:14:06","00:27:02",22.194821208384713,null,{"$f":"IF(COUNTIF(#REF!,'Results 16'!#REF!)>COUNTIF(Points!$C$10:$C$86,'Results 16'!#REF!),\"Not on Comps\",\"\")","v":{"$error":"#REF!"}}]
[34,34,"Richard Gower","Performance Cycles","00:14:13","00:27:12",22.058823529411764,null,{"$f":"IF(COUNTIF(#REF!,'Results 16'!#REF!)>COUNTIF(Points!$C$10:$C$86,'Results 16'!#REF!),\"Not on Comps\",\"\")","v":{"$error":"#REF!"}}]
[35,35,"Anna Railton","Swindon Wheelers","00:14:13","00:27:19",21.964612568639414,null,{"$f":"IF(COUNTIF(#REF!,'Results 16'!#REF!)>COUNTIF(Points!$C$10:$C$86,'Results 16'!#REF!),\"Not on Comps\",\"\")","v":{"$error":"#REF!"}}]
[36,36,"Donna Short","Performance Cycles","00:14:32","00:27:59",21.441334127456823,null,{"$f":"IF(COUNTIF(#REF!,'Results 16'!#REF!)>COUNTIF(Points!$C$10:$C$86,'Results 16'!#REF!),\"Not on Comps\",\"\")","v":{"$error":"#REF!"}}]
[37,37,"Nick Fiore","Cotswold Veldrijden","00:14:31","00:28:05",21.36498516320475,null,{"$f":"IF(COUNTIF(#REF!,'Results 16'!#REF!)>COUNTIF(Points!$C$10:$C$86,'Results 16'!#REF!),\"Not on Comps\",\"\")","v":{"$error":"#REF!"}}]
[38,38,"Kieran Golding","Swindon RC","00:14:47","00:28:08",21.327014218009477,null,{"$f":"IF(COUNTIF(#REF!,'Results 16'!#REF!)>COUNTIF(Points!$C$10:$C$86,'Results 16'!#REF!),\"Not on Comps\",\"\")","v":{"$error":"#REF!"}}]
[39,39,"Darren Harrisson","Swindon Wheelers","00:15:08","00:29:15",20.512820512820511,null,{"$f":"IF(COUNTIF(#REF!,'Results 16'!#REF!)>COUNTIF(Points!$C$10:$C$86,'Results 16'!#REF!),\"Not on Comps\",\"\")","v":{"$error":"#REF!"}}]
[40,40,"Chris Smowton","Swindon Wheelers","00:16:03","00:30:01",19.988895058300944,null,{"$f":"IF(COUNTIF(#REF!,'Results 16'!#REF!)>COUNTIF(Points!$C$10:$C$86,'Results 16'!#REF!),\"Not on Comps\",\"\")","v":{"$error":"#REF!"}}]
[41,41,"Marguerite Miatt","Corinium CC","00:16:06","00:30:50",19.459459459459463,null,{"$f":"IF(COUNTIF(#REF!,'Results 16'!#REF!)>COUNTIF(Points!$C$10:$C$86,'Results 16'!#REF!),\"Not on Comps\",\"\")","v":{"$error":"#REF!"}}]
[42,42,"Lew Lawton","Swindon RC","00:16:08","00:31:30",19.047619047619047,null,{"$f":"IF(COUNTIF(#REF!,'Results 16'!#REF!)>COUNTIF(Points!$C$10:$C$86,'Results 16'!#REF!),\"Not on Comps\",\"\")","v":{"$error":"#REF!"}}]
[43,43,"Ross Gregory","Corinium CC","00:16:30","00:31:47",18.877818563188253,null,{"$f":"IF(COUNTIF(#REF!,'Results 16'!#REF!)>COUNTIF(Points!$C$10:$C$86,'Results 16'!#REF!),\"Not on Comps\",\"\")","v":{"$error":"#REF!"}}]
[44,44,"Carol Clarke","Performance Cycles","00:16:51","00:31:53",18.818609513852589,null,{"$f":"IF(COUNTIF(#REF!,'Results 16'!#REF!)>COUNTIF(Points!$C$10:$C$86,'Results 16'!#REF!),\"Not on Comps\",\"\")","v":{"$error":"#REF!"}}]
[45,45,"Paul Wood","Swindon Wheelers","00:17:27","00:33:44",17.786561264822133,null,{"$f":"IF(COUNTIF(#REF!,'Results 16'!#REF!)>COUNTIF(Points!$C$10:$C$86,'Results 16'!#REF!),\"Not on Comps\",\"\")","v":{"$error":"#REF!"}}]
[null,null,"Come & Try It 16 June 2016",null,"Split Time","Total Time","m.p.h.",null,{"$f":"IF(COUNTIF(#REF!,'Results 16'!#REF!)>COUNTIF(Points!$C$10:$C$86,'Results 16'!#REF!),\"Not on Comps\",\"\")","v":{"$error":"#REF!"}}]
[null,null,"Gerry Peppin","Corinium CC","00:13:54","00:26:50",22.36024844720497]
[null,null,"David Wright","Veloton","00:12:03","00:23:15",25.806451612903228]
[null,null,"Felix Wilkinson","Veloton","00:12:03","00:22:38",26.50957290132548]
[null,null,"Mark Foyn","Corinium CC","00:12:41","00:24:32",24.456521739130437]
[null,null,"Mike Brien","Swindon Wheelers","00:13:46","00:26:43",22.457891453524642]
[null,null,"Neil Lewis","Swindon RC","00:15:53","00:31:14",19.210245464247599]
[null,null,"Eric Watson",0,"00:14:34","00:27:56",21.47971360381862]
[null,null,"Harriet Guest","Performance Cycles","00:13:11","00:25:36",23.4375]
[null,null,"Ross Gregory","Corinium CC","00:16:40","00:32:01",18.740239458615303]
[null,null,"Annie Pegler","Corinium CC","00:15:54","00:30:31",19.661387220098305]
[null,null,"Rob Patterson","Swindon RC","00:13:53","00:26:42",22.471910112359552]
[null,null,"Daniel Wood","Performance Cycles","00:13:18","00:25:35",23.452768729641694]
[null,null,"Jason Costello","Team Swindon Cycles","00:12:08","00:23:27",25.586353944562902]
[null,null,"Les Liddiard","Swindon RC","00:11:40","00:22:26",26.745913818722144]
[null,null,"Charlotte Berry","Performance Cycles","00:14:57","00:28:39",20.942408376963353]
[null,null,"Rob Merrison","Swindon RC","00:12:29","00:23:48",25.210084033613445]
[null,null,"Kevin Lister","Corinium CC","00:13:40","00:26:43",22.457891453524642]
[null,null,"Graham Mearns","Wanborough Tri","00:14:18","00:27:44",21.634615384615387]
[null,null,"Keith Waller",0,"00:13:46","00:26:24",22.72727272727273]
[null,null,"Chris Wood","Performance Cycles","00:11:48","00:23:09",25.917926565874733]
[null,null,"Jim Curry/John Simmons","Performance Cycles","00:12:38","00:24:25",24.573378839590447]
[null,null,"Jacob Pilkington/Rory Gilling","Performance Cycles","00:10:40","00:20:28",29.31596091205212]
[null,null,"Robin Short","Performance Cycles","00:11:38","00:22:42",26.431718061674008]
[null,null,"Michael Knight","Cheltenham CCC","00:12:52","00:24:44",24.258760107816713]
[null,null,"Steve Yates","Ride 24/7","00:11:55","00:23:07",25.955299206921413]
[null,null,"Peter Garnett","Swindon RC","00:11:35","00:22:12",27.027027027027032]
[null,null,"Mike Brunsdon","VC Montpelier","00:12:22","00:23:41",25.33427163969036]
[null,null,"Brian Fred","Swindon Wheelers","00:13:21","00:26:18",22.813688212927758]
[null,null,"2016-06-23",null,"Split Time","Total Time","m.p.h."]
[1,1,"Peter Garnett","Swindon RC","00:11:32","00:22:10",27.06766917293233,null,{"$f":"IF(COUNTIF(#REF!,'Results 16'!#REF!)>COUNTIF(Points!$C$10:$C$86,'Results 16'!#REF!),\"Not on Comps\",\"\")","v":{"$error":"#REF!"}}]
[2,{"$f":"IF(F486=F485,\"=\",A486)","v":2},"Paul Cook","Team Swindon Cycles","00:11:47","00:22:44",26.392961876832842,null,{"$f":"IF(COUNTIF(#REF!,'Results 16'!#REF!)>COUNTIF(Points!$C$10:$C$86,'Results 16'!#REF!),\"Not on Comps\",\"\")","v":{"$error":"#REF!"}}]
[3,{"$f":"IF(F487=F486,\"=\",A487)","v":3},"Les Liddiard","Swindon RC","00:11:55","00:22:47",26.335040234089249,null,{"$f":"IF(COUNTIF(#REF!,'Results 16'!#REF!)>COUNTIF(Points!$C$10:$C$86,'Results 16'!#REF!),\"Not on Comps\",\"\")","v":{"$error":"#REF!"}}]
[4,{"$f":"IF(F488=F487,\"=\",A488)","v":4},"Russ Thompson","Performance Cycles","00:11:51","00:22:48",26.315789473684216,null,{"$f":"IF(COUNTIF(#REF!,'Results 16'!#REF!)>COUNTIF(Points!$C$10:$C$86,'Results 16'!#REF!),\"Not on Comps\",\"\")","v":{"$error":"#REF!"}}]
[5,5,"Chris Wood","Performance Cycles","00:11:52","00:22:50",26.277372262773724,null,{"$f":"IF(COUNTIF(#REF!,'Results 16'!#REF!)>COUNTIF(Points!$C$10:$C$86,'Results 16'!#REF!),\"Not on Comps\",\"\")","v":{"$error":"#REF!"}}]
[6,6,"Alex King","Performance Cycles","00:11:46","00:22:59",26.105873821609862,null,{"$f":"IF(COUNTIF(#REF!,'Results 16'!#REF!)>COUNTIF(Points!$C$10:$C$86,'Results 16'!#REF!),\"Not on Comps\",\"\")","v":{"$error":"#REF!"}}]
[7,7,"Rowan Brown","Swindon Wheelers","00:12:05","00:23:20",25.714285714285719,null,{"$f":"IF(COUNTIF(#REF!,'Results 16'!#REF!)>COUNTIF(Points!$C$10:$C$86,'Results 16'!#REF!),\"Not on Comps\",\"\")","v":{"$error":"#REF!"}}]
[8,8,"Joe Schvartz","Team Swindon Cycles","00:12:13","00:23:34",25.459688826025459,null,{"$f":"IF(COUNTIF(#REF!,'Results 16'!#REF!)>COUNTIF(Points!$C$10:$C$86,'Results 16'!#REF!),\"Not on Comps\",\"\")","v":{"$error":"#REF!"}}]
[9,9,"Jason Costello","Team Swindon Cycles","00:12:20","00:23:40",25.35211267605634,null,{"$f":"IF(COUNTIF(#REF!,'Results 16'!#REF!)>COUNTIF(Points!$C$10:$C$86,'Results 16'!#REF!),\"Not on Comps\",\"\")","v":{"$error":"#REF!"}}]
[10,10,"Mick Sharratt","73 Degrees Bikes","00:12:25","00:23:51",25.157232704402514,null,{"$f":"IF(COUNTIF(#REF!,'Results 16'!#REF!)>COUNTIF(Points!$C$10:$C$86,'Results 16'!#REF!),\"Not on Comps\",\"\")","v":{"$error":"#REF!"}}]
[11,11,"Andy McIntyre","Performance Cycles","00:12:33","00:24:02",24.965325936199722,null,{"$f":"IF(COUNTIF(#REF!,'Results 16'!#REF!)>COUNTIF(Points!$C$10:$C$86,'Results 16'!#REF!),\"Not on Comps\",\"\")","v":{"$error":"#REF!"}}]
[12,"=","Gary Martin","Westerley CC","00:12:34","00:24:02",24.965325936199722,null,{"$f":"IF(COUNTIF(#REF!,'Results 16'!#REF!)>COUNTIF(Points!$C$10:$C$86,'Results 16'!#REF!),\"Not on Comps\",\"\")","v":{"$error":"#REF!"}}]
[13,13,"Mike Brunsdon","VC Montpelier","00:12:26","00:24:11",24.810475534114406,null,{"$f":"IF(COUNTIF(#REF!,'Results 16'!#REF!)>COUNTIF(Points!$C$10:$C$86,'Results 16'!#REF!),\"Not on Comps\",\"\")","v":{"$error":"#REF!"}}]
[14,14,"Sarah Gunn","Performance Cycles","00:12:30","00:24:20",24.657534246575342,null,{"$f":"IF(COUNTIF(#REF!,'Results 16'!#REF!)>COUNTIF(Points!$C$10:$C$86,'Results 16'!#REF!),\"Not on Comps\",\"\")","v":{"$error":"#REF!"}}]
[15,15,"Mark Foyn","Corinium CC","00:12:29","00:24:23",24.606971975393034,null,{"$f":"IF(COUNTIF(#REF!,'Results 16'!#REF!)>COUNTIF(Points!$C$10:$C$86,'Results 16'!#REF!),\"Not on Comps\",\"\")","v":{"$error":"#REF!"}}]
[16,16,"Les Sheppard","Swindon Wheelers","00:12:40","00:24:28",24.52316076294278,null,{"$f":"IF(COUNTIF(#REF!,'Results 16'!#REF!)>COUNTIF(Points!$C$10:$C$86,'Results 16'!#REF!),\"Not on Comps\",\"\")","v":{"$error":"#REF!"}}]
[17,17,"Andy Mathews","Southdown Velo","00:12:41","00:24:34",24.423337856173678,null,{"$f":"IF(COUNTIF(#REF!,'Results 16'!#REF!)>COUNTIF(Points!$C$10:$C$86,'Results 16'!#REF!),\"Not on Comps\",\"\")","v":{"$error":"#REF!"}}]
[18,18,"Harry Ward","Performance Cycles","00:12:47","00:24:35",24.406779661016952,null,{"$f":"IF(COUNTIF(#REF!,'Results 16'!#REF!)>COUNTIF(Points!$C$10:$C$86,'Results 16'!#REF!),\"Not on Comps\",\"\")","v":{"$error":"#REF!"}}]
[19,19,"Alex Foyn","Corinium CC","00:12:51","00:24:56",24.064171122994654,null,{"$f":"IF(COUNTIF(#REF!,'Results 16'!#REF!)>COUNTIF(Points!$C$10:$C$86,'Results 16'!#REF!),\"Not on Comps\",\"\")","v":{"$error":"#REF!"}}]
[20,"=","John Simmons","Performance Cycles","00:12:53","00:24:56",24.064171122994654,null,{"$f":"IF(COUNTIF(#REF!,'Results 16'!#REF!)>COUNTIF(Points!$C$10:$C$86,'Results 16'!#REF!),\"Not on Comps\",\"\")","v":{"$error":"#REF!"}}]
[21,21,"Marc Allen","Swindon RC","00:13:13","00:25:08",23.872679045092838,null,{"$f":"IF(COUNTIF(#REF!,'Results 16'!#REF!)>COUNTIF(Points!$C$10:$C$86,'Results 16'!#REF!),\"Not on Comps\",\"\")","v":{"$error":"#REF!"}}]
[22,22,"Steve Buckley","Ride 24/7","00:13:12","00:25:15",23.762376237623766,null,{"$f":"IF(COUNTIF(#REF!,'Results 16'!#REF!)>COUNTIF(Points!$C$10:$C$86,'Results 16'!#REF!),\"Not on Comps\",\"\")","v":{"$error":"#REF!"}}]
[23,23,"Jack Gower","Southdown Velo","00:13:04","00:25:19",23.69980250164582,null,{"$f":"IF(COUNTIF(#REF!,'Results 16'!#REF!)>COUNTIF(Points!$C$10:$C$86,'Results 16'!#REF!),\"Not on Comps\",\"\")","v":{"$error":"#REF!"}}]
[24,24,"Daniel Wood","Performance Cycles","00:13:27","00:25:44",23.316062176165804,null,{"$f":"IF(COUNTIF(#REF!,'Results 16'!#REF!)>COUNTIF(Points!$C$10:$C$86,'Results 16'!#REF!),\"Not on Comps\",\"\")","v":{"$error":"#REF!"}}]
[25,25,"Paul Fuchs","Corinium CC","00:13:31","00:25:58",23.106546854942234,null,{"$f":"IF(COUNTIF(#REF!,'Results 16'!#REF!)>COUNTIF(Points!$C$10:$C$86,'Results 16'!#REF!),\"Not on Comps\",\"\")","v":{"$error":"#REF!"}}]
[26,26,"Richard Gower","Performance Cycles","00:14:05","00:26:57",22.263450834879407,null,{"$f":"IF(COUNTIF(#REF!,'Results 16'!#REF!)>COUNTIF(Points!$C$10:$C$86,'Results 16'!#REF!),\"Not on Comps\",\"\")","v":{"$error":"#REF!"}}]
[27,27,"Rob Patterson","Swindon RC","00:13:56","00:26:59",22.235948116121062,null,{"$f":"IF(COUNTIF(#REF!,'Results 16'!#REF!)>COUNTIF(Points!$C$10:$C$86,'Results 16'!#REF!),\"Not on Comps\",\"\")","v":{"$error":"#REF!"}}]
[28,28,"Graham Mearns","Swindon RC","00:14:12","00:27:32",21.791767554479417,null,{"$f":"IF(COUNTIF(#REF!,'Results 16'!#REF!)>COUNTIF(Points!$C$10:$C$86,'Results 16'!#REF!),\"Not on Comps\",\"\")","v":{"$error":"#REF!"}}]
[29,29,"Allan Norwood","Corinium CC","00:14:20","00:28:01",21.415823914336702,null,{"$f":"IF(COUNTIF(#REF!,'Results 16'!#REF!)>COUNTIF(Points!$C$10:$C$86,'Results 16'!#REF!),\"Not on Comps\",\"\")","v":{"$error":"#REF!"}}]
[30,30,"Howard Seward","Swindon RC","00:14:10","00:28:09",21.314387211367674,null,{"$f":"IF(COUNTIF(#REF!,'Results 16'!#REF!)>COUNTIF(Points!$C$10:$C$86,'Results 16'!#REF!),\"Not on Comps\",\"\")","v":{"$error":"#REF!"}}]
[31,31,"Anna Railton","Swindon Wheelers","00:14:50","00:28:16",21.226415094339625,null,{"$f":"IF(COUNTIF(#REF!,'Results 16'!#REF!)>COUNTIF(Points!$C$10:$C$86,'Results 16'!#REF!),\"Not on Comps\",\"\")","v":{"$error":"#REF!"}}]
[32,32,"John Ashurst","Corinium CC","00:15:08","00:28:35",20.99125364431487,null,{"$f":"IF(COUNTIF(#REF!,'Results 16'!#REF!)>COUNTIF(Points!$C$10:$C$86,'Results 16'!#REF!),\"Not on Comps\",\"\")","v":{"$error":"#REF!"}}]
[33,33,"Calvin Martin","Westerly CC","00:15:06","00:28:44",20.881670533642694,null,{"$f":"IF(COUNTIF(#REF!,'Results 16'!#REF!)>COUNTIF(Points!$C$10:$C$86,'Results 16'!#REF!),\"Not on Comps\",\"\")","v":{"$error":"#REF!"}}]
[34,34,"Denis Hedges","Corinium CC","00:15:35","00:30:14",19.845644983461963,null,{"$f":"IF(COUNTIF(#REF!,'Results 16'!#REF!)>COUNTIF(Points!$C$10:$C$86,'Results 16'!#REF!),\"Not on Comps\",\"\")","v":{"$error":"#REF!"}}]
[35,35,"Chris Smowton","Swindon Wheelers","00:15:42","00:30:19",19.791094007696536,null,{"$f":"IF(COUNTIF(#REF!,'Results 16'!#REF!)>COUNTIF(Points!$C$10:$C$86,'Results 16'!#REF!),\"Not on Comps\",\"\")","v":{"$error":"#REF!"}}]
[36,36,"Dave Miatt","Corinium CC","00:16:03","00:30:36",19.607843137254903,null,{"$f":"IF(COUNTIF(#REF!,'Results 16'!#REF!)>COUNTIF(Points!$C$10:$C$86,'Results 16'!#REF!),\"Not on Comps\",\"\")","v":{"$error":"#REF!"}}]
[37,37,"Marguerite Miatt","Corinium CC","00:16:06","00:31:02",19.33404940923738,null,{"$f":"IF(COUNTIF(#REF!,'Results 16'!#REF!)>COUNTIF(Points!$C$10:$C$86,'Results 16'!#REF!),\"Not on Comps\",\"\")","v":{"$error":"#REF!"}}]
[38,38,"Lew Lawton","Swindon RC","00:16:05","00:31:35",18.997361477572561,null,{"$f":"IF(COUNTIF(#REF!,'Results 16'!#REF!)>COUNTIF(Points!$C$10:$C$86,'Results 16'!#REF!),\"Not on Comps\",\"\")","v":{"$error":"#REF!"}}]
[null,null,"2016-06-30",null,"Split Time","Total Time","m.p.h."]
[1,1,"Jacob Pilkington","Performance Cycles","00:11:11","00:21:33",27.842227378190259,null,{"$f":"IF(COUNTIF(#REF!,'Results 16'!#REF!)>COUNTIF(Points!$C$10:$C$86,'Results 16'!#REF!),\"Not on Comps\",\"\")","v":{"$error":"#REF!"}}]
[2,{"$f":"IF(F525=F524,\"=\",A525)","v":2},"Felix Wilkinson","Veloton","00:11:50","00:22:20",26.865671641791042,null,{"$f":"IF(COUNTIF(#REF!,'Results 16'!#REF!)>COUNTIF(Points!$C$10:$C$86,'Results 16'!#REF!),\"Not on Comps\",\"\")","v":{"$error":"#REF!"}}]
[3,{"$f":"IF(F526=F525,\"=\",A526)","v":3},"Niel Dunnage","Performance Cycles","00:11:36","00:22:24",26.785714285714288,null,{"$f":"IF(COUNTIF(#REF!,'Results 16'!#REF!)>COUNTIF(Points!$C$10:$C$86,'Results 16'!#REF!),\"Not on Comps\",\"\")","v":{"$error":"#REF!"}}]
[4,{"$f":"IF(F527=F526,\"=\",A527)","v":4},"Leigh Schvartz","Team Swindon Cycles","00:11:57","00:22:52",26.239067055393587,null,{"$f":"IF(COUNTIF(#REF!,'Results 16'!#REF!)>COUNTIF(Points!$C$10:$C$86,'Results 16'!#REF!),\"Not on Comps\",\"\")","v":{"$error":"#REF!"}}]
[5,5,"David Wright","Veloton","00:12:03","00:23:12",25.862068965517242,null,{"$f":"IF(COUNTIF(#REF!,'Results 16'!#REF!)>COUNTIF(Points!$C$10:$C$86,'Results 16'!#REF!),\"Not on Comps\",\"\")","v":{"$error":"#REF!"}}]
[6,6,"Joe Schvartz","Team Swindon Cycles","00:12:07","00:23:14",25.824964131994264,null,{"$f":"IF(COUNTIF(#REF!,'Results 16'!#REF!)>COUNTIF(Points!$C$10:$C$86,'Results 16'!#REF!),\"Not on Comps\",\"\")","v":{"$error":"#REF!"}}]
[7,7,"Jason Costello","Team Swindon Cycles","00:12:15","00:23:25",25.622775800711747,null,{"$f":"IF(COUNTIF(#REF!,'Results 16'!#REF!)>COUNTIF(Points!$C$10:$C$86,'Results 16'!#REF!),\"Not on Comps\",\"\")","v":{"$error":"#REF!"}}]
[8,8,"Jim Curry","Performance Cycles","00:12:01","00:23:29",25.5500354861604,null,{"$f":"IF(COUNTIF(#REF!,'Results 16'!#REF!)>COUNTIF(Points!$C$10:$C$86,'Results 16'!#REF!),\"Not on Comps\",\"\")","v":{"$error":"#REF!"}}]
[9,9,"Steve Yates","Ride 24/7","00:12:17","00:23:34",25.459688826025459,null,{"$f":"IF(COUNTIF(#REF!,'Results 16'!#REF!)>COUNTIF(Points!$C$10:$C$86,'Results 16'!#REF!),\"Not on Comps\",\"\")","v":{"$error":"#REF!"}}]
[10,10,"Andy McIntyre","Performance Cycles","00:12:25","00:23:59",25.017373175816541,null,{"$f":"IF(COUNTIF(#REF!,'Results 16'!#REF!)>COUNTIF(Points!$C$10:$C$86,'Results 16'!#REF!),\"Not on Comps\",\"\")","v":{"$error":"#REF!"}}]
[11,11,"Mick Sharratt","73 Degrees Bikes","00:12:43","00:24:00",25,null,{"$f":"IF(COUNTIF(#REF!,'Results 16'!#REF!)>COUNTIF(Points!$C$10:$C$86,'Results 16'!#REF!),\"Not on Comps\",\"\")","v":{"$error":"#REF!"}}]
[12,12,"Robert Telford","Veloton","00:12:31","00:24:04",24.930747922437675,null,{"$f":"IF(COUNTIF(#REF!,'Results 16'!#REF!)>COUNTIF(Points!$C$10:$C$86,'Results 16'!#REF!),\"Not on Comps\",\"\")","v":{"$error":"#REF!"}}]
[13,13,"Les Sheppard","Swindon Wheelers","00:12:44","00:24:23",24.606971975393034,null,{"$f":"IF(COUNTIF(#REF!,'Results 16'!#REF!)>COUNTIF(Points!$C$10:$C$86,'Results 16'!#REF!),\"Not on Comps\",\"\")","v":{"$error":"#REF!"}}]
[14,14,"John Simmons","Performance Cycles","00:12:47","00:24:36",24.390243902439025,null,{"$f":"IF(COUNTIF(#REF!,'Results 16'!#REF!)>COUNTIF(Points!$C$10:$C$86,'Results 16'!#REF!),\"Not on Comps\",\"\")","v":{"$error":"#REF!"}}]
[15,15,"Trevor Hodges","Corinium CC","00:12:56","00:24:50",24.161073825503355,null,{"$f":"IF(COUNTIF(#REF!,'Results 16'!#REF!)>COUNTIF(Points!$C$10:$C$86,'Results 16'!#REF!),\"Not on Comps\",\"\")","v":{"$error":"#REF!"}}]
[16,16,"Harriet Guest","Performance Cycles","00:13:06","00:24:57",24.048096192384772,null,{"$f":"IF(COUNTIF(#REF!,'Results 16'!#REF!)>COUNTIF(Points!$C$10:$C$86,'Results 16'!#REF!),\"Not on Comps\",\"\")","v":{"$error":"#REF!"}}]
[17,17,"Mark Foyn","Corinium CC","00:12:50","00:25:01",23.984010659560294,null,{"$f":"IF(COUNTIF(#REF!,'Results 16'!#REF!)>COUNTIF(Points!$C$10:$C$86,'Results 16'!#REF!),\"Not on Comps\",\"\")","v":{"$error":"#REF!"}}]
[18,18,"George Wadsworth","Performance Cycles","","00:25:18",23.715415019762847,null,{"$f":"IF(COUNTIF(#REF!,'Results 16'!#REF!)>COUNTIF(Points!$C$10:$C$86,'Results 16'!#REF!),\"Not on Comps\",\"\")","v":{"$error":"#REF!"}}]
[19,19,"Marc Allen","Swindon RC","00:13:21","00:25:24",23.622047244094489,null,{"$f":"IF(COUNTIF(#REF!,'Results 16'!#REF!)>COUNTIF(Points!$C$10:$C$86,'Results 16'!#REF!),\"Not on Comps\",\"\")","v":{"$error":"#REF!"}}]
[20,20,"Mark Evans","Chippenham Wheelers","00:13:14","00:25:30",23.529411764705884,null,{"$f":"IF(COUNTIF(#REF!,'Results 16'!#REF!)>COUNTIF(Points!$C$10:$C$86,'Results 16'!#REF!),\"Not on Comps\",\"\")","v":{"$error":"#REF!"}}]
[21,21,"Bryan Telford","Team Swindon Cycles","00:13:10","00:25:41",23.361453601557432,null,{"$f":"IF(COUNTIF(#REF!,'Results 16'!#REF!)>COUNTIF(Points!$C$10:$C$86,'Results 16'!#REF!),\"Not on Comps\",\"\")","v":{"$error":"#REF!"}}]
[22,22,"Paul Fuchs","Corinium CC","00:13:45","00:26:05",23.003194888178914,null,{"$f":"IF(COUNTIF(#REF!,'Results 16'!#REF!)>COUNTIF(Points!$C$10:$C$86,'Results 16'!#REF!),\"Not on Comps\",\"\")","v":{"$error":"#REF!"}}]
[23,23,"Allan Norwood","Corinium CC","00:14:21","00:27:56",21.47971360381862,null,{"$f":"IF(COUNTIF(#REF!,'Results 16'!#REF!)>COUNTIF(Points!$C$10:$C$86,'Results 16'!#REF!),\"Not on Comps\",\"\")","v":{"$error":"#REF!"}}]
[24,24,"Harry Ward","Performance Cycles","00:12:44","00:28:58",20.713463751438436,null,{"$f":"IF(COUNTIF(#REF!,'Results 16'!#REF!)>COUNTIF(Points!$C$10:$C$86,'Results 16'!#REF!),\"Not on Comps\",\"\")","v":{"$error":"#REF!"}}]
[25,25,"Darren Harrisson","Swindon Wheelers","00:15:04","00:29:13",20.536223616657161,null,{"$f":"IF(COUNTIF(#REF!,'Results 16'!#REF!)>COUNTIF(Points!$C$10:$C$86,'Results 16'!#REF!),\"Not on Comps\",\"\")","v":{"$error":"#REF!"}}]
[26,26,"Denis Hedges","Corinium CC","00:15:11","00:29:19",20.466173962478681,null,{"$f":"IF(COUNTIF(#REF!,'Results 16'!#REF!)>COUNTIF(Points!$C$10:$C$86,'Results 16'!#REF!),\"Not on Comps\",\"\")","v":{"$error":"#REF!"}}]
[27,27,"John Ashurst","Corinium CC","00:15:13","00:29:21",20.442930153321978,null,{"$f":"IF(COUNTIF(#REF!,'Results 16'!#REF!)>COUNTIF(Points!$C$10:$C$86,'Results 16'!#REF!),\"Not on Comps\",\"\")","v":{"$error":"#REF!"}}]
[28,28,"Annie Pegler","Corinium CC","00:16:09","00:31:09",19.261637239165328,null,{"$f":"IF(COUNTIF(#REF!,'Results 16'!#REF!)>COUNTIF(Points!$C$10:$C$86,'Results 16'!#REF!),\"Not on Comps\",\"\")","v":{"$error":"#REF!"}}]
[29,29,"Carol Clarke","Performance Cycles","00:16:32","00:31:36",18.9873417721519,null,{"$f":"IF(COUNTIF(#REF!,'Results 16'!#REF!)>COUNTIF(Points!$C$10:$C$86,'Results 16'!#REF!),\"Not on Comps\",\"\")","v":{"$error":"#REF!"}}]
[null,null,"2016-07-07",null,"Split Time","Total Time","m.p.h."]
[1,1,"Dan Guest","Performance Cycles","00:10:41","00:20:31",29.244516653127537,null,{"$f":"IF(COUNTIF(#REF!,'Results 16'!#REF!)>COUNTIF(Points!$C$10:$C$86,'Results 16'!#REF!),\"Not on Comps\",\"\")","v":{"$error":"#REF!"}}]
[2,{"$f":"IF(F555=F554,\"=\",A555)","v":2},"Pete Hutchinson","Cotswold Veldrijden","00:11:24","00:21:46",27.565084226646249,null,{"$f":"IF(COUNTIF(#REF!,'Results 16'!#REF!)>COUNTIF(Points!$C$10:$C$86,'Results 16'!#REF!),\"Not on Comps\",\"\")","v":{"$error":"#REF!"}}]
[3,{"$f":"IF(F556=F555,\"=\",A556)","v":3},"Niel Dunnage","Performance Cycles","00:11:43","00:22:21",26.845637583892621,null,{"$f":"IF(COUNTIF(#REF!,'Results 16'!#REF!)>COUNTIF(Points!$C$10:$C$86,'Results 16'!#REF!),\"Not on Comps\",\"\")","v":{"$error":"#REF!"}}]
[4,{"$f":"IF(F557=F556,\"=\",A557)","v":4},"Rory Gilling","Performance Cycles","00:11:38","00:22:29",26.686434395848778,null,{"$f":"IF(COUNTIF(#REF!,'Results 16'!#REF!)>COUNTIF(Points!$C$10:$C$86,'Results 16'!#REF!),\"Not on Comps\",\"\")","v":{"$error":"#REF!"}}]
[5,5,"Peter Garnett","Swindon RC","00:11:40","00:22:33",26.607538802660756,null,{"$f":"IF(COUNTIF(#REF!,'Results 16'!#REF!)>COUNTIF(Points!$C$10:$C$86,'Results 16'!#REF!),\"Not on Comps\",\"\")","v":{"$error":"#REF!"}}]
[6,6,"Les Liddiard","Swindon RC","00:11:45","00:22:43",26.412325752017608,null,{"$f":"IF(COUNTIF(#REF!,'Results 16'!#REF!)>COUNTIF(Points!$C$10:$C$86,'Results 16'!#REF!),\"Not on Comps\",\"\")","v":{"$error":"#REF!"}}]
[7,7,"Paul Cook","Team Swindon Cycles","00:11:56","00:22:44",26.392961876832842,null,{"$f":"IF(COUNTIF(#REF!,'Results 16'!#REF!)>COUNTIF(Points!$C$10:$C$86,'Results 16'!#REF!),\"Not on Comps\",\"\")","v":{"$error":"#REF!"}}]
[8,8,"Alex King","Performance Cycles","00:11:52","00:22:50",26.277372262773724,null,{"$f":"IF(COUNTIF(#REF!,'Results 16'!#REF!)>COUNTIF(Points!$C$10:$C$86,'Results 16'!#REF!),\"Not on Comps\",\"\")","v":{"$error":"#REF!"}}]
[9,9,"Chris Wood","Performance Cycles","00:11:55","00:23:00",26.086956521739129,null,{"$f":"IF(COUNTIF(#REF!,'Results 16'!#REF!)>COUNTIF(Points!$C$10:$C$86,'Results 16'!#REF!),\"Not on Comps\",\"\")","v":{"$error":"#REF!"}}]
[10,10,"Steve Yates","Ride 24/7","00:11:57","00:23:10",25.899280575539567,null,{"$f":"IF(COUNTIF(#REF!,'Results 16'!#REF!)>COUNTIF(Points!$C$10:$C$86,'Results 16'!#REF!),\"Not on Comps\",\"\")","v":{"$error":"#REF!"}}]
[11,11,"Jason Costello","Team Swindon Cycles","00:12:12","00:23:30",25.531914893617024,null,{"$f":"IF(COUNTIF(#REF!,'Results 16'!#REF!)>COUNTIF(Points!$C$10:$C$86,'Results 16'!#REF!),\"Not on Comps\",\"\")","v":{"$error":"#REF!"}}]
[12,12,"Richard Cooper","Swindon RC","00:12:21","00:23:50",25.174825174825177,null,{"$f":"IF(COUNTIF(#REF!,'Results 16'!#REF!)>COUNTIF(Points!$C$10:$C$86,'Results 16'!#REF!),\"Not on Comps\",\"\")","v":{"$error":"#REF!"}}]
[13,13,"Rob Merrison","Swindon RC","00:12:33","00:23:54",25.104602510460253,null,{"$f":"IF(COUNTIF(#REF!,'Results 16'!#REF!)>COUNTIF(Points!$C$10:$C$86,'Results 16'!#REF!),\"Not on Comps\",\"\")","v":{"$error":"#REF!"}}]
[14,14,"Les Sheppard","Swindon Wheelers","00:12:36","00:24:18",24.691358024691365,null,{"$f":"IF(COUNTIF(#REF!,'Results 16'!#REF!)>COUNTIF(Points!$C$10:$C$86,'Results 16'!#REF!),\"Not on Comps\",\"\")","v":{"$error":"#REF!"}}]
[15,15,"Steve Davies","Swindon RC","00:12:39","00:24:27",24.539877300613497,null,{"$f":"IF(COUNTIF(#REF!,'Results 16'!#REF!)>COUNTIF(Points!$C$10:$C$86,'Results 16'!#REF!),\"Not on Comps\",\"\")","v":{"$error":"#REF!"}}]
[16,16,"Alex Foyn","Corinium CC","00:12:37","00:24:29",24.506466984343092,null,{"$f":"IF(COUNTIF(#REF!,'Results 16'!#REF!)>COUNTIF(Points!$C$10:$C$86,'Results 16'!#REF!),\"Not on Comps\",\"\")","v":{"$error":"#REF!"}}]
[17,"=","Steve Buckley","Ride 24/7","00:12:49","00:24:29",24.506466984343092,null,{"$f":"IF(COUNTIF(#REF!,'Results 16'!#REF!)>COUNTIF(Points!$C$10:$C$86,'Results 16'!#REF!),\"Not on Comps\",\"\")","v":{"$error":"#REF!"}}]
[18,18,"Trevor Hodges","Corinium CC","00:12:53","00:24:35",24.406779661016952,null,{"$f":"IF(COUNTIF(#REF!,'Results 16'!#REF!)>COUNTIF(Points!$C$10:$C$86,'Results 16'!#REF!),\"Not on Comps\",\"\")","v":{"$error":"#REF!"}}]
[19,19,"Harry Ward","Performance Cycles","00:13:00","00:24:50",24.161073825503355,null,{"$f":"IF(COUNTIF(#REF!,'Results 16'!#REF!)>COUNTIF(Points!$C$10:$C$86,'Results 16'!#REF!),\"Not on Comps\",\"\")","v":{"$error":"#REF!"}}]
[20,20,"John Simmons","Performance Cycles","00:13:01","00:24:58",24.032042723631509,null,{"$f":"IF(COUNTIF(#REF!,'Results 16'!#REF!)>COUNTIF(Points!$C$10:$C$86,'Results 16'!#REF!),\"Not on Comps\",\"\")","v":{"$error":"#REF!"}}]
[21,"=","Marc Allen","Swindon RC","00:13:16","00:24:58",24.032042723631509,null,{"$f":"IF(COUNTIF(#REF!,'Results 16'!#REF!)>COUNTIF(Points!$C$10:$C$86,'Results 16'!#REF!),\"Not on Comps\",\"\")","v":{"$error":"#REF!"}}]
[22,22,"Tim Gilling","Performance Cycles","00:13:09","00:25:04",23.936170212765958,null,{"$f":"IF(COUNTIF(#REF!,'Results 16'!#REF!)>COUNTIF(Points!$C$10:$C$86,'Results 16'!#REF!),\"Not on Comps\",\"\")","v":{"$error":"#REF!"}}]
[23,23,"Archie Scott","Cotswold Veldrijden","00:13:10","00:25:07",23.888520238885203,null,{"$f":"IF(COUNTIF(#REF!,'Results 16'!#REF!)>COUNTIF(Points!$C$10:$C$86,'Results 16'!#REF!),\"Not on Comps\",\"\")","v":{"$error":"#REF!"}}]
[24,24,"Dave Gibson","Swindon RC","00:13:02","00:25:18",23.715415019762847,null,{"$f":"IF(COUNTIF(#REF!,'Results 16'!#REF!)>COUNTIF(Points!$C$10:$C$86,'Results 16'!#REF!),\"Not on Comps\",\"\")","v":{"$error":"#REF!"}}]
[25,25,"Bryan Telford","Team Swindon Cycles","00:13:18","00:25:28",23.560209424083769,null,{"$f":"IF(COUNTIF(#REF!,'Results 16'!#REF!)>COUNTIF(Points!$C$10:$C$86,'Results 16'!#REF!),\"Not on Comps\",\"\")","v":{"$error":"#REF!"}}]
[26,26,"Jeff Smith","Swindon RC","00:13:27","00:25:36",23.4375,null,{"$f":"IF(COUNTIF(#REF!,'Results 16'!#REF!)>COUNTIF(Points!$C$10:$C$86,'Results 16'!#REF!),\"Not on Comps\",\"\")","v":{"$error":"#REF!"}}]
[27,27,"Harriet Guest","Performance Cycles","00:13:25","00:25:49",23.240800516462233,null,{"$f":"IF(COUNTIF(#REF!,'Results 16'!#REF!)>COUNTIF(Points!$C$10:$C$86,'Results 16'!#REF!),\"Not on Comps\",\"\")","v":{"$error":"#REF!"}}]
[28,28,"Bernie Beale","Swindon RC","00:13:36","00:26:02",23.047375160051217,null,{"$f":"IF(COUNTIF(#REF!,'Results 16'!#REF!)>COUNTIF(Points!$C$10:$C$86,'Results 16'!#REF!),\"Not on Comps\",\"\")","v":{"$error":"#REF!"}}]
[29,29,"Paul Fuchs","Corinium CC","00:13:38","00:26:22",22.756005056890015,null,{"$f":"IF(COUNTIF(#REF!,'Results 16'!#REF!)>COUNTIF(Points!$C$10:$C$86,'Results 16'!#REF!),\"Not on Comps\",\"\")","v":{"$error":"#REF!"}}]
[30,30,"Katie Scott","Cotswold Veldrijden","00:14:06","00:26:57",22.263450834879407,null,{"$f":"IF(COUNTIF(#REF!,'Results 16'!#REF!)>COUNTIF(Points!$C$10:$C$86,'Results 16'!#REF!),\"Not on Comps\",\"\")","v":{"$error":"#REF!"}}]
[31,31,"Rob Patterson","Swindon RC","00:14:01","00:27:05",22.153846153846157,null,{"$f":"IF(COUNTIF(#REF!,'Results 16'!#REF!)>COUNTIF(Points!$C$10:$C$86,'Results 16'!#REF!),\"Not on Comps\",\"\")","v":{"$error":"#REF!"}}]
[32,32,"Gerry Peppin","Corinium CC","00:14:00","00:27:10",22.085889570552151,null,{"$f":"IF(COUNTIF(#REF!,'Results 16'!#REF!)>COUNTIF(Points!$C$10:$C$86,'Results 16'!#REF!),\"Not on Comps\",\"\")","v":{"$error":"#REF!"}}]
[33,33,"Paul Sewell","Swindon RC","00:14:11","00:27:19",21.964612568639414,null,{"$f":"IF(COUNTIF(#REF!,'Results 16'!#REF!)>COUNTIF(Points!$C$10:$C$86,'Results 16'!#REF!),\"Not on Comps\",\"\")","v":{"$error":"#REF!"}}]
[34,34,"Anna Railton","Swindon Wheelers","00:14:33","00:27:45",21.621621621621625,null,{"$f":"IF(COUNTIF(#REF!,'Results 16'!#REF!)>COUNTIF(Points!$C$10:$C$86,'Results 16'!#REF!),\"Not on Comps\",\"\")","v":{"$error":"#REF!"}}]
[35,35,"Kieran Golding","Swindon RC","00:14:31","00:27:47",21.595680863827237,null,{"$f":"IF(COUNTIF(#REF!,'Results 16'!#REF!)>COUNTIF(Points!$C$10:$C$86,'Results 16'!#REF!),\"Not on Comps\",\"\")","v":{"$error":"#REF!"}}]
[36,36,"John Ashurst","Corinium CC","00:14:52","00:28:01",21.415823914336702,null,{"$f":"IF(COUNTIF(#REF!,'Results 16'!#REF!)>COUNTIF(Points!$C$10:$C$86,'Results 16'!#REF!),\"Not on Comps\",\"\")","v":{"$error":"#REF!"}}]
[37,37,"Chris Smowton","Swindon Wheelers","00:15:03","00:28:35",20.99125364431487,null,{"$f":"IF(COUNTIF(#REF!,'Results 16'!#REF!)>COUNTIF(Points!$C$10:$C$86,'Results 16'!#REF!),\"Not on Comps\",\"\")","v":{"$error":"#REF!"}}]
[38,38,"Allan Norwood","Corinium CC","00:14:01","00:29:22",20.431328036322359,null,{"$f":"IF(COUNTIF(#REF!,'Results 16'!#REF!)>COUNTIF(Points!$C$10:$C$86,'Results 16'!#REF!),\"Not on Comps\",\"\")","v":{"$error":"#REF!"}}]
[39,39,"Denis Hedges","Corinium CC","00:15:16","00:29:27",20.373514431239389,null,{"$f":"IF(COUNTIF(#REF!,'Results 16'!#REF!)>COUNTIF(Points!$C$10:$C$86,'Results 16'!#REF!),\"Not on Comps\",\"\")","v":{"$error":"#REF!"}}]
[40,40,"Mandy Scott","Cotswold Veldrijden","00:15:49","00:30:22",19.758507135016469,null,{"$f":"IF(COUNTIF(#REF!,'Results 16'!#REF!)>COUNTIF(Points!$C$10:$C$86,'Results 16'!#REF!),\"Not on Comps\",\"\")","v":{"$error":"#REF!"}}]
[41,41,"Terry Barry","Corinium CC","00:18:00","00:34:27",17.416545718432513,null,{"$f":"IF(COUNTIF(#REF!,'Results 16'!#REF!)>COUNTIF(Points!$C$10:$C$86,'Results 16'!#REF!),\"Not on Comps\",\"\")","v":{"$error":"#REF!"}}]
[null,null,"2016-07-14",null,"Split Time","Total Time","m.p.h."]
[1,1,"Dan Guest","Performance Cycles","00:10:32","00:20:24",29.411764705882351,null,{"$f":"IF(COUNTIF(#REF!,'Results 16'!#REF!)>COUNTIF(Points!$C$10:$C$86,'Results 16'!#REF!),\"Not on Comps\",\"\")","v":{"$error":"#REF!"}}]
[2,{"$f":"IF(F597=F596,\"=\",A597)","v":2},"Jacob Pilkington","Performance Cycles","00:10:54","00:21:00",28.571428571428573,null,{"$f":"IF(COUNTIF(#REF!,'Results 16'!#REF!)>COUNTIF(Points!$C$10:$C$86,'Results 16'!#REF!),\"Not on Comps\",\"\")","v":{"$error":"#REF!"}}]
[3,{"$f":"IF(F598=F597,\"=\",A598)","v":3},"Pete Hutchinson","Cotswold Veldrijden","00:11:23","00:21:55",27.376425855513308,null,{"$f":"IF(COUNTIF(#REF!,'Results 16'!#REF!)>COUNTIF(Points!$C$10:$C$86,'Results 16'!#REF!),\"Not on Comps\",\"\")","v":{"$error":"#REF!"}}]
[4,{"$f":"IF(F599=F598,\"=\",A599)","v":4},"Niel Dunnage","Performance Cycles","00:11:24","00:21:59",27.293404094010615,null,{"$f":"IF(COUNTIF(#REF!,'Results 16'!#REF!)>COUNTIF(Points!$C$10:$C$86,'Results 16'!#REF!),\"Not on Comps\",\"\")","v":{"$error":"#REF!"}}]
[5,5,"Peter Garnett","Swindon RC","00:11:31","00:22:11",27.047332832456803,null,{"$f":"IF(COUNTIF(#REF!,'Results 16'!#REF!)>COUNTIF(Points!$C$10:$C$86,'Results 16'!#REF!),\"Not on Comps\",\"\")","v":{"$error":"#REF!"}}]
[6,6,"Paul Cook","Team Swindon Cycles","00:11:42","00:22:28",26.706231454005934,null,{"$f":"IF(COUNTIF(#REF!,'Results 16'!#REF!)>COUNTIF(Points!$C$10:$C$86,'Results 16'!#REF!),\"Not on Comps\",\"\")","v":{"$error":"#REF!"}}]
[7,7,"Alex King","Performance Cycles","00:11:43","00:22:31",26.646928201332347,null,{"$f":"IF(COUNTIF(#REF!,'Results 16'!#REF!)>COUNTIF(Points!$C$10:$C$86,'Results 16'!#REF!),\"Not on Comps\",\"\")","v":{"$error":"#REF!"}}]
[8,8,"Robin Short","Performance Cycles","00:11:56","00:22:54",26.200873362445417,null,{"$f":"IF(COUNTIF(#REF!,'Results 16'!#REF!)>COUNTIF(Points!$C$10:$C$86,'Results 16'!#REF!),\"Not on Comps\",\"\")","v":{"$error":"#REF!"}}]
[9,9,"Les Liddiard","Swindon RC","00:11:53","00:22:57",26.143790849673206,null,{"$f":"IF(COUNTIF(#REF!,'Results 16'!#REF!)>COUNTIF(Points!$C$10:$C$86,'Results 16'!#REF!),\"Not on Comps\",\"\")","v":{"$error":"#REF!"}}]
[10,10,"Jason Costello","Team Swindon Cycles","00:12:03","00:23:13",25.843503230437904,null,{"$f":"IF(COUNTIF(#REF!,'Results 16'!#REF!)>COUNTIF(Points!$C$10:$C$86,'Results 16'!#REF!),\"Not on Comps\",\"\")","v":{"$error":"#REF!"}}]
[11,11,"Julian Bullas","Cheltenham CCC","00:12:10","00:23:28",25.568181818181824,null,{"$f":"IF(COUNTIF(#REF!,'Results 16'!#REF!)>COUNTIF(Points!$C$10:$C$86,'Results 16'!#REF!),\"Not on Comps\",\"\")","v":{"$error":"#REF!"}}]
[12,12,"Rob Merrison","Swindon RC","00:12:19","00:23:41",25.33427163969036,null,{"$f":"IF(COUNTIF(#REF!,'Results 16'!#REF!)>COUNTIF(Points!$C$10:$C$86,'Results 16'!#REF!),\"Not on Comps\",\"\")","v":{"$error":"#REF!"}}]
[13,13,"Chris Broad-Drake","Swindon RC","00:12:37","00:23:58",25.034770514603618,null,{"$f":"IF(COUNTIF(#REF!,'Results 16'!#REF!)>COUNTIF(Points!$C$10:$C$86,'Results 16'!#REF!),\"Not on Comps\",\"\")","v":{"$error":"#REF!"}}]
[14,14,"Steve Buckley","Ride 24/7","00:12:31","00:24:01",24.98265093684941,null,{"$f":"IF(COUNTIF(#REF!,'Results 16'!#REF!)>COUNTIF(Points!$C$10:$C$86,'Results 16'!#REF!),\"Not on Comps\",\"\")","v":{"$error":"#REF!"}}]
[15,15,"Mick Sharratt","73 Degrees Bikes","00:12:36","00:24:03",24.948024948024951,null,{"$f":"IF(COUNTIF(#REF!,'Results 16'!#REF!)>COUNTIF(Points!$C$10:$C$86,'Results 16'!#REF!),\"Not on Comps\",\"\")","v":{"$error":"#REF!"}}]
[16,16,"Dave Gibson","Swindon RC","00:12:37","00:24:09",24.844720496894411,null,{"$f":"IF(COUNTIF(#REF!,'Results 16'!#REF!)>COUNTIF(Points!$C$10:$C$86,'Results 16'!#REF!),\"Not on Comps\",\"\")","v":{"$error":"#REF!"}}]
[17,17,"Les Sheppard","Swindon Wheelers","00:12:30","00:24:10",24.827586206896555,null,{"$f":"IF(COUNTIF(#REF!,'Results 16'!#REF!)>COUNTIF(Points!$C$10:$C$86,'Results 16'!#REF!),\"Not on Comps\",\"\")","v":{"$error":"#REF!"}}]
[18,18,"Mike Brunsdon","VC Montpelier","00:12:42","00:24:16",24.725274725274726,null,{"$f":"IF(COUNTIF(#REF!,'Results 16'!#REF!)>COUNTIF(Points!$C$10:$C$86,'Results 16'!#REF!),\"Not on Comps\",\"\")","v":{"$error":"#REF!"}}]
[19,19,"John Simmons","Performance Cycles","00:12:34","00:24:26",24.556616643929058,null,{"$f":"IF(COUNTIF(#REF!,'Results 16'!#REF!)>COUNTIF(Points!$C$10:$C$86,'Results 16'!#REF!),\"Not on Comps\",\"\")","v":{"$error":"#REF!"}}]
[20,20,"Trevor Hodges","Corinium CC","00:12:44","00:24:28",24.52316076294278,null,{"$f":"IF(COUNTIF(#REF!,'Results 16'!#REF!)>COUNTIF(Points!$C$10:$C$86,'Results 16'!#REF!),\"Not on Comps\",\"\")","v":{"$error":"#REF!"}}]
[21,21,"Pete Jeans","Team Swindon Cycles","00:12:55","00:24:37",24.373730534867978,null,{"$f":"IF(COUNTIF(#REF!,'Results 16'!#REF!)>COUNTIF(Points!$C$10:$C$86,'Results 16'!#REF!),\"Not on Comps\",\"\")","v":{"$error":"#REF!"}}]
[22,22,"Marc Allen","Swindon RC","00:13:22","00:25:16",23.746701846965703,null,{"$f":"IF(COUNTIF(#REF!,'Results 16'!#REF!)>COUNTIF(Points!$C$10:$C$86,'Results 16'!#REF!),\"Not on Comps\",\"\")","v":{"$error":"#REF!"}}]
[23,23,"Jeff Smith","Swindon RC","00:13:24","00:25:24",23.622047244094489,null,{"$f":"IF(COUNTIF(#REF!,'Results 16'!#REF!)>COUNTIF(Points!$C$10:$C$86,'Results 16'!#REF!),\"Not on Comps\",\"\")","v":{"$error":"#REF!"}}]
[24,24,"Jonathan Miller","Swindon RC","00:13:07","00:25:25",23.606557377049182,null,{"$f":"IF(COUNTIF(#REF!,'Results 16'!#REF!)>COUNTIF(Points!$C$10:$C$86,'Results 16'!#REF!),\"Not on Comps\",\"\")","v":{"$error":"#REF!"}}]
[25,25,"Mark Phillips","Swindon RC","00:13:11","00:25:32",23.49869451697128,null,{"$f":"IF(COUNTIF(#REF!,'Results 16'!#REF!)>COUNTIF(Points!$C$10:$C$86,'Results 16'!#REF!),\"Not on Comps\",\"\")","v":{"$error":"#REF!"}}]
[26,26,"Todd Cumberpatch","Performance Cycles","00:13:02","00:25:34",23.468057366362455,null,{"$f":"IF(COUNTIF(#REF!,'Results 16'!#REF!)>COUNTIF(Points!$C$10:$C$86,'Results 16'!#REF!),\"Not on Comps\",\"\")","v":{"$error":"#REF!"}}]
[27,27,"Harriet Guest","Performance Cycles","00:13:18","00:25:38",23.407022106631988,null,{"$f":"IF(COUNTIF(#REF!,'Results 16'!#REF!)>COUNTIF(Points!$C$10:$C$86,'Results 16'!#REF!),\"Not on Comps\",\"\")","v":{"$error":"#REF!"}}]
[28,28,"Kevin Lister","Corinium CC","00:13:13","00:25:42",23.346303501945524,null,{"$f":"IF(COUNTIF(#REF!,'Results 16'!#REF!)>COUNTIF(Points!$C$10:$C$86,'Results 16'!#REF!),\"Not on Comps\",\"\")","v":{"$error":"#REF!"}}]
[29,29,"Bernie Beale","Swindon RC","00:13:22","00:25:48",23.255813953488374,null,{"$f":"IF(COUNTIF(#REF!,'Results 16'!#REF!)>COUNTIF(Points!$C$10:$C$86,'Results 16'!#REF!),\"Not on Comps\",\"\")","v":{"$error":"#REF!"}}]
[30,30,"Roy Carless","Swindon RC","00:13:57","00:26:33",22.598870056497177,null,{"$f":"IF(COUNTIF(#REF!,'Results 16'!#REF!)>COUNTIF(Points!$C$10:$C$86,'Results 16'!#REF!),\"Not on Comps\",\"\")","v":{"$error":"#REF!"}}]
[31,31,"Paul Fuchs","Corinium CC","00:13:36","00:26:37",22.542266750156543,null,{"$f":"IF(COUNTIF(#REF!,'Results 16'!#REF!)>COUNTIF(Points!$C$10:$C$86,'Results 16'!#REF!),\"Not on Comps\",\"\")","v":{"$error":"#REF!"}}]
[32,32,"Arja Scarsbrook","Corinium CC","00:13:41","00:26:39",22.514071294559102,null,{"$f":"IF(COUNTIF(#REF!,'Results 16'!#REF!)>COUNTIF(Points!$C$10:$C$86,'Results 16'!#REF!),\"Not on Comps\",\"\")","v":{"$error":"#REF!"}}]
[33,33,"Richard Gower","Performance Cycles","00:13:58","00:26:45",22.429906542056074,null,{"$f":"IF(COUNTIF(#REF!,'Results 16'!#REF!)>COUNTIF(Points!$C$10:$C$86,'Results 16'!#REF!),\"Not on Comps\",\"\")","v":{"$error":"#REF!"}}]
[34,34,"Matt Stokes","Swindon Wheelers","00:14:19","00:27:05",22.153846153846157,null,{"$f":"IF(COUNTIF(#REF!,'Results 16'!#REF!)>COUNTIF(Points!$C$10:$C$86,'Results 16'!#REF!),\"Not on Comps\",\"\")","v":{"$error":"#REF!"}}]
[35,35,"Gerry Peppin","Corinium CC","00:14:08","00:27:13",22.045315370483774,null,{"$f":"IF(COUNTIF(#REF!,'Results 16'!#REF!)>COUNTIF(Points!$C$10:$C$86,'Results 16'!#REF!),\"Not on Comps\",\"\")","v":{"$error":"#REF!"}}]
[36,36,"Rob Patterson","Swindon RC","00:14:06","00:27:25",21.884498480243163,null,{"$f":"IF(COUNTIF(#REF!,'Results 16'!#REF!)>COUNTIF(Points!$C$10:$C$86,'Results 16'!#REF!),\"Not on Comps\",\"\")","v":{"$error":"#REF!"}}]
[37,37,"Charlotte Berry","Performance Cycles","00:14:19","00:27:34",21.765417170495766,null,{"$f":"IF(COUNTIF(#REF!,'Results 16'!#REF!)>COUNTIF(Points!$C$10:$C$86,'Results 16'!#REF!),\"Not on Comps\",\"\")","v":{"$error":"#REF!"}}]
[38,38,"Howard Seward","Swindon RC","00:14:06","00:27:36",21.739130434782609,null,{"$f":"IF(COUNTIF(#REF!,'Results 16'!#REF!)>COUNTIF(Points!$C$10:$C$86,'Results 16'!#REF!),\"Not on Comps\",\"\")","v":{"$error":"#REF!"}}]
[39,39,"Graham Mearns","Swindon RC","00:14:29","00:28:07",21.339656194427977,null,{"$f":"IF(COUNTIF(#REF!,'Results 16'!#REF!)>COUNTIF(Points!$C$10:$C$86,'Results 16'!#REF!),\"Not on Comps\",\"\")","v":{"$error":"#REF!"}}]
[40,40,"Allan Norwood","Corinium CC","00:14:19","00:28:11",21.289178001182734,null,{"$f":"IF(COUNTIF(#REF!,'Results 16'!#REF!)>COUNTIF(Points!$C$10:$C$86,'Results 16'!#REF!),\"Not on Comps\",\"\")","v":{"$error":"#REF!"}}]
[41,41,"Marguerite Miatt","Corinium CC","00:15:50","00:30:50",19.459459459459463,null,{"$f":"IF(COUNTIF(#REF!,'Results 16'!#REF!)>COUNTIF(Points!$C$10:$C$86,'Results 16'!#REF!),\"Not on Comps\",\"\")","v":{"$error":"#REF!"}}]
[42,42,"Chris Brooks","Swindon Wheelers","00:15:46","00:30:54",19.417475728155342,null,{"$f":"IF(COUNTIF(#REF!,'Results 16'!#REF!)>COUNTIF(Points!$C$10:$C$86,'Results 16'!#REF!),\"Not on Comps\",\"\")","v":{"$error":"#REF!"}}]
[43,43,"Lew Lawton","Swindon RC","00:16:01","00:31:16",19.189765458422176,null,{"$f":"IF(COUNTIF(#REF!,'Results 16'!#REF!)>COUNTIF(Points!$C$10:$C$86,'Results 16'!#REF!),\"Not on Comps\",\"\")","v":{"$error":"#REF!"}}]
[44,44,"Paul Wood","Swindon Wheelers","00:17:15","00:33:40",17.821782178217823,null,{"$f":"IF(COUNTIF(#REF!,'Results 16'!#REF!)>COUNTIF(Points!$C$10:$C$86,'Results 16'!#REF!),\"Not on Comps\",\"\")","v":{"$error":"#REF!"}}]
[null,null,null,null,null,null,null,null,{"$f":"IF(COUNTIF(#REF!,'Results 16'!#REF!)>COUNTIF(Points!$C$10:$C$86,'Results 16'!#REF!),\"Not on Comps\",\"\")","v":{"$error":"#REF!"}}]
[null,null,"Niel Dunnage 2nd ride",0,"00:11:53","00:22:53",26.219956300072838,null,{"$f":"IF(COUNTIF(#REF!,'Results 16'!#REF!)>COUNTIF(Points!$C$10:$C$86,'Results 16'!#REF!),\"Not on Comps\",\"\")","v":{"$error":"#REF!"}}]
[null,null,null,null,null,null,null,null,{"$f":"IF(COUNTIF(#REF!,'Results 16'!#REF!)>COUNTIF(Points!$C$10:$C$86,'Results 16'!#REF!),\"Not on Comps\",\"\")","v":{"$error":"#REF!"}},null,null,null,null,null,null,null,"Min","Max"]
[null,null,"2016-07-21",null,"Split Time","Total Time","m.p.h."]
[1,1,"Matt Woods","Performance Cycles","00:10:54","00:20:58",28.616852146263913,null,{"$f":"IF(COUNTIF(#REF!,'Results 16'!#REF!)>COUNTIF(Points!$C$10:$C$86,'Results 16'!#REF!),\"Not on Comps\",\"\")","v":{"$error":"#REF!"}},null,2,2,2,1.8981481481481481E-2,{"$f":"VLOOKUP(M644,$K$643:$L$695,2,FALSE)","v":2},{"$f":"VLOOKUP(M644,#REF!,4,FALSE)","v":{"$error":"#REF!"}},{"$f":"N643-M644*$E$1","v":-1.3888888888888889E-3},{"$f":"N645-M644*$E$1","v":1.7928240740740741E-2}]
[2,{"$f":"IF(F645=F644,\"=\",A645)","v":2},"Rory Gilling","Performance Cycles","00:11:16","00:21:43",27.628549501151188,null,{"$f":"IF(COUNTIF(#REF!,'Results 16'!#REF!)>COUNTIF(Points!$C$10:$C$86,'Results 16'!#REF!),\"Not on Comps\",\"\")","v":{"$error":"#REF!"}},null,3,3,3,1.9317129629629629E-2,3,{"$f":"VLOOKUP(M645,#REF!,4,FALSE)","v":{"$error":"#REF!"}},{"$f":"N644-M645*$E$1","v":1.6898148148148148E-2},{"$f":"N646-M645*$E$1","v":1.9293981481481485E-2}]
[3,{"$f":"IF(F646=F645,\"=\",A646)","v":3},"Niel Dunnage","Cotswold Veldrijden","00:11:18","00:21:47",27.543993879112474,null,{"$f":"IF(COUNTIF(#REF!,'Results 16'!#REF!)>COUNTIF(Points!$C$10:$C$86,'Results 16'!#REF!),\"Not on Comps\",\"\")","v":{"$error":"#REF!"}},null,4,4,4,2.1377314814814818E-2,4,{"$f":"VLOOKUP(M646,#REF!,4,FALSE)","v":{"$error":"#REF!"}},{"$f":"N645-M646*$E$1","v":1.653935185185185E-2},{"$f":"N649-M646*$E$1","v":1.9374999999999996E-2}]
[4,{"$f":"IF(F647=F646,\"=\",A647)","v":4},"Peter Garnett","Swindon RC","00:11:27","00:21:59",27.293404094010615,null,{"$f":"IF(COUNTIF(#REF!,'Results 16'!#REF!)>COUNTIF(Points!$C$10:$C$86,'Results 16'!#REF!),\"Not on Comps\",\"\")","v":{"$error":"#REF!"}},null,10,5,10,null,5,{"$f":"VLOOKUP(M647,#REF!,4,FALSE)","v":{"$error":"#REF!"}},{"$f":"N646-M647*$E$1","v":1.4432870370370374E-2},{"$f":"N649-M647*$E$1","v":1.5208333333333331E-2}]
[5,5,"Felix Wilkinson","Veloton","00:11:46","00:22:24",26.785714285714288,null,{"$f":"IF(COUNTIF(#REF!,'Results 16'!#REF!)>COUNTIF(Points!$C$10:$C$86,'Results 16'!#REF!),\"Not on Comps\",\"\")","v":{"$error":"#REF!"}},null,6,6,6,null,6,{"$f":"VLOOKUP(M648,#REF!,4,FALSE)","v":{"$error":"#REF!"}},{"$f":"N646-M648*$E$1","v":1.7210648148148152E-2},{"$f":"N649-M648*$E$1","v":1.7986111111111109E-2}]
[6,6,"Alex King","Performance Cycles","00:11:44","00:22:50",26.277372262773724,null,{"$f":"IF(COUNTIF(#REF!,'Results 16'!#REF!)>COUNTIF(Points!$C$10:$C$86,'Results 16'!#REF!),\"Not on Comps\",\"\")","v":{"$error":"#REF!"}},null,5,7,5,2.2152777777777775E-2,7,{"$f":"VLOOKUP(M649,#REF!,4,FALSE)","v":{"$error":"#REF!"}},{"$f":"N646-M649*$E$1","v":1.7905092592592594E-2},{"$f":"N651-M649*$E$1","v":1.9166666666666665E-2}]
[7,7,"David Wright","Veloton","00:11:51","00:22:51",26.258205689277901,null,{"$f":"IF(COUNTIF(#REF!,'Results 16'!#REF!)>COUNTIF(Points!$C$10:$C$86,'Results 16'!#REF!),\"Not on Comps\",\"\")","v":{"$error":"#REF!"}},null,8,8,8,null,8,{"$f":"VLOOKUP(M650,#REF!,4,FALSE)","v":{"$error":"#REF!"}},{"$f":"N649-M650*$E$1","v":1.6597222222222218E-2},{"$f":"N651-M650*$E$1","v":1.7083333333333332E-2}]
[8,8,"Chris Wood","Performance Cycles","00:11:55","00:23:03",26.03036876355748,null,{"$f":"IF(COUNTIF(#REF!,'Results 16'!#REF!)>COUNTIF(Points!$C$10:$C$86,'Results 16'!#REF!),\"Not on Comps\",\"\")","v":{"$error":"#REF!"}},null,7,9,7,2.2638888888888889E-2,9,{"$f":"VLOOKUP(M651,#REF!,4,FALSE)","v":{"$error":"#REF!"}},{"$f":"N649-M651*$E$1","v":1.7291666666666664E-2},{"$f":"N652-M651*$E$1","v":1.9398148148148147E-2}]
[9,9,"Jeff Smith/Dave Gibson","Swindon RC","00:12:21","00:23:41",25.33427163969036,null,{"$f":"IF(COUNTIF(#REF!,'Results 16'!#REF!)>COUNTIF(Points!$C$10:$C$86,'Results 16'!#REF!),\"Not on Comps\",\"\")","v":{"$error":"#REF!"}},null,9,10,9,2.4259259259259258E-2,10,{"$f":"VLOOKUP(M652,#REF!,4,FALSE)","v":{"$error":"#REF!"}},{"$f":"N651-M652*$E$1","v":1.638888888888889E-2},1.8749999999999996E-2]
[10,10,"Chris Broad-Drake","Swindon RC","00:12:26","00:23:47",25.227750525578134,null,{"$f":"IF(COUNTIF(#REF!,'Results 16'!#REF!)>COUNTIF(Points!$C$10:$C$86,'Results 16'!#REF!),\"Not on Comps\",\"\")","v":{"$error":"#REF!"}},null,14,11,14,2.4999999999999998E-2,11,{"$f":"VLOOKUP(M653,#REF!,4,FALSE)","v":{"$error":"#REF!"}},1.4537037037037036E-2,1.5532407407407408E-2]
[11,11,"Lloyd Dobson","Performance Cycles","00:12:36","00:24:01",24.98265093684941,null,{"$f":"IF(COUNTIF(#REF!,'Results 16'!#REF!)>COUNTIF(Points!$C$10:$C$86,'Results 16'!#REF!),\"Not on Comps\",\"\")","v":{"$error":"#REF!"}},null,11,12,11,2.525462962962963E-2,12,{"$f":"VLOOKUP(M654,#REF!,4,FALSE)","v":{"$error":"#REF!"}},1.7361111111111108E-2,1.8599537037037036E-2]
[12,12,"Mick Sharratt","73 Degrees Bikes","00:12:36","00:24:04",24.930747922437675,null,{"$f":"IF(COUNTIF(#REF!,'Results 16'!#REF!)>COUNTIF(Points!$C$10:$C$86,'Results 16'!#REF!),\"Not on Comps\",\"\")","v":{"$error":"#REF!"}},null,13,13,13,2.6238425925925925E-2,13,{"$f":"VLOOKUP(M655,#REF!,4,FALSE)","v":{"$error":"#REF!"}},1.6226851851851853E-2,1.7789351851851855E-2]
[13,13,"Sarah Gunn","Performance Cycles","00:12:30","00:24:09",24.844720496894411,null,{"$f":"IF(COUNTIF(#REF!,'Results 16'!#REF!)>COUNTIF(Points!$C$10:$C$86,'Results 16'!#REF!),\"Not on Comps\",\"\")","v":{"$error":"#REF!"}},null,12,14,12,2.6817129629629632E-2,14,{"$f":"VLOOKUP(M656,#REF!,4,FALSE)","v":{"$error":"#REF!"}},1.7905092592592591E-2,2.0543981481481483E-2]
[14,14,"Jamie Bray","Chippenham Wheelers","00:12:58","00:24:44",24.258760107816713,null,{"$f":"IF(COUNTIF(#REF!,'Results 16'!#REF!)>COUNTIF(Points!$C$10:$C$86,'Results 16'!#REF!),\"Not on Comps\",\"\")","v":{"$error":"#REF!"}},null,19,15,19,2.8877314814814817E-2,15,{"$f":"VLOOKUP(M657,#REF!,4,FALSE)","v":{"$error":"#REF!"}},1.3622685185185187E-2,1.6817129629629633E-2]
[15,15,"Marc Allen","Swindon RC","00:13:04","00:24:52",24.128686327077748,null,{"$f":"IF(COUNTIF(#REF!,'Results 16'!#REF!)>COUNTIF(Points!$C$10:$C$86,'Results 16'!#REF!),\"Not on Comps\",\"\")","v":{"$error":"#REF!"}},null,17,16,17,3.0011574074074076E-2,16,{"$f":"VLOOKUP(M658,#REF!,4,FALSE)","v":{"$error":"#REF!"}},1.7071759259259262E-2,{"$f":"N660-M658*$E$1","v":1.8668981481481481E-2}]
[16,16,"Mark Phillips","Swindon RC","00:12:59","00:25:03",23.952095808383234,null,{"$f":"IF(COUNTIF(#REF!,'Results 16'!#REF!)>COUNTIF(Points!$C$10:$C$86,'Results 16'!#REF!),\"Not on Comps\",\"\")","v":{"$error":"#REF!"}},null,21,17,21,null,17,{"$f":"VLOOKUP(M659,#REF!,4,FALSE)","v":{"$error":"#REF!"}},{"$f":"N658-M659*$E$1","v":1.5428240740740742E-2},{"$f":"N660-M659*$E$1","v":1.5891203703703703E-2}]
[17,17,"Kevin Lister","Corinium CC","00:12:55","00:25:05",23.920265780730901,null,{"$f":"IF(COUNTIF(#REF!,'Results 16'!#REF!)>COUNTIF(Points!$C$10:$C$86,'Results 16'!#REF!),\"Not on Comps\",\"\")","v":{"$error":"#REF!"}},null,15,18,15,3.0474537037037036E-2,18,{"$f":"VLOOKUP(M660,#REF!,4,FALSE)","v":{"$error":"#REF!"}},{"$f":"N658-M660*$E$1","v":1.9594907407407408E-2},{"$f":"N661-M660*$E$1","v":1.96875E-2}]
[18,18,"Harriet Guest","Performance Cycles","00:13:14","00:25:22",23.653088042049934,null,{"$f":"IF(COUNTIF(#REF!,'Results 16'!#REF!)>COUNTIF(Points!$C$10:$C$86,'Results 16'!#REF!),\"Not on Comps\",\"\")","v":{"$error":"#REF!"}},null,16,19,16,3.0104166666666668E-2,19,{"$f":"VLOOKUP(M661,#REF!,4,FALSE)","v":{"$error":"#REF!"}},{"$f":"N660-M661*$E$1","v":1.9363425925925923E-2},2.1701388888888888E-2]
[19,19,"Keith Rawling","Swindon Wheelers","00:13:23","00:25:43",23.331173039533379,null,{"$f":"IF(COUNTIF(#REF!,'Results 16'!#REF!)>COUNTIF(Points!$C$10:$C$86,'Results 16'!#REF!),\"Not on Comps\",\"\")","v":{"$error":"#REF!"}},null,22,20,22,3.2812500000000001E-2,20,{"$f":"VLOOKUP(M662,#REF!,4,FALSE)","v":{"$error":"#REF!"}},1.4826388888888889E-2,1.7743055555555554E-2]
[20,20,"Tim Gilling","Performance Cycles","00:14:15","00:25:59",23.091725465041694,null,{"$f":"IF(COUNTIF(#REF!,'Results 16'!#REF!)>COUNTIF(Points!$C$10:$C$86,'Results 16'!#REF!),\"Not on Comps\",\"\")","v":{"$error":"#REF!"}},null,20,21,20,3.3020833333333333E-2,21,{"$f":"VLOOKUP(M663,#REF!,4,FALSE)","v":{"$error":"#REF!"}},1.8923611111111113E-2,1.9409722222222224E-2]
[21,21,"Paul Fuchs","Corinium CC","00:13:40","00:26:15",22.857142857142861,null,{"$f":"IF(COUNTIF(#REF!,'Results 16'!#REF!)>COUNTIF(Points!$C$10:$C$86,'Results 16'!#REF!),\"Not on Comps\",\"\")","v":{"$error":"#REF!"}},null,24,22,24,3.3298611111111112E-2,22,{"$f":"VLOOKUP(M664,#REF!,4,FALSE)","v":{"$error":"#REF!"}},1.6354166666666666E-2,1.8414351851851852E-2]
[22,22,"Mike Brien","Swindon Wheelers","00:13:48","00:26:41",22.485946283572769,null,{"$f":"IF(COUNTIF(#REF!,'Results 16'!#REF!)>COUNTIF(Points!$C$10:$C$86,'Results 16'!#REF!),\"Not on Comps\",\"\")","v":{"$error":"#REF!"}},null,25,23,25,3.5081018518518518E-2,23,{"$f":"VLOOKUP(M665,#REF!,4,FALSE)","v":{"$error":"#REF!"}},1.59375E-2,1.8078703703703701E-2]
[23,23,"Paul Burnip","Corinium CC","00:14:08","00:26:57",22.263450834879407,null,{"$f":"IF(COUNTIF(#REF!,'Results 16'!#REF!)>COUNTIF(Points!$C$10:$C$86,'Results 16'!#REF!),\"Not on Comps\",\"\")","v":{"$error":"#REF!"}},null,23,24,23,3.5439814814814813E-2,24,{"$f":"VLOOKUP(M666,#REF!,4,FALSE)","v":{"$error":"#REF!"}},1.9108796296296294E-2,{"$f":"N669-M666*$E$1","v":2.5092592592592586E-2}]
[24,24,"Rob Patterson","Swindon RC","00:13:57","00:27:08",22.113022113022115,null,{"$f":"IF(COUNTIF(#REF!,'Results 16'!#REF!)>COUNTIF(Points!$C$10:$C$86,'Results 16'!#REF!),\"Not on Comps\",\"\")","v":{"$error":"#REF!"}},null,35,25,35,null,25,{"$f":"VLOOKUP(M667,#REF!,4,FALSE)","v":{"$error":"#REF!"}},{"$f":"N666-M667*$E$1","v":1.1134259259259257E-2},{"$f":"N669-M667*$E$1","v":1.6759259259259255E-2}]
[25,25,"Kieran Golding","Swindon RC","00:14:20","00:27:22",21.924482338611451,null,{"$f":"IF(COUNTIF(#REF!,'Results 16'!#REF!)>COUNTIF(Points!$C$10:$C$86,'Results 16'!#REF!),\"Not on Comps\",\"\")","v":{"$error":"#REF!"}},null,37,26,37,null,26,{"$f":"VLOOKUP(M668,#REF!,4,FALSE)","v":{"$error":"#REF!"}},{"$f":"N666-M668*$E$1","v":9.745370370370366E-3},{"$f":"N669-M668*$E$1","v":1.5370370370370364E-2}]
[26,26,"Mick Murkin","Swindon RC","00:14:17","00:27:31",21.804966686856456,null,{"$f":"IF(COUNTIF(#REF!,'Results 16'!#REF!)>COUNTIF(Points!$C$10:$C$86,'Results 16'!#REF!),\"Not on Comps\",\"\")","v":{"$error":"#REF!"}},null,31,27,31,4.1064814814814811E-2,27,{"$f":"VLOOKUP(M669,#REF!,4,FALSE)","v":{"$error":"#REF!"}},{"$f":"N666-M669*$E$1","v":1.3912037037037035E-2},{"$f":"N670-M669*$E$1","v":1.9861111111111114E-2}]
[27,27,"Steve Pretlove","Swindon Wheelers","00:14:34","00:27:44",21.634615384615387,null,{"$f":"IF(COUNTIF(#REF!,'Results 16'!#REF!)>COUNTIF(Points!$C$10:$C$86,'Results 16'!#REF!),\"Not on Comps\",\"\")","v":{"$error":"#REF!"}},null,27,28,27,4.1388888888888892E-2,28,{"$f":"VLOOKUP(M670,#REF!,4,FALSE)","v":{"$error":"#REF!"}},{"$f":"N669-M670*$E$1","v":2.2314814814814812E-2},{"$f":"N671-M670*$E$1","v":2.2893518518518518E-2}]
[28,28,"Kyle Wallace","Cotswold Veldrijden","00:14:42","00:27:47",21.595680863827237,null,{"$f":"IF(COUNTIF(#REF!,'Results 16'!#REF!)>COUNTIF(Points!$C$10:$C$86,'Results 16'!#REF!),\"Not on Comps\",\"\")","v":{"$error":"#REF!"}},null,29,29,29,4.1643518518518517E-2,29,{"$f":"VLOOKUP(M671,#REF!,4,FALSE)","v":{"$error":"#REF!"}},{"$f":"N670-M671*$E$1","v":2.1250000000000002E-2},{"$f":"N674-M671*$E$1","v":2.2627314814814819E-2}]
[29,29,"Nick Fiore","Cotswold Veldrijden","00:14:14","00:27:50",21.556886227544911,null,{"$f":"IF(COUNTIF(#REF!,'Results 16'!#REF!)>COUNTIF(Points!$C$10:$C$86,'Results 16'!#REF!),\"Not on Comps\",\"\")","v":{"$error":"#REF!"}},null,32,30,32,null,30,{"$f":"VLOOKUP(M672,#REF!,4,FALSE)","v":{"$error":"#REF!"}},{"$f":"N671-M672*$E$1","v":1.9421296296296294E-2},{"$f":"N674-M672*$E$1","v":2.0543981481481486E-2}]
[30,30,"Adam Worrall","Swindon Wheelers","00:14:39","00:28:18",21.201413427561839,null,null,null,26,31,26,null,31,{"$f":"VLOOKUP(M673,#REF!,4,FALSE)","v":{"$error":"#REF!"}},{"$f":"N671-M673*$E$1","v":2.358796296296296E-2},{"$f":"N674-M673*$E$1","v":2.4710648148148152E-2}]
[31,31,"John Ashurst","Corinium CC","00:15:44","00:30:03",19.966722129783697,null,null,null,30,32,30,4.2766203703703709E-2,32,{"$f":"VLOOKUP(M674,#REF!,4,FALSE)","v":{"$error":"#REF!"}},{"$f":"N671-M674*$E$1","v":2.0810185185185182E-2},{"$f":"N676-M674*$E$1","v":2.2662037037037036E-2}]
[32,32,"Marguerite Miatt","Corinium CC","00:15:54","00:30:48",19.480519480519479,null,null,null,33,33,33,null,33,{"$f":"VLOOKUP(M675,#REF!,4,FALSE)","v":{"$error":"#REF!"}},{"$f":"N674-M675*$E$1","v":1.9849537037037041E-2},{"$f":"N676-M675*$E$1","v":2.0578703703703703E-2}]
[33,33,"Lew Lawton","Swindon RC","00:15:54","00:30:59",19.365250134480902,null,null,null,34,34,34,4.3495370370370372E-2,34,{"$f":"VLOOKUP(M676,#REF!,4,FALSE)","v":{"$error":"#REF!"}},{"$f":"N674-M676*$E$1","v":1.9155092592592599E-2},{"$f":"N677-M676*$E$1","v":2.0497685185185188E-2}]
[34,34,"Carol Clarke","Performance Cycles","00:16:48","00:32:10",18.652849740932641,null,null,null,40,35,40,4.4108796296296299E-2,35,{"$f":"VLOOKUP(M677,#REF!,4,FALSE)","v":{"$error":"#REF!"}},{"$f":"N676-M677*$E$1","v":1.5717592592592592E-2},1.6550925925925924E-2]
[35,35,"Paul Wood","Swindon Wheelers","00:17:24","00:33:57",17.673048600883654,null,null,null,41,36,41,4.4328703703703703E-2,36,{"$f":"VLOOKUP(M678,#REF!,4,FALSE)","v":{"$error":"#REF!"}},1.5636574074074077E-2,1.6446759259259262E-2]
[36,36,"Terry Barry","Corinium CC","00:17:56","00:34:39",17.316017316017319,null,null,null,39,37,39,4.4918981481481483E-2,37,{"$f":"VLOOKUP(M679,#REF!,4,FALSE)","v":{"$error":"#REF!"}},1.7245370370370369E-2,1.8055555555555554E-2]
[37,37,"Bev Cejer","Swindon Wheelers","00:18:12","00:35:01",17.134697762970013,null,null,null,38,38,38,4.5138888888888888E-2,38,{"$f":"VLOOKUP(M680,#REF!,4,FALSE)","v":{"$error":"#REF!"}},1.8530092592592595E-2,-2.6388888888888889E-2]
[null,null,"2016-07-28",null,"Split Time","Total Time","m.p.h."]
[1,1,"Dan Guest","Performance Cycles","00:10:37","00:20:30",29.26829268292683,null,null,null,36,40,36,4.670138888888889E-2,40,{"$f":"VLOOKUP(M682,#REF!,4,FALSE)","v":{"$error":"#REF!"}},-2.5000000000000001E-2,2.2199074074074066E-2]
[2,{"$f":"IF(F683=F682,\"=\",A683)","v":2},"Jacob Pilkington","Performance Cycles","00:10:54","00:20:51",28.776978417266189,null,null,null,43,41,43,4.7199074074074067E-2,41,{"$f":"VLOOKUP(M683,#REF!,4,FALSE)","v":{"$error":"#REF!"}},1.6840277777777777E-2,{"$f":"N685-M683*$E$1","v":1.8564814814814815E-2}]
[3,{"$f":"IF(F684=F683,\"=\",A684)","v":3},"Felix Wilkinson","Veloton","00:11:26","00:21:42",27.649769585253456,null,null,null,44,42,44,null,42,{"$f":"VLOOKUP(M684,#REF!,4,FALSE)","v":{"$error":"#REF!"}},{"$f":"N683-M684*$E$1","v":1.6643518518518509E-2},{"$f":"N685-M684*$E$1","v":1.787037037037037E-2}]
[4,{"$f":"IF(F685=F684,\"=\",A685)","v":4},"Niel Dunnage","Cotswold Veldrijden","00:11:24","00:21:55",27.376425855513308,null,null,null,45,43,45,4.8425925925925928E-2,43,{"$f":"VLOOKUP(M685,#REF!,4,FALSE)","v":{"$error":"#REF!"}},{"$f":"N683-M685*$E$1","v":1.5949074074074067E-2},{"$f":"N686-M685*$E$1","v":1.8425925925925929E-2}]
[5,5,"Pete Hutchinson","Cotswold Veldrijden","00:11:24","00:21:56",27.355623100303955,null,null,null,46,44,46,4.9675925925925929E-2,44,{"$f":"VLOOKUP(M686,#REF!,4,FALSE)","v":{"$error":"#REF!"}},{"$f":"N685-M686*$E$1","v":1.6481481481481479E-2},1.8923611111111099E-2]
[6,6,"Peter Garnett","Swindon RC","00:11:27","00:22:02",27.231467473524962,null,null,null,51,45,51,5.0868055555555548E-2,45,{"$f":"VLOOKUP(M687,#REF!,4,FALSE)","v":{"$error":"#REF!"}},1.4259259259259263E-2,1.6134259259259258E-2]
[7,7,"Joe Schvartz","Team Swindon Cycles","00:11:52","00:22:58",26.124818577648767,null,null,null,50,46,50,5.1550925925925924E-2,46,{"$f":"VLOOKUP(M688,#REF!,4,FALSE)","v":{"$error":"#REF!"}},1.6145833333333325E-2,1.7384259259259259E-2]
[8,8,"Robin Short","Performance Cycles","00:11:55","00:23:00",26.086956521739129,null,null,null,47,47,47,5.2106481481481483E-2,47,{"$f":"VLOOKUP(M689,#REF!,4,FALSE)","v":{"$error":"#REF!"}},1.8912037037037033E-2,1.9583333333333335E-2]
[9,9,"Lloyd Dobson","Performance Cycles","00:12:21","00:23:23",25.65930149679259,null,null,null,53,48,53,5.2222222222222225E-2,48,{"$f":"VLOOKUP(M690,#REF!,4,FALSE)","v":{"$error":"#REF!"}},1.5300925925925926E-2,1.6504629629629626E-2]
[10,10,"Paul Cook","Team Swindon Cycles","00:12:17","00:23:27",25.586353944562902,null,null,null,52,49,52,5.3310185185185183E-2,49,{"$f":"VLOOKUP(M691,#REF!,4,FALSE)","v":{"$error":"#REF!"}},1.6111111111111111E-2,1.7384259259259252E-2]
[11,11,"Mick Sharratt","73 Degrees Bikes","00:12:30","00:23:57",25.052192066805848,null,null,null,48,50,48,5.3495370370370367E-2,50,{"$f":"VLOOKUP(M692,#REF!,4,FALSE)","v":{"$error":"#REF!"}},1.997685185185185E-2,2.0543981481481483E-2]
[12,12,"Steve Buckley","Ride 24/7","00:12:34","00:24:07",24.879060124395298,null,null,null,49,51,49,5.3877314814814815E-2,51,{"$f":"VLOOKUP(M693,#REF!,4,FALSE)","v":{"$error":"#REF!"}},1.9467592592592585E-2,{"$f":"N694-M693*$E$1","v":-1.7824074074074131E-3}]
[13,13,"Harriet Guest","Performance Cycles","00:12:31","00:24:14",24.759284731774414,null,null,null,null,52,18,3.2245370370370369E-2,{"$error":"#N/A"},{"$f":"VLOOKUP(M694,#REF!,4,FALSE)","v":{"$error":"#REF!"}},{"$f":"N693-M694*$E$1","v":4.1377314814814811E-2},-1.2500000000000001E-2]
[14,14,"Ewen Lewis","Swindon Wheelers","00:12:24","00:24:17",24.708304735758407,null,null,null,null,53,28,null,{"$error":"#N/A"},{"$f":"VLOOKUP(M695,#REF!,4,FALSE)","v":{"$error":"#REF!"}}]
[15,15,"Les Sheppard","Swindon Wheelers","00:12:39","00:24:22",24.623803009575923]
[16,16,"Ross Mahoney","Swindon RC","00:12:47","00:24:26",24.556616643929058]
[17,17,"Trevor Hodges","Corinium CC","00:12:45","00:24:27",24.539877300613497]
[18,18,"Chris Broad-Drake","Swindon RC","00:12:51","00:24:28",24.52316076294278]
[19,"=","Jordan Wintle","Swindon RC","00:12:53","00:24:28",24.52316076294278]
[20,20,"Dave Gibson","Swindon RC","00:12:47","00:24:35",24.406779661016952]
[21,21,"Martin Mason","Performance Cycles","00:12:59","00:24:51",24.144869215291752]
[22,22,"John Simmons","Performance Cycles","00:12:53","00:24:53",24.112525117213664]
[23,23,"Simon James","Corinium CC","00:12:53","00:24:56",24.064171122994654]
[24,24,"Marc Allen","Swindon RC","00:13:08","00:24:58",24.032042723631509]
[25,25,"Joanne Jago","Performance Cycles","00:13:09","00:25:04",23.936170212765958]
[26,"=","Alex Foyn","Corinium CC","00:12:49","00:25:04",23.936170212765958]
[27,"=","Mark Foyn","Corinium CC","00:12:53","00:25:04",23.936170212765958]
[28,28,"Kevin Lister","Corinium CC","00:12:57","00:25:12",23.80952380952381]
[29,29,"Jeff Smith","Swindon RC","00:13:24","00:25:32",23.49869451697128]
[30,30,"Paul Fuchs","Corinium CC","00:13:36","00:26:03",23.032629558541263]
[31,31,"Paul Burnip","Corinium CC","00:13:47","00:26:25",22.712933753943219]
[32,32,"Gerry Peppin","Corinium CC","00:13:42","00:26:28",22.670025188916881]
[33,33,"Keith Rawling","Swindon Wheelers","00:13:36","00:26:33",22.598870056497177]
[34,34,"Rob Patterson","Swindon RC","00:13:54","00:26:42",22.471910112359552]
[35,35,"Steve Pretlove","Swindon Wheelers","00:13:48","00:26:43",22.457891453524642]
[36,36,"Mike Brien","Swindon Wheelers","00:14:09","00:26:54",22.304832713754649]
[37,"=","Stephen Chapman","Corinium CC","00:13:51","00:26:54",22.304832713754649]
[38,38,"Kieran Golding","Swindon RC","00:14:12","00:27:23",21.911138161898965]
[39,39,"David Martin","Swindon Wheelers","00:14:19","00:27:30",21.818181818181824]
[40,40,"Allan Norwood","Corinium CC","00:14:13","00:27:43",21.64762477450391]
[41,41,"Lew Lawton","Swindon RC","00:15:45","00:30:16",19.823788546255511]
[42,42,"Denis Hedges","Corinium CC","00:15:47","00:30:42",19.54397394136808]
[43,43,"Marguerite Miatt","Corinium CC","00:15:57","00:30:57",19.386106623586432]
[44,44,"Terry Barry","Corinium CC","00:16:19","00:31:26",19.08801696712619]
[45,45,"Alison Goulstone","Swindon Wheelers","00:16:40","00:32:07",18.681888946549041]
[46,46,"John Ashurst","Corinium CC","00:16:53","00:32:29",18.471010774756284]
[47,47,"Ross Gregory","Corinium CC","00:16:55","00:32:36",18.404907975460123]
[48,48,"Jenny Hilborne","Swindon Wheelers","00:17:21","00:33:37",17.848289538919186]
[49,49,"Paul Wood","Swindon Wheelers","00:17:23","00:34:03",17.621145374449341]
[50,50,"Howard Seward","Swindon RC","00:14:00","00:38:24",15.625]
[null,null,"2016-08-04",null,"Split Time","Total Time","m.p.h."]
[1,1,"Dan Guest","Performance Cycles","00:10:35","00:20:24",29.411764705882351]
[2,{"$f":"IF(F734=F733,\"=\",A734)","v":2},"Neil Rutter","Cotswold Veldrijden","00:11:16","00:21:39",27.713625866050808]
[3,{"$f":"IF(F735=F734,\"=\",A735)","v":3},"Paul Cook","Team Swindon Cycles","00:11:32","00:22:16",26.946107784431138]
[4,{"$f":"IF(F736=F735,\"=\",A736)","v":4},"Peter Garnett","Swindon RC","00:11:43","00:22:23",26.805658972449738]
[5,5,"Felix Wilkinson","Veloton","00:11:48","00:22:29",26.686434395848778]
[6,6,"Joe Schvartz","Team Swindon Cycles","00:11:56","00:22:50",26.277372262773724]
[7,7,"David Wright","Veloton","00:11:52","00:22:52",26.239067055393587]
[8,8,"Jim Curry","Performance Cycles","00:11:58","00:23:19",25.732666190135813]
[9,9,"Chris Broad-Drake","Swindon RC","00:12:27","00:23:41",25.33427163969036]
[10,10,"Les Sheppard","Swindon Wheelers","00:12:10","00:23:48",25.210084033613445]
[11,11,"Matt Seddon","Performance Cycles","00:12:46","00:24:01",24.98265093684941]
[12,12,"Ewen Lewis","Swindon Wheelers","00:12:32","00:24:02",24.965325936199722]
[13,13,"Trevor Hodges","Corinium CC","00:12:36","00:24:11",24.810475534114406]
[14,14,"Tim Preston","Corinium CC","00:12:35","00:24:14",24.759284731774414]
[15,15,"Jason Costello","Team Swindon Cycles","00:12:15","00:24:22",24.623803009575923]
[16,16,"Simon James","Corinium CC","00:12:52","00:24:53",24.112525117213664]
[17,17,"Alex Foyn","Corinium CC","00:12:57","00:24:55",24.08026755852843]
[18,18,"Marc Allen","Swindon RC","00:13:05","00:25:00",24]
[19,19,"Mark Foyn","Corinium CC","00:12:53","00:25:06",23.904382470119526]
[20,20,"Joanne Jago","Performance Cycles","00:13:16","00:25:26",23.591087811271297]
[21,21,"Steve Buckley","Ride 24/7","00:13:17","00:25:28",23.560209424083769]
[22,22,"Mark Phillips","Swindon RC","00:13:09","00:25:39",23.391812865497077]
[23,23,"Mike Cashman","Corinium CC","00:13:24","00:26:04",23.017902813299234]
[24,24,"Mike Brien","Swindon Wheelers","00:13:38","00:26:11",22.915340547422023]
[25,25,"Arja Scarsbrook","Corinium CC","00:13:45","00:26:35",22.570532915360502]
[26,26,"Paul Fuchs","Corinium CC","00:13:52","00:26:46",22.415940224159403]
[27,27,"Stephen Chapman","Corinium CC","00:13:48","00:26:52",22.332506203473944]
[28,28,"David Martin","Swindon Wheelers","00:14:16","00:27:24",21.897810218978105]
[29,29,"Allan Norwood","Corinium CC","00:14:12","00:27:25",21.884498480243163]
[30,30,"Howard Seward","Swindon RC","00:14:02","00:27:33",21.778584392014519]
[31,31,"Pete Jeans","Team Swindon Cycles","00:14:18","00:27:40",21.686746987951807]
[32,32,"Kieran Golding","Swindon RC","00:14:22","00:27:50",21.556886227544911]
[33,33,"Colin Wyatt","Swindon RC","00:14:39","00:28:46",20.857473928157592]
[34,34,"Nick Fiore","Cotswold Veldrijden","00:15:06","00:30:07",19.922523519645825]
[35,"=","Adam Worrall","Swindon Wheelers","00:15:41","00:30:07",19.922523519645825]
[36,36,"Lew Lawton","Swindon RC","00:15:47","00:30:37",19.597169297768101]
[37,37,"Terry Barry","Corinium CC","00:16:00","00:30:50",19.459459459459463]
[38,38,"Marguerite Miatt","Corinium CC","00:16:01","00:30:53",19.427954668105773]
[39,39,"Denis Hedges","Corinium CC","00:15:51","00:31:04",19.313304721030047]
[40,40,"David Horn","Swindon Wheelers","00:16:31","00:31:25",19.098143236074272]
[41,41,"Ross Gregory","Corinium CC","00:16:44","00:32:23",18.528049408131753]
[42,42,"Jenny Hilborne","Swindon Wheelers","00:16:56","00:32:44",18.329938900203668]
[43,43,"Alison Goulstone","Swindon Wheelers","00:17:12","00:33:31",17.901541521631028]
[null,null,"2016-08-11",null,"Split Time","Total Time","m.p.h."]
[1,1,"Dan Guest","Performance Cycles","00:10:36","00:20:31",29.244516653127537]
[2,{"$f":"IF(F778=F777,\"=\",A778)","v":2},"Jordan Frapwell","Velo Vitesse","00:11:21","00:21:51",27.459954233409615]
[3,{"$f":"IF(F779=F778,\"=\",A779)","v":3},"Paul Cook","Team Swindon Cycles","00:11:29","00:21:59",27.293404094010615]
[4,{"$f":"IF(F780=F779,\"=\",A780)","v":4},"Peter Garnett","Swindon RC","00:11:35","00:22:26",26.745913818722144]
[5,5,"Russ Thompson","Performance Cycles","00:11:44","00:22:32",26.627218934911244]
[6,6,"Graham Brookhouse","Velo Vitesse","00:11:45","00:22:34",26.587887740029544]
[7,7,"Les Liddiard","Swindon RC","00:11:42","00:22:35",26.568265682656826]
[8,8,"Gethin Musk","Performance Cycles","00:11:55","00:22:47",26.335040234089249]
[9,9,"Felix Wilkinson","Veloton","00:11:57","00:22:53",26.219956300072838]
[10,10,"Chris Wood","Performance Cycles","00:11:56","00:22:54",26.200873362445417]
[11,11,"Joe Schvartz","Team Swindon Cycles","00:11:56","00:22:58",26.124818577648767]
[12,12,"David Wright","Veloton","00:11:58","00:22:59",26.105873821609862]
[13,13,"Jason Costello","Team Swindon Cycles","00:12:09","00:23:29",25.5500354861604]
[14,14,"Mick Sharratt","73 Degrees Bikes","00:12:18","00:23:40",25.35211267605634]
[15,15,"Chris Broad-Drake","Swindon RC","00:12:35","00:23:51",25.157232704402514]
[16,16,"Tim Preston","Corinium CC","00:12:36","00:24:17",24.708304735758407]
[17,17,"Alex Foyn","Corinium CC","00:12:42","00:24:21",24.640657084188913]
[18,18,"Tom Sewell","Cotswold Veldrijden","00:12:51","00:24:49",24.177300201477504]
[19,19,"John Simmons","Performance Cycles","00:12:46","00:24:50",24.161073825503355]
[20,20,"Steve Buckley","Ride 24/7","00:13:03","00:24:54",24.096385542168676]
[21,21,"Pete Jeans","Team Swindon Cycles","00:12:57","00:24:55",24.08026755852843]
[22,22,"Harriet Guest","Performance Cycles","00:13:03","00:25:15",23.762376237623766]
[23,23,"Marc Allen","Swindon RC","00:13:17","00:25:16",23.746701846965703]
[24,24,"Simon James","Corinium CC","00:11:47","00:25:18",23.715415019762847]
[25,25,"Mark Foyn","Corinium CC","00:12:59","00:25:21",23.668639053254438]
[26,26,"Dave Gibson","Swindon RC","00:12:54","00:25:34",23.468057366362455]
[27,27,"Bryan Telford","Team Swindon Cycles","00:13:10","00:25:45",23.300970873786408]
[28,28,"Paul Fuchs","Corinium CC","00:13:40","00:26:20",22.784810126582283]
[29,29,"Arja Scarsbrook","Corinium CC","00:13:43","00:26:23",22.741629816803538]
[30,"=","Stephen Chapman","Corinium CC","00:13:42","00:26:23",22.741629816803538]
[31,31,"Liam Sewell","Cotswold Veldrijden","00:13:36","00:26:25",22.712933753943219]
[32,32,"Mike Brien","Swindon Wheelers","00:13:43","00:26:27",22.684310018903592]
[33,33,"Donna Short","Performance Cycles","00:13:50","00:26:28",22.670025188916881]
[34,34,"Rob Patterson","Swindon RC","00:14:02","00:27:32",21.791767554479417]
[35,35,"David Martin","Swindon Wheelers","00:14:20","00:27:35",21.752265861027194]
[36,36,"Sally Frapwell","Velo Vitesse","00:14:15","00:27:36",21.739130434782609]
[37,37,"Kyle Wallace","Cotswold Veldrijden","00:14:46","00:27:56",21.47971360381862]
[38,38,"Howard Seward","Swindon RC","00:14:19","00:27:57",21.466905187835422]
[39,39,"Allan Norwood","Corinium CC","00:14:16","00:27:58",21.454112038140646]
[40,40,"Darren Harrisson","Swindon Wheelers","00:15:09","00:29:18",20.477815699658702]
[41,41,"Denis Hedges","Corinium CC","00:15:32","00:30:09",19.900497512437813]
[42,42,"Jamie Ellis","Cotswold Veldrijden","00:15:32","00:30:21",19.769357495881383]
[43,43,"Terry Barry","Corinium CC","00:15:39","00:30:25",19.726027397260275]
[44,44,"Lew Lawton","Swindon RC","00:15:42","00:30:53",19.427954668105773]
[45,45,"David Horn","Swindon Wheelers","00:16:21","00:31:07",19.282271023031601]
[46,46,"Marguerite Miatt","Corinium CC","00:16:20","00:31:33",19.017432646592709]
[47,47,"Jenny Hilborne","Swindon Wheelers","00:16:55","00:32:25",18.508997429305914]
[48,48,"Ross Gregory","Corinium CC","00:16:58","00:32:40",18.367346938775512]
[49,49,"Paul Wood","Swindon Wheelers","00:17:37","00:34:02",17.629774730656219]
[null,null,"2016-08-18",null,"Split Time","Total Time","m.p.h."]
[1,1,"Dan Guest","Performance Cycles","00:10:43","00:20:38",29.079159935379646]
[2,{"$f":"IF(F828=F827,\"=\",A828)","v":2},"Jacob Pilkington","Performance Cycles","00:11:00","00:21:02",28.526148969889064]
[3,{"$f":"IF(F829=F828,\"=\",A829)","v":3},"Paul Cook","Team Swindon Cycles","00:11:27","00:21:41",27.671022290545736]
[4,{"$f":"IF(F830=F829,\"=\",A830)","v":4},"Peter Garnett","Swindon RC","00:11:23","00:21:46",27.565084226646249]
[5,5,"David Wright","Veloton","00:11:42","00:22:28",26.706231454005934]
[6,6,"Les Liddiard","Swindon RC","00:11:39","00:22:31",26.646928201332347]
[7,7,"Russ Thompson","Performance Cycles","00:11:42","00:22:36",26.548672566371682]
[8,8,"Simon Tarrant","Cheltenham CCC","00:11:46","00:22:37",26.529108327192336]
[9,9,"Chris Wood","Performance Cycles","00:11:51","00:22:51",26.258205689277901]
[10,10,"Robin Short","Performance Cycles","00:12:16","00:22:58",26.124818577648767]
[11,11,"Justin Robbins","Team Swindon Cycles","00:12:10","00:23:24",25.641025641025639]
[12,12,"Robert Telford","Veloton","00:12:14","00:23:28",25.568181818181824]
[13,13,"Jason Costello","Team Swindon Cycles","00:12:13","00:23:37",25.405786873676785]
[14,14,"Martin Mason","Performance Cycles","00:12:25","00:23:58",25.034770514603618]
[15,15,"Tom Sewell","Cotswold Veldrijden","00:12:34","00:24:07",24.879060124395298]
[16,16,"Chris Broad-Drake","Swindon RC","00:12:44","00:24:11",24.810475534114406]
[17,17,"Joanne Jago","Performance Cycles","00:12:54","00:24:23",24.606971975393034]
[18,18,"John Simmons","Performance Cycles","00:12:36","00:24:25",24.573378839590447]
[19,19,"Trevor Hodges","Corinium CC","00:12:40","00:24:26",24.556616643929058]
[20,20,"Dave Gibson","Swindon RC","00:12:40","00:24:29",24.506466984343092]
[21,21,"Alex Foyn","Corinium CC","00:12:37","00:24:31",24.47314751869477]
[22,"=","Marc Allen","Swindon RC","00:12:51","00:24:31",24.47314751869477]
[23,23,"Mark Williams","Swindon Wheelers","00:12:46","00:24:34",24.423337856173678]
[24,24,"Mark Foyn","Corinium CC","00:12:46","00:24:45",24.242424242424246]
[25,25,"Harriet Guest","Performance Cycles","00:12:58","00:24:49",24.177300201477504]
[26,26,"Todd Cumberpatch","Performance Cycles","00:12:44","00:24:57",24.048096192384772]
[27,27,"Kevin Lister","Corinium CC","00:12:54","00:25:01",23.984010659560294]
[28,28,"Bryan Telford","Team Swindon Cycles","00:12:50","00:25:02",23.96804260985353]
[29,29,"Jeff Smith","Swindon RC","00:13:22","00:25:43",23.331173039533379]
[30,30,"Bernie Beale","Swindon RC","00:13:38","00:25:50",23.2258064516129]
[31,31,"Arja Scarsbrook","Corinium CC","00:13:31","00:25:55",23.15112540192926]
[32,"=","Mike Brien","Swindon Wheelers","00:13:34","00:25:55",23.15112540192926]
[33,33,"Kim Lassiter","Cotswold Veldrijden","00:13:40","00:26:14",22.871664548919952]
[34,34,"Rob Patterson","Swindon RC","00:13:47","00:26:38",22.528160200250312]
[35,35,"Gerry Peppin","Corinium CC","00:13:57","00:26:40",22.5]
[36,36,"David Martin","Swindon Wheelers","00:14:01","00:26:44",22.443890274314214]
[37,37,"Kyle Wallace","Cotswold Veldrijden","00:14:34","00:27:22",21.924482338611451]
[38,38,"Nick Fiore","Cotswold Veldrijden","00:14:02","00:27:24",21.897810218978105]
[39,39,"Kieran Golding","Swindon RC","00:14:35","00:27:34",21.765417170495766]
[40,"=","Charlotte Berry","Performance Cycles","00:14:22","00:27:34",21.765417170495766]
[41,41,"Howard Seward","Swindon RC","00:13:50","00:27:35",21.752265861027194]
[42,42,"Lee Rayfield","Swindon RC","00:14:38","00:28:01",21.415823914336702]
[43,43,"Colin Wyatt","Swindon RC","00:14:40","00:28:21",21.164021164021165]
[44,44,"Jamie Ellis",0,"00:14:46","00:28:30",21.05263157894737]
[45,45,"Denis Hedges","Corinium CC","00:14:53","00:28:42",20.905923344947734]
[46,46,"Darren Harrisson","Swindon Wheelers","00:14:52","00:28:47",20.84539664157499]
[47,47,"Lew Lawton","Swindon RC","00:15:00","00:29:06",20.618556701030929]
[48,48,"Marguerite Miatt","Corinium CC","00:15:41","00:30:10",19.88950276243094]
[49,49,"Ross Gregory","Corinium CC","00:16:31","00:31:47",18.877818563188253]
[50,50,"Jenny Hilborne","Swindon Wheelers","00:16:47","00:32:27",18.489984591679509]
[51,51,"Carol Clarke","Performance Cycles","00:17:04","00:32:38",18.386108273748722]
[null,null,"2016-08-27",null,"Split Time","Total Time","m.p.h."]
[1,1,"Peter Garnett","Swindon RC","00:11:36","00:22:28",26.706231454005934]
[2,{"$f":"IF(F880=F879,\"=\",A880)","v":2},"Joe Schvartz","Team Swindon Cycles","00:12:03","00:23:14",25.824964131994264]
[3,{"$f":"IF(F881=F880,\"=\",A881)","v":3},"Jon Tresadern","Swindon RC","00:12:24","00:23:45",25.263157894736839]
[4,{"$f":"IF(F882=F881,\"=\",A882)","v":4},"Justin Robbins","Team Swindon Cycles","00:12:20","00:24:00",25]
[5,5,"Mark Williams","Swindon Wheelers","00:12:41","00:24:10",24.827586206896555]
[6,6,"Jordan Wintle","Swindon RC","00:12:35","00:24:16",24.725274725274726]
[7,7,"Ross Mahoney","Swindon RC","00:12:55","00:24:34",24.423337856173678]
[8,8,"Trevor Hodges","Corinium CC","00:12:51","00:24:42",24.291497975708506]
[9,9,"Marc Allen","Swindon RC","00:13:11","00:24:47",24.209818426361803]
[10,10,"Dan Smith","Banjo Cycles","00:13:25","00:25:44",23.316062176165804]
[11,11,"Jonathan Wickham","Ride 24/7","00:13:24","00:25:58",23.106546854942234]
[12,12,"Kim Lassiter","Cotswold Veldrijden","00:13:46","00:26:28",22.670025188916881]
[13,13,"Arja Scarsbrook","Corinium CC","00:13:46","00:26:31",22.627278441231926]
[14,14,"Rob Patterson","Swindon RC","00:13:54","00:27:08",22.113022113022115]
[15,15,"Jamie Ellis",0,"00:15:11","00:28:53",20.773225620311599]
[16,16,"Denis Hedges","Corinium CC","00:15:11","00:29:11",20.5596801827527]
[null,null,"2016-09-03",null,"Split Time","Total Time","m.p.h."]
[1,1,"Peter Garnett","Swindon RC","00:11:56","00:22:56",26.162790697674421]
[2,{"$f":"IF(F897=F896,\"=\",A897)","v":2},"Joe Schvartz","Team Swindon Cycles","00:12:11","00:23:20",25.714285714285719]
[3,{"$f":"IF(F898=F897,\"=\",A898)","v":3},"Tony Staples","RNRMCA","00:12:43","00:23:59",25.017373175816541]
[4,{"$f":"IF(F899=F898,\"=\",A899)","v":4},"Jon Tresadern","Swindon RC","00:12:54","00:24:21",24.640657084188913]
[5,5,"Danny Smith","Swindon RC","00:12:47","00:24:32",24.456521739130437]
[6,6,"Trevor Hodges","Corinium CC","00:12:54","00:24:36",24.390243902439025]
[7,7,"Tim Preston","Corinium CC","00:13:09","00:24:51",24.144869215291752]
[8,8,"Steve Buckley","Ride 24/7","00:13:01","00:24:56",24.064171122994654]
[9,9,"Ross Mahoney","Swindon RC","00:13:03","00:24:57",24.048096192384772]
[10,10,"Pete Collins","Swindon RC","00:13:21","00:25:25",23.606557377049182]
[11,11,"Marc Allen","Swindon RC","00:13:23","00:25:34",23.468057366362455]
[12,12,"Kevin Lister","Corinium CC","00:13:29","00:25:50",23.2258064516129]
[13,13,"Kim Lassiter","Cotswold Veldrijden","00:13:42","00:26:22",22.756005056890015]
[14,14,"Richard Craig","Swindon RC","00:14:09","00:26:40",22.5]
[15,15,"Arja Scarsbrook","Corinium CC","00:14:00","00:26:55",22.291021671826627]
[16,16,"Brian Glover","Swindon RC","00:14:21","00:27:06",22.140221402214024]
[17,17,"Roger Bryan","Swindon RC","00:14:15","00:27:22",21.924482338611451]
[18,18,"Rob Patterson","Swindon RC","00:14:22","00:27:55",21.492537313432837]
[19,19,"Gerry Peppin","Corinium CC","00:14:37","00:27:56",21.47971360381862]
[20,20,"Kieran Golding","Swindon RC","00:15:09","00:29:26",20.385050962627407]
[21,21,"Denis Hedges","Corinium CC","00:15:47","00:30:41",19.554589896795221]
[22,22,"Pete Wilson","Bath CC","00:16:19","00:31:30",19.047619047619047]
[null,null,"2016-09-17",null,"Split Time","Total Time","m.p.h."]
[1,1,"Rob Jones","Performance Cycles","00:12:05","00:23:16",25.787965616045849]
[2,{"$f":"IF(F920=F919,\"=\",A920)","v":2},"Joe Schvartz","Team Swindon Cycles","00:11:59","00:23:21",25.695931477516066]
[3,{"$f":"IF(F921=F920,\"=\",A921)","v":3},"Robin Short","Performance Cycles","00:12:14","00:23:37",25.405786873676785]
[4,{"$f":"IF(F922=F921,\"=\",A922)","v":4},"Ed Jarvis","Dursley RC","00:12:37","00:24:42",24.291497975708506]
[5,5,"Trevor Hodges","Corinium CC","00:12:48","00:24:45",24.242424242424246]
[6,"=","Tony Staples","RNRMCA","","00:24:45",24.242424242424246]
[7,7,"Steve Buckley","Ride 24/7","00:12:59","00:25:15",23.762376237623766]
[8,8,"Pete Jeans","Team Swindon Cycles","00:13:02","00:25:24",23.622047244094489]
[9,9,"Pete Collins","Swindon RC","00:13:06","00:25:42",23.346303501945524]
[10,10,"Brian Glover","Swindon RC","00:13:45","00:26:31",22.627278441231926]
[11,11,"Arja Scarsbrook","Corinium CC","00:13:51","00:26:59",22.235948116121062]
[12,12,"Keith Williams - (one lap)","Corinium CC","00:19:11"]
[null,null,"2016-09-24",null,"Split Time","Total Time","m.p.h."]
[1,1,"Les Liddiard","Swindon RC","00:11:57","00:23:01",26.068066618392475]
[2,{"$f":"IF(F933=F932,\"=\",A933)","v":2},"Justin Robbins","Team Swindon Cycles","00:12:42","00:24:13",24.776324845147968]
[3,{"$f":"IF(F934=F933,\"=\",A934)","v":3},"Joe Schvartz","Team Swindon Cycles","00:12:42","00:24:19",24.674434544208363]
[4,{"$f":"IF(F935=F934,\"=\",A935)","v":4},"Tony Staples","RNRMCA","00:12:49","00:24:22",24.623803009575923]
[5,5,"Jordan Wintle","Swindon RC","00:12:57","00:24:30",24.489795918367349]
[6,6,"Ross Mahoney","Swindon RC","00:13:10","00:25:09",23.856858846918488]
[7,7,"Steve Buckley","Ride 24/7","00:13:31","00:25:37",23.422251138581654]
[8,8,"Rob Patterson","Swindon RC","00:14:58","00:29:03",20.654044750430291]
[9,9,"Denis Hedges","Corinium CC","00:16:42","00:31:55",18.798955613577025]

{"sheet":"Results 2014","index":1,"n_rows":1017,"n_cols":18,"rows_kept":1017,"cut":false,"hidden":true,"merged":[]}
[1,1,null,null,"00:01:00",null,null,null," "]
[2,{"$f":"IF(E2=E1,\"=\",A2)","v":2},null,null,null,null,null,null,"http://www.swindon-rc.co.uk/documents/Scratch.pdf"]
[3,{"$f":"IF(E3=E2,\"=\",A3)","v":"="},null,null,null,null,null,null,"prohost19.34sp.com"]
[null,null,null,null,null,null,null,null,"swindonrccouk"]
[null,null,null,null,null,null,null,null,"wobble99"]
[null,null,null,null,null,null,null,null,"http://www.swindon-rc.co.uk/documents/Rota.pdf"]
[]
[null,null,"Come & Try It - 5 April 2014  "]
[null,null,"David Parkin","Swindon RC","00:32:57"]
[null,null,"Steve George","Swindon RC","00:29:30"]
[null,null,"Tom Willemsen","Swindon RC","00:26:09"]
[null,null,"Tim Wadsworth","Malmesbury Clarion","00:30:23"]
[null,null,"Andy Morgan","Corinium CC","00:25:13"]
[null,null,"George Wadsworth","Malmesbury Clarion","00:30:26"]
[null,null,"John Twidell",null,"00:29:12"]
[null,null,"Craige Goodson","Cotswold Veldrijden","00:27:52"]
[null,null,"Les Liddiard","Team Jewson","00:23:32"]
[null,null,"Andy Claxton","Ride 24/7","00:25:22"]
[null,null,"Tom Sewell","Cotswold Veldrijden","00:27:04"]
[null,null,"Malc Ingleby","Gloucester CCC","00:26:54"]
[null,null,"Alex McIntosh","Cotswold Veldrijden","00:26:46"]
[null,null,"Aaron Collins","Cotswold Veldrijden","00:25:59"]
[null,null,"Natalie Moore (1 lap)","Cotswold Veldrijden","00:20:02"]
[null,null,"Glenn Chapman","Swindon RC","00:30:06"]
[null,null,"Nathan Huynh","Cotswold Veldrijden","00:26:45"]
[null,null,"Matt Hodgson","Ride 24/7","00:26:04"]
[null,null,"Stuart Longhurst","Swindon RC","00:29:24"]
[null,null,"Mark Parry",null,"00:27:40"]
[null,null,"Steve McGinlay","Performance Cycles","00:30:34"]
[null,null,"Rob Compton","Performance Cycles","00:28:53"]
[null,null,"Paul Adams","Swindon RC","00:29:06"]
[null,null,"Amanda Adams","Swindon RC","00:41:28"]
[null,null,"Carmen Young",null,"00:34:22"]
[null,null,"Michael Ponzo","Cotswold Veldrijden","00:26:18"]
[null,null,"Marc Allen","Swindon RC","00:27:57"]
[null,null,"Prologue - 10 April 2014"]
[1,1,"Matt Woods","Cotswold Veldrijden","00:10:44"]
[2,{"$f":"IF(E38=E37,\"=\",A38)","v":2},"Alex King","Performance Cycles","00:11:42"]
[3,{"$f":"IF(E39=E38,\"=\",A39)","v":3},"Tony Staples","RNRMCA","00:11:49"]
[4,{"$f":"IF(E40=E39,\"=\",A40)","v":4},"Paul O'Driscoll","Swindon RC","00:12:03"]
[5,5,"Chris Wood","Performance Cycles","00:12:08"]
[6,6,"Joe Barry","Swindon RC","00:12:10"]
[7,7,"Rob Merrison","Swindon RC","00:12:21"]
[8,8,"Mick Sharratt","Cadence","00:12:28"]
[9,9,"Mike Cashman","Corinium CC","00:12:38"]
[10,10,"Matt Hodgson","Ride 24/7","00:12:46"]
[11,11,"Tom Sewell","Cotswold Veldrijden","00:12:48"]
[12,"=","Bryan Telford","Swindon RC","00:12:48"]
[13,13,"Adriano dos Santos","Swindon RC","00:13:01"]
[14,14,"John Kampe","Corinium CC","00:13:48"]
[15,15,"Paul Fuchs","Corinium CC","00:13:49"]
[16,16,"David Woods","Cotswold Veldrijden","00:14:03"]
[17,17,"Stuart Longhurst","Swindon RC","00:14:16"]
[18,18,"Allan Norwood","Corinium CC","00:15:19"]
[19,19,"Heather Jefferies","Performance Cycles","00:15:33"]
[20,20,"Rob Barry","Performance Cycles","00:15:39"]
[21,21,"John Whittaker","Corinium CC","00:15:47"]
[22,22,"Marguerite Miatt","Corinium CC","00:16:17"]
[23,23,"Carol Clarke","Corinium CC","00:17:03"]
[null,null,"2014-04-17"]
[1,1,"Dan Guest","Performance Cycles","00:21:05",null,null,null,{"$f":"IF(COUNTIF(#REF!,'Results 2014'!C61)>COUNTIF(Points!$C$10:$C$86,'Results 2014'!C61),\"Not on Comps\",\"\")","v":{"$error":"#REF!"}}]
[2,{"$f":"IF(E62=E61,\"=\",A62)","v":2},"Matt Woods","Cotswold Veldrijden","00:21:27",null,null,null,{"$f":"IF(COUNTIF(#REF!,'Results 2014'!C62)>COUNTIF(Points!$C$10:$C$86,'Results 2014'!C62),\"Not on Comps\",\"\")","v":{"$error":"#REF!"}}]
[3,{"$f":"IF(E63=E62,\"=\",A63)","v":3},"Peter Garnett","Swindon RC","00:21:59",null,null,null,{"$f":"IF(COUNTIF(#REF!,'Results 2014'!C63)>COUNTIF(Points!$C$10:$C$86,'Results 2014'!C63),\"Not on Comps\",\"\")","v":{"$error":"#REF!"}}]
[4,{"$f":"IF(E64=E63,\"=\",A64)","v":4},"Niel Dunnage","Swindon RC","00:22:21",null,null,null,{"$f":"IF(COUNTIF(#REF!,'Results 2014'!C64)>COUNTIF(Points!$C$10:$C$86,'Results 2014'!C64),\"Not on Comps\",\"\")","v":{"$error":"#REF!"}}]
[5,5,"Steve Yates","Corinium CC","00:22:26",null,null,null,{"$f":"IF(COUNTIF(#REF!,'Results 2014'!C65)>COUNTIF(Points!$C$10:$C$86,'Results 2014'!C65),\"Not on Comps\",\"\")","v":{"$error":"#REF!"}}]
[6,6,"Les Liddiard","Team Jewson","00:22:42",null,null,null,{"$f":"IF(COUNTIF(#REF!,'Results 2014'!C66)>COUNTIF(Points!$C$10:$C$86,'Results 2014'!C66),\"Not on Comps\",\"\")","v":{"$error":"#REF!"}}]
[7,7,"Andy Morgan","Corinium CC","00:23:11",null,null,null,{"$f":"IF(COUNTIF(#REF!,'Results 2014'!C67)>COUNTIF(Points!$C$10:$C$86,'Results 2014'!C67),\"Not on Comps\",\"\")","v":{"$error":"#REF!"}}]
[8,8,"Joe Schvartz","Swindon RC","00:23:27",null,null,null,{"$f":"IF(COUNTIF(#REF!,'Results 2014'!C68)>COUNTIF(Points!$C$10:$C$86,'Results 2014'!C68),\"Not on Comps\",\"\")","v":{"$error":"#REF!"}}]
[9,9,"Andy Claxton","Swindon RC","00:23:35",null,null,null,{"$f":"IF(COUNTIF(#REF!,'Results 2014'!C69)>COUNTIF(Points!$C$10:$C$86,'Results 2014'!C69),\"Not on Comps\",\"\")","v":{"$error":"#REF!"}}]
[10,10,"Dave Gibson","Swindon RC","00:24:15",null,null,null,{"$f":"IF(COUNTIF(#REF!,'Results 2014'!C70)>COUNTIF(Points!$C$10:$C$86,'Results 2014'!C70),\"Not on Comps\",\"\")","v":{"$error":"#REF!"}}]
[11,11,"Chris Broad-Drake","Swindon RC","00:24:43",null,null,null,{"$f":"IF(COUNTIF(#REF!,'Results 2014'!C71)>COUNTIF(Points!$C$10:$C$86,'Results 2014'!C71),\"Not on Comps\",\"\")","v":{"$error":"#REF!"}}]
[12,12,"Mick Sharratt","Cadence","00:24:56",null,null,null,{"$f":"IF(COUNTIF(#REF!,'Results 2014'!C72)>COUNTIF(Points!$C$10:$C$86,'Results 2014'!C72),\"Not on Comps\",\"\")","v":{"$error":"#REF!"}}]
[13,"=","Malcolm Walklett","Swindon RC","00:24:56",null,null,null,{"$f":"IF(COUNTIF(#REF!,'Results 2014'!C73)>COUNTIF(Points!$C$10:$C$86,'Results 2014'!C73),\"Not on Comps\",\"\")","v":{"$error":"#REF!"}}]
[14,14,"Adriano dos Santos","Swindon RC","00:25:07",null,null,null,{"$f":"IF(COUNTIF(#REF!,'Results 2014'!C74)>COUNTIF(Points!$C$10:$C$86,'Results 2014'!C74),\"Not on Comps\",\"\")","v":{"$error":"#REF!"}}]
[15,15,"Mike Cashman","Corinium CC","00:25:23",null,null,null,{"$f":"IF(COUNTIF(#REF!,'Results 2014'!C75)>COUNTIF(Points!$C$10:$C$86,'Results 2014'!C75),\"Not on Comps\",\"\")","v":{"$error":"#REF!"}}]
[16,16,"Jeff Smith","Swindon RC","00:25:24",null,null,null,{"$f":"IF(COUNTIF(#REF!,'Results 2014'!C76)>COUNTIF(Points!$C$10:$C$86,'Results 2014'!C76),\"Not on Comps\",\"\")","v":{"$error":"#REF!"}}]
[17,17,"Jim Curry","Performance Cycles","00:25:45",null,null,null,{"$f":"IF(COUNTIF(#REF!,'Results 2014'!C77)>COUNTIF(Points!$C$10:$C$86,'Results 2014'!C77),\"Not on Comps\",\"\")","v":{"$error":"#REF!"}}]
[18,18,"Gerry Peppin","Corinium CC","00:25:51",null,null,null,{"$f":"IF(COUNTIF(#REF!,'Results 2014'!C78)>COUNTIF(Points!$C$10:$C$86,'Results 2014'!C78),\"Not on Comps\",\"\")","v":{"$error":"#REF!"}}]
[19,19,"Marc Allen","Swindon RC","00:26:02",null,null,null,{"$f":"IF(COUNTIF(#REF!,'Results 2014'!C79)>COUNTIF(Points!$C$10:$C$86,'Results 2014'!C79),\"Not on Comps\",\"\")","v":{"$error":"#REF!"}}]
[20,20,"Mark Foyn","Corinium CC","00:26:03",null,null,null,{"$f":"IF(COUNTIF(#REF!,'Results 2014'!C80)>COUNTIF(Points!$C$10:$C$86,'Results 2014'!C80),\"Not on Comps\",\"\")","v":{"$error":"#REF!"}}]
[21,21,"Trevor Hodges","Corinium CC","00:26:06",null,null,null,{"$f":"IF(COUNTIF(#REF!,'Results 2014'!C81)>COUNTIF(Points!$C$10:$C$86,'Results 2014'!C81),\"Not on Comps\",\"\")","v":{"$error":"#REF!"}}]
[22,22,"Daniel Darby","Swindon RC","00:26:51",null,null,null,{"$f":"IF(COUNTIF(#REF!,'Results 2014'!C82)>COUNTIF(Points!$C$10:$C$86,'Results 2014'!C82),\"Not on Comps\",\"\")","v":{"$error":"#REF!"}}]
[23,23,"Paul Fuchs","Corinium CC","00:27:00",null,null,null,{"$f":"IF(COUNTIF(#REF!,'Results 2014'!C83)>COUNTIF(Points!$C$10:$C$86,'Results 2014'!C83),\"Not on Comps\",\"\")","v":{"$error":"#REF!"}}]
[24,24,"Archie Scott","Swindon RC","00:27:18",null,null,null,{"$f":"IF(COUNTIF(#REF!,'Results 2014'!C84)>COUNTIF(Points!$C$10:$C$86,'Results 2014'!C84),\"Not on Comps\",\"\")","v":{"$error":"#REF!"}}]
[25,25,"Allan Norwood","Corinium CC","00:27:46",null,null,null,{"$f":"IF(COUNTIF(#REF!,'Results 2014'!C85)>COUNTIF(Points!$C$10:$C$86,'Results 2014'!C85),\"Not on Comps\",\"\")","v":{"$error":"#REF!"}}]
[26,26,"Paul Adams","Swindon RC","00:27:55",null,null,null,{"$f":"IF(COUNTIF(#REF!,'Results 2014'!C86)>COUNTIF(Points!$C$10:$C$86,'Results 2014'!C86),\"Not on Comps\",\"\")","v":{"$error":"#REF!"}}]
[27,27,"Stephen Chapman","Corinium CC","00:28:02",null,null,null,{"$f":"IF(COUNTIF(#REF!,'Results 2014'!C87)>COUNTIF(Points!$C$10:$C$86,'Results 2014'!C87),\"Not on Comps\",\"\")","v":{"$error":"#REF!"}}]
[28,28,"Stuart Longhurst","Swindon RC","00:28:24",null,null,null,{"$f":"IF(COUNTIF(#REF!,'Results 2014'!C88)>COUNTIF(Points!$C$10:$C$86,'Results 2014'!C88),\"Not on Comps\",\"\")","v":{"$error":"#REF!"}}]
[29,29,"Kieran Golding","Swindon RC","00:29:13",null,null,null,{"$f":"IF(COUNTIF(#REF!,'Results 2014'!C89)>COUNTIF(Points!$C$10:$C$86,'Results 2014'!C89),\"Not on Comps\",\"\")","v":{"$error":"#REF!"}}]
[30,30,"Keith Williams","Oxford CC","00:30:47",null,null,null,{"$f":"IF(COUNTIF(#REF!,'Results 2014'!C90)>COUNTIF(Points!$C$10:$C$86,'Results 2014'!C90),\"Not on Comps\",\"\")","v":{"$error":"#REF!"}}]
[31,31,"Dave Miatt","Corinium CC","00:31:10",null,null,null,{"$f":"IF(COUNTIF(#REF!,'Results 2014'!C91)>COUNTIF(Points!$C$10:$C$86,'Results 2014'!C91),\"Not on Comps\",\"\")","v":{"$error":"#REF!"}}]
[32,32,"Mandy Scott","Swindon RC","00:31:21",null,null,null,{"$f":"IF(COUNTIF(#REF!,'Results 2014'!C92)>COUNTIF(Points!$C$10:$C$86,'Results 2014'!C92),\"Not on Comps\",\"\")","v":{"$error":"#REF!"}}]
[33,33,"John Whittaker","Corinium CC","00:31:22",null,null,null,{"$f":"IF(COUNTIF(#REF!,'Results 2014'!C93)>COUNTIF(Points!$C$10:$C$86,'Results 2014'!C93),\"Not on Comps\",\"\")","v":{"$error":"#REF!"}}]
[34,34,"Marguerite Miatt","Corinium CC","00:32:13",null,null,null,{"$f":"IF(COUNTIF(#REF!,'Results 2014'!C94)>COUNTIF(Points!$C$10:$C$86,'Results 2014'!C94),\"Not on Comps\",\"\")","v":{"$error":"#REF!"}}]
[35,35,"Katie Scott","Swindon RC","00:32:55",null,null,null,{"$f":"IF(COUNTIF(#REF!,'Results 2014'!C95)>COUNTIF(Points!$C$10:$C$86,'Results 2014'!C95),\"Not on Comps\",\"\")","v":{"$error":"#REF!"}}]
[36,36,"Terry Barry","Corinium CC","00:34:49",null,null,null,{"$f":"IF(COUNTIF(#REF!,'Results 2014'!C96)>COUNTIF(Points!$C$10:$C$86,'Results 2014'!C96),\"Not on Comps\",\"\")","v":{"$error":"#REF!"}}]
[null,null,"Wroughton - Beckhampton ","2014-04-20",null,null,null,null,{"$f":"IF(COUNTIF(#REF!,'Results 2014'!C97)>COUNTIF(Points!$C$10:$C$86,'Results 2014'!C97),\"Not on Comps\",\"\")","v":{"$error":"#REF!"}}]
[1,1,"Matt Woods","Cotswold Veldrijden","00:42:54"]
[2,{"$f":"IF(E99=E98,\"=\",A99)","v":2},"Mike Ford","Blazing Saddles","00:45:00"]
[3,{"$f":"IF(E100=E99,\"=\",A100)","v":3},"Dan Smith","Banjo Cycles","00:47:17"]
[4,{"$f":"IF(E101=E100,\"=\",A101)","v":4},"Les Liddiard","Team Jewson","00:47:26"]
[5,5,"Danny Smith","Swindon RC","00:48:28"]
[6,6,"Rob Merrison","Swindon RC","00:48:29"]
[7,7,"Peter Garnett","Swindon RC","00:48:44"]
[8,8,"Dave Gibson","Swindon RC","00:49:14"]
[9,9,"Joe Schvartz","Swindon RC","00:49:41"]
[10,10,"Justin Robbins","Swindon Wheelers","00:50:18"]
[11,11,"Marc Allen","Swindon RC","00:50:38"]
[12,12,"Chris Broad-Drake","Swindon RC","00:51:02"]
[13,13,"Jeff Smith","Swindon RC","00:52:02"]
[14,14,"Leigh Schvartz","Swindon RC","00:52:30"]
[15,15,"Adriano dos Santos","Swindon RC","00:53:55"]
[16,16,"Paul Fuchs","Corinium CC","00:57:41"]
[17,17,"Jon Wickham",null,"00:57:49"]
[null,null,"2014-04-24",null,null,null,null,null,{"$f":"IF(COUNTIF(#REF!,'Results 2014'!C115)>COUNTIF(Points!$C$10:$C$86,'Results 2014'!C115),\"Not on Comps\",\"\")","v":{"$error":"#REF!"}}]
[1,1,"Dan Guest","Performance Cycles","00:21:08",null,null,null,{"$f":"IF(COUNTIF(#REF!,'Results 2014'!C116)>COUNTIF(Points!$C$10:$C$86,'Results 2014'!C116),\"Not on Comps\",\"\")","v":{"$error":"#REF!"}}]
[2,{"$f":"IF(E117=E116,\"=\",A117)","v":2},"Matt Woods","Cotswold Veldrijden","00:21:24",null,null,null,{"$f":"IF(COUNTIF(#REF!,'Results 2014'!C117)>COUNTIF(Points!$C$10:$C$86,'Results 2014'!C117),\"Not on Comps\",\"\")","v":{"$error":"#REF!"}}]
[3,{"$f":"IF(E118=E117,\"=\",A118)","v":3},"Peter Garnett","Swindon RC","00:22:25",null,null,null,{"$f":"IF(COUNTIF(#REF!,'Results 2014'!C118)>COUNTIF(Points!$C$10:$C$86,'Results 2014'!C118),\"Not on Comps\",\"\")","v":{"$error":"#REF!"}}]
[4,{"$f":"IF(E119=E118,\"=\",A119)","v":4},"Les Liddiard","Team Jewson","00:22:29",null,null,null,{"$f":"IF(COUNTIF(#REF!,'Results 2014'!C119)>COUNTIF(Points!$C$10:$C$86,'Results 2014'!C119),\"Not on Comps\",\"\")","v":{"$error":"#REF!"}}]
[5,5,"Steve Yates","Corinium CC","00:22:33",null,null,null,{"$f":"IF(COUNTIF(#REF!,'Results 2014'!C120)>COUNTIF(Points!$C$10:$C$86,'Results 2014'!C120),\"Not on Comps\",\"\")","v":{"$error":"#REF!"}}]
[6,6,"Joe Schvartz","Swindon RC","00:22:52",null,null,null,{"$f":"IF(COUNTIF(#REF!,'Results 2014'!C121)>COUNTIF(Points!$C$10:$C$86,'Results 2014'!C121),\"Not on Comps\",\"\")","v":{"$error":"#REF!"}}]
[7,7,"Andy Morgan","Corinium CC","00:23:27",null,null,null,{"$f":"IF(COUNTIF(#REF!,'Results 2014'!C122)>COUNTIF(Points!$C$10:$C$86,'Results 2014'!C122),\"Not on Comps\",\"\")","v":{"$error":"#REF!"}}]
[8,8,"Alex King","Performance Cycles","00:23:35",null,null,null,{"$f":"IF(COUNTIF(#REF!,'Results 2014'!C123)>COUNTIF(Points!$C$10:$C$86,'Results 2014'!C123),\"Not on Comps\",\"\")","v":{"$error":"#REF!"}}]
[9,9,"Paul O'Driscoll","Swindon RC","00:23:54",null,null,null,{"$f":"IF(COUNTIF(#REF!,'Results 2014'!C124)>COUNTIF(Points!$C$10:$C$86,'Results 2014'!C124),\"Not on Comps\",\"\")","v":{"$error":"#REF!"}}]
[10,10,"Joe Barry","Ride 24/7","00:23:55",null,null,null,{"$f":"IF(COUNTIF(#REF!,'Results 2014'!C125)>COUNTIF(Points!$C$10:$C$86,'Results 2014'!C125),\"Not on Comps\",\"\")","v":{"$error":"#REF!"}}]
[11,11,"Nick Lowe","Cotswold Veldrijden","00:24:14",null,null,null,{"$f":"IF(COUNTIF(#REF!,'Results 2014'!C126)>COUNTIF(Points!$C$10:$C$86,'Results 2014'!C126),\"Not on Comps\",\"\")","v":{"$error":"#REF!"}}]
[12,12,"Adriano dos Santos","Swindon RC","00:24:18",null,null,null,{"$f":"IF(COUNTIF(#REF!,'Results 2014'!C127)>COUNTIF(Points!$C$10:$C$86,'Results 2014'!C127),\"Not on Comps\",\"\")","v":{"$error":"#REF!"}}]
[13,13,"Mick Sharratt","Cadence","00:24:43",null,null,null,{"$f":"IF(COUNTIF(#REF!,'Results 2014'!C128)>COUNTIF(Points!$C$10:$C$86,'Results 2014'!C128),\"Not on Comps\",\"\")","v":{"$error":"#REF!"}}]
[14,14,"Richard Cooper","Swindon RC","00:24:53",null,null,null,{"$f":"IF(COUNTIF(#REF!,'Results 2014'!C129)>COUNTIF(Points!$C$10:$C$86,'Results 2014'!C129),\"Not on Comps\",\"\")","v":{"$error":"#REF!"}}]
[15,15,"Matt Hodgson","Corinium CC","00:25:00",null,null,null,{"$f":"IF(COUNTIF(#REF!,'Results 2014'!C130)>COUNTIF(Points!$C$10:$C$86,'Results 2014'!C130),\"Not on Comps\",\"\")","v":{"$error":"#REF!"}}]
[16,16,"Chris Broad-Drake","Swindon RC","00:25:07",null,null,null,{"$f":"IF(COUNTIF(#REF!,'Results 2014'!C131)>COUNTIF(Points!$C$10:$C$86,'Results 2014'!C131),\"Not on Comps\",\"\")","v":{"$error":"#REF!"}}]
[17,17,"Ross Thompson","Performance Cycles","00:25:08",null,null,null,{"$f":"IF(COUNTIF(#REF!,'Results 2014'!C132)>COUNTIF(Points!$C$10:$C$86,'Results 2014'!C132),\"Not on Comps\",\"\")","v":{"$error":"#REF!"}}]
[18,18,"Marc Allen","Swindon RC","00:25:09",null,null,null,{"$f":"IF(COUNTIF(#REF!,'Results 2014'!C133)>COUNTIF(Points!$C$10:$C$86,'Results 2014'!C133),\"Not on Comps\",\"\")","v":{"$error":"#REF!"}}]
[19,19,"Steve Davies","Swindon RC","00:25:26",null,null,null,{"$f":"IF(COUNTIF(#REF!,'Results 2014'!C134)>COUNTIF(Points!$C$10:$C$86,'Results 2014'!C134),\"Not on Comps\",\"\")","v":{"$error":"#REF!"}}]
[20,"=","Jim Curry","Performance Cycles","00:25:26",null,null,null,{"$f":"IF(COUNTIF(#REF!,'Results 2014'!C135)>COUNTIF(Points!$C$10:$C$86,'Results 2014'!C135),\"Not on Comps\",\"\")","v":{"$error":"#REF!"}}]
[21,21,"Mike Cashman","Corinium CC","00:25:30",null,null,null,{"$f":"IF(COUNTIF(#REF!,'Results 2014'!C136)>COUNTIF(Points!$C$10:$C$86,'Results 2014'!C136),\"Not on Comps\",\"\")","v":{"$error":"#REF!"}}]
[22,"=","Leigh Schvartz","Swindon RC","00:25:30",null,null,null,{"$f":"IF(COUNTIF(#REF!,'Results 2014'!C137)>COUNTIF(Points!$C$10:$C$86,'Results 2014'!C137),\"Not on Comps\",\"\")","v":{"$error":"#REF!"}}]
[23,23,"Tom Sewell","Cotswold Veldrijden","00:25:33",null,null,null,{"$f":"IF(COUNTIF(#REF!,'Results 2014'!C138)>COUNTIF(Points!$C$10:$C$86,'Results 2014'!C138),\"Not on Comps\",\"\")","v":{"$error":"#REF!"}}]
[24,24,"Mark Foyn","Corinium CC","00:25:42",null,null,null,{"$f":"IF(COUNTIF(#REF!,'Results 2014'!C139)>COUNTIF(Points!$C$10:$C$86,'Results 2014'!C139),\"Not on Comps\",\"\")","v":{"$error":"#REF!"}}]
[25,25,"Paul Fuchs","Corinium CC","00:26:11",null,null,null,{"$f":"IF(COUNTIF(#REF!,'Results 2014'!C140)>COUNTIF(Points!$C$10:$C$86,'Results 2014'!C140),\"Not on Comps\",\"\")","v":{"$error":"#REF!"}}]
[26,26,"Gerry Peppin","Corinium CC","00:26:12",null,null,null,{"$f":"IF(COUNTIF(#REF!,'Results 2014'!C141)>COUNTIF(Points!$C$10:$C$86,'Results 2014'!C141),\"Not on Comps\",\"\")","v":{"$error":"#REF!"}}]
[27,27,"Craig Scott","Cotswold Veldrijden","00:26:27",null,null,null,{"$f":"IF(COUNTIF(#REF!,'Results 2014'!C142)>COUNTIF(Points!$C$10:$C$86,'Results 2014'!C142),\"Not on Comps\",\"\")","v":{"$error":"#REF!"}}]
[28,28,"Dave Tilling","Ride 24/7","00:26:28",null,null,null,{"$f":"IF(COUNTIF(#REF!,'Results 2014'!C143)>COUNTIF(Points!$C$10:$C$86,'Results 2014'!C143),\"Not on Comps\",\"\")","v":{"$error":"#REF!"}}]
[29,29,"Harriet Guest","Performance Cycles","00:26:36",null,null,null,{"$f":"IF(COUNTIF(#REF!,'Results 2014'!C144)>COUNTIF(Points!$C$10:$C$86,'Results 2014'!C144),\"Not on Comps\",\"\")","v":{"$error":"#REF!"}}]
[30,30,"Archie Scott","Swindon RC","00:26:57",null,null,null,{"$f":"IF(COUNTIF(#REF!,'Results 2014'!C145)>COUNTIF(Points!$C$10:$C$86,'Results 2014'!C145),\"Not on Comps\",\"\")","v":{"$error":"#REF!"}}]
[31,31,"Stephen Chapman","Corinium CC","00:27:25",null,null,null,{"$f":"IF(COUNTIF(#REF!,'Results 2014'!C146)>COUNTIF(Points!$C$10:$C$86,'Results 2014'!C146),\"Not on Comps\",\"\")","v":{"$error":"#REF!"}}]
[32,32,"Allan Norwood","Corinium CC","00:27:31",null,null,null,{"$f":"IF(COUNTIF(#REF!,'Results 2014'!C147)>COUNTIF(Points!$C$10:$C$86,'Results 2014'!C147),\"Not on Comps\",\"\")","v":{"$error":"#REF!"}}]
[33,33,"Rob Barry","Performance Cycles","00:27:48",null,null,null,{"$f":"IF(COUNTIF(#REF!,'Results 2014'!C148)>COUNTIF(Points!$C$10:$C$86,'Results 2014'!C148),\"Not on Comps\",\"\")","v":{"$error":"#REF!"}}]
[34,34,"Paul Adams","Swindon RC","00:28:04",null,null,null,{"$f":"IF(COUNTIF(#REF!,'Results 2014'!C149)>COUNTIF(Points!$C$10:$C$86,'Results 2014'!C149),\"Not on Comps\",\"\")","v":{"$error":"#REF!"}}]
[35,35,"Kieran Golding","Swindon RC","00:28:21",null,null,null,{"$f":"IF(COUNTIF(#REF!,'Results 2014'!C150)>COUNTIF(Points!$C$10:$C$86,'Results 2014'!C150),\"Not on Comps\",\"\")","v":{"$error":"#REF!"}}]
[36,36,"Mervyn Cox","Performance Cycles","00:28:24",null,null,null,{"$f":"IF(COUNTIF(#REF!,'Results 2014'!C151)>COUNTIF(Points!$C$10:$C$86,'Results 2014'!C151),\"Not on Comps\",\"\")","v":{"$error":"#REF!"}}]
[37,37,"Nick Fiore","Cotswold Veldrijden","00:28:33",null,null,null,{"$f":"IF(COUNTIF(#REF!,'Results 2014'!C152)>COUNTIF(Points!$C$10:$C$86,'Results 2014'!C152),\"Not on Comps\",\"\")","v":{"$error":"#REF!"}}]
[38,38,"David Parkin","Swindon RC","00:29:34",null,null,null,{"$f":"IF(COUNTIF(#REF!,'Results 2014'!C153)>COUNTIF(Points!$C$10:$C$86,'Results 2014'!C153),\"Not on Comps\",\"\")","v":{"$error":"#REF!"}}]
[39,39,"Sophie Crampin","Dame Cycling","00:29:47",null,null,null,{"$f":"IF(COUNTIF(#REF!,'Results 2014'!C154)>COUNTIF(Points!$C$10:$C$86,'Results 2014'!C154),\"Not on Comps\",\"\")","v":{"$error":"#REF!"}}]
[40,40,"Keith Williams","Oxford CC","00:30:21",null,null,null,{"$f":"IF(COUNTIF(#REF!,'Results 2014'!C155)>COUNTIF(Points!$C$10:$C$86,'Results 2014'!C155),\"Not on Comps\",\"\")","v":{"$error":"#REF!"}}]
[41,41,"Mandy Scott","Swindon RC","00:30:25",null,null,null,{"$f":"IF(COUNTIF(#REF!,'Results 2014'!C156)>COUNTIF(Points!$C$10:$C$86,'Results 2014'!C156),\"Not on Comps\",\"\")","v":{"$error":"#REF!"}}]
[42,42,"Hazel Ross","Dame Cycling","00:30:39",null,null,null,{"$f":"IF(COUNTIF(#REF!,'Results 2014'!C157)>COUNTIF(Points!$C$10:$C$86,'Results 2014'!C157),\"Not on Comps\",\"\")","v":{"$error":"#REF!"}}]
[43,43,"Marguerite Miatt","Corinium CC","00:31:20",null,null,null,{"$f":"IF(COUNTIF(#REF!,'Results 2014'!C158)>COUNTIF(Points!$C$10:$C$86,'Results 2014'!C158),\"Not on Comps\",\"\")","v":{"$error":"#REF!"}}]
[44,44,"Kelli Salone","Dame Cycling","00:31:39",null,null,null,{"$f":"IF(COUNTIF(#REF!,'Results 2014'!C159)>COUNTIF(Points!$C$10:$C$86,'Results 2014'!C159),\"Not on Comps\",\"\")","v":{"$error":"#REF!"}}]
[45,45,"Emma Rider","Dame Cycling","00:32:26",null,null,null,{"$f":"IF(COUNTIF(#REF!,'Results 2014'!C160)>COUNTIF(Points!$C$10:$C$86,'Results 2014'!C160),\"Not on Comps\",\"\")","v":{"$error":"#REF!"}}]
[46,46,"Sam Hackett","Dame Cycling","00:32:28",null,null,null,{"$f":"IF(COUNTIF(#REF!,'Results 2014'!C161)>COUNTIF(Points!$C$10:$C$86,'Results 2014'!C161),\"Not on Comps\",\"\")","v":{"$error":"#REF!"}}]
[47,47,"Amanda Adams","Swindon RC","00:32:30",null,null,null,{"$f":"IF(COUNTIF(#REF!,'Results 2014'!C162)>COUNTIF(Points!$C$10:$C$86,'Results 2014'!C162),\"Not on Comps\",\"\")","v":{"$error":"#REF!"}}]
[48,48,"Laura Chadwick","Dame Cycling","00:32:42",null,null,null,{"$f":"IF(COUNTIF(#REF!,'Results 2014'!C163)>COUNTIF(Points!$C$10:$C$86,'Results 2014'!C163),\"Not on Comps\",\"\")","v":{"$error":"#REF!"}}]
[49,49,"Noel MacKenzie","Corinium CC","00:33:05",null,null,null,{"$f":"IF(COUNTIF(#REF!,'Results 2014'!C164)>COUNTIF(Points!$C$10:$C$86,'Results 2014'!C164),\"Not on Comps\",\"\")","v":{"$error":"#REF!"}}]
[50,50,"Becky Brown","Dame Cycling","00:33:30",null,null,null,{"$f":"IF(COUNTIF(#REF!,'Results 2014'!C165)>COUNTIF(Points!$C$10:$C$86,'Results 2014'!C165),\"Not on Comps\",\"\")","v":{"$error":"#REF!"}}]
[51,51,"Katie Scott","Swindon RC","00:33:51",null,null,null,{"$f":"IF(COUNTIF(#REF!,'Results 2014'!C166)>COUNTIF(Points!$C$10:$C$86,'Results 2014'!C166),\"Not on Comps\",\"\")","v":{"$error":"#REF!"}}]
[52,52,"Carol Clarke","Corinium CC","00:34:04",null,null,null,{"$f":"IF(COUNTIF(#REF!,'Results 2014'!C167)>COUNTIF(Points!$C$10:$C$86,'Results 2014'!C167),\"Not on Comps\",\"\")","v":{"$error":"#REF!"}}]
[53,53,"Terry Barry","Corinium CC","00:34:45",null,null,null,{"$f":"IF(COUNTIF(#REF!,'Results 2014'!C168)>COUNTIF(Points!$C$10:$C$86,'Results 2014'!C168),\"Not on Comps\",\"\")","v":{"$error":"#REF!"}}]
[54,54,"Jean Kent","Dame Cycling","00:39:18",null,null,null,{"$f":"IF(COUNTIF(#REF!,'Results 2014'!C169)>COUNTIF(Points!$C$10:$C$86,'Results 2014'!C169),\"Not on Comps\",\"\")","v":{"$error":"#REF!"}}]
[null,null,"2014-05-01",null,null,null,null,null,{"$f":"IF(COUNTIF(#REF!,'Results 2014'!C170)>COUNTIF(Points!$C$10:$C$86,'Results 2014'!C170),\"Not on Comps\",\"\")","v":{"$error":"#REF!"}}]
[1,1,"Dan Guest","Performance Cycles","00:21:23",null,null,null,{"$f":"IF(COUNTIF(#REF!,'Results 2014'!C171)>COUNTIF(Points!$C$10:$C$86,'Results 2014'!C171),\"Not on Comps\",\"\")","v":{"$error":"#REF!"}}]
[2,{"$f":"IF(E172=E171,\"=\",A172)","v":2},"Peter Garnett","Swindon RC","00:22:26",null,null,null,{"$f":"IF(COUNTIF(#REF!,'Results 2014'!C172)>COUNTIF(Points!$C$10:$C$86,'Results 2014'!C172),\"Not on Comps\",\"\")","v":{"$error":"#REF!"}}]
[3,{"$f":"IF(E173=E172,\"=\",A173)","v":3},"Les Liddiard","Team Jewson","00:22:28",null,null,null,{"$f":"IF(COUNTIF(#REF!,'Results 2014'!C173)>COUNTIF(Points!$C$10:$C$86,'Results 2014'!C173),\"Not on Comps\",\"\")","v":{"$error":"#REF!"}}]
[4,{"$f":"IF(E174=E173,\"=\",A174)","v":4},"Tony Costello","Corinium CC","00:22:45",null,null,null,{"$f":"IF(COUNTIF(#REF!,'Results 2014'!C174)>COUNTIF(Points!$C$10:$C$86,'Results 2014'!C174),\"Not on Comps\",\"\")","v":{"$error":"#REF!"}}]
[5,5,"Pete Hutchinson","Corinium CC","00:23:03",null,null,null,{"$f":"IF(COUNTIF(#REF!,'Results 2014'!C175)>COUNTIF(Points!$C$10:$C$86,'Results 2014'!C175),\"Not on Comps\",\"\")","v":{"$error":"#REF!"}}]
[6,6,"Steve Yates","Corinium CC","00:23:07",null,null,null,{"$f":"IF(COUNTIF(#REF!,'Results 2014'!C176)>COUNTIF(Points!$C$10:$C$86,'Results 2014'!C176),\"Not on Comps\",\"\")","v":{"$error":"#REF!"}}]
[7,7,"Andy Claxton","Swindon RC","00:23:45",null,null,null,{"$f":"IF(COUNTIF(#REF!,'Results 2014'!C177)>COUNTIF(Points!$C$10:$C$86,'Results 2014'!C177),\"Not on Comps\",\"\")","v":{"$error":"#REF!"}}]
[8,8,"Gary Smith","Ride 24/7","00:23:48",null,null,null,{"$f":"IF(COUNTIF(#REF!,'Results 2014'!C178)>COUNTIF(Points!$C$10:$C$86,'Results 2014'!C178),\"Not on Comps\",\"\")","v":{"$error":"#REF!"}}]
[9,9,"Chris Broad-Drake","Swindon RC","00:24:13",null,null,null,{"$f":"IF(COUNTIF(#REF!,'Results 2014'!C179)>COUNTIF(Points!$C$10:$C$86,'Results 2014'!C179),\"Not on Comps\",\"\")","v":{"$error":"#REF!"}}]
[10,10,"Paul O'Driscoll","Swindon RC","00:24:18",null,null,null,{"$f":"IF(COUNTIF(#REF!,'Results 2014'!C180)>COUNTIF(Points!$C$10:$C$86,'Results 2014'!C180),\"Not on Comps\",\"\")","v":{"$error":"#REF!"}}]
[11,11,"Rob Merrison","Swindon RC","00:24:44",null,null,null,{"$f":"IF(COUNTIF(#REF!,'Results 2014'!C181)>COUNTIF(Points!$C$10:$C$86,'Results 2014'!C181),\"Not on Comps\",\"\")","v":{"$error":"#REF!"}}]
[12,12,"Marc Allen","Swindon RC","00:24:56",null,null,null,{"$f":"IF(COUNTIF(#REF!,'Results 2014'!C182)>COUNTIF(Points!$C$10:$C$86,'Results 2014'!C182),\"Not on Comps\",\"\")","v":{"$error":"#REF!"}}]
[13,13,"Simon Barnes","Corinium CC","00:25:14",null,null,null,{"$f":"IF(COUNTIF(#REF!,'Results 2014'!C183)>COUNTIF(Points!$C$10:$C$86,'Results 2014'!C183),\"Not on Comps\",\"\")","v":{"$error":"#REF!"}}]
[14,14,"Jim Curry","Performance Cycles","00:25:17",null,null,null,{"$f":"IF(COUNTIF(#REF!,'Results 2014'!C184)>COUNTIF(Points!$C$10:$C$86,'Results 2014'!C184),\"Not on Comps\",\"\")","v":{"$error":"#REF!"}}]
[15,15,"Dave Gibson","Swindon RC","00:25:21",null,null,null,{"$f":"IF(COUNTIF(#REF!,'Results 2014'!C185)>COUNTIF(Points!$C$10:$C$86,'Results 2014'!C185),\"Not on Comps\",\"\")","v":{"$error":"#REF!"}}]
[16,16,"Mike Cashman","Corinium CC","00:25:37",null,null,null,{"$f":"IF(COUNTIF(#REF!,'Results 2014'!C186)>COUNTIF(Points!$C$10:$C$86,'Results 2014'!C186),\"Not on Comps\",\"\")","v":{"$error":"#REF!"}}]
[17,17,"Keith Waller","Swindon RC","00:25:53",null,null,null,{"$f":"IF(COUNTIF(#REF!,'Results 2014'!C187)>COUNTIF(Points!$C$10:$C$86,'Results 2014'!C187),\"Not on Comps\",\"\")","v":{"$error":"#REF!"}}]
[18,18,"Richard Woods","Corinium CC","00:25:56",null,null,null,{"$f":"IF(COUNTIF(#REF!,'Results 2014'!C188)>COUNTIF(Points!$C$10:$C$86,'Results 2014'!C188),\"Not on Comps\",\"\")","v":{"$error":"#REF!"}}]
[19,19,"Tom Sewell","Cotswold Veldrijden","00:26:20",null,null,null,{"$f":"IF(COUNTIF(#REF!,'Results 2014'!C189)>COUNTIF(Points!$C$10:$C$86,'Results 2014'!C189),\"Not on Comps\",\"\")","v":{"$error":"#REF!"}}]
[20,20,"Rob Everill","Performance Cycles","00:26:59",null,null,null,{"$f":"IF(COUNTIF(#REF!,'Results 2014'!C190)>COUNTIF(Points!$C$10:$C$86,'Results 2014'!C190),\"Not on Comps\",\"\")","v":{"$error":"#REF!"}}]
[21,21,"Jeff Smith","Swindon RC","00:27:09",null,null,null,{"$f":"IF(COUNTIF(#REF!,'Results 2014'!C191)>COUNTIF(Points!$C$10:$C$86,'Results 2014'!C191),\"Not on Comps\",\"\")","v":{"$error":"#REF!"}}]
[22,22,"Paul Burnip","Corinium CC","00:27:17",null,null,null,{"$f":"IF(COUNTIF(#REF!,'Results 2014'!C192)>COUNTIF(Points!$C$10:$C$86,'Results 2014'!C192),\"Not on Comps\",\"\")","v":{"$error":"#REF!"}}]
[23,23,"John Simmons","Performance Cycles","00:27:44",null,null,null,{"$f":"IF(COUNTIF(#REF!,'Results 2014'!C193)>COUNTIF(Points!$C$10:$C$86,'Results 2014'!C193),\"Not on Comps\",\"\")","v":{"$error":"#REF!"}}]
[24,24,"Mervyn Cox","Performance Cycles","00:28:48",null,null,null,{"$f":"IF(COUNTIF(#REF!,'Results 2014'!C194)>COUNTIF(Points!$C$10:$C$86,'Results 2014'!C194),\"Not on Comps\",\"\")","v":{"$error":"#REF!"}}]
[25,25,"Keith Williams","Oxford CC","00:30:28",null,null,null,{"$f":"IF(COUNTIF(#REF!,'Results 2014'!C195)>COUNTIF(Points!$C$10:$C$86,'Results 2014'!C195),\"Not on Comps\",\"\")","v":{"$error":"#REF!"}}]
[26,26,"Heather Jefferies","Performance Cycles","00:30:50",null,null,null,{"$f":"IF(COUNTIF(#REF!,'Results 2014'!C196)>COUNTIF(Points!$C$10:$C$86,'Results 2014'!C196),\"Not on Comps\",\"\")","v":{"$error":"#REF!"}}]
[27,"=","Kelli Salone","Dame Cycling","00:30:50",null,null,null,{"$f":"IF(COUNTIF(#REF!,'Results 2014'!C197)>COUNTIF(Points!$C$10:$C$86,'Results 2014'!C197),\"Not on Comps\",\"\")","v":{"$error":"#REF!"}}]
[28,28,"Hazel Ross","Dame Cycling","00:30:56",null,null,null,{"$f":"IF(COUNTIF(#REF!,'Results 2014'!C198)>COUNTIF(Points!$C$10:$C$86,'Results 2014'!C198),\"Not on Comps\",\"\")","v":{"$error":"#REF!"}}]
[29,29,"Noel MacKenzie","Corinium CC","00:33:01",null,null,null,{"$f":"IF(COUNTIF(#REF!,'Results 2014'!C199)>COUNTIF(Points!$C$10:$C$86,'Results 2014'!C199),\"Not on Comps\",\"\")","v":{"$error":"#REF!"}}]
[30,30,"Becky Brown","Dame Cycling","00:33:18",null,null,null,{"$f":"IF(COUNTIF(#REF!,'Results 2014'!C200)>COUNTIF(Points!$C$10:$C$86,'Results 2014'!C200),\"Not on Comps\",\"\")","v":{"$error":"#REF!"}}]
[31,31,"Carol Clarke","Corinium CC","00:34:34",null,null,null,{"$f":"IF(COUNTIF(#REF!,'Results 2014'!C201)>COUNTIF(Points!$C$10:$C$86,'Results 2014'!C201),\"Not on Comps\",\"\")","v":{"$error":"#REF!"}}]
[null,null,"2014-05-08",null,null,null,null,null,{"$f":"IF(COUNTIF(#REF!,'Results 2014'!C202)>COUNTIF(Points!$C$10:$C$86,'Results 2014'!C202),\"Not on Comps\",\"\")","v":{"$error":"#REF!"}}]
[1,1,"Dan Guest","Performance Cycles","00:21:00",null,null,null,{"$f":"IF(COUNTIF(#REF!,'Results 2014'!C203)>COUNTIF(Points!$C$10:$C$86,'Results 2014'!C203),\"Not on Comps\",\"\")","v":{"$error":"#REF!"}}]
[2,{"$f":"IF(E204=E203,\"=\",A204)","v":2},"Gary Smith","Ride 24/7","00:23:27",null,null,null,{"$f":"IF(COUNTIF(#REF!,'Results 2014'!C204)>COUNTIF(Points!$C$10:$C$86,'Results 2014'!C204),\"Not on Comps\",\"\")","v":{"$error":"#REF!"}}]
[3,{"$f":"IF(E205=E204,\"=\",A205)","v":3},"Chris Wood","Performance Cycles","00:23:29",null,null,null,{"$f":"IF(COUNTIF(#REF!,'Results 2014'!C205)>COUNTIF(Points!$C$10:$C$86,'Results 2014'!C205),\"Not on Comps\",\"\")","v":{"$error":"#REF!"}}]
[4,{"$f":"IF(E206=E205,\"=\",A206)","v":4},"Mick Sharratt","Cadence","00:24:23",null,null,null,{"$f":"IF(COUNTIF(#REF!,'Results 2014'!C206)>COUNTIF(Points!$C$10:$C$86,'Results 2014'!C206),\"Not on Comps\",\"\")","v":{"$error":"#REF!"}}]
[5,5,"Jim Curry","Performance Cycles","00:24:42",null,null,null,{"$f":"IF(COUNTIF(#REF!,'Results 2014'!C207)>COUNTIF(Points!$C$10:$C$86,'Results 2014'!C207),\"Not on Comps\",\"\")","v":{"$error":"#REF!"}}]
[6,6,"Dave Gibson","Swindon RC","00:24:51",null,null,null,{"$f":"IF(COUNTIF(#REF!,'Results 2014'!C208)>COUNTIF(Points!$C$10:$C$86,'Results 2014'!C208),\"Not on Comps\",\"\")","v":{"$error":"#REF!"}}]
[7,7,"Adriano dos Santos","Swindon RC","00:25:07",null,null,null,{"$f":"IF(COUNTIF(#REF!,'Results 2014'!C209)>COUNTIF(Points!$C$10:$C$86,'Results 2014'!C209),\"Not on Comps\",\"\")","v":{"$error":"#REF!"}}]
[8,8,"Marc Allen","Swindon RC","00:25:12",null,null,null,{"$f":"IF(COUNTIF(#REF!,'Results 2014'!C210)>COUNTIF(Points!$C$10:$C$86,'Results 2014'!C210),\"Not on Comps\",\"\")","v":{"$error":"#REF!"}}]
[9,9,"Keith Williams","Oxford CC","00:25:24",null,null,null,{"$f":"IF(COUNTIF(#REF!,'Results 2014'!C211)>COUNTIF(Points!$C$10:$C$86,'Results 2014'!C211),\"Not on Comps\",\"\")","v":{"$error":"#REF!"}}]
[10,10,"Tom Sewell","Cotswold Veldrijden","00:26:05",null,null,null,{"$f":"IF(COUNTIF(#REF!,'Results 2014'!C212)>COUNTIF(Points!$C$10:$C$86,'Results 2014'!C212),\"Not on Comps\",\"\")","v":{"$error":"#REF!"}}]
[11,11,"Sarah Gunn","Corinium CC","00:26:22",null,null,null,{"$f":"IF(COUNTIF(#REF!,'Results 2014'!C213)>COUNTIF(Points!$C$10:$C$86,'Results 2014'!C213),\"Not on Comps\",\"\")","v":{"$error":"#REF!"}}]
[12,12,"Paul Fuchs","Corinium CC","00:26:35",null,null,null,{"$f":"IF(COUNTIF(#REF!,'Results 2014'!C214)>COUNTIF(Points!$C$10:$C$86,'Results 2014'!C214),\"Not on Comps\",\"\")","v":{"$error":"#REF!"}}]
[13,13,"David Arthur","Performance Cycles","00:26:42",null,null,null,{"$f":"IF(COUNTIF(#REF!,'Results 2014'!C215)>COUNTIF(Points!$C$10:$C$86,'Results 2014'!C215),\"Not on Comps\",\"\")","v":{"$error":"#REF!"}}]
[14,"=","Paul Burnip","Corinium CC","00:26:42",null,null,null,{"$f":"IF(COUNTIF(#REF!,'Results 2014'!C216)>COUNTIF(Points!$C$10:$C$86,'Results 2014'!C216),\"Not on Comps\",\"\")","v":{"$error":"#REF!"}}]
[15,15,"Rob Patterson","Swindon RC","00:26:50",null,null,null,{"$f":"IF(COUNTIF(#REF!,'Results 2014'!C217)>COUNTIF(Points!$C$10:$C$86,'Results 2014'!C217),\"Not on Comps\",\"\")","v":{"$error":"#REF!"}}]
[16,16,"Jeff Smith","Swindon RC","00:26:53",null,null,null,{"$f":"IF(COUNTIF(#REF!,'Results 2014'!C218)>COUNTIF(Points!$C$10:$C$86,'Results 2014'!C218),\"Not on Comps\",\"\")","v":{"$error":"#REF!"}}]
[17,17,"Allan Norwood","Corinium CC","00:27:24",null,null,null,{"$f":"IF(COUNTIF(#REF!,'Results 2014'!C219)>COUNTIF(Points!$C$10:$C$86,'Results 2014'!C219),\"Not on Comps\",\"\")","v":{"$error":"#REF!"}}]
[18,18,"Mervyn Cox","Performance Cycles","00:27:52",null,null,null,{"$f":"IF(COUNTIF(#REF!,'Results 2014'!C220)>COUNTIF(Points!$C$10:$C$86,'Results 2014'!C220),\"Not on Comps\",\"\")","v":{"$error":"#REF!"}}]
[19,19,"Nick Fiore","Cotswold Veldrijden","00:29:08",null,null,null,{"$f":"IF(COUNTIF(#REF!,'Results 2014'!C221)>COUNTIF(Points!$C$10:$C$86,'Results 2014'!C221),\"Not on Comps\",\"\")","v":{"$error":"#REF!"}}]
[20,20,"Amanda Adams","Swindon RC","00:31:12",null,null,null,{"$f":"IF(COUNTIF(#REF!,'Results 2014'!C222)>COUNTIF(Points!$C$10:$C$86,'Results 2014'!C222),\"Not on Comps\",\"\")","v":{"$error":"#REF!"}}]
[21,21,"Marguerite Miatt","Corinium CC","00:31:41",null,null,null,{"$f":"IF(COUNTIF(#REF!,'Results 2014'!C223)>COUNTIF(Points!$C$10:$C$86,'Results 2014'!C223),\"Not on Comps\",\"\")","v":{"$error":"#REF!"}}]
[22,22,"Terry Barry","Corinium CC","00:34:53",null,null,null,{"$f":"IF(COUNTIF(#REF!,'Results 2014'!C224)>COUNTIF(Points!$C$10:$C$86,'Results 2014'!C224),\"Not on Comps\",\"\")","v":{"$error":"#REF!"}}]
[null,null,"2014-05-15",null,null,null,null,null,{"$f":"IF(COUNTIF(#REF!,'Results 2014'!C225)>COUNTIF(Points!$C$10:$C$86,'Results 2014'!C225),\"Not on Comps\",\"\")","v":{"$error":"#REF!"}}]
[1,{"$f":"IF(E226=E225,\"=\",A226)","v":1},"Dan Guest","Performance Cycles","00:21:06",null,null,null,{"$f":"IF(COUNTIF(#REF!,'Results 2014'!C226)>COUNTIF(Points!$C$10:$C$86,'Results 2014'!C226),\"Not on Comps\",\"\")","v":{"$error":"#REF!"}}]
[2,2,"Lee Piercy","Corinium CC","00:22:05",null,null,null,{"$f":"IF(COUNTIF(#REF!,'Results 2014'!C227)>COUNTIF(Points!$C$10:$C$86,'Results 2014'!C227),\"Not on Comps\",\"\")","v":{"$error":"#REF!"}}]
[3,3,"Peter Garnett","Swindon RC","00:22:13",null,null,null,{"$f":"IF(COUNTIF(#REF!,'Results 2014'!C228)>COUNTIF(Points!$C$10:$C$86,'Results 2014'!C228),\"Not on Comps\",\"\")","v":{"$error":"#REF!"}}]
[4,4,"Pete Hutchinson","Corinium CC","00:22:37",null,null,null,{"$f":"IF(COUNTIF(#REF!,'Results 2014'!C229)>COUNTIF(Points!$C$10:$C$86,'Results 2014'!C229),\"Not on Comps\",\"\")","v":{"$error":"#REF!"}}]
[5,5,"Les Liddiard","Team Jewson","00:22:49",null,null,null,{"$f":"IF(COUNTIF(#REF!,'Results 2014'!C230)>COUNTIF(Points!$C$10:$C$86,'Results 2014'!C230),\"Not on Comps\",\"\")","v":{"$error":"#REF!"}}]
[6,6,"Joe Schvartz","Swindon RC","00:22:51",null,null,null,{"$f":"IF(COUNTIF(#REF!,'Results 2014'!C231)>COUNTIF(Points!$C$10:$C$86,'Results 2014'!C231),\"Not on Comps\",\"\")","v":{"$error":"#REF!"}}]
[7,7,"Mark Woolford","Chippenham Wheelers","00:22:52",null,null,null,{"$f":"IF(COUNTIF(#REF!,'Results 2014'!C232)>COUNTIF(Points!$C$10:$C$86,'Results 2014'!C232),\"Not on Comps\",\"\")","v":{"$error":"#REF!"}}]
[8,8,"Chris Wood","Performance Cycles","00:23:06",null,null,null,{"$f":"IF(COUNTIF(#REF!,'Results 2014'!C233)>COUNTIF(Points!$C$10:$C$86,'Results 2014'!C233),\"Not on Comps\",\"\")","v":{"$error":"#REF!"}}]
[9,9,"Andy Morgan","Corinium CC","00:23:09",null,null,null,{"$f":"IF(COUNTIF(#REF!,'Results 2014'!C234)>COUNTIF(Points!$C$10:$C$86,'Results 2014'!C234),\"Not on Comps\",\"\")","v":{"$error":"#REF!"}}]
[10,10,"Alex King","Performance Cycles","00:23:14",null,null,null,{"$f":"IF(COUNTIF(#REF!,'Results 2014'!C235)>COUNTIF(Points!$C$10:$C$86,'Results 2014'!C235),\"Not on Comps\",\"\")","v":{"$error":"#REF!"}}]
[11,11,"Andy Claxton","Swindon RC","00:23:19",null,null,null,{"$f":"IF(COUNTIF(#REF!,'Results 2014'!C236)>COUNTIF(Points!$C$10:$C$86,'Results 2014'!C236),\"Not on Comps\",\"\")","v":{"$error":"#REF!"}}]
[12,"=","Gary Smith","Ride 24/7","00:23:19",null,null,null,{"$f":"IF(COUNTIF(#REF!,'Results 2014'!C237)>COUNTIF(Points!$C$10:$C$86,'Results 2014'!C237),\"Not on Comps\",\"\")","v":{"$error":"#REF!"}}]
[13,13,"Richard Cooper","Swindon RC","00:23:44",null,null,null,{"$f":"IF(COUNTIF(#REF!,'Results 2014'!C238)>COUNTIF(Points!$C$10:$C$86,'Results 2014'!C238),\"Not on Comps\",\"\")","v":{"$error":"#REF!"}}]
[14,14,"Adriano dos Santos","Swindon RC","00:23:52",null,null,null,{"$f":"IF(COUNTIF(#REF!,'Results 2014'!C239)>COUNTIF(Points!$C$10:$C$86,'Results 2014'!C239),\"Not on Comps\",\"\")","v":{"$error":"#REF!"}}]
[15,{"$f":"IF(E240=E239,\"=\",A240)","v":15},"Chris Broad-Drake","Swindon RC","00:23:56",null,null,null,{"$f":"IF(COUNTIF(#REF!,'Results 2014'!C240)>COUNTIF(Points!$C$10:$C$86,'Results 2014'!C240),\"Not on Comps\",\"\")","v":{"$error":"#REF!"}}]
[16,16,"Rob Merrison","Swindon RC","00:23:58",null,null,null,{"$f":"IF(COUNTIF(#REF!,'Results 2014'!C241)>COUNTIF(Points!$C$10:$C$86,'Results 2014'!C241),\"Not on Comps\",\"\")","v":{"$error":"#REF!"}}]
[17,17,"Ed Coxwell-Rogers ","Ride 24/7","00:24:14",null,null,null,{"$f":"IF(COUNTIF(#REF!,'Results 2014'!C242)>COUNTIF(Points!$C$10:$C$86,'Results 2014'!C242),\"Not on Comps\",\"\")","v":{"$error":"#REF!"}}]
[18,18,"Mick Sharratt","Cadence","00:24:18",null,null,null,{"$f":"IF(COUNTIF(#REF!,'Results 2014'!C243)>COUNTIF(Points!$C$10:$C$86,'Results 2014'!C243),\"Not on Comps\",\"\")","v":{"$error":"#REF!"}}]
[19,19,"Simon Barnes","Corinium CC","00:24:21",null,null,null,{"$f":"IF(COUNTIF(#REF!,'Results 2014'!C244)>COUNTIF(Points!$C$10:$C$86,'Results 2014'!C244),\"Not on Comps\",\"\")","v":{"$error":"#REF!"}}]
[20,20,"Tom Longland","Swindon RC","00:24:23",null,null,null,{"$f":"IF(COUNTIF(#REF!,'Results 2014'!C245)>COUNTIF(Points!$C$10:$C$86,'Results 2014'!C245),\"Not on Comps\",\"\")","v":{"$error":"#REF!"}}]
[21,21,"Chris Fox","Swindon Tri Club","00:24:25",null,null,null,{"$f":"IF(COUNTIF(#REF!,'Results 2014'!C246)>COUNTIF(Points!$C$10:$C$86,'Results 2014'!C246),\"Not on Comps\",\"\")","v":{"$error":"#REF!"}}]
[22,22,"Jim Curry","Performance Cycles","00:24:31",null,null,null,{"$f":"IF(COUNTIF(#REF!,'Results 2014'!C247)>COUNTIF(Points!$C$10:$C$86,'Results 2014'!C247),\"Not on Comps\",\"\")","v":{"$error":"#REF!"}}]
[23,23,"Dave Gibson","Swindon RC","00:24:38",null,null,null,{"$f":"IF(COUNTIF(#REF!,'Results 2014'!C248)>COUNTIF(Points!$C$10:$C$86,'Results 2014'!C248),\"Not on Comps\",\"\")","v":{"$error":"#REF!"}}]
[24,24,"Matt Hodgson","Corinium CC","00:24:52",null,null,null,{"$f":"IF(COUNTIF(#REF!,'Results 2014'!C249)>COUNTIF(Points!$C$10:$C$86,'Results 2014'!C249),\"Not on Comps\",\"\")","v":{"$error":"#REF!"}}]
[25,25,"Dave Jones","Zemblanity","00:25:04",null,null,null,{"$f":"IF(COUNTIF(#REF!,'Results 2014'!C250)>COUNTIF(Points!$C$10:$C$86,'Results 2014'!C250),\"Not on Comps\",\"\")","v":{"$error":"#REF!"}}]
[26,26,"Keith Waller","Swindon RC","00:25:05",null,null,null,{"$f":"IF(COUNTIF(#REF!,'Results 2014'!C251)>COUNTIF(Points!$C$10:$C$86,'Results 2014'!C251),\"Not on Comps\",\"\")","v":{"$error":"#REF!"}}]
[27,27,"Steve Davies","Swindon RC","00:25:06",null,null,null,{"$f":"IF(COUNTIF(#REF!,'Results 2014'!C252)>COUNTIF(Points!$C$10:$C$86,'Results 2014'!C252),\"Not on Comps\",\"\")","v":{"$error":"#REF!"}}]
[28,28,"Marc Allen","Swindon RC","00:25:13",null,null,null,{"$f":"IF(COUNTIF(#REF!,'Results 2014'!C253)>COUNTIF(Points!$C$10:$C$86,'Results 2014'!C253),\"Not on Comps\",\"\")","v":{"$error":"#REF!"}}]
[29,29,"Michael Ponzo","Cotswold Veldrijden","00:25:28",null,null,null,{"$f":"IF(COUNTIF(#REF!,'Results 2014'!C254)>COUNTIF(Points!$C$10:$C$86,'Results 2014'!C254),\"Not on Comps\",\"\")","v":{"$error":"#REF!"}}]
[30,30,"Mark Foyn","Corinium CC","00:25:29",null,null,null,{"$f":"IF(COUNTIF(#REF!,'Results 2014'!C255)>COUNTIF(Points!$C$10:$C$86,'Results 2014'!C255),\"Not on Comps\",\"\")","v":{"$error":"#REF!"}}]
[31,"=","Tom Sewell","Cotswold Veldrijden","00:25:29",null,null,null,{"$f":"IF(COUNTIF(#REF!,'Results 2014'!C256)>COUNTIF(Points!$C$10:$C$86,'Results 2014'!C256),\"Not on Comps\",\"\")","v":{"$error":"#REF!"}}]
[32,32,"Andrew Wilcox","Performance Cycles","00:25:34",null,null,null,{"$f":"IF(COUNTIF(#REF!,'Results 2014'!C257)>COUNTIF(Points!$C$10:$C$86,'Results 2014'!C257),\"Not on Comps\",\"\")","v":{"$error":"#REF!"}}]
[33,33,"Liam Guest","Performance Cycles","00:25:39",null,null,null,{"$f":"IF(COUNTIF(#REF!,'Results 2014'!C258)>COUNTIF(Points!$C$10:$C$86,'Results 2014'!C258),\"Not on Comps\",\"\")","v":{"$error":"#REF!"}}]
[34,"=","Sarah Gunn","Corinium CC","00:25:39",null,null,null,{"$f":"IF(COUNTIF(#REF!,'Results 2014'!C259)>COUNTIF(Points!$C$10:$C$86,'Results 2014'!C259),\"Not on Comps\",\"\")","v":{"$error":"#REF!"}}]
[35,35,"Jeff Smith","Swindon RC","00:25:49",null,null,null,{"$f":"IF(COUNTIF(#REF!,'Results 2014'!C260)>COUNTIF(Points!$C$10:$C$86,'Results 2014'!C260),\"Not on Comps\",\"\")","v":{"$error":"#REF!"}}]
[36,36,"Gerry Peppin","Corinium CC","00:25:54",null,null,null,{"$f":"IF(COUNTIF(#REF!,'Results 2014'!C261)>COUNTIF(Points!$C$10:$C$86,'Results 2014'!C261),\"Not on Comps\",\"\")","v":{"$error":"#REF!"}}]
[37,37,"Richard Woods","Corinium CC","00:25:56",null,null,null,{"$f":"IF(COUNTIF(#REF!,'Results 2014'!C262)>COUNTIF(Points!$C$10:$C$86,'Results 2014'!C262),\"Not on Comps\",\"\")","v":{"$error":"#REF!"}}]
[38,38,"Kevin Lister","Corinium CC","00:26:09",null,null,null,{"$f":"IF(COUNTIF(#REF!,'Results 2014'!C263)>COUNTIF(Points!$C$10:$C$86,'Results 2014'!C263),\"Not on Comps\",\"\")","v":{"$error":"#REF!"}}]
[39,39,"Kim Lassiter","Cotswold Veldrijden","00:26:10",null,null,null,{"$f":"IF(COUNTIF(#REF!,'Results 2014'!C264)>COUNTIF(Points!$C$10:$C$86,'Results 2014'!C264),\"Not on Comps\",\"\")","v":{"$error":"#REF!"}}]
[40,40,"Jason Costello","Corinium CC","00:26:14",null,null,null,{"$f":"IF(COUNTIF(#REF!,'Results 2014'!C265)>COUNTIF(Points!$C$10:$C$86,'Results 2014'!C265),\"Not on Comps\",\"\")","v":{"$error":"#REF!"}}]
[41,41,"Rob Patterson","Swindon RC","00:26:20",null,null,null,{"$f":"IF(COUNTIF(#REF!,'Results 2014'!C266)>COUNTIF(Points!$C$10:$C$86,'Results 2014'!C266),\"Not on Comps\",\"\")","v":{"$error":"#REF!"}}]
[42,42,"Paul Fuchs","Corinium CC","00:26:29",null,null,null,{"$f":"IF(COUNTIF(#REF!,'Results 2014'!C267)>COUNTIF(Points!$C$10:$C$86,'Results 2014'!C267),\"Not on Comps\",\"\")","v":{"$error":"#REF!"}}]
[43,43,"Harriet Guest","Performance Cycles","00:26:35",null,null,null,{"$f":"IF(COUNTIF(#REF!,'Results 2014'!C268)>COUNTIF(Points!$C$10:$C$86,'Results 2014'!C268),\"Not on Comps\",\"\")","v":{"$error":"#REF!"}}]
[44,44,"Rob Barry","Performance Cycles","00:26:36",null,null,null,{"$f":"IF(COUNTIF(#REF!,'Results 2014'!C269)>COUNTIF(Points!$C$10:$C$86,'Results 2014'!C269),\"Not on Comps\",\"\")","v":{"$error":"#REF!"}}]
[45,45,"Helen Grosscurth","Performance Cycles","00:27:05",null,null,null,{"$f":"IF(COUNTIF(#REF!,'Results 2014'!C270)>COUNTIF(Points!$C$10:$C$86,'Results 2014'!C270),\"Not on Comps\",\"\")","v":{"$error":"#REF!"}}]
[46,46,"Archie Scott","Swindon RC","00:27:11",null,null,null,{"$f":"IF(COUNTIF(#REF!,'Results 2014'!C271)>COUNTIF(Points!$C$10:$C$86,'Results 2014'!C271),\"Not on Comps\",\"\")","v":{"$error":"#REF!"}}]
[47,{"$f":"IF(E272=E271,\"=\",A272)","v":"="},"Jon Bayliss","Performance Cycles","00:27:11",null,null,null,{"$f":"IF(COUNTIF(#REF!,'Results 2014'!C272)>COUNTIF(Points!$C$10:$C$86,'Results 2014'!C272),\"Not on Comps\",\"\")","v":{"$error":"#REF!"}}]
[48,48,"Daniel Darby","Swindon RC","00:27:19",null,null,null,{"$f":"IF(COUNTIF(#REF!,'Results 2014'!C273)>COUNTIF(Points!$C$10:$C$86,'Results 2014'!C273),\"Not on Comps\",\"\")","v":{"$error":"#REF!"}}]
[49,"=","Stephen Chapman","Corinium CC","00:27:19",null,null,null,{"$f":"IF(COUNTIF(#REF!,'Results 2014'!C274)>COUNTIF(Points!$C$10:$C$86,'Results 2014'!C274),\"Not on Comps\",\"\")","v":{"$error":"#REF!"}}]
[50,50,"Allan Norwood","Corinium CC","00:27:20",null,null,null,{"$f":"IF(COUNTIF(#REF!,'Results 2014'!C275)>COUNTIF(Points!$C$10:$C$86,'Results 2014'!C275),\"Not on Comps\",\"\")","v":{"$error":"#REF!"}}]
[51,51,"Stuart Longhurst","Swindon RC","00:27:49",null,null,null,{"$f":"IF(COUNTIF(#REF!,'Results 2014'!C276)>COUNTIF(Points!$C$10:$C$86,'Results 2014'!C276),\"Not on Comps\",\"\")","v":{"$error":"#REF!"}}]
[52,52,"Mervyn Cox","Performance Cycles","00:27:57",null,null,null,{"$f":"IF(COUNTIF(#REF!,'Results 2014'!C277)>COUNTIF(Points!$C$10:$C$86,'Results 2014'!C277),\"Not on Comps\",\"\")","v":{"$error":"#REF!"}}]
[53,53,"Rob Compton","Performance Cycles","00:28:16",null,null,null,{"$f":"IF(COUNTIF(#REF!,'Results 2014'!C278)>COUNTIF(Points!$C$10:$C$86,'Results 2014'!C278),\"Not on Comps\",\"\")","v":{"$error":"#REF!"}}]
[54,54,"Kieran Golding","Swindon RC","00:28:31",null,null,null,{"$f":"IF(COUNTIF(#REF!,'Results 2014'!C279)>COUNTIF(Points!$C$10:$C$86,'Results 2014'!C279),\"Not on Comps\",\"\")","v":{"$error":"#REF!"}}]
[55,55,"Mandy Scott","Swindon RC","00:28:39",null,null,null,{"$f":"IF(COUNTIF(#REF!,'Results 2014'!C280)>COUNTIF(Points!$C$10:$C$86,'Results 2014'!C280),\"Not on Comps\",\"\")","v":{"$error":"#REF!"}}]
[56,56,"Keith Williams","Oxford CC","00:29:49",null,null,null,{"$f":"IF(COUNTIF(#REF!,'Results 2014'!C281)>COUNTIF(Points!$C$10:$C$86,'Results 2014'!C281),\"Not on Comps\",\"\")","v":{"$error":"#REF!"}}]
[57,57,"Klimesora Hanka","Performance Cycles","00:29:56",null,null,null,{"$f":"IF(COUNTIF(#REF!,'Results 2014'!C282)>COUNTIF(Points!$C$10:$C$86,'Results 2014'!C282),\"Not on Comps\",\"\")","v":{"$error":"#REF!"}}]
[58,58,"Hazel Ross","Dame Cycling","00:30:03",null,null,null,{"$f":"IF(COUNTIF(#REF!,'Results 2014'!C283)>COUNTIF(Points!$C$10:$C$86,'Results 2014'!C283),\"Not on Comps\",\"\")","v":{"$error":"#REF!"}}]
[59,59,"Becky Brown","Dame Cycling","00:30:30",null,null,null,{"$f":"IF(COUNTIF(#REF!,'Results 2014'!C284)>COUNTIF(Points!$C$10:$C$86,'Results 2014'!C284),\"Not on Comps\",\"\")","v":{"$error":"#REF!"}}]
[60,"=","Terry Barry","Corinium CC","00:30:30",null,null,null,{"$f":"IF(COUNTIF(#REF!,'Results 2014'!C285)>COUNTIF(Points!$C$10:$C$86,'Results 2014'!C285),\"Not on Comps\",\"\")","v":{"$error":"#REF!"}}]
[61,61,"Kelli Salone","Dame Cycling","00:30:36",null,null,null,{"$f":"IF(COUNTIF(#REF!,'Results 2014'!C286)>COUNTIF(Points!$C$10:$C$86,'Results 2014'!C286),\"Not on Comps\",\"\")","v":{"$error":"#REF!"}}]
[62,62,"Carmen Young",null,"00:30:37",null,null,null,{"$f":"IF(COUNTIF(#REF!,'Results 2014'!C287)>COUNTIF(Points!$C$10:$C$86,'Results 2014'!C287),\"Not on Comps\",\"\")","v":{"$error":"#REF!"}}]
[63,63,"Marguerite Miatt","Corinium CC","00:30:40",null,null,null,{"$f":"IF(COUNTIF(#REF!,'Results 2014'!C288)>COUNTIF(Points!$C$10:$C$86,'Results 2014'!C288),\"Not on Comps\",\"\")","v":{"$error":"#REF!"}}]
[64,64,"Jamie Ellis","Cotswold Veldrijden","00:30:53",null,null,null,{"$f":"IF(COUNTIF(#REF!,'Results 2014'!C289)>COUNTIF(Points!$C$10:$C$86,'Results 2014'!C289),\"Not on Comps\",\"\")","v":{"$error":"#REF!"}}]
[65,65,"Amanda Adams","Swindon RC","00:31:24",null,null,null,{"$f":"IF(COUNTIF(#REF!,'Results 2014'!C290)>COUNTIF(Points!$C$10:$C$86,'Results 2014'!C290),\"Not on Comps\",\"\")","v":{"$error":"#REF!"}}]
[66,66,"Emma Rider","Dame Cycling","00:31:34",null,null,null,{"$f":"IF(COUNTIF(#REF!,'Results 2014'!C291)>COUNTIF(Points!$C$10:$C$86,'Results 2014'!C291),\"Not on Comps\",\"\")","v":{"$error":"#REF!"}}]
[67,67,"Laura Chadwick","Dame Cycling","00:31:37",null,null,null,{"$f":"IF(COUNTIF(#REF!,'Results 2014'!C292)>COUNTIF(Points!$C$10:$C$86,'Results 2014'!C292),\"Not on Comps\",\"\")","v":{"$error":"#REF!"}}]
[68,68,"Liam Sewell","Cotswold Veldrijden","00:31:58",null,null,null,{"$f":"IF(COUNTIF(#REF!,'Results 2014'!C293)>COUNTIF(Points!$C$10:$C$86,'Results 2014'!C293),\"Not on Comps\",\"\")","v":{"$error":"#REF!"}}]
[69,69,"Neil Lewis","Oxonian","00:35:27",null,null,null,{"$f":"IF(COUNTIF(#REF!,'Results 2014'!C294)>COUNTIF(Points!$C$10:$C$86,'Results 2014'!C294),\"Not on Comps\",\"\")","v":{"$error":"#REF!"}}]
[null,null,"2014-05-22",null,null,null,null,null,{"$f":"IF(COUNTIF(#REF!,'Results 2014'!C295)>COUNTIF(Points!$C$10:$C$86,'Results 2014'!C295),\"Not on Comps\",\"\")","v":{"$error":"#REF!"}}]
[1,1,"Dan Guest","Performance Cycles","00:20:56",null,null,null,{"$f":"IF(COUNTIF(#REF!,'Results 2014'!C296)>COUNTIF(Points!$C$10:$C$86,'Results 2014'!C296),\"Not on Comps\",\"\")","v":{"$error":"#REF!"}}]
[2,{"$f":"IF(E297=E296,\"=\",A297)","v":2},"Mike Ford","Blazing Saddles","00:21:15",null,null,null,{"$f":"IF(COUNTIF(#REF!,'Results 2014'!C297)>COUNTIF(Points!$C$10:$C$86,'Results 2014'!C297),\"Not on Comps\",\"\")","v":{"$error":"#REF!"}}]
[3,{"$f":"IF(E298=E297,\"=\",A298)","v":3},"Peter Garnett","Swindon RC","00:22:18",null,null,null,{"$f":"IF(COUNTIF(#REF!,'Results 2014'!C298)>COUNTIF(Points!$C$10:$C$86,'Results 2014'!C298),\"Not on Comps\",\"\")","v":{"$error":"#REF!"}}]
[4,{"$f":"IF(E299=E298,\"=\",A299)","v":4},"Pete Hutchinson","Corinium CC","00:22:22",null,null,null,{"$f":"IF(COUNTIF(#REF!,'Results 2014'!C299)>COUNTIF(Points!$C$10:$C$86,'Results 2014'!C299),\"Not on Comps\",\"\")","v":{"$error":"#REF!"}}]
[5,5,"Steve Yates","Corinium CC","00:22:29",null,null,null,{"$f":"IF(COUNTIF(#REF!,'Results 2014'!C300)>COUNTIF(Points!$C$10:$C$86,'Results 2014'!C300),\"Not on Comps\",\"\")","v":{"$error":"#REF!"}}]
[6,6,"Les Liddiard","Team Jewson","00:22:35",null,null,null,{"$f":"IF(COUNTIF(#REF!,'Results 2014'!C301)>COUNTIF(Points!$C$10:$C$86,'Results 2014'!C301),\"Not on Comps\",\"\")","v":{"$error":"#REF!"}}]
[7,7,"Chris Wood","Performance Cycles","00:22:47",null,null,null,{"$f":"IF(COUNTIF(#REF!,'Results 2014'!C302)>COUNTIF(Points!$C$10:$C$86,'Results 2014'!C302),\"Not on Comps\",\"\")","v":{"$error":"#REF!"}}]
[8,8,"Joe Schvartz","Swindon RC","00:22:49",null,null,null,{"$f":"IF(COUNTIF(#REF!,'Results 2014'!C303)>COUNTIF(Points!$C$10:$C$86,'Results 2014'!C303),\"Not on Comps\",\"\")","v":{"$error":"#REF!"}}]
[9,9,"Gary Smith","Ride 24/7","00:23:03",null,null,null,{"$f":"IF(COUNTIF(#REF!,'Results 2014'!C304)>COUNTIF(Points!$C$10:$C$86,'Results 2014'!C304),\"Not on Comps\",\"\")","v":{"$error":"#REF!"}}]
[10,10,"Andy Claxton","Swindon RC","00:23:08",null,null,null,{"$f":"IF(COUNTIF(#REF!,'Results 2014'!C305)>COUNTIF(Points!$C$10:$C$86,'Results 2014'!C305),\"Not on Comps\",\"\")","v":{"$error":"#REF!"}}]
[11,11,"Richard Cooper","Swindon RC","00:23:30",null,null,null,{"$f":"IF(COUNTIF(#REF!,'Results 2014'!C306)>COUNTIF(Points!$C$10:$C$86,'Results 2014'!C306),\"Not on Comps\",\"\")","v":{"$error":"#REF!"}}]
[12,12,"Darrell Russell","Winchcombe","00:23:41",null,null,null,{"$f":"IF(COUNTIF(#REF!,'Results 2014'!C307)>COUNTIF(Points!$C$10:$C$86,'Results 2014'!C307),\"Not on Comps\",\"\")","v":{"$error":"#REF!"}}]
[13,13,"Nick Lowe","Cotswold Veldrijden","00:23:53",null,null,null,{"$f":"IF(COUNTIF(#REF!,'Results 2014'!C308)>COUNTIF(Points!$C$10:$C$86,'Results 2014'!C308),\"Not on Comps\",\"\")","v":{"$error":"#REF!"}}]
[14,"=","Chris Broad-Drake","Swindon RC","00:23:53",null,null,null,{"$f":"IF(COUNTIF(#REF!,'Results 2014'!C309)>COUNTIF(Points!$C$10:$C$86,'Results 2014'!C309),\"Not on Comps\",\"\")","v":{"$error":"#REF!"}}]
[15,15,"Rob Merrison","Swindon RC","00:24:24",null,null,null,{"$f":"IF(COUNTIF(#REF!,'Results 2014'!C310)>COUNTIF(Points!$C$10:$C$86,'Results 2014'!C310),\"Not on Comps\",\"\")","v":{"$error":"#REF!"}}]
[16,16,"Mick Sharratt","Cadence","00:24:29",null,null,null,{"$f":"IF(COUNTIF(#REF!,'Results 2014'!C311)>COUNTIF(Points!$C$10:$C$86,'Results 2014'!C311),\"Not on Comps\",\"\")","v":{"$error":"#REF!"}}]
[17,17,"Dave Gibson","Swindon RC","00:24:36",null,null,null,{"$f":"IF(COUNTIF(#REF!,'Results 2014'!C312)>COUNTIF(Points!$C$10:$C$86,'Results 2014'!C312),\"Not on Comps\",\"\")","v":{"$error":"#REF!"}}]
[18,18,"Mitch Evans","Ride 24/7","00:24:40",null,null,null,{"$f":"IF(COUNTIF(#REF!,'Results 2014'!C313)>COUNTIF(Points!$C$10:$C$86,'Results 2014'!C313),\"Not on Comps\",\"\")","v":{"$error":"#REF!"}}]
[19,19,"Matt Hodgson","Corinium CC","00:24:43",null,null,null,{"$f":"IF(COUNTIF(#REF!,'Results 2014'!C314)>COUNTIF(Points!$C$10:$C$86,'Results 2014'!C314),\"Not on Comps\",\"\")","v":{"$error":"#REF!"}}]
[20,20,"Marc Allen","Swindon RC","00:24:44",null,null,null,{"$f":"IF(COUNTIF(#REF!,'Results 2014'!C315)>COUNTIF(Points!$C$10:$C$86,'Results 2014'!C315),\"Not on Comps\",\"\")","v":{"$error":"#REF!"}}]
[21,21,"Mark Foyn","Corinium CC","00:24:55",null,null,null,{"$f":"IF(COUNTIF(#REF!,'Results 2014'!C316)>COUNTIF(Points!$C$10:$C$86,'Results 2014'!C316),\"Not on Comps\",\"\")","v":{"$error":"#REF!"}}]
[22,22,"Jim Curry","Performance Cycles","00:24:57",null,null,null,{"$f":"IF(COUNTIF(#REF!,'Results 2014'!C317)>COUNTIF(Points!$C$10:$C$86,'Results 2014'!C317),\"Not on Comps\",\"\")","v":{"$error":"#REF!"}}]
[23,23,"Keith Waller","Swindon RC","00:25:25",null,null,null,{"$f":"IF(COUNTIF(#REF!,'Results 2014'!C318)>COUNTIF(Points!$C$10:$C$86,'Results 2014'!C318),\"Not on Comps\",\"\")","v":{"$error":"#REF!"}}]
[24,24,"Carl Bennett","Performance Cycles","00:25:28",null,null,null,{"$f":"IF(COUNTIF(#REF!,'Results 2014'!C319)>COUNTIF(Points!$C$10:$C$86,'Results 2014'!C319),\"Not on Comps\",\"\")","v":{"$error":"#REF!"}}]
[25,25,"Tom Sewell","Cotswold Veldrijden","00:25:37",null,null,null,{"$f":"IF(COUNTIF(#REF!,'Results 2014'!C320)>COUNTIF(Points!$C$10:$C$86,'Results 2014'!C320),\"Not on Comps\",\"\")","v":{"$error":"#REF!"}}]
[26,26,"Harriet Guest","Performance Cycles","00:25:49",null,null,null,{"$f":"IF(COUNTIF(#REF!,'Results 2014'!C321)>COUNTIF(Points!$C$10:$C$86,'Results 2014'!C321),\"Not on Comps\",\"\")","v":{"$error":"#REF!"}}]
[27,27,"Gerry Peppin","Corinium CC","00:25:57",null,null,null,{"$f":"IF(COUNTIF(#REF!,'Results 2014'!C322)>COUNTIF(Points!$C$10:$C$86,'Results 2014'!C322),\"Not on Comps\",\"\")","v":{"$error":"#REF!"}}]
[28,28,"Jeff Smith","Swindon RC","00:25:58",null,null,null,{"$f":"IF(COUNTIF(#REF!,'Results 2014'!C323)>COUNTIF(Points!$C$10:$C$86,'Results 2014'!C323),\"Not on Comps\",\"\")","v":{"$error":"#REF!"}}]
[29,29,"Liam Guest","Performance Cycles","00:25:59",null,null,null,{"$f":"IF(COUNTIF(#REF!,'Results 2014'!C324)>COUNTIF(Points!$C$10:$C$86,'Results 2014'!C324),\"Not on Comps\",\"\")","v":{"$error":"#REF!"}}]
[30,30,"Paul Fuchs","Corinium CC","00:26:28",null,null,null,{"$f":"IF(COUNTIF(#REF!,'Results 2014'!C325)>COUNTIF(Points!$C$10:$C$86,'Results 2014'!C325),\"Not on Comps\",\"\")","v":{"$error":"#REF!"}}]
[31,31,"Stephen Chapman","Corinium CC","00:26:37",null,null,null,{"$f":"IF(COUNTIF(#REF!,'Results 2014'!C326)>COUNTIF(Points!$C$10:$C$86,'Results 2014'!C326),\"Not on Comps\",\"\")","v":{"$error":"#REF!"}}]
[32,32,"Daniel Darby","Swindon RC","00:27:07",null,null,null,{"$f":"IF(COUNTIF(#REF!,'Results 2014'!C327)>COUNTIF(Points!$C$10:$C$86,'Results 2014'!C327),\"Not on Comps\",\"\")","v":{"$error":"#REF!"}}]
[33,33,"Alex Foyn","Corinium CC","00:27:14",null,null,null,{"$f":"IF(COUNTIF(#REF!,'Results 2014'!C328)>COUNTIF(Points!$C$10:$C$86,'Results 2014'!C328),\"Not on Comps\",\"\")","v":{"$error":"#REF!"}}]
[34,34,"Paul Adams","Swindon RC","00:27:28",null,null,null,{"$f":"IF(COUNTIF(#REF!,'Results 2014'!C329)>COUNTIF(Points!$C$10:$C$86,'Results 2014'!C329),\"Not on Comps\",\"\")","v":{"$error":"#REF!"}}]
[35,35,"Nick Kent","Dame Cycling","00:27:37",null,null,null,{"$f":"IF(COUNTIF(#REF!,'Results 2014'!C330)>COUNTIF(Points!$C$10:$C$86,'Results 2014'!C330),\"Not on Comps\",\"\")","v":{"$error":"#REF!"}}]
[36,36,"Allan Norwood","Corinium CC","00:27:44",null,null,null,{"$f":"IF(COUNTIF(#REF!,'Results 2014'!C331)>COUNTIF(Points!$C$10:$C$86,'Results 2014'!C331),\"Not on Comps\",\"\")","v":{"$error":"#REF!"}}]
[37,37,"Rob Compton","Performance Cycles","00:27:45",null,null,null,{"$f":"IF(COUNTIF(#REF!,'Results 2014'!C332)>COUNTIF(Points!$C$10:$C$86,'Results 2014'!C332),\"Not on Comps\",\"\")","v":{"$error":"#REF!"}}]
[38,38,"Stuart Longhurst","Swindon RC","00:27:48",null,null,null,{"$f":"IF(COUNTIF(#REF!,'Results 2014'!C333)>COUNTIF(Points!$C$10:$C$86,'Results 2014'!C333),\"Not on Comps\",\"\")","v":{"$error":"#REF!"}}]
[39,39,"Becky Brown","Dame Cycling","00:29:37",null,null,null,{"$f":"IF(COUNTIF(#REF!,'Results 2014'!C334)>COUNTIF(Points!$C$10:$C$86,'Results 2014'!C334),\"Not on Comps\",\"\")","v":{"$error":"#REF!"}}]
[40,40,"Keith Williams","Oxford CC","00:30:03",null,null,null,{"$f":"IF(COUNTIF(#REF!,'Results 2014'!C335)>COUNTIF(Points!$C$10:$C$86,'Results 2014'!C335),\"Not on Comps\",\"\")","v":{"$error":"#REF!"}}]
[41,41,"Marguerite Miatt","Corinium CC","00:30:08",null,null,null,{"$f":"IF(COUNTIF(#REF!,'Results 2014'!C336)>COUNTIF(Points!$C$10:$C$86,'Results 2014'!C336),\"Not on Comps\",\"\")","v":{"$error":"#REF!"}}]
[42,42,"Carmen Young","Dame Cycling","00:30:32",null,null,null,{"$f":"IF(COUNTIF(#REF!,'Results 2014'!C337)>COUNTIF(Points!$C$10:$C$86,'Results 2014'!C337),\"Not on Comps\",\"\")","v":{"$error":"#REF!"}}]
[43,43,"Dave Miatt","Corinium CC","00:30:55",null,null,null,{"$f":"IF(COUNTIF(#REF!,'Results 2014'!C338)>COUNTIF(Points!$C$10:$C$86,'Results 2014'!C338),\"Not on Comps\",\"\")","v":{"$error":"#REF!"}}]
[44,44,"Sam Hackett","Dame Cycling","00:31:14",null,null,null,{"$f":"IF(COUNTIF(#REF!,'Results 2014'!C339)>COUNTIF(Points!$C$10:$C$86,'Results 2014'!C339),\"Not on Comps\",\"\")","v":{"$error":"#REF!"}}]
[45,45,"Liam Sewell","Cotswold Veldrijden","00:31:39",null,null,null,{"$f":"IF(COUNTIF(#REF!,'Results 2014'!C340)>COUNTIF(Points!$C$10:$C$86,'Results 2014'!C340),\"Not on Comps\",\"\")","v":{"$error":"#REF!"}}]
[46,46,"Kelli Salone","Dame Cycling","00:31:47",null,null,null,{"$f":"IF(COUNTIF(#REF!,'Results 2014'!C341)>COUNTIF(Points!$C$10:$C$86,'Results 2014'!C341),\"Not on Comps\",\"\")","v":{"$error":"#REF!"}}]
[47,47,"Noel MacKenzie","Corinium CC","00:32:24",null,null,null,{"$f":"IF(COUNTIF(#REF!,'Results 2014'!C342)>COUNTIF(Points!$C$10:$C$86,'Results 2014'!C342),\"Not on Comps\",\"\")","v":{"$error":"#REF!"}}]
[48,48,"Carol Clarke","Corinium CC","00:32:59",null,null,null,{"$f":"IF(COUNTIF(#REF!,'Results 2014'!C343)>COUNTIF(Points!$C$10:$C$86,'Results 2014'!C343),\"Not on Comps\",\"\")","v":{"$error":"#REF!"}}]
[49,49,"Jean Kent","Dame Cycling","00:34:02",null,null,null,{"$f":"IF(COUNTIF(#REF!,'Results 2014'!C344)>COUNTIF(Points!$C$10:$C$86,'Results 2014'!C344),\"Not on Comps\",\"\")","v":{"$error":"#REF!"}}]
[null,null,"2014-05-29",null,null,null,null,null,{"$f":"IF(COUNTIF(#REF!,'Results 2014'!C345)>COUNTIF(Points!$C$10:$C$86,'Results 2014'!C345),\"Not on Comps\",\"\")","v":{"$error":"#REF!"}}]
[1,1,"Peter Garnett","Swindon RC","00:22:17",null,null,null,{"$f":"IF(COUNTIF(#REF!,'Results 2014'!C346)>COUNTIF(Points!$C$10:$C$86,'Results 2014'!C346),\"Not on Comps\",\"\")","v":{"$error":"#REF!"}}]
[2,{"$f":"IF(E347=E346,\"=\",A347)","v":2},"Tony Costello","Corinium CC","00:22:22",null,null,null,{"$f":"IF(COUNTIF(#REF!,'Results 2014'!C347)>COUNTIF(Points!$C$10:$C$86,'Results 2014'!C347),\"Not on Comps\",\"\")","v":{"$error":"#REF!"}}]
[3,{"$f":"IF(E348=E347,\"=\",A348)","v":3},"Steve Yates","Corinium CC","00:22:44",null,null,null,{"$f":"IF(COUNTIF(#REF!,'Results 2014'!C348)>COUNTIF(Points!$C$10:$C$86,'Results 2014'!C348),\"Not on Comps\",\"\")","v":{"$error":"#REF!"}}]
[4,{"$f":"IF(E349=E348,\"=\",A349)","v":4},"Mark Woolford","Chippenham Wheelers","00:22:46",null,null,null,{"$f":"IF(COUNTIF(#REF!,'Results 2014'!C349)>COUNTIF(Points!$C$10:$C$86,'Results 2014'!C349),\"Not on Comps\",\"\")","v":{"$error":"#REF!"}}]
[5,5,"Joe Schvartz","Swindon RC","00:23:00",null,null,null,{"$f":"IF(COUNTIF(#REF!,'Results 2014'!C350)>COUNTIF(Points!$C$10:$C$86,'Results 2014'!C350),\"Not on Comps\",\"\")","v":{"$error":"#REF!"}}]
[6,6,"Chris Beardshaw (2 up)","Performance Cycles","00:23:03",null,null,null,{"$f":"IF(COUNTIF(#REF!,'Results 2014'!C351)>COUNTIF(Points!$C$10:$C$86,'Results 2014'!C351),\"Not on Comps\",\"\")","v":{"$error":"#REF!"}}]
[7,7,"Gary Smith","Ride 24/7","00:23:18",null,null,null,{"$f":"IF(COUNTIF(#REF!,'Results 2014'!C352)>COUNTIF(Points!$C$10:$C$86,'Results 2014'!C352),\"Not on Comps\",\"\")","v":{"$error":"#REF!"}}]
[8,8,"Mitch Evans","Ride 24/7","00:23:28",null,null,null,{"$f":"IF(COUNTIF(#REF!,'Results 2014'!C353)>COUNTIF(Points!$C$10:$C$86,'Results 2014'!C353),\"Not on Comps\",\"\")","v":{"$error":"#REF!"}}]
[9,9,"Chris Broad-Drake","Swindon RC","00:23:50",null,null,null,{"$f":"IF(COUNTIF(#REF!,'Results 2014'!C354)>COUNTIF(Points!$C$10:$C$86,'Results 2014'!C354),\"Not on Comps\",\"\")","v":{"$error":"#REF!"}}]
[10,10,"Carl Bennett","Performance Cycles","00:24:14",null,null,null,{"$f":"IF(COUNTIF(#REF!,'Results 2014'!C355)>COUNTIF(Points!$C$10:$C$86,'Results 2014'!C355),\"Not on Comps\",\"\")","v":{"$error":"#REF!"}}]
[11,11,"Nick Lowe","Cotswold Veldrijden","00:24:18",null,null,null,{"$f":"IF(COUNTIF(#REF!,'Results 2014'!C356)>COUNTIF(Points!$C$10:$C$86,'Results 2014'!C356),\"Not on Comps\",\"\")","v":{"$error":"#REF!"}}]
[12,12,"Mick Sharratt","Cadence","00:24:26",null,null,null,{"$f":"IF(COUNTIF(#REF!,'Results 2014'!C357)>COUNTIF(Points!$C$10:$C$86,'Results 2014'!C357),\"Not on Comps\",\"\")","v":{"$error":"#REF!"}}]
[13,13,"Marc Allen","Swindon RC","00:24:41",null,null,null,{"$f":"IF(COUNTIF(#REF!,'Results 2014'!C358)>COUNTIF(Points!$C$10:$C$86,'Results 2014'!C358),\"Not on Comps\",\"\")","v":{"$error":"#REF!"}}]
[14,14,"Jim Curry","Performance Cycles","00:24:50",null,null,null,{"$f":"IF(COUNTIF(#REF!,'Results 2014'!C359)>COUNTIF(Points!$C$10:$C$86,'Results 2014'!C359),\"Not on Comps\",\"\")","v":{"$error":"#REF!"}}]
[15,15,"Richard Woods","Corinium CC","00:25:39",null,null,null,{"$f":"IF(COUNTIF(#REF!,'Results 2014'!C360)>COUNTIF(Points!$C$10:$C$86,'Results 2014'!C360),\"Not on Comps\",\"\")","v":{"$error":"#REF!"}}]
[16,16,"Sarah Gunn","Corinium CC","00:25:40",null,null,null,{"$f":"IF(COUNTIF(#REF!,'Results 2014'!C361)>COUNTIF(Points!$C$10:$C$86,'Results 2014'!C361),\"Not on Comps\",\"\")","v":{"$error":"#REF!"}}]
[17,17,"Gerry Peppin","Corinium CC","00:26:02",null,null,null,{"$f":"IF(COUNTIF(#REF!,'Results 2014'!C362)>COUNTIF(Points!$C$10:$C$86,'Results 2014'!C362),\"Not on Comps\",\"\")","v":{"$error":"#REF!"}}]
[18,"=","Liam Guest","Performance Cycles","00:26:02",null,null,null,{"$f":"IF(COUNTIF(#REF!,'Results 2014'!C363)>COUNTIF(Points!$C$10:$C$86,'Results 2014'!C363),\"Not on Comps\",\"\")","v":{"$error":"#REF!"}}]
[19,19,"Adriano dos Santos","Swindon RC","00:26:08",null,null,null,{"$f":"IF(COUNTIF(#REF!,'Results 2014'!C364)>COUNTIF(Points!$C$10:$C$86,'Results 2014'!C364),\"Not on Comps\",\"\")","v":{"$error":"#REF!"}}]
[20,20,"Rob Patterson","Swindon RC","00:26:18",null,null,null,{"$f":"IF(COUNTIF(#REF!,'Results 2014'!C365)>COUNTIF(Points!$C$10:$C$86,'Results 2014'!C365),\"Not on Comps\",\"\")","v":{"$error":"#REF!"}}]
[21,21,"Jeff Smith","Swindon RC","00:26:22",null,null,null,{"$f":"IF(COUNTIF(#REF!,'Results 2014'!C366)>COUNTIF(Points!$C$10:$C$86,'Results 2014'!C366),\"Not on Comps\",\"\")","v":{"$error":"#REF!"}}]
[22,22,"Alex Foyn","Corinium CC","00:26:39",null,null,null,{"$f":"IF(COUNTIF(#REF!,'Results 2014'!C367)>COUNTIF(Points!$C$10:$C$86,'Results 2014'!C367),\"Not on Comps\",\"\")","v":{"$error":"#REF!"}}]
[23,23,"Stephen Chapman","Corinium CC","00:27:07",null,null,null,{"$f":"IF(COUNTIF(#REF!,'Results 2014'!C368)>COUNTIF(Points!$C$10:$C$86,'Results 2014'!C368),\"Not on Comps\",\"\")","v":{"$error":"#REF!"}}]
[24,24,"Paul Adams","Swindon RC","00:27:22",null,null,null,{"$f":"IF(COUNTIF(#REF!,'Results 2014'!C369)>COUNTIF(Points!$C$10:$C$86,'Results 2014'!C369),\"Not on Comps\",\"\")","v":{"$error":"#REF!"}}]
[25,25,"Stuart Longhurst","Swindon RC","00:27:28",null,null,null,{"$f":"IF(COUNTIF(#REF!,'Results 2014'!C370)>COUNTIF(Points!$C$10:$C$86,'Results 2014'!C370),\"Not on Comps\",\"\")","v":{"$error":"#REF!"}}]
[26,26,"Kieran Golding","Swindon RC","00:27:52",null,null,null,{"$f":"IF(COUNTIF(#REF!,'Results 2014'!C371)>COUNTIF(Points!$C$10:$C$86,'Results 2014'!C371),\"Not on Comps\",\"\")","v":{"$error":"#REF!"}}]
[27,27,"Becky Brown","Dame Cycling","00:30:01",null,null,null,{"$f":"IF(COUNTIF(#REF!,'Results 2014'!C372)>COUNTIF(Points!$C$10:$C$86,'Results 2014'!C372),\"Not on Comps\",\"\")","v":{"$error":"#REF!"}}]
[28,28,"Carmen Young","Dame Cycling","00:30:07",null,null,null,{"$f":"IF(COUNTIF(#REF!,'Results 2014'!C373)>COUNTIF(Points!$C$10:$C$86,'Results 2014'!C373),\"Not on Comps\",\"\")","v":{"$error":"#REF!"}}]
[29,29,"Mandy Scott","Swindon RC","00:30:21",null,null,null,{"$f":"IF(COUNTIF(#REF!,'Results 2014'!C374)>COUNTIF(Points!$C$10:$C$86,'Results 2014'!C374),\"Not on Comps\",\"\")","v":{"$error":"#REF!"}}]
[30,30,"Keith Williams","Oxford CC","00:30:45",null,null,null,{"$f":"IF(COUNTIF(#REF!,'Results 2014'!C375)>COUNTIF(Points!$C$10:$C$86,'Results 2014'!C375),\"Not on Comps\",\"\")","v":{"$error":"#REF!"}}]
[31,31,"Katie Scott","Swindon RC","00:30:59",null,null,null,{"$f":"IF(COUNTIF(#REF!,'Results 2014'!C376)>COUNTIF(Points!$C$10:$C$86,'Results 2014'!C376),\"Not on Comps\",\"\")","v":{"$error":"#REF!"}}]
[32,32,"Kelli Salone","Dame Cycling","00:31:22",null,null,null,{"$f":"IF(COUNTIF(#REF!,'Results 2014'!C377)>COUNTIF(Points!$C$10:$C$86,'Results 2014'!C377),\"Not on Comps\",\"\")","v":{"$error":"#REF!"}}]
[33,33,"Terry Barry","Corinium CC","00:31:24",null,null,null,{"$f":"IF(COUNTIF(#REF!,'Results 2014'!C378)>COUNTIF(Points!$C$10:$C$86,'Results 2014'!C378),\"Not on Comps\",\"\")","v":{"$error":"#REF!"}}]
[34,34,"Amanda Adams","Swindon RC","00:31:48",null,null,null,{"$f":"IF(COUNTIF(#REF!,'Results 2014'!C379)>COUNTIF(Points!$C$10:$C$86,'Results 2014'!C379),\"Not on Comps\",\"\")","v":{"$error":"#REF!"}}]
[35,35,"Laura Chadwick","Dame Cycling","00:32:11",null,null,null,{"$f":"IF(COUNTIF(#REF!,'Results 2014'!C380)>COUNTIF(Points!$C$10:$C$86,'Results 2014'!C380),\"Not on Comps\",\"\")","v":{"$error":"#REF!"}}]
[36,36,"Trevor Hodges","Corinium CC","00:35:27",null,null,null,{"$f":"IF(COUNTIF(#REF!,'Results 2014'!C381)>COUNTIF(Points!$C$10:$C$86,'Results 2014'!C381),\"Not on Comps\",\"\")","v":{"$error":"#REF!"}}]
[37,37,"Mandy Lloyd","Dame Cycling","00:37:13",null,null,null,{"$f":"IF(COUNTIF(#REF!,'Results 2014'!C382)>COUNTIF(Points!$C$10:$C$86,'Results 2014'!C382),\"Not on Comps\",\"\")","v":{"$error":"#REF!"}}]
[38,38,"Anita van Einhorn","Dame Cycling","00:39:03",null,null,null,{"$f":"IF(COUNTIF(#REF!,'Results 2014'!C383)>COUNTIF(Points!$C$10:$C$86,'Results 2014'!C383),\"Not on Comps\",\"\")","v":{"$error":"#REF!"}}]
[null,null,"2014-06-05",null,null,null,null,null,{"$f":"IF(COUNTIF(#REF!,'Results 2014'!C384)>COUNTIF(Points!$C$10:$C$86,'Results 2014'!C384),\"Not on Comps\",\"\")","v":{"$error":"#REF!"}}]
[1,1,"Dan Guest","Performance Cycles","00:20:41",null,null,null,{"$f":"IF(COUNTIF(#REF!,'Results 2014'!C385)>COUNTIF(Points!$C$10:$C$86,'Results 2014'!C385),\"Not on Comps\",\"\")","v":{"$error":"#REF!"}}]
[2,{"$f":"IF(E386=E385,\"=\",A386)","v":2},"Peter Garnett","Swindon RC","00:22:20",null,null,null,{"$f":"IF(COUNTIF(#REF!,'Results 2014'!C386)>COUNTIF(Points!$C$10:$C$86,'Results 2014'!C386),\"Not on Comps\",\"\")","v":{"$error":"#REF!"}}]
[3,{"$f":"IF(E387=E386,\"=\",A387)","v":3},"Steve Yates","Corinium CC","00:22:29",null,null,null,{"$f":"IF(COUNTIF(#REF!,'Results 2014'!C387)>COUNTIF(Points!$C$10:$C$86,'Results 2014'!C387),\"Not on Comps\",\"\")","v":{"$error":"#REF!"}}]
[4,{"$f":"IF(E388=E387,\"=\",A388)","v":4},"David Arthur","Performance Cycles","00:22:47",null,null,null,{"$f":"IF(COUNTIF(#REF!,'Results 2014'!C388)>COUNTIF(Points!$C$10:$C$86,'Results 2014'!C388),\"Not on Comps\",\"\")","v":{"$error":"#REF!"}}]
[5,5,"Andy Claxton","Swindon RC","00:22:57",null,null,null,{"$f":"IF(COUNTIF(#REF!,'Results 2014'!C389)>COUNTIF(Points!$C$10:$C$86,'Results 2014'!C389),\"Not on Comps\",\"\")","v":{"$error":"#REF!"}}]
[6,6,"Joe Schvartz","Swindon RC","00:23:02",null,null,null,{"$f":"IF(COUNTIF(#REF!,'Results 2014'!C390)>COUNTIF(Points!$C$10:$C$86,'Results 2014'!C390),\"Not on Comps\",\"\")","v":{"$error":"#REF!"}}]
[7,7,"Alex King","Performance Cycles","00:23:04",null,null,null,{"$f":"IF(COUNTIF(#REF!,'Results 2014'!C391)>COUNTIF(Points!$C$10:$C$86,'Results 2014'!C391),\"Not on Comps\",\"\")","v":{"$error":"#REF!"}}]
[8,8,"Gary Smith","Ride 24/7","00:23:09",null,null,null,{"$f":"IF(COUNTIF(#REF!,'Results 2014'!C392)>COUNTIF(Points!$C$10:$C$86,'Results 2014'!C392),\"Not on Comps\",\"\")","v":{"$error":"#REF!"}}]
[9,9,"Andy Morgan","Corinium CC","00:23:19",null,null,null,{"$f":"IF(COUNTIF(#REF!,'Results 2014'!C393)>COUNTIF(Points!$C$10:$C$86,'Results 2014'!C393),\"Not on Comps\",\"\")","v":{"$error":"#REF!"}}]
[10,10,"Chris Lowe","Swindon RC","00:23:51",null,null,null,{"$f":"IF(COUNTIF(#REF!,'Results 2014'!C394)>COUNTIF(Points!$C$10:$C$86,'Results 2014'!C394),\"Not on Comps\",\"\")","v":{"$error":"#REF!"}}]
[11,11,"Rob Merrison","Swindon RC","00:24:03",null,null,null,{"$f":"IF(COUNTIF(#REF!,'Results 2014'!C395)>COUNTIF(Points!$C$10:$C$86,'Results 2014'!C395),\"Not on Comps\",\"\")","v":{"$error":"#REF!"}}]
[12,12,"Steve Davies","Swindon RC","00:24:12",null,null,null,{"$f":"IF(COUNTIF(#REF!,'Results 2014'!C396)>COUNTIF(Points!$C$10:$C$86,'Results 2014'!C396),\"Not on Comps\",\"\")","v":{"$error":"#REF!"}}]
[13,13,"Chris Broad-Drake","Swindon RC","00:24:15",null,null,null,{"$f":"IF(COUNTIF(#REF!,'Results 2014'!C397)>COUNTIF(Points!$C$10:$C$86,'Results 2014'!C397),\"Not on Comps\",\"\")","v":{"$error":"#REF!"}}]
[14,14,"Nick Lowe","Cotswold Veldrijden","00:24:17",null,null,null,{"$f":"IF(COUNTIF(#REF!,'Results 2014'!C398)>COUNTIF(Points!$C$10:$C$86,'Results 2014'!C398),\"Not on Comps\",\"\")","v":{"$error":"#REF!"}}]
[15,15,"Mick Sharratt","Cadence","00:24:19",null,null,null,{"$f":"IF(COUNTIF(#REF!,'Results 2014'!C399)>COUNTIF(Points!$C$10:$C$86,'Results 2014'!C399),\"Not on Comps\",\"\")","v":{"$error":"#REF!"}}]
[16,16,"Ed Coxwell-Rogers ","Ride 24/7","00:24:22",null,null,null,{"$f":"IF(COUNTIF(#REF!,'Results 2014'!C400)>COUNTIF(Points!$C$10:$C$86,'Results 2014'!C400),\"Not on Comps\",\"\")","v":{"$error":"#REF!"}}]
[17,17,"Dave Gibson","Swindon RC","00:24:29",null,null,null,{"$f":"IF(COUNTIF(#REF!,'Results 2014'!C401)>COUNTIF(Points!$C$10:$C$86,'Results 2014'!C401),\"Not on Comps\",\"\")","v":{"$error":"#REF!"}}]
[18,18,"John Butterford","Ride 24/7","00:24:33",null,null,null,{"$f":"IF(COUNTIF(#REF!,'Results 2014'!C402)>COUNTIF(Points!$C$10:$C$86,'Results 2014'!C402),\"Not on Comps\",\"\")","v":{"$error":"#REF!"}}]
[19,19,"Mark Foyn","Corinium CC","00:24:36",null,null,null,{"$f":"IF(COUNTIF(#REF!,'Results 2014'!C403)>COUNTIF(Points!$C$10:$C$86,'Results 2014'!C403),\"Not on Comps\",\"\")","v":{"$error":"#REF!"}}]
[20,20,"Marc Allen","Swindon RC","00:24:38",null,null,null,{"$f":"IF(COUNTIF(#REF!,'Results 2014'!C404)>COUNTIF(Points!$C$10:$C$86,'Results 2014'!C404),\"Not on Comps\",\"\")","v":{"$error":"#REF!"}}]
[21,21,"Trevor Hodges","Corinium CC","00:25:09",null,null,null,{"$f":"IF(COUNTIF(#REF!,'Results 2014'!C405)>COUNTIF(Points!$C$10:$C$86,'Results 2014'!C405),\"Not on Comps\",\"\")","v":{"$error":"#REF!"}}]
[22,22,"Jim Curry","Performance Cycles","00:25:17",null,null,null,{"$f":"IF(COUNTIF(#REF!,'Results 2014'!C406)>COUNTIF(Points!$C$10:$C$86,'Results 2014'!C406),\"Not on Comps\",\"\")","v":{"$error":"#REF!"}}]
[23,23,"Corinne Clark","Performance Cycles","00:26:07",null,null,null,{"$f":"IF(COUNTIF(#REF!,'Results 2014'!C407)>COUNTIF(Points!$C$10:$C$86,'Results 2014'!C407),\"Not on Comps\",\"\")","v":{"$error":"#REF!"}}]
[24,24,"Mark Williams","Ride 24/7","00:26:16",null,null,null,{"$f":"IF(COUNTIF(#REF!,'Results 2014'!C408)>COUNTIF(Points!$C$10:$C$86,'Results 2014'!C408),\"Not on Comps\",\"\")","v":{"$error":"#REF!"}}]
[25,25,"Jason Costello","Corinium CC","00:26:27",null,null,null,{"$f":"IF(COUNTIF(#REF!,'Results 2014'!C409)>COUNTIF(Points!$C$10:$C$86,'Results 2014'!C409),\"Not on Comps\",\"\")","v":{"$error":"#REF!"}}]
[26,26,"Alex Foyn","Corinium CC","00:26:30",null,null,null,{"$f":"IF(COUNTIF(#REF!,'Results 2014'!C410)>COUNTIF(Points!$C$10:$C$86,'Results 2014'!C410),\"Not on Comps\",\"\")","v":{"$error":"#REF!"}}]
[27,27,"Paul Fuchs","Corinium CC","00:26:31",null,null,null,{"$f":"IF(COUNTIF(#REF!,'Results 2014'!C411)>COUNTIF(Points!$C$10:$C$86,'Results 2014'!C411),\"Not on Comps\",\"\")","v":{"$error":"#REF!"}}]
[28,28,"Wendy Nicholls","Performance Cycles","00:26:33",null,null,null,{"$f":"IF(COUNTIF(#REF!,'Results 2014'!C412)>COUNTIF(Points!$C$10:$C$86,'Results 2014'!C412),\"Not on Comps\",\"\")","v":{"$error":"#REF!"}}]
[29,29,"Stephen Chapman","Corinium CC","00:26:34",null,null,null,{"$f":"IF(COUNTIF(#REF!,'Results 2014'!C413)>COUNTIF(Points!$C$10:$C$86,'Results 2014'!C413),\"Not on Comps\",\"\")","v":{"$error":"#REF!"}}]
[30,30,"Rob Barry","Performance Cycles","00:26:36",null,null,null,{"$f":"IF(COUNTIF(#REF!,'Results 2014'!C414)>COUNTIF(Points!$C$10:$C$86,'Results 2014'!C414),\"Not on Comps\",\"\")","v":{"$error":"#REF!"}}]
[31,31,"Daniel Darby","Swindon RC","00:26:46",null,null,null,{"$f":"IF(COUNTIF(#REF!,'Results 2014'!C415)>COUNTIF(Points!$C$10:$C$86,'Results 2014'!C415),\"Not on Comps\",\"\")","v":{"$error":"#REF!"}}]
[32,32,"Stuart Longhurst","Swindon RC","00:26:52",null,null,null,{"$f":"IF(COUNTIF(#REF!,'Results 2014'!C416)>COUNTIF(Points!$C$10:$C$86,'Results 2014'!C416),\"Not on Comps\",\"\")","v":{"$error":"#REF!"}}]
[33,33,"Allan Norwood","Corinium CC","00:26:58",null,null,null,{"$f":"IF(COUNTIF(#REF!,'Results 2014'!C417)>COUNTIF(Points!$C$10:$C$86,'Results 2014'!C417),\"Not on Comps\",\"\")","v":{"$error":"#REF!"}}]
[34,34,"Mervyn Cox","Performance Cycles","00:27:20",null,null,null,{"$f":"IF(COUNTIF(#REF!,'Results 2014'!C418)>COUNTIF(Points!$C$10:$C$86,'Results 2014'!C418),\"Not on Comps\",\"\")","v":{"$error":"#REF!"}}]
[35,35,"Alex Joyner","Corinium CC","00:27:27",null,null,null,{"$f":"IF(COUNTIF(#REF!,'Results 2014'!C419)>COUNTIF(Points!$C$10:$C$86,'Results 2014'!C419),\"Not on Comps\",\"\")","v":{"$error":"#REF!"}}]
[36,36,"Kieran Golding","Swindon RC","00:27:41",null,null,null,{"$f":"IF(COUNTIF(#REF!,'Results 2014'!C420)>COUNTIF(Points!$C$10:$C$86,'Results 2014'!C420),\"Not on Comps\",\"\")","v":{"$error":"#REF!"}}]
[37,37,"Andrew Telling","Performance Cycles","00:28:12",null,null,null,{"$f":"IF(COUNTIF(#REF!,'Results 2014'!C421)>COUNTIF(Points!$C$10:$C$86,'Results 2014'!C421),\"Not on Comps\",\"\")","v":{"$error":"#REF!"}}]
[38,"=","Becky Heastier","Performance Cycles","00:28:12",null,null,null,{"$f":"IF(COUNTIF(#REF!,'Results 2014'!C422)>COUNTIF(Points!$C$10:$C$86,'Results 2014'!C422),\"Not on Comps\",\"\")","v":{"$error":"#REF!"}}]
[39,39,"Sam Hackett","Dame Cycling","00:28:35",null,null,null,{"$f":"IF(COUNTIF(#REF!,'Results 2014'!C423)>COUNTIF(Points!$C$10:$C$86,'Results 2014'!C423),\"Not on Comps\",\"\")","v":{"$error":"#REF!"}}]
[40,40,"Keith Williams","Oxford CC","00:29:25",null,null,null,{"$f":"IF(COUNTIF(#REF!,'Results 2014'!C424)>COUNTIF(Points!$C$10:$C$86,'Results 2014'!C424),\"Not on Comps\",\"\")","v":{"$error":"#REF!"}}]
[41,41,"Terry Barry","Corinium CC","00:29:40",null,null,null,{"$f":"IF(COUNTIF(#REF!,'Results 2014'!C425)>COUNTIF(Points!$C$10:$C$86,'Results 2014'!C425),\"Not on Comps\",\"\")","v":{"$error":"#REF!"}}]
[42,42,"Rebecca Young","Dame Cycling","00:29:41",null,null,null,{"$f":"IF(COUNTIF(#REF!,'Results 2014'!C426)>COUNTIF(Points!$C$10:$C$86,'Results 2014'!C426),\"Not on Comps\",\"\")","v":{"$error":"#REF!"}}]
[43,43,"Kelli Salone","Dame Cycling","00:30:05",null,null,null,{"$f":"IF(COUNTIF(#REF!,'Results 2014'!C427)>COUNTIF(Points!$C$10:$C$86,'Results 2014'!C427),\"Not on Comps\",\"\")","v":{"$error":"#REF!"}}]
[44,44,"Carmen Young","Dame Cycling","00:30:08",null,null,null,{"$f":"IF(COUNTIF(#REF!,'Results 2014'!C428)>COUNTIF(Points!$C$10:$C$86,'Results 2014'!C428),\"Not on Comps\",\"\")","v":{"$error":"#REF!"}}]
[45,45,"Denis Hedges","Corinium CC","00:31:48",null,null,null,{"$f":"IF(COUNTIF(#REF!,'Results 2014'!C429)>COUNTIF(Points!$C$10:$C$86,'Results 2014'!C429),\"Not on Comps\",\"\")","v":{"$error":"#REF!"}}]
[46,46,"Mandy Lloyd","Dame Cycling","00:32:34",null,null,null,{"$f":"IF(COUNTIF(#REF!,'Results 2014'!C430)>COUNTIF(Points!$C$10:$C$86,'Results 2014'!C430),\"Not on Comps\",\"\")","v":{"$error":"#REF!"}}]
[47,47,"Carol Clarke","Corinium CC","00:32:35",null,null,null,{"$f":"IF(COUNTIF(#REF!,'Results 2014'!C431)>COUNTIF(Points!$C$10:$C$86,'Results 2014'!C431),\"Not on Comps\",\"\")","v":{"$error":"#REF!"}}]
[48,48,"Janette Wright","Dame Cycling","00:32:40",null,null,null,{"$f":"IF(COUNTIF(#REF!,'Results 2014'!C432)>COUNTIF(Points!$C$10:$C$86,'Results 2014'!C432),\"Not on Comps\",\"\")","v":{"$error":"#REF!"}}]
[49,49,"Anita van Einhorn","Dame Cycling","00:33:52",null,null,null,{"$f":"IF(COUNTIF(#REF!,'Results 2014'!C433)>COUNTIF(Points!$C$10:$C$86,'Results 2014'!C433),\"Not on Comps\",\"\")","v":{"$error":"#REF!"}}]
[null,null,"Come & Try It - 12 June 2014  ",null,null,null,null,null,{"$f":"IF(COUNTIF(#REF!,'Results 2014'!C434)>COUNTIF(Points!$C$10:$C$86,'Results 2014'!C434),\"Not on Comps\",\"\")","v":{"$error":"#REF!"}}]
[null,null,"Jeff Smith","Swindon RC","00:25:23",null,null,null,{"$f":"IF(COUNTIF(#REF!,'Results 2014'!C435)>COUNTIF(Points!$C$10:$C$86,'Results 2014'!C435),\"Not on Comps\",\"\")","v":{"$error":"#REF!"}}]
[null,null,"Tim Strong","Ride 24/7","00:25:15",null,null,null,{"$f":"IF(COUNTIF(#REF!,'Results 2014'!C436)>COUNTIF(Points!$C$10:$C$86,'Results 2014'!C436),\"Not on Comps\",\"\")","v":{"$error":"#REF!"}}]
[null,null,"Chris Broad-Drake","Swindon RC","00:23:49",null,null,null,{"$f":"IF(COUNTIF(#REF!,'Results 2014'!C437)>COUNTIF(Points!$C$10:$C$86,'Results 2014'!C437),\"Not on Comps\",\"\")","v":{"$error":"#REF!"}}]
[null,null,"Tony Staples","RNRMCA","00:22:53",null,null,null,{"$f":"IF(COUNTIF(#REF!,'Results 2014'!C438)>COUNTIF(Points!$C$10:$C$86,'Results 2014'!C438),\"Not on Comps\",\"\")","v":{"$error":"#REF!"}}]
[null,null,"Gerry Peppin","Corinium CC","00:26:06",null,null,null,{"$f":"IF(COUNTIF(#REF!,'Results 2014'!C439)>COUNTIF(Points!$C$10:$C$86,'Results 2014'!C439),\"Not on Comps\",\"\")","v":{"$error":"#REF!"}}]
[null,null,"Danny Smith","Swindon RC","00:24:48",null,null,null,{"$f":"IF(COUNTIF(#REF!,'Results 2014'!C440)>COUNTIF(Points!$C$10:$C$86,'Results 2014'!C440),\"Not on Comps\",\"\")","v":{"$error":"#REF!"}}]
[null,null,"Wendy Nicholls","Performance Cycles","00:26:30",null,null,null,{"$f":"IF(COUNTIF(#REF!,'Results 2014'!C441)>COUNTIF(Points!$C$10:$C$86,'Results 2014'!C441),\"Not on Comps\",\"\")","v":{"$error":"#REF!"}}]
[null,null,"Annie Pooler","Corinium CC","00:31:55",null,null,null,{"$f":"IF(COUNTIF(#REF!,'Results 2014'!C442)>COUNTIF(Points!$C$10:$C$86,'Results 2014'!C442),\"Not on Comps\",\"\")","v":{"$error":"#REF!"}}]
[null,null,"James Foster","Performance Cycles","00:27:53",null,null,null,{"$f":"IF(COUNTIF(#REF!,'Results 2014'!C443)>COUNTIF(Points!$C$10:$C$86,'Results 2014'!C443),\"Not on Comps\",\"\")","v":{"$error":"#REF!"}}]
[null,null,"Tim Poole","Performance Cycles","00:24:47",null,null,null,{"$f":"IF(COUNTIF(#REF!,'Results 2014'!C444)>COUNTIF(Points!$C$10:$C$86,'Results 2014'!C444),\"Not on Comps\",\"\")","v":{"$error":"#REF!"}}]
[null,null,"Adrian Williams","Ride 24/7","00:22:14",null,null,null,{"$f":"IF(COUNTIF(#REF!,'Results 2014'!C445)>COUNTIF(Points!$C$10:$C$86,'Results 2014'!C445),\"Not on Comps\",\"\")","v":{"$error":"#REF!"}}]
[null,null,"Ollie Leivers",null,"00:28:57",null,null,null,{"$f":"IF(COUNTIF(#REF!,'Results 2014'!C446)>COUNTIF(Points!$C$10:$C$86,'Results 2014'!C446),\"Not on Comps\",\"\")","v":{"$error":"#REF!"}}]
[null,null,"Mike Brien",null,"00:27:07",null,null,null,{"$f":"IF(COUNTIF(#REF!,'Results 2014'!C447)>COUNTIF(Points!$C$10:$C$86,'Results 2014'!C447),\"Not on Comps\",\"\")","v":{"$error":"#REF!"}}]
[null,null,"Rob Merrison","Swindon RC","00:23:25",null,null,null,{"$f":"IF(COUNTIF(#REF!,'Results 2014'!C448)>COUNTIF(Points!$C$10:$C$86,'Results 2014'!C448),\"Not on Comps\",\"\")","v":{"$error":"#REF!"}}]
[null,null,"Laura Chadwick","Dame Cycling","00:31:59",null,null,null,{"$f":"IF(COUNTIF(#REF!,'Results 2014'!C449)>COUNTIF(Points!$C$10:$C$86,'Results 2014'!C449),\"Not on Comps\",\"\")","v":{"$error":"#REF!"}}]
[null,null,"Keith Waller","Swindon RC","00:24:59",null,null,null,{"$f":"IF(COUNTIF(#REF!,'Results 2014'!C450)>COUNTIF(Points!$C$10:$C$86,'Results 2014'!C450),\"Not on Comps\",\"\")","v":{"$error":"#REF!"}}]
[null,null,"Denis Hedges","Corinium CC","00:29:25",null,null,null,{"$f":"IF(COUNTIF(#REF!,'Results 2014'!C451)>COUNTIF(Points!$C$10:$C$86,'Results 2014'!C451),\"Not on Comps\",\"\")","v":{"$error":"#REF!"}}]
[null,null,"Carl Bennett","Performance Cycles","00:23:50",null,null,null,{"$f":"IF(COUNTIF(#REF!,'Results 2014'!C452)>COUNTIF(Points!$C$10:$C$86,'Results 2014'!C452),\"Not on Comps\",\"\")","v":{"$error":"#REF!"}}]
[null,null,"Mitch Evans","Ride 24/7","00:23:16",null,null,null,{"$f":"IF(COUNTIF(#REF!,'Results 2014'!C453)>COUNTIF(Points!$C$10:$C$86,'Results 2014'!C453),\"Not on Comps\",\"\")","v":{"$error":"#REF!"}}]
[null,null,"Corinne Clark","Performance Cycles","00:25:47",null,null,null,{"$f":"IF(COUNTIF(#REF!,'Results 2014'!C454)>COUNTIF(Points!$C$10:$C$86,'Results 2014'!C454),\"Not on Comps\",\"\")","v":{"$error":"#REF!"}}]
[null,null,"Gary Smith","Ride 24/7","00:22:49",null,null,null,{"$f":"IF(COUNTIF(#REF!,'Results 2014'!C455)>COUNTIF(Points!$C$10:$C$86,'Results 2014'!C455),\"Not on Comps\",\"\")","v":{"$error":"#REF!"}}]
[null,null,"Andy Claxton","Swindon RC","00:23:10",null,null,null,{"$f":"IF(COUNTIF(#REF!,'Results 2014'!C456)>COUNTIF(Points!$C$10:$C$86,'Results 2014'!C456),\"Not on Comps\",\"\")","v":{"$error":"#REF!"}}]
[null,null,"Carol Clarke","Corinium CC","00:31:24",null,null,null,{"$f":"IF(COUNTIF(#REF!,'Results 2014'!C457)>COUNTIF(Points!$C$10:$C$86,'Results 2014'!C457),\"Not on Comps\",\"\")","v":{"$error":"#REF!"}}]
[null,null,"Sarah Gunn","Corinium CC","00:25:01",null,null,null,{"$f":"IF(COUNTIF(#REF!,'Results 2014'!C458)>COUNTIF(Points!$C$10:$C$86,'Results 2014'!C458),\"Not on Comps\",\"\")","v":{"$error":"#REF!"}}]
[null,null,"Tom Longland","Swindon RC","00:24:28",null,null,null,{"$f":"IF(COUNTIF(#REF!,'Results 2014'!C459)>COUNTIF(Points!$C$10:$C$86,'Results 2014'!C459),\"Not on Comps\",\"\")","v":{"$error":"#REF!"}}]
[null,null,"Jason Costello","Corinium CC","00:25:34",null,null,null,{"$f":"IF(COUNTIF(#REF!,'Results 2014'!C460)>COUNTIF(Points!$C$10:$C$86,'Results 2014'!C460),\"Not on Comps\",\"\")","v":{"$error":"#REF!"}}]
[null,null,"Daniel Darby","Swindon RC","00:26:31",null,null,null,{"$f":"IF(COUNTIF(#REF!,'Results 2014'!C461)>COUNTIF(Points!$C$10:$C$86,'Results 2014'!C461),\"Not on Comps\",\"\")","v":{"$error":"#REF!"}}]
[null,null,"Ed Coxwell-Rogers ","Ride 24/7","00:23:58",null,null,null,{"$f":"IF(COUNTIF(#REF!,'Results 2014'!C462)>COUNTIF(Points!$C$10:$C$86,'Results 2014'!C462),\"Not on Comps\",\"\")","v":{"$error":"#REF!"}}]
[null,null,"Tony Costello","Corinium CC","00:21:44",null,null,null,{"$f":"IF(COUNTIF(#REF!,'Results 2014'!C463)>COUNTIF(Points!$C$10:$C$86,'Results 2014'!C463),\"Not on Comps\",\"\")","v":{"$error":"#REF!"}}]
[null,null,"Andy Morgan","Corinium CC","00:22:57",null,null,null,{"$f":"IF(COUNTIF(#REF!,'Results 2014'!C464)>COUNTIF(Points!$C$10:$C$86,'Results 2014'!C464),\"Not on Comps\",\"\")","v":{"$error":"#REF!"}}]
[null,null,"Paul Fuchs","Corinium CC","00:25:56",null,null,null,{"$f":"IF(COUNTIF(#REF!,'Results 2014'!C465)>COUNTIF(Points!$C$10:$C$86,'Results 2014'!C465),\"Not on Comps\",\"\")","v":{"$error":"#REF!"}}]
[null,null,"Steve Davies","Swindon RC","00:24:12",null,null,null,{"$f":"IF(COUNTIF(#REF!,'Results 2014'!C466)>COUNTIF(Points!$C$10:$C$86,'Results 2014'!C466),\"Not on Comps\",\"\")","v":{"$error":"#REF!"}}]
[null,null,"Jon Bayliss","Performance Cycles","00:26:19",null,null,null,{"$f":"IF(COUNTIF(#REF!,'Results 2014'!C467)>COUNTIF(Points!$C$10:$C$86,'Results 2014'!C467),\"Not on Comps\",\"\")","v":{"$error":"#REF!"}}]
[null,null,"Marguerite Miatt","Corinium CC","00:30:06",null,null,null,{"$f":"IF(COUNTIF(#REF!,'Results 2014'!C468)>COUNTIF(Points!$C$10:$C$86,'Results 2014'!C468),\"Not on Comps\",\"\")","v":{"$error":"#REF!"}}]
[null,null,"Mandy Scott","Swindon RC","00:35:19",null,null,null,{"$f":"IF(COUNTIF(#REF!,'Results 2014'!C469)>COUNTIF(Points!$C$10:$C$86,'Results 2014'!C469),\"Not on Comps\",\"\")","v":{"$error":"#REF!"}}]
[null,null,"Anitia van Einhooun","Dame Cycling","00:36:21",null,null,null,{"$f":"IF(COUNTIF(#REF!,'Results 2014'!C470)>COUNTIF(Points!$C$10:$C$86,'Results 2014'!C470),\"Not on Comps\",\"\")","v":{"$error":"#REF!"}}]
[null,null,"Kelli Salone","Dame Cycling","00:29:16",null,null,null,{"$f":"IF(COUNTIF(#REF!,'Results 2014'!C471)>COUNTIF(Points!$C$10:$C$86,'Results 2014'!C471),\"Not on Comps\",\"\")","v":{"$error":"#REF!"}}]
[null,null,"Becky Brown","Dame Cycling","00:29:18",null,null,null,{"$f":"IF(COUNTIF(#REF!,'Results 2014'!C472)>COUNTIF(Points!$C$10:$C$86,'Results 2014'!C472),\"Not on Comps\",\"\")","v":{"$error":"#REF!"}}]
[null,null,"Trevor Hodges","Corinium CC","00:24:30",null,null,null,{"$f":"IF(COUNTIF(#REF!,'Results 2014'!C473)>COUNTIF(Points!$C$10:$C$86,'Results 2014'!C473),\"Not on Comps\",\"\")","v":{"$error":"#REF!"}}]
[null,null,"Mervyn Cox","Performance Cycles","00:27:12",null,null,null,{"$f":"IF(COUNTIF(#REF!,'Results 2014'!C474)>COUNTIF(Points!$C$10:$C$86,'Results 2014'!C474),\"Not on Comps\",\"\")","v":{"$error":"#REF!"}}]
[null,null,"Ross Gregory","Corinium CC","00:32:28",null,null,null,{"$f":"IF(COUNTIF(#REF!,'Results 2014'!C475)>COUNTIF(Points!$C$10:$C$86,'Results 2014'!C475),\"Not on Comps\",\"\")","v":{"$error":"#REF!"}}]
[null,null,"Leanne Rogers","Ride 24/7","00:26:48",null,null,null,{"$f":"IF(COUNTIF(#REF!,'Results 2014'!C476)>COUNTIF(Points!$C$10:$C$86,'Results 2014'!C476),\"Not on Comps\",\"\")","v":{"$error":"#REF!"}}]
[null,null,"Niel Dunnage","Swindon RC","00:22:03",null,null,null,{"$f":"IF(COUNTIF(#REF!,'Results 2014'!C477)>COUNTIF(Points!$C$10:$C$86,'Results 2014'!C477),\"Not on Comps\",\"\")","v":{"$error":"#REF!"}}]
[null,null,"Allan Norwood","Corinium CC","00:26:59",null,null,null,{"$f":"IF(COUNTIF(#REF!,'Results 2014'!C478)>COUNTIF(Points!$C$10:$C$86,'Results 2014'!C478),\"Not on Comps\",\"\")","v":{"$error":"#REF!"}}]
[null,null,"Mark Woolford","Chippenham Wheelers","00:22:55",null,null,null,{"$f":"IF(COUNTIF(#REF!,'Results 2014'!C479)>COUNTIF(Points!$C$10:$C$86,'Results 2014'!C479),\"Not on Comps\",\"\")","v":{"$error":"#REF!"}}]
[null,null,"Steve Derrick",null,"00:28:02",null,null,null,{"$f":"IF(COUNTIF(#REF!,'Results 2014'!C480)>COUNTIF(Points!$C$10:$C$86,'Results 2014'!C480),\"Not on Comps\",\"\")","v":{"$error":"#REF!"}}]
[null,null,"Terry Barry","Corinium CC","00:29:43",null,null,null,{"$f":"IF(COUNTIF(#REF!,'Results 2014'!C481)>COUNTIF(Points!$C$10:$C$86,'Results 2014'!C481),\"Not on Comps\",\"\")","v":{"$error":"#REF!"}}]
[null,null,"Alex Foyn","Corinium CC","00:26:20",null,null,null,{"$f":"IF(COUNTIF(#REF!,'Results 2014'!C482)>COUNTIF(Points!$C$10:$C$86,'Results 2014'!C482),\"Not on Comps\",\"\")","v":{"$error":"#REF!"}}]
[null,null,"Mark Foyn","Corinium CC","00:25:06",null,null,null,{"$f":"IF(COUNTIF(#REF!,'Results 2014'!C483)>COUNTIF(Points!$C$10:$C$86,'Results 2014'!C483),\"Not on Comps\",\"\")","v":{"$error":"#REF!"}}]
[null,null,"David Potter",null,"00:28:03",null,null,null,{"$f":"IF(COUNTIF(#REF!,'Results 2014'!C484)>COUNTIF(Points!$C$10:$C$86,'Results 2014'!C484),\"Not on Comps\",\"\")","v":{"$error":"#REF!"}}]
[null,null,"Pete Scott","Cotswold Veldrijden","00:23:45",null,null,null,{"$f":"IF(COUNTIF(#REF!,'Results 2014'!C485)>COUNTIF(Points!$C$10:$C$86,'Results 2014'!C485),\"Not on Comps\",\"\")","v":{"$error":"#REF!"}}]
[null,null,"Richard Cooper","Swindon RC","00:23:24",null,null,null,{"$f":"IF(COUNTIF(#REF!,'Results 2014'!C486)>COUNTIF(Points!$C$10:$C$86,'Results 2014'!C486),\"Not on Comps\",\"\")","v":{"$error":"#REF!"}}]
[null,null,"Tim Sheehan",null,"00:31:36",null,null,null,{"$f":"IF(COUNTIF(#REF!,'Results 2014'!C487)>COUNTIF(Points!$C$10:$C$86,'Results 2014'!C487),\"Not on Comps\",\"\")","v":{"$error":"#REF!"}}]
[null,null,"Zoe Sheehan","Cotswold Veldrijden","00:30:37",null,null,null,{"$f":"IF(COUNTIF(#REF!,'Results 2014'!C488)>COUNTIF(Points!$C$10:$C$86,'Results 2014'!C488),\"Not on Comps\",\"\")","v":{"$error":"#REF!"}}]
[null,null,"Pete Hutchinson","Corinium CC","00:22:11",null,null,null,{"$f":"IF(COUNTIF(#REF!,'Results 2014'!C489)>COUNTIF(Points!$C$10:$C$86,'Results 2014'!C489),\"Not on Comps\",\"\")","v":{"$error":"#REF!"}}]
[null,null,"Richard Woods","Corinium CC","00:25:40",null,null,null,{"$f":"IF(COUNTIF(#REF!,'Results 2014'!C490)>COUNTIF(Points!$C$10:$C$86,'Results 2014'!C490),\"Not on Comps\",\"\")","v":{"$error":"#REF!"}}]
[null,null,"Darren Shepherd",null,"00:31:16",null,null,null,{"$f":"IF(COUNTIF(#REF!,'Results 2014'!C491)>COUNTIF(Points!$C$10:$C$86,'Results 2014'!C491),\"Not on Comps\",\"\")","v":{"$error":"#REF!"}}]
[null,null,"Alex King","Performance Cycles","00:22:45",null,null,null,{"$f":"IF(COUNTIF(#REF!,'Results 2014'!C492)>COUNTIF(Points!$C$10:$C$86,'Results 2014'!C492),\"Not on Comps\",\"\")","v":{"$error":"#REF!"}}]
[null,null,"Lisa Ryan","Swindon RC","00:33:53",null,null,null,{"$f":"IF(COUNTIF(#REF!,'Results 2014'!C493)>COUNTIF(Points!$C$10:$C$86,'Results 2014'!C493),\"Not on Comps\",\"\")","v":{"$error":"#REF!"}}]
[null,null,"Richard Ryan","Swindon RC","00:32:20",null,null,null,{"$f":"IF(COUNTIF(#REF!,'Results 2014'!C494)>COUNTIF(Points!$C$10:$C$86,'Results 2014'!C494),\"Not on Comps\",\"\")","v":{"$error":"#REF!"}}]
[null,null,"Robert Ryan","Swindon RC","00:30:29",null,null,null,{"$f":"IF(COUNTIF(#REF!,'Results 2014'!C495)>COUNTIF(Points!$C$10:$C$86,'Results 2014'!C495),\"Not on Comps\",\"\")","v":{"$error":"#REF!"}}]
[null,null,"Paul Ryan","Swindon RC","00:27:31",null,null,null,{"$f":"IF(COUNTIF(#REF!,'Results 2014'!C496)>COUNTIF(Points!$C$10:$C$86,'Results 2014'!C496),\"Not on Comps\",\"\")","v":{"$error":"#REF!"}}]
[null,null,"Sam Cannel",null,"00:33:03",null,null,null,{"$f":"IF(COUNTIF(#REF!,'Results 2014'!C497)>COUNTIF(Points!$C$10:$C$86,'Results 2014'!C497),\"Not on Comps\",\"\")","v":{"$error":"#REF!"}}]
[null,null,"Niall Thornycroft","Zappi's","00:30:16",null,null,null,{"$f":"IF(COUNTIF(#REF!,'Results 2014'!C498)>COUNTIF(Points!$C$10:$C$86,'Results 2014'!C498),\"Not on Comps\",\"\")","v":{"$error":"#REF!"}}]
[null,null,"Conor Thornycroft","Zappi's","00:29:05",null,null,null,{"$f":"IF(COUNTIF(#REF!,'Results 2014'!C499)>COUNTIF(Points!$C$10:$C$86,'Results 2014'!C499),\"Not on Comps\",\"\")","v":{"$error":"#REF!"}}]
[null,null,"Billy Osmond","Ride 24/7","00:22:00",null,null,null,{"$f":"IF(COUNTIF(#REF!,'Results 2014'!C500)>COUNTIF(Points!$C$10:$C$86,'Results 2014'!C500),\"Not on Comps\",\"\")","v":{"$error":"#REF!"}}]
[null,null,"Lisa Lloyd",null,"00:37:07",null,null,null,{"$f":"IF(COUNTIF(#REF!,'Results 2014'!C501)>COUNTIF(Points!$C$10:$C$86,'Results 2014'!C501),\"Not on Comps\",\"\")","v":{"$error":"#REF!"}}]
[null,null,"Paul Lloyd",null,"00:22:23",null,null,null,{"$f":"IF(COUNTIF(#REF!,'Results 2014'!C502)>COUNTIF(Points!$C$10:$C$86,'Results 2014'!C502),\"Not on Comps\",\"\")","v":{"$error":"#REF!"}}]
[null,null,"Angela Swain",null,"00:26:54",null,null,null,{"$f":"IF(COUNTIF(#REF!,'Results 2014'!C503)>COUNTIF(Points!$C$10:$C$86,'Results 2014'!C503),\"Not on Comps\",\"\")","v":{"$error":"#REF!"}}]
[null,null,"Simon Nash","MB Swindon","00:28:44",null,null,null,{"$f":"IF(COUNTIF(#REF!,'Results 2014'!C504)>COUNTIF(Points!$C$10:$C$86,'Results 2014'!C504),\"Not on Comps\",\"\")","v":{"$error":"#REF!"}}]
[null,null,"Kevin Lister","Corinium CC","00:25:39",null,null,null,{"$f":"IF(COUNTIF(#REF!,'Results 2014'!C505)>COUNTIF(Points!$C$10:$C$86,'Results 2014'!C505),\"Not on Comps\",\"\")","v":{"$error":"#REF!"}}]
[null,null,"R Townsley",null,"00:27:02",null,null,null,{"$f":"IF(COUNTIF(#REF!,'Results 2014'!C506)>COUNTIF(Points!$C$10:$C$86,'Results 2014'!C506),\"Not on Comps\",\"\")","v":{"$error":"#REF!"}}]
[null,null,"Dilwin Evans",null,"00:29:03",null,null,null,{"$f":"IF(COUNTIF(#REF!,'Results 2014'!C507)>COUNTIF(Points!$C$10:$C$86,'Results 2014'!C507),\"Not on Comps\",\"\")","v":{"$error":"#REF!"}}]
[null,null,"Peter Garnett","Swindon RC","00:22:27",null,null,null,{"$f":"IF(COUNTIF(#REF!,'Results 2014'!C508)>COUNTIF(Points!$C$10:$C$86,'Results 2014'!C508),\"Not on Comps\",\"\")","v":{"$error":"#REF!"}}]
[null,null,"Nick Cullow",null,"00:30:29",null,null,null,{"$f":"IF(COUNTIF(#REF!,'Results 2014'!C509)>COUNTIF(Points!$C$10:$C$86,'Results 2014'!C509),\"Not on Comps\",\"\")","v":{"$error":"#REF!"}}]
[null,null,"Dino Madders","Performance Cycles","00:29:23",null,null,null,{"$f":"IF(COUNTIF(#REF!,'Results 2014'!C510)>COUNTIF(Points!$C$10:$C$86,'Results 2014'!C510),\"Not on Comps\",\"\")","v":{"$error":"#REF!"}}]
[null,null,"Mitch Keen","Swindon RC","00:29:40",null,null,null,{"$f":"IF(COUNTIF(#REF!,'Results 2014'!C511)>COUNTIF(Points!$C$10:$C$86,'Results 2014'!C511),\"Not on Comps\",\"\")","v":{"$error":"#REF!"}}]
[null,null,"Terry Welton","Swindon RC","00:31:01",null,null,null,{"$f":"IF(COUNTIF(#REF!,'Results 2014'!C512)>COUNTIF(Points!$C$10:$C$86,'Results 2014'!C512),\"Not on Comps\",\"\")","v":{"$error":"#REF!"}}]
[null,null,"2014-06-19",null,null,null,null,null,{"$f":"IF(COUNTIF(#REF!,'Results 2014'!C513)>COUNTIF(Points!$C$10:$C$86,'Results 2014'!C513),\"Not on Comps\",\"\")","v":{"$error":"#REF!"}}]
[1,1,"Paul Carson","Performance Cycles","00:21:36",null,null,null,{"$f":"IF(COUNTIF(#REF!,'Results 2014'!C514)>COUNTIF(Points!$C$10:$C$86,'Results 2014'!C514),\"Not on Comps\",\"\")","v":{"$error":"#REF!"}}]
[2,{"$f":"IF(E515=E514,\"=\",A515)","v":2},"Billy Osmond","Ride 24/7","00:22:11",null,null,null,{"$f":"IF(COUNTIF(#REF!,'Results 2014'!C515)>COUNTIF(Points!$C$10:$C$86,'Results 2014'!C515),\"Not on Comps\",\"\")","v":{"$error":"#REF!"}}]
[3,{"$f":"IF(E516=E515,\"=\",A516)","v":3},"Peter Garnett","Swindon RC","00:22:15",null,null,null,{"$f":"IF(COUNTIF(#REF!,'Results 2014'!C516)>COUNTIF(Points!$C$10:$C$86,'Results 2014'!C516),\"Not on Comps\",\"\")","v":{"$error":"#REF!"}}]
[4,{"$f":"IF(E517=E516,\"=\",A517)","v":4},"David Arthur","Performance Cycles","00:22:45",null,null,null,{"$f":"IF(COUNTIF(#REF!,'Results 2014'!C517)>COUNTIF(Points!$C$10:$C$86,'Results 2014'!C517),\"Not on Comps\",\"\")","v":{"$error":"#REF!"}}]
[5,5,"Andy Claxton","Swindon RC","00:22:52",null,null,null,{"$f":"IF(COUNTIF(#REF!,'Results 2014'!C518)>COUNTIF(Points!$C$10:$C$86,'Results 2014'!C518),\"Not on Comps\",\"\")","v":{"$error":"#REF!"}}]
[6,6,"Mitch Evans","Ride 24/7","00:22:58",null,null,null,{"$f":"IF(COUNTIF(#REF!,'Results 2014'!C519)>COUNTIF(Points!$C$10:$C$86,'Results 2014'!C519),\"Not on Comps\",\"\")","v":{"$error":"#REF!"}}]
[7,7,"Gary Smith","Ride 24/7","00:22:59",null,null,null,{"$f":"IF(COUNTIF(#REF!,'Results 2014'!C520)>COUNTIF(Points!$C$10:$C$86,'Results 2014'!C520),\"Not on Comps\",\"\")","v":{"$error":"#REF!"}}]
[8,8,"Rob Merrison","Swindon RC","00:23:28",null,null,null,{"$f":"IF(COUNTIF(#REF!,'Results 2014'!C521)>COUNTIF(Points!$C$10:$C$86,'Results 2014'!C521),\"Not on Comps\",\"\")","v":{"$error":"#REF!"}}]
[9,9,"Ed Coxwell-Rogers ","Ride 24/7","00:23:35",null,null,null,{"$f":"IF(COUNTIF(#REF!,'Results 2014'!C522)>COUNTIF(Points!$C$10:$C$86,'Results 2014'!C522),\"Not on Comps\",\"\")","v":{"$error":"#REF!"}}]
[10,10,"Chris Broad-Drake","Swindon RC","00:23:45",null,null,null,{"$f":"IF(COUNTIF(#REF!,'Results 2014'!C523)>COUNTIF(Points!$C$10:$C$86,'Results 2014'!C523),\"Not on Comps\",\"\")","v":{"$error":"#REF!"}}]
[11,"=","Darren Compton ","Ride 24/7","00:23:45",null,null,null,{"$f":"IF(COUNTIF(#REF!,'Results 2014'!C524)>COUNTIF(Points!$C$10:$C$86,'Results 2014'!C524),\"Not on Comps\",\"\")","v":{"$error":"#REF!"}}]
[12,12,"Pete Scott","Cotswold Veldrijden","00:23:46",null,null,null,{"$f":"IF(COUNTIF(#REF!,'Results 2014'!C525)>COUNTIF(Points!$C$10:$C$86,'Results 2014'!C525),\"Not on Comps\",\"\")","v":{"$error":"#REF!"}}]
[13,13,"Tim Strong","Ride 24/7","00:23:56",null,null,null,{"$f":"IF(COUNTIF(#REF!,'Results 2014'!C526)>COUNTIF(Points!$C$10:$C$86,'Results 2014'!C526),\"Not on Comps\",\"\")","v":{"$error":"#REF!"}}]
[14,14,"Matt Hodgson","Corinium CC","00:24:18",null,null,null,{"$f":"IF(COUNTIF(#REF!,'Results 2014'!C527)>COUNTIF(Points!$C$10:$C$86,'Results 2014'!C527),\"Not on Comps\",\"\")","v":{"$error":"#REF!"}}]
[15,15,"Mick Sharratt","Cadence","00:24:21",null,null,null,{"$f":"IF(COUNTIF(#REF!,'Results 2014'!C528)>COUNTIF(Points!$C$10:$C$86,'Results 2014'!C528),\"Not on Comps\",\"\")","v":{"$error":"#REF!"}}]
[16,16,"Steve Davies","Swindon RC","00:24:28",null,null,null,{"$f":"IF(COUNTIF(#REF!,'Results 2014'!C529)>COUNTIF(Points!$C$10:$C$86,'Results 2014'!C529),\"Not on Comps\",\"\")","v":{"$error":"#REF!"}}]
[17,17,"Trevor Hodges","Corinium CC","00:24:31",null,null,null,{"$f":"IF(COUNTIF(#REF!,'Results 2014'!C530)>COUNTIF(Points!$C$10:$C$86,'Results 2014'!C530),\"Not on Comps\",\"\")","v":{"$error":"#REF!"}}]
[18,18,"Marc Allen","Swindon RC","00:24:39",null,null,null,{"$f":"IF(COUNTIF(#REF!,'Results 2014'!C531)>COUNTIF(Points!$C$10:$C$86,'Results 2014'!C531),\"Not on Comps\",\"\")","v":{"$error":"#REF!"}}]
[19,19,"Mark Foyn","Corinium CC","00:24:49",null,null,null,{"$f":"IF(COUNTIF(#REF!,'Results 2014'!C532)>COUNTIF(Points!$C$10:$C$86,'Results 2014'!C532),\"Not on Comps\",\"\")","v":{"$error":"#REF!"}}]
[20,20,"Jim Curry","Performance Cycles","00:25:04",null,null,null,{"$f":"IF(COUNTIF(#REF!,'Results 2014'!C533)>COUNTIF(Points!$C$10:$C$86,'Results 2014'!C533),\"Not on Comps\",\"\")","v":{"$error":"#REF!"}}]
[21,21,"Simon Barnes","Corinium CC","00:25:11",null,null,null,{"$f":"IF(COUNTIF(#REF!,'Results 2014'!C534)>COUNTIF(Points!$C$10:$C$86,'Results 2014'!C534),\"Not on Comps\",\"\")","v":{"$error":"#REF!"}}]
[22,22,"Jason Costello","Corinium CC","00:25:38",null,null,null,{"$f":"IF(COUNTIF(#REF!,'Results 2014'!C535)>COUNTIF(Points!$C$10:$C$86,'Results 2014'!C535),\"Not on Comps\",\"\")","v":{"$error":"#REF!"}}]
[23,23,"Paul Fuchs","Corinium CC","00:25:56",null,null,null,{"$f":"IF(COUNTIF(#REF!,'Results 2014'!C536)>COUNTIF(Points!$C$10:$C$86,'Results 2014'!C536),\"Not on Comps\",\"\")","v":{"$error":"#REF!"}}]
[24,24,"Rob Patterson","Swindon RC","00:26:16",null,null,null,{"$f":"IF(COUNTIF(#REF!,'Results 2014'!C537)>COUNTIF(Points!$C$10:$C$86,'Results 2014'!C537),\"Not on Comps\",\"\")","v":{"$error":"#REF!"}}]
[25,25,"Jeff Smith","Swindon RC","00:26:17",null,null,null,{"$f":"IF(COUNTIF(#REF!,'Results 2014'!C538)>COUNTIF(Points!$C$10:$C$86,'Results 2014'!C538),\"Not on Comps\",\"\")","v":{"$error":"#REF!"}}]
[26,26,"John Davis","Ride 24/7","00:26:18",null,null,null,{"$f":"IF(COUNTIF(#REF!,'Results 2014'!C539)>COUNTIF(Points!$C$10:$C$86,'Results 2014'!C539),\"Not on Comps\",\"\")","v":{"$error":"#REF!"}}]
[27,27,"Helen Grosscurth","Performance Cycles","00:26:21",null,null,null,{"$f":"IF(COUNTIF(#REF!,'Results 2014'!C540)>COUNTIF(Points!$C$10:$C$86,'Results 2014'!C540),\"Not on Comps\",\"\")","v":{"$error":"#REF!"}}]
[28,28,"Sharon Dolman","Cotswold Veldrijden","00:26:36",null,null,null,{"$f":"IF(COUNTIF(#REF!,'Results 2014'!C541)>COUNTIF(Points!$C$10:$C$86,'Results 2014'!C541),\"Not on Comps\",\"\")","v":{"$error":"#REF!"}}]
[29,29,"Daniel Darby","Swindon RC","00:26:38",null,null,null,{"$f":"IF(COUNTIF(#REF!,'Results 2014'!C542)>COUNTIF(Points!$C$10:$C$86,'Results 2014'!C542),\"Not on Comps\",\"\")","v":{"$error":"#REF!"}}]
[30,30,"Alex Foyn","Corinium CC","00:26:43",null,null,null,{"$f":"IF(COUNTIF(#REF!,'Results 2014'!C543)>COUNTIF(Points!$C$10:$C$86,'Results 2014'!C543),\"Not on Comps\",\"\")","v":{"$error":"#REF!"}}]
[31,31,"Corinne Clark","Performance Cycles","00:27:06",null,null,null,{"$f":"IF(COUNTIF(#REF!,'Results 2014'!C544)>COUNTIF(Points!$C$10:$C$86,'Results 2014'!C544),\"Not on Comps\",\"\")","v":{"$error":"#REF!"}}]
[32,32,"Becky Hoestier","Performance Cycles","00:27:27",null,null,null,{"$f":"IF(COUNTIF(#REF!,'Results 2014'!C545)>COUNTIF(Points!$C$10:$C$86,'Results 2014'!C545),\"Not on Comps\",\"\")","v":{"$error":"#REF!"}}]
[33,"=","Mervyn Cox","Performance Cycles","00:27:27",null,null,null,{"$f":"IF(COUNTIF(#REF!,'Results 2014'!C546)>COUNTIF(Points!$C$10:$C$86,'Results 2014'!C546),\"Not on Comps\",\"\")","v":{"$error":"#REF!"}}]
[34,34,"Diane Moore","Corinium CC","00:27:31",null,null,null,{"$f":"IF(COUNTIF(#REF!,'Results 2014'!C547)>COUNTIF(Points!$C$10:$C$86,'Results 2014'!C547),\"Not on Comps\",\"\")","v":{"$error":"#REF!"}}]
[35,35,"Denis Hedges","Corinium CC","00:28:12",null,null,null,{"$f":"IF(COUNTIF(#REF!,'Results 2014'!C548)>COUNTIF(Points!$C$10:$C$86,'Results 2014'!C548),\"Not on Comps\",\"\")","v":{"$error":"#REF!"}}]
[36,36,"Dino Madders","Performance Cycles","00:28:59",null,null,null,{"$f":"IF(COUNTIF(#REF!,'Results 2014'!C549)>COUNTIF(Points!$C$10:$C$86,'Results 2014'!C549),\"Not on Comps\",\"\")","v":{"$error":"#REF!"}}]
[37,"=","Pat ?????","Dame Cycling","00:28:59",null,null,null,{"$f":"IF(COUNTIF(#REF!,'Results 2014'!C550)>COUNTIF(Points!$C$10:$C$86,'Results 2014'!C550),\"Not on Comps\",\"\")","v":{"$error":"#REF!"}}]
[38,38,"Oisin Kelly","Swindon RC","00:29:28",null,null,null,{"$f":"IF(COUNTIF(#REF!,'Results 2014'!C551)>COUNTIF(Points!$C$10:$C$86,'Results 2014'!C551),\"Not on Comps\",\"\")","v":{"$error":"#REF!"}}]
[39,39,"Carmen Young","Dame Cycling","00:29:34",null,null,null,{"$f":"IF(COUNTIF(#REF!,'Results 2014'!C552)>COUNTIF(Points!$C$10:$C$86,'Results 2014'!C552),\"Not on Comps\",\"\")","v":{"$error":"#REF!"}}]
[40,"=","Terry Barry","Corinium CC","00:29:34",null,null,null,{"$f":"IF(COUNTIF(#REF!,'Results 2014'!C553)>COUNTIF(Points!$C$10:$C$86,'Results 2014'!C553),\"Not on Comps\",\"\")","v":{"$error":"#REF!"}}]
[41,41,"Paul Wood","Swindon Wheelers","00:29:48",null,null,null,{"$f":"IF(COUNTIF(#REF!,'Results 2014'!C554)>COUNTIF(Points!$C$10:$C$86,'Results 2014'!C554),\"Not on Comps\",\"\")","v":{"$error":"#REF!"}}]
[42,42,"Becky Brown","Dame Cycling","00:29:50",null,null,null,{"$f":"IF(COUNTIF(#REF!,'Results 2014'!C555)>COUNTIF(Points!$C$10:$C$86,'Results 2014'!C555),\"Not on Comps\",\"\")","v":{"$error":"#REF!"}}]
[43,43,"Kelli Salone","Dame Cycling","00:29:55",null,null,null,{"$f":"IF(COUNTIF(#REF!,'Results 2014'!C556)>COUNTIF(Points!$C$10:$C$86,'Results 2014'!C556),\"Not on Comps\",\"\")","v":{"$error":"#REF!"}}]
[44,44,"William Mackenzie","Corinium CC","00:30:06",null,null,null,{"$f":"IF(COUNTIF(#REF!,'Results 2014'!C557)>COUNTIF(Points!$C$10:$C$86,'Results 2014'!C557),\"Not on Comps\",\"\")","v":{"$error":"#REF!"}}]
[45,45,"Marguerite Miatt","Corinium CC","00:30:54",null,null,null,{"$f":"IF(COUNTIF(#REF!,'Results 2014'!C558)>COUNTIF(Points!$C$10:$C$86,'Results 2014'!C558),\"Not on Comps\",\"\")","v":{"$error":"#REF!"}}]
[46,46,"Jo Ratcliffe","Dame Cycling","00:31:26",null,null,null,{"$f":"IF(COUNTIF(#REF!,'Results 2014'!C559)>COUNTIF(Points!$C$10:$C$86,'Results 2014'!C559),\"Not on Comps\",\"\")","v":{"$error":"#REF!"}}]
[47,47,"Ross Gregory","Corinium CC","00:32:13",null,null,null,{"$f":"IF(COUNTIF(#REF!,'Results 2014'!C560)>COUNTIF(Points!$C$10:$C$86,'Results 2014'!C560),\"Not on Comps\",\"\")","v":{"$error":"#REF!"}}]
[48,48,"Carol Clarke","Corinium CC","00:32:38",null,null,null,{"$f":"IF(COUNTIF(#REF!,'Results 2014'!C561)>COUNTIF(Points!$C$10:$C$86,'Results 2014'!C561),\"Not on Comps\",\"\")","v":{"$error":"#REF!"}}]
[49,49,"Sue King","Dame Cycling","00:32:39",null,null,null,{"$f":"IF(COUNTIF(#REF!,'Results 2014'!C562)>COUNTIF(Points!$C$10:$C$86,'Results 2014'!C562),\"Not on Comps\",\"\")","v":{"$error":"#REF!"}}]
[50,50,"Dave Knight","Dame Cycling","00:34:46",null,null,null,{"$f":"IF(COUNTIF(#REF!,'Results 2014'!C563)>COUNTIF(Points!$C$10:$C$86,'Results 2014'!C563),\"Not on Comps\",\"\")","v":{"$error":"#REF!"}}]
[51,51,"Anitia van Einhooun","Dame Cycling","00:36:34",null,null,null,{"$f":"IF(COUNTIF(#REF!,'Results 2014'!C564)>COUNTIF(Points!$C$10:$C$86,'Results 2014'!C564),\"Not on Comps\",\"\")","v":{"$error":"#REF!"}}]
[52,52,"Paula Knight","Dame Cycling","00:40:57",null,null,null,{"$f":"IF(COUNTIF(#REF!,'Results 2014'!C565)>COUNTIF(Points!$C$10:$C$86,'Results 2014'!C565),\"Not on Comps\",\"\")","v":{"$error":"#REF!"}}]
[null,null,"2014-06-26",null,null,null,null,null,{"$f":"IF(COUNTIF(#REF!,'Results 2014'!C566)>COUNTIF(Points!$C$10:$C$86,'Results 2014'!C566),\"Not on Comps\",\"\")","v":{"$error":"#REF!"}}]
[1,1,"Chris Wood","Performance Cycles","00:22:47",null,null,null,{"$f":"IF(COUNTIF(#REF!,'Results 2014'!C567)>COUNTIF(Points!$C$10:$C$86,'Results 2014'!C567),\"Not on Comps\",\"\")","v":{"$error":"#REF!"}}]
[2,{"$f":"IF(E568=E567,\"=\",A568)","v":"="},"Niel Dunnage","Swindon RC","00:22:47",null,null,null,{"$f":"IF(COUNTIF(#REF!,'Results 2014'!C568)>COUNTIF(Points!$C$10:$C$86,'Results 2014'!C568),\"Not on Comps\",\"\")","v":{"$error":"#REF!"}}]
[3,{"$f":"IF(E569=E568,\"=\",A569)","v":3},"David Arthur","Performance Cycles","00:23:23",null,null,null,{"$f":"IF(COUNTIF(#REF!,'Results 2014'!C569)>COUNTIF(Points!$C$10:$C$86,'Results 2014'!C569),\"Not on Comps\",\"\")","v":{"$error":"#REF!"}}]
[4,{"$f":"IF(E570=E569,\"=\",A570)","v":4},"Andy Claxton","Swindon RC","00:23:30",null,null,null,{"$f":"IF(COUNTIF(#REF!,'Results 2014'!C570)>COUNTIF(Points!$C$10:$C$86,'Results 2014'!C570),\"Not on Comps\",\"\")","v":{"$error":"#REF!"}}]
[5,5,"Ed Coxwell-Rogers ","Ride 24/7","00:23:46",null,null,null,{"$f":"IF(COUNTIF(#REF!,'Results 2014'!C571)>COUNTIF(Points!$C$10:$C$86,'Results 2014'!C571),\"Not on Comps\",\"\")","v":{"$error":"#REF!"}}]
[6,6,"Nick Lowe","Cotswold Veldrijden","00:24:09",null,null,null,{"$f":"IF(COUNTIF(#REF!,'Results 2014'!C572)>COUNTIF(Points!$C$10:$C$86,'Results 2014'!C572),\"Not on Comps\",\"\")","v":{"$error":"#REF!"}}]
[7,7,"Mick Sharratt","Cadence","00:24:26",null,null,null,{"$f":"IF(COUNTIF(#REF!,'Results 2014'!C573)>COUNTIF(Points!$C$10:$C$86,'Results 2014'!C573),\"Not on Comps\",\"\")","v":{"$error":"#REF!"}}]
[8,8,"Chris Broad-Drake","Swindon RC","00:24:39",null,null,null,{"$f":"IF(COUNTIF(#REF!,'Results 2014'!C574)>COUNTIF(Points!$C$10:$C$86,'Results 2014'!C574),\"Not on Comps\",\"\")","v":{"$error":"#REF!"}}]
[9,9,"Marc Allen","Swindon RC","00:24:44",null,null,null,{"$f":"IF(COUNTIF(#REF!,'Results 2014'!C575)>COUNTIF(Points!$C$10:$C$86,'Results 2014'!C575),\"Not on Comps\",\"\")","v":{"$error":"#REF!"}}]
[10,10,"Trevor Hodges","Corinium CC","00:24:51",null,null,null,{"$f":"IF(COUNTIF(#REF!,'Results 2014'!C576)>COUNTIF(Points!$C$10:$C$86,'Results 2014'!C576),\"Not on Comps\",\"\")","v":{"$error":"#REF!"}}]
[11,11,"Steve Davies","Swindon RC","00:24:54",null,null,null,{"$f":"IF(COUNTIF(#REF!,'Results 2014'!C577)>COUNTIF(Points!$C$10:$C$86,'Results 2014'!C577),\"Not on Comps\",\"\")","v":{"$error":"#REF!"}}]
[12,12,"Mark Foyn","Corinium CC","00:25:16",null,null,null,{"$f":"IF(COUNTIF(#REF!,'Results 2014'!C578)>COUNTIF(Points!$C$10:$C$86,'Results 2014'!C578),\"Not on Comps\",\"\")","v":{"$error":"#REF!"}}]
[13,13,"Keith Waller","Swindon RC","00:25:37",null,null,null,{"$f":"IF(COUNTIF(#REF!,'Results 2014'!C579)>COUNTIF(Points!$C$10:$C$86,'Results 2014'!C579),\"Not on Comps\",\"\")","v":{"$error":"#REF!"}}]
[14,14,"Jason Costello","Corinium CC","00:26:20",null,null,null,{"$f":"IF(COUNTIF(#REF!,'Results 2014'!C580)>COUNTIF(Points!$C$10:$C$86,'Results 2014'!C580),\"Not on Comps\",\"\")","v":{"$error":"#REF!"}}]
[15,15,"Leanne Rogers","Ride 24/7","00:27:12",null,null,null,{"$f":"IF(COUNTIF(#REF!,'Results 2014'!C581)>COUNTIF(Points!$C$10:$C$86,'Results 2014'!C581),\"Not on Comps\",\"\")","v":{"$error":"#REF!"}}]
[16,16,"Allan Norwood","Corinium CC","00:27:37",null,null,null,{"$f":"IF(COUNTIF(#REF!,'Results 2014'!C582)>COUNTIF(Points!$C$10:$C$86,'Results 2014'!C582),\"Not on Comps\",\"\")","v":{"$error":"#REF!"}}]
[17,17,"Alex Foyn","Corinium CC","00:27:44",null,null,null,{"$f":"IF(COUNTIF(#REF!,'Results 2014'!C583)>COUNTIF(Points!$C$10:$C$86,'Results 2014'!C583),\"Not on Comps\",\"\")","v":{"$error":"#REF!"}}]
[18,18,"Andy Jarvis","Corinium CC","00:29:01",null,null,null,{"$f":"IF(COUNTIF(#REF!,'Results 2014'!C584)>COUNTIF(Points!$C$10:$C$86,'Results 2014'!C584),\"Not on Comps\",\"\")","v":{"$error":"#REF!"}}]
[19,19,"Dino Maddern","Performance Cycles","00:29:35",null,null,null,{"$f":"IF(COUNTIF(#REF!,'Results 2014'!C585)>COUNTIF(Points!$C$10:$C$86,'Results 2014'!C585),\"Not on Comps\",\"\")","v":{"$error":"#REF!"}}]
[20,20,"Terry Barry","Corinium CC","00:29:59",null,null,null,{"$f":"IF(COUNTIF(#REF!,'Results 2014'!C586)>COUNTIF(Points!$C$10:$C$86,'Results 2014'!C586),\"Not on Comps\",\"\")","v":{"$error":"#REF!"}}]
[21,21,"James Foster","Performance Cycles","00:30:00",null,null,null,{"$f":"IF(COUNTIF(#REF!,'Results 2014'!C587)>COUNTIF(Points!$C$10:$C$86,'Results 2014'!C587),\"Not on Comps\",\"\")","v":{"$error":"#REF!"}}]
[22,22,"John Whittaker","Corinium CC","00:30:04",null,null,null,{"$f":"IF(COUNTIF(#REF!,'Results 2014'!C588)>COUNTIF(Points!$C$10:$C$86,'Results 2014'!C588),\"Not on Comps\",\"\")","v":{"$error":"#REF!"}}]
[23,23,"Denis Hedges","Corinium CC","00:30:25",null,null,null,{"$f":"IF(COUNTIF(#REF!,'Results 2014'!C589)>COUNTIF(Points!$C$10:$C$86,'Results 2014'!C589),\"Not on Comps\",\"\")","v":{"$error":"#REF!"}}]
[24,24,"Jack Groves","Corinium CC","00:30:36",null,null,null,{"$f":"IF(COUNTIF(#REF!,'Results 2014'!C590)>COUNTIF(Points!$C$10:$C$86,'Results 2014'!C590),\"Not on Comps\",\"\")","v":{"$error":"#REF!"}}]
[25,25,"Marguerite Miatt","Corinium CC","00:30:49",null,null,null,{"$f":"IF(COUNTIF(#REF!,'Results 2014'!C591)>COUNTIF(Points!$C$10:$C$86,'Results 2014'!C591),\"Not on Comps\",\"\")","v":{"$error":"#REF!"}}]
[26,26,"Carol Clarke","Corinium CC","00:32:28",null,null,null,{"$f":"IF(COUNTIF(#REF!,'Results 2014'!C592)>COUNTIF(Points!$C$10:$C$86,'Results 2014'!C592),\"Not on Comps\",\"\")","v":{"$error":"#REF!"}}]
[27,27,"Annie Pegler","Corinium CC","00:33:00",null,null,null,{"$f":"IF(COUNTIF(#REF!,'Results 2014'!C593)>COUNTIF(Points!$C$10:$C$86,'Results 2014'!C593),\"Not on Comps\",\"\")","v":{"$error":"#REF!"}}]
[28,28,"Ross Gregory","Corinium CC","00:33:03",null,null,null,{"$f":"IF(COUNTIF(#REF!,'Results 2014'!C594)>COUNTIF(Points!$C$10:$C$86,'Results 2014'!C594),\"Not on Comps\",\"\")","v":{"$error":"#REF!"}}]
[29,29,"Dave Knight","Dame Cycling","00:34:58",null,null,null,{"$f":"IF(COUNTIF(#REF!,'Results 2014'!C595)>COUNTIF(Points!$C$10:$C$86,'Results 2014'!C595),\"Not on Comps\",\"\")","v":{"$error":"#REF!"}}]
[30,30,"Anitia van Eijndhoven","Dame Cycling","00:38:14",null,null,null,{"$f":"IF(COUNTIF(#REF!,'Results 2014'!C596)>COUNTIF(Points!$C$10:$C$86,'Results 2014'!C596),\"Not on Comps\",\"\")","v":{"$error":"#REF!"}}]
[31,31,"Paula Knight","Dame Cycling","00:41:07",null,null,null,{"$f":"IF(COUNTIF(#REF!,'Results 2014'!C597)>COUNTIF(Points!$C$10:$C$86,'Results 2014'!C597),\"Not on Comps\",\"\")","v":{"$error":"#REF!"}}]
[null,null,"2014-07-03",null,null,null,null,null,{"$f":"IF(COUNTIF(#REF!,'Results 2014'!C598)>COUNTIF(Points!$C$10:$C$86,'Results 2014'!C598),\"Not on Comps\",\"\")","v":{"$error":"#REF!"}}]
[1,1,"Pete Hutchinson","Corinium CC","00:22:18",null,null,null,{"$f":"IF(COUNTIF(#REF!,'Results 2014'!C599)>COUNTIF(Points!$C$10:$C$86,'Results 2014'!C599),\"Not on Comps\",\"\")","v":{"$error":"#REF!"}}]
[2,{"$f":"IF(E600=E599,\"=\",A600)","v":2},"Chris Beardshaw/Russ Thompson","Performance Cycles","00:22:30",null,null,null,{"$f":"IF(COUNTIF(#REF!,'Results 2014'!C600)>COUNTIF(Points!$C$10:$C$86,'Results 2014'!C600),\"Not on Comps\",\"\")","v":{"$error":"#REF!"}}]
[3,{"$f":"IF(E601=E600,\"=\",A601)","v":3},"Les Liddiard","Swindon RC","00:22:46",null,null,null,{"$f":"IF(COUNTIF(#REF!,'Results 2014'!C601)>COUNTIF(Points!$C$10:$C$86,'Results 2014'!C601),\"Not on Comps\",\"\")","v":{"$error":"#REF!"}}]
[4,{"$f":"IF(E602=E601,\"=\",A602)","v":4},"Ed Coxwell-Rogers","Ride 24/7","00:23:09",null,null,null,{"$f":"IF(COUNTIF(#REF!,'Results 2014'!C602)>COUNTIF(Points!$C$10:$C$86,'Results 2014'!C602),\"Not on Comps\",\"\")","v":{"$error":"#REF!"}}]
[5,5,"Mitch Evans","Ride 24/7","00:23:10",null,null,null,{"$f":"IF(COUNTIF(#REF!,'Results 2014'!C603)>COUNTIF(Points!$C$10:$C$86,'Results 2014'!C603),\"Not on Comps\",\"\")","v":{"$error":"#REF!"}}]
[6,6,"Michael Ward","Ride 24/7","00:23:22",null,null,null,{"$f":"IF(COUNTIF(#REF!,'Results 2014'!C604)>COUNTIF(Points!$C$10:$C$86,'Results 2014'!C604),\"Not on Comps\",\"\")","v":{"$error":"#REF!"}}]
[7,7,"Pete Scott","Cotswold Veldrijden","00:23:35",null,null,null,{"$f":"IF(COUNTIF(#REF!,'Results 2014'!C605)>COUNTIF(Points!$C$10:$C$86,'Results 2014'!C605),\"Not on Comps\",\"\")","v":{"$error":"#REF!"}}]
[8,8,"Mick Sharratt","Cadence","00:24:06",null,null,null,{"$f":"IF(COUNTIF(#REF!,'Results 2014'!C606)>COUNTIF(Points!$C$10:$C$86,'Results 2014'!C606),\"Not on Comps\",\"\")","v":{"$error":"#REF!"}}]
[9,9,"Steve Davies","Swindon RC","00:24:18",null,null,null,{"$f":"IF(COUNTIF(#REF!,'Results 2014'!C607)>COUNTIF(Points!$C$10:$C$86,'Results 2014'!C607),\"Not on Comps\",\"\")","v":{"$error":"#REF!"}}]
[10,10,"Mark Williams","Ride 24/7","00:24:33",null,null,null,{"$f":"IF(COUNTIF(#REF!,'Results 2014'!C608)>COUNTIF(Points!$C$10:$C$86,'Results 2014'!C608),\"Not on Comps\",\"\")","v":{"$error":"#REF!"}}]
[11,11,"Mark Foyn","Corinium CC","00:24:35",null,null,null,{"$f":"IF(COUNTIF(#REF!,'Results 2014'!C609)>COUNTIF(Points!$C$10:$C$86,'Results 2014'!C609),\"Not on Comps\",\"\")","v":{"$error":"#REF!"}}]
[12,12,"Jason Costello","Corinium CC","00:24:52",null,null,null,{"$f":"IF(COUNTIF(#REF!,'Results 2014'!C610)>COUNTIF(Points!$C$10:$C$86,'Results 2014'!C610),\"Not on Comps\",\"\")","v":{"$error":"#REF!"}}]
[13,13,"Corrine Clarke","Ride 24/7","00:25:00",null,null,null,{"$f":"IF(COUNTIF(#REF!,'Results 2014'!C611)>COUNTIF(Points!$C$10:$C$86,'Results 2014'!C611),\"Not on Comps\",\"\")","v":{"$error":"#REF!"}}]
[14,14,"Jack Thompson","Performance Cycles","00:25:06",null,null,null,{"$f":"IF(COUNTIF(#REF!,'Results 2014'!C612)>COUNTIF(Points!$C$10:$C$86,'Results 2014'!C612),\"Not on Comps\",\"\")","v":{"$error":"#REF!"}}]
[15,15,"Jim Curry","Performance Cycles","00:25:21",null,null,null,{"$f":"IF(COUNTIF(#REF!,'Results 2014'!C613)>COUNTIF(Points!$C$10:$C$86,'Results 2014'!C613),\"Not on Comps\",\"\")","v":{"$error":"#REF!"}}]
[16,16,"Richard Woods","Corinium CC","00:25:49",null,null,null,{"$f":"IF(COUNTIF(#REF!,'Results 2014'!C614)>COUNTIF(Points!$C$10:$C$86,'Results 2014'!C614),\"Not on Comps\",\"\")","v":{"$error":"#REF!"}}]
[17,17,"Wendy Nichols","Ride 24/7","00:25:54",null,null,null,{"$f":"IF(COUNTIF(#REF!,'Results 2014'!C615)>COUNTIF(Points!$C$10:$C$86,'Results 2014'!C615),\"Not on Comps\",\"\")","v":{"$error":"#REF!"}}]
[18,18,"Alex Foyn","Corinium CC","00:25:55",null,null,null,{"$f":"IF(COUNTIF(#REF!,'Results 2014'!C616)>COUNTIF(Points!$C$10:$C$86,'Results 2014'!C616),\"Not on Comps\",\"\")","v":{"$error":"#REF!"}}]
[19,19,"Jason Holder","Corinium CC","00:26:01",null,null,null,{"$f":"IF(COUNTIF(#REF!,'Results 2014'!C617)>COUNTIF(Points!$C$10:$C$86,'Results 2014'!C617),\"Not on Comps\",\"\")","v":{"$error":"#REF!"}}]
[20,20,"Rob Patterson","Swindon RC","00:26:04",null,null,null,{"$f":"IF(COUNTIF(#REF!,'Results 2014'!C618)>COUNTIF(Points!$C$10:$C$86,'Results 2014'!C618),\"Not on Comps\",\"\")","v":{"$error":"#REF!"}}]
[21,21,"Allan Norwood","Corinium CC","00:26:06",null,null,null,{"$f":"IF(COUNTIF(#REF!,'Results 2014'!C619)>COUNTIF(Points!$C$10:$C$86,'Results 2014'!C619),\"Not on Comps\",\"\")","v":{"$error":"#REF!"}}]
[22,22,"Gerry Peppin","Corinium CC","00:26:07",null,null,null,{"$f":"IF(COUNTIF(#REF!,'Results 2014'!C620)>COUNTIF(Points!$C$10:$C$86,'Results 2014'!C620),\"Not on Comps\",\"\")","v":{"$error":"#REF!"}}]
[23,23,"Kevin Lister","Corinium CC","00:26:13",null,null,null,{"$f":"IF(COUNTIF(#REF!,'Results 2014'!C621)>COUNTIF(Points!$C$10:$C$86,'Results 2014'!C621),\"Not on Comps\",\"\")","v":{"$error":"#REF!"}}]
[24,24,"Martin Thompson","Performance Cycles","00:26:14",null,null,null,{"$f":"IF(COUNTIF(#REF!,'Results 2014'!C622)>COUNTIF(Points!$C$10:$C$86,'Results 2014'!C622),\"Not on Comps\",\"\")","v":{"$error":"#REF!"}}]
[25,25,"Paul Fuchs","Corinium CC","00:26:21",null,null,null,{"$f":"IF(COUNTIF(#REF!,'Results 2014'!C623)>COUNTIF(Points!$C$10:$C$86,'Results 2014'!C623),\"Not on Comps\",\"\")","v":{"$error":"#REF!"}}]
[26,26,"Fraser Macdonald","Corinium CC","00:26:27",null,null,null,{"$f":"IF(COUNTIF(#REF!,'Results 2014'!C624)>COUNTIF(Points!$C$10:$C$86,'Results 2014'!C624),\"Not on Comps\",\"\")","v":{"$error":"#REF!"}}]
[27,27,"Daniel Darby","Swindon RC","00:26:28",null,null,null,{"$f":"IF(COUNTIF(#REF!,'Results 2014'!C625)>COUNTIF(Points!$C$10:$C$86,'Results 2014'!C625),\"Not on Comps\",\"\")","v":{"$error":"#REF!"}}]
[28,28,"Helen Grosscurth","Ride 24/7","00:26:32",null,null,null,{"$f":"IF(COUNTIF(#REF!,'Results 2014'!C626)>COUNTIF(Points!$C$10:$C$86,'Results 2014'!C626),\"Not on Comps\",\"\")","v":{"$error":"#REF!"}}]
[29,29,"Angela Swain","Performance Cycles","00:26:42",null,null,null,{"$f":"IF(COUNTIF(#REF!,'Results 2014'!C627)>COUNTIF(Points!$C$10:$C$86,'Results 2014'!C627),\"Not on Comps\",\"\")","v":{"$error":"#REF!"}}]
[30,30,"Robert Compton","Performance Cycles","00:26:57",null,null,null,{"$f":"IF(COUNTIF(#REF!,'Results 2014'!C628)>COUNTIF(Points!$C$10:$C$86,'Results 2014'!C628),\"Not on Comps\",\"\")","v":{"$error":"#REF!"}}]
[31,31,"Steve Derrick","Corinium CC","00:27:25",null,null,null,{"$f":"IF(COUNTIF(#REF!,'Results 2014'!C629)>COUNTIF(Points!$C$10:$C$86,'Results 2014'!C629),\"Not on Comps\",\"\")","v":{"$error":"#REF!"}}]
[32,32,"Richard Kenny","Performance Cycles","00:27:51",null,null,null,{"$f":"IF(COUNTIF(#REF!,'Results 2014'!C630)>COUNTIF(Points!$C$10:$C$86,'Results 2014'!C630),\"Not on Comps\",\"\")","v":{"$error":"#REF!"}}]
[33,33,"Merv Cox","Performance Cycles","00:28:07",null,null,null,{"$f":"IF(COUNTIF(#REF!,'Results 2014'!C631)>COUNTIF(Points!$C$10:$C$86,'Results 2014'!C631),\"Not on Comps\",\"\")","v":{"$error":"#REF!"}}]
[34,34,"Denis Hedges","Corinium CC","00:28:11",null,null,null,{"$f":"IF(COUNTIF(#REF!,'Results 2014'!C632)>COUNTIF(Points!$C$10:$C$86,'Results 2014'!C632),\"Not on Comps\",\"\")","v":{"$error":"#REF!"}}]
[35,35,"Kelli Salone","Dame Cycling","00:29:02",null,null,null,{"$f":"IF(COUNTIF(#REF!,'Results 2014'!C633)>COUNTIF(Points!$C$10:$C$86,'Results 2014'!C633),\"Not on Comps\",\"\")","v":{"$error":"#REF!"}}]
[36,36,"Keith Williams","Corinium CC","00:29:05",null,null,null,{"$f":"IF(COUNTIF(#REF!,'Results 2014'!C634)>COUNTIF(Points!$C$10:$C$86,'Results 2014'!C634),\"Not on Comps\",\"\")","v":{"$error":"#REF!"}}]
[37,37,"Terry Barry","Corinium CC","00:29:18",null,null,null,{"$f":"IF(COUNTIF(#REF!,'Results 2014'!C635)>COUNTIF(Points!$C$10:$C$86,'Results 2014'!C635),\"Not on Comps\",\"\")","v":{"$error":"#REF!"}}]
[38,38,"Rebecca Brown","Dame Cycling","00:29:32",null,null,null,{"$f":"IF(COUNTIF(#REF!,'Results 2014'!C636)>COUNTIF(Points!$C$10:$C$86,'Results 2014'!C636),\"Not on Comps\",\"\")","v":{"$error":"#REF!"}}]
[39,39,"Ross Gregory","Corinium CC","00:31:33",null,null,null,{"$f":"IF(COUNTIF(#REF!,'Results 2014'!C637)>COUNTIF(Points!$C$10:$C$86,'Results 2014'!C637),\"Not on Comps\",\"\")","v":{"$error":"#REF!"}}]
[40,40,"Amanda Adams","Swindon RC","00:31:41",null,null,null,{"$f":"IF(COUNTIF(#REF!,'Results 2014'!C638)>COUNTIF(Points!$C$10:$C$86,'Results 2014'!C638),\"Not on Comps\",\"\")","v":{"$error":"#REF!"}}]
[41,41,"Dave Knight","Dame Cycling","00:31:53",null,null,null,{"$f":"IF(COUNTIF(#REF!,'Results 2014'!C639)>COUNTIF(Points!$C$10:$C$86,'Results 2014'!C639),\"Not on Comps\",\"\")","v":{"$error":"#REF!"}}]
[42,42,"Carol Clarke","Corinium CC","00:31:57",null,null,null,{"$f":"IF(COUNTIF(#REF!,'Results 2014'!C640)>COUNTIF(Points!$C$10:$C$86,'Results 2014'!C640),\"Not on Comps\",\"\")","v":{"$error":"#REF!"}}]
[43,43,"Mandy Lloyd","Dame Cycling","00:32:59",null,null,null,{"$f":"IF(COUNTIF(#REF!,'Results 2014'!C641)>COUNTIF(Points!$C$10:$C$86,'Results 2014'!C641),\"Not on Comps\",\"\")","v":{"$error":"#REF!"}}]
[44,44,"Anita Van Eijudoven","Dame Cycling","00:36:00",null,null,null,{"$f":"IF(COUNTIF(#REF!,'Results 2014'!C642)>COUNTIF(Points!$C$10:$C$86,'Results 2014'!C642),\"Not on Comps\",\"\")","v":{"$error":"#REF!"}}]
[45,45,"Paula Knight","Dame Cycling","00:37:01",null,null,null,{"$f":"IF(COUNTIF(#REF!,'Results 2014'!C643)>COUNTIF(Points!$C$10:$C$86,'Results 2014'!C643),\"Not on Comps\",\"\")","v":{"$error":"#REF!"}}]
[null,null,"2014-07-10",null,null,null,null,null,{"$f":"IF(COUNTIF(#REF!,'Results 2014'!C644)>COUNTIF(Points!$C$10:$C$86,'Results 2014'!C644),\"Not on Comps\",\"\")","v":{"$error":"#REF!"}}]
[14,null,"Steve Yates","Corinium CC","00:22:00","00:36:00",null,null,{"$f":"IF(COUNTIF(#REF!,'Results 2014'!#REF!)>COUNTIF(Points!$C$10:$C$86,'Results 2014'!#REF!),\"Not on Comps\",\"\")","v":{"$error":"#REF!"}},null,null,null,null,null,null,null,"Min","Max"]
[53,null,"Peter Garnett","Swindon RC","00:22:12","01:15:12",null,null,{"$f":"IF(COUNTIF(#REF!,'Results 2014'!C687)>COUNTIF(Points!$C$10:$C$86,'Results 2014'!C687),\"Not on Comps\",\"\")","v":{"$error":"#REF!"}},null,1,1,1,"00:24:05",{"$f":"VLOOKUP(M646,$K$646:$L$698,2,FALSE)","v":1},{"$f":"VLOOKUP(M646,$A$645:$E$686,4,FALSE)","v":"RNRMCA"},{"$f":"N645-M646*$E$1","v":-6.9444444444444447E-4},{"$f":"N647-M646*$E$1","v":"00:26:20"}]
[51,null,"Pete Hutchinson","Corinium CC","00:22:15","01:13:15",null,null,{"$f":"IF(COUNTIF(#REF!,'Results 2014'!C688)>COUNTIF(Points!$C$10:$C$86,'Results 2014'!C688),\"Not on Comps\",\"\")","v":{"$error":"#REF!"}},null,2,2,2,"00:27:20",2,"Swindon RC",{"$f":"N646-M647*$E$1","v":"00:22:05"},{"$f":"N648-M647*$E$1","v":"00:25:49"}]
[19,null,"Andy Morgan","Corinium CC","00:22:35","00:41:35",null,null,{"$f":"IF(COUNTIF(#REF!,'Results 2014'!C689)>COUNTIF(Points!$C$10:$C$86,'Results 2014'!C689),\"Not on Comps\",\"\")","v":{"$error":"#REF!"}},null,3,3,3,"00:27:49",3,"Swindon RC",{"$f":"N647-M648*$E$1","v":"00:24:20"},{"$f":"N649-M648*$E$1","v":"00:27:47"}]
[21,null,"Les Liddiard","Team Jewson","00:22:46",null,{"$f":"VLOOKUP(A649,$M$646:$R$698,5,FALSE)","v":"00:22:13"},{"$f":"VLOOKUP(A649,$M$646:$R$698,6,FALSE)","v":"00:22:53"},{"$f":"IF(COUNTIF(#REF!,'Results 2014'!C690)>COUNTIF(Points!$C$10:$C$86,'Results 2014'!C690),\"Not on Comps\",\"\")","v":{"$error":"#REF!"}},null,4,4,4,"00:30:47",4,"Swindon RC",{"$f":"N648-M649*$E$1","v":"00:23:49"},{"$f":"N652-M649*$E$1","v":"00:27:54"}]
[41,null,"Mitch Evans","Ride 24/7","00:22:50","01:03:50",null,null,{"$f":"IF(COUNTIF(#REF!,'Results 2014'!C691)>COUNTIF(Points!$C$10:$C$86,'Results 2014'!C691),\"Not on Comps\",\"\")","v":{"$error":"#REF!"}},null,10,5,10,null,5,{"$error":"#N/A"},{"$f":"N649-M650*$E$1","v":"00:20:47"},{"$f":"N652-M650*$E$1","v":"00:21:54"}]
[1,null,"Tony Staples","RNRMCA","00:23:05","00:24:05",null,null,{"$f":"IF(COUNTIF(#REF!,'Results 2014'!C692)>COUNTIF(Points!$C$10:$C$86,'Results 2014'!C692),\"Not on Comps\",\"\")","v":{"$error":"#REF!"}},null,6,6,6,null,6,{"$error":"#N/A"},{"$f":"N649-M651*$E$1","v":"00:24:47"},{"$f":"N652-M651*$E$1","v":"00:25:54"}]
[40,null,"Scott McArdle","Cheltenham CCC","00:23:31","01:03:31",null,null,{"$f":"IF(COUNTIF(#REF!,'Results 2014'!C693)>COUNTIF(Points!$C$10:$C$86,'Results 2014'!C693),\"Not on Comps\",\"\")","v":{"$error":"#REF!"}},null,5,7,5,"00:31:54",7,"Swindon RC",{"$f":"N649-M652*$E$1","v":"00:25:47"},{"$f":"N654-M652*$E$1","v":"00:27:36"}]
[24,null,"Paul Cook","Ride 24/7","00:23:57","00:47:57",null,null,{"$f":"IF(COUNTIF(#REF!,'Results 2014'!C694)>COUNTIF(Points!$C$10:$C$86,'Results 2014'!C694),\"Not on Comps\",\"\")","v":{"$error":"#REF!"}},null,8,8,8,null,8,{"$error":"#N/A"},{"$f":"N652-M653*$E$1","v":"00:23:54"},{"$f":"N654-M653*$E$1","v":"00:24:36"}]
[50,null,"Trevor Hodges","Corinium CC","00:24:14","01:14:14",null,null,{"$f":"IF(COUNTIF(#REF!,'Results 2014'!C695)>COUNTIF(Points!$C$10:$C$86,'Results 2014'!C695),\"Not on Comps\",\"\")","v":{"$error":"#REF!"}},null,7,9,7,"00:32:36",9,"Performance Cycles",{"$f":"N652-M654*$E$1","v":"00:24:54"},{"$f":"N655-M654*$E$1","v":"00:27:56"}]
[42,null,"Jason Costello","Corinium CC","00:24:36","01:06:36",null,null,{"$f":"IF(COUNTIF(#REF!,'Results 2014'!C696)>COUNTIF(Points!$C$10:$C$86,'Results 2014'!C696),\"Not on Comps\",\"\")","v":{"$error":"#REF!"}},null,9,10,9,"00:34:56",10,"Corinium CC",{"$f":"N654-M655*$E$1","v":"00:23:36"},"00:27:00"]
[45,null,"Mark Foyn","Corinium CC","00:24:44","01:09:44",null,null,{"$f":"IF(COUNTIF(#REF!,'Results 2014'!C697)>COUNTIF(Points!$C$10:$C$86,'Results 2014'!C697),\"Not on Comps\",\"\")","v":{"$error":"#REF!"}},null,14,11,14,"00:36:00",11,"Corinium CC","00:20:56","00:22:22"]
[52,null,"Bradley Day","Ride 24/7","00:24:46","01:16:46",null,null,{"$f":"IF(COUNTIF(#REF!,'Results 2014'!C645)>COUNTIF(Points!$C$10:$C$86,'Results 2014'!C645),\"Not on Comps\",\"\")","v":{"$error":"#REF!"}},null,11,12,11,"00:36:22",12,"Corinium CC","00:25:00","00:26:47"]
[13,null,"Rory Gilling","Performance Cycles","00:24:47","00:37:47",null,null,{"$f":"IF(COUNTIF(#REF!,'Results 2014'!C646)>COUNTIF(Points!$C$10:$C$86,'Results 2014'!C646),\"Not on Comps\",\"\")","v":{"$error":"#REF!"}},null,13,13,13,"00:37:47",13,"Performance Cycles","00:23:22","00:25:37"]
[3,null,"Dave Gibson","Swindon RC","00:24:49","00:27:49",null,null,{"$f":"IF(COUNTIF(#REF!,'Results 2014'!C647)>COUNTIF(Points!$C$10:$C$86,'Results 2014'!C647),\"Not on Comps\",\"\")","v":{"$error":"#REF!"}},null,12,14,12,"00:38:37",14,"Corinium CC","00:25:47","00:29:35"]
[43,null,"Tom Longland","Swindon RC","00:24:58","01:07:58",null,null,{"$f":"IF(COUNTIF(#REF!,'Results 2014'!C648)>COUNTIF(Points!$C$10:$C$86,'Results 2014'!C648),\"Not on Comps\",\"\")","v":{"$error":"#REF!"}},null,19,15,19,"00:41:35",15,"Corinium CC","00:19:37","00:24:13"]
[22,null,"Gary Smith","Ride 24/7","00:25:15","00:47:15",null,null,{"$f":"IF(COUNTIF(#REF!,'Results 2014'!C649)>COUNTIF(Points!$C$10:$C$86,'Results 2014'!C649),\"Not on Comps\",\"\")","v":{"$error":"#REF!"}},null,17,16,17,"00:43:13",16,"Corinium CC","00:24:35",{"$f":"N663-M661*$E$1","v":"00:26:53"}]
[2,null,"Jeff Smith","Swindon RC","00:25:20","00:27:20",null,null,{"$f":"IF(COUNTIF(#REF!,'Results 2014'!C650)>COUNTIF(Points!$C$10:$C$86,'Results 2014'!C650),\"Not on Comps\",\"\")","v":{"$error":"#REF!"}},null,21,17,21,null,17,"Team Jewson",{"$f":"N661-M662*$E$1","v":"00:22:13"},{"$f":"N663-M662*$E$1","v":"00:22:53"}]
[11,null,"Jason Holder","Corinium CC","00:25:22","00:36:22",null,null,{"$f":"IF(COUNTIF(#REF!,'Results 2014'!C651)>COUNTIF(Points!$C$10:$C$86,'Results 2014'!C651),\"Not on Comps\",\"\")","v":{"$error":"#REF!"}},null,15,18,15,"00:43:53",18,"Corinium CC",{"$f":"N661-M663*$E$1","v":"00:28:13"},{"$f":"N664-M663*$E$1","v":"00:28:21"}]
[25,null,"Jim Curry","Performance Cycles","00:25:31","00:50:31",null,null,{"$f":"IF(COUNTIF(#REF!,'Results 2014'!C652)>COUNTIF(Points!$C$10:$C$86,'Results 2014'!C652),\"Not on Comps\",\"\")","v":{"$error":"#REF!"}},null,16,19,16,"00:43:21",19,"Corinium CC",{"$f":"N663-M664*$E$1","v":"00:27:53"},"00:31:15"]
[46,null,"Richard Kendal","Performance Cycles","00:25:32","01:11:32",null,null,{"$f":"IF(COUNTIF(#REF!,'Results 2014'!C653)>COUNTIF(Points!$C$10:$C$86,'Results 2014'!C653),\"Not on Comps\",\"\")","v":{"$error":"#REF!"}},null,22,20,22,"00:47:15",20,"Ride 24/7","00:21:21","00:25:33"]
[7,null,"Wendy Nicholls","Performance Cycles","00:25:36","00:32:36",null,null,{"$f":"IF(COUNTIF(#REF!,'Results 2014'!C654)>COUNTIF(Points!$C$10:$C$86,'Results 2014'!C654),\"Not on Comps\",\"\")","v":{"$error":"#REF!"}},null,20,21,20,"00:47:33",21,"Performance Cycles","00:27:15","00:27:57"]
[39,null,"Rob Patterson","Swindon RC","00:25:41","01:04:41",null,null,{"$f":"IF(COUNTIF(#REF!,'Results 2014'!C655)>COUNTIF(Points!$C$10:$C$86,'Results 2014'!C655),\"Not on Comps\",\"\")","v":{"$error":"#REF!"}},null,24,22,24,"00:47:57",22,"Ride 24/7","00:23:33","00:26:31"]
[9,null,"Gerry Peppin","Corinium CC","00:25:56","00:34:56",null,null,{"$f":"IF(COUNTIF(#REF!,'Results 2014'!C656)>COUNTIF(Points!$C$10:$C$86,'Results 2014'!C656),\"Not on Comps\",\"\")","v":{"$error":"#REF!"}},null,25,23,25,"00:50:31",23,"Performance Cycles","00:22:57","00:26:02"]
[17,null,"Paul Fuchs","Corinium CC","00:26:13","00:43:13",null,null,{"$f":"IF(COUNTIF(#REF!,'Results 2014'!C657)>COUNTIF(Points!$C$10:$C$86,'Results 2014'!C657),\"Not on Comps\",\"\")","v":{"$error":"#REF!"}},null,23,24,23,"00:51:02",24,"Corinium CC","00:27:31",{"$f":"N672-M669*$E$1","v":"00:36:08"}]
[12,null,"Steve Derrick","Corinium CC","00:26:37","00:38:37",null,null,{"$f":"IF(COUNTIF(#REF!,'Results 2014'!C658)>COUNTIF(Points!$C$10:$C$86,'Results 2014'!C658),\"Not on Comps\",\"\")","v":{"$error":"#REF!"}},null,35,25,35,null,25,{"$error":"#N/A"},{"$f":"N669-M670*$E$1","v":"00:16:02"},{"$f":"N672-M670*$E$1","v":"00:24:08"}]
[4,null,"Daniel Darby","Swindon RC","00:26:47","00:30:47",null,null,{"$f":"IF(COUNTIF(#REF!,'Results 2014'!C659)>COUNTIF(Points!$C$10:$C$86,'Results 2014'!C659),\"Not on Comps\",\"\")","v":{"$error":"#REF!"}},null,37,26,37,null,26,{"$error":"#N/A"},{"$f":"N669-M671*$E$1","v":"00:14:02"},{"$f":"N672-M671*$E$1","v":"00:22:08"}]
[5,null,"Paul Adams","Swindon RC","00:26:54","00:31:54",null,null,{"$f":"IF(COUNTIF(#REF!,'Results 2014'!C660)>COUNTIF(Points!$C$10:$C$86,'Results 2014'!C660),\"Not on Comps\",\"\")","v":{"$error":"#REF!"}},null,31,27,31,"00:59:08",27,"Dame Cycling",{"$f":"N669-M672*$E$1","v":"00:20:02"},{"$f":"N673-M672*$E$1","v":"00:28:36"}]
[38,null,"John Simmons","Performance Cycles","00:27:00","01:05:00",null,null,{"$f":"IF(COUNTIF(#REF!,'Results 2014'!C661)>COUNTIF(Points!$C$10:$C$86,'Results 2014'!C661),\"Not on Comps\",\"\")","v":{"$error":"#REF!"}},null,27,28,27,"00:59:36",28,{"$error":"#N/A"},{"$f":"N672-M673*$E$1","v":"00:32:08"},{"$f":"N674-M673*$E$1","v":"00:32:58"}]
[16,null,"Stephen Chapman","Corinium CC","00:27:21","00:43:21",null,null,{"$f":"IF(COUNTIF(#REF!,'Results 2014'!C662)>COUNTIF(Points!$C$10:$C$86,'Results 2014'!C662),\"Not on Comps\",\"\")","v":{"$error":"#REF!"}},null,29,29,29,"00:59:58",29,"Dame Cycling",{"$f":"N673-M674*$E$1","v":"00:30:36"},{"$f":"N677-M674*$E$1","v":"00:32:35"}]
[20,null,"Mervyn Cox","Performance Cycles","00:27:33","00:47:33",null,null,{"$f":"IF(COUNTIF(#REF!,'Results 2014'!C663)>COUNTIF(Points!$C$10:$C$86,'Results 2014'!C663),\"Not on Comps\",\"\")","v":{"$error":"#REF!"}},null,32,30,32,null,30,{"$error":"#N/A"},{"$f":"N674-M675*$E$1","v":"00:27:58"},{"$f":"N677-M675*$E$1","v":"00:29:35"}]
[23,null,"Denis Hedges","Corinium CC","00:28:02","00:51:02",null,null,null,null,26,31,26,null,31,{"$error":"#N/A"},{"$f":"N674-M676*$E$1","v":"00:33:58"},{"$f":"N677-M676*$E$1","v":"00:35:35"}]
[47,null,"Niall Thornycroft","Zappi's","00:28:02","01:15:02",null,null,null,null,30,32,30,"01:01:35",32,"Dame Cycling",{"$f":"N674-M677*$E$1","v":"00:29:58"},{"$f":"N679-M677*$E$1","v":"00:32:38"}]
[31,null,"Fay Tocknell","Dame Cycling","00:28:08","00:59:08",null,null,null,null,33,33,33,null,{"$f":"VLOOKUP(M678,$K$646:$L$698,2,FALSE)","v":33},{"$f":"VLOOKUP(M678,$A$645:$E$686,4,FALSE)","v":{"$error":"#N/A"}},{"$f":"N677-M678*$E$1","v":"00:28:35"},{"$f":"N679-M678*$E$1","v":"00:29:38"}]
[18,null,"John Whittaker","Corinium CC","00:28:26","00:46:26",null,null,null,null,34,34,34,"01:02:38",34,"Dame Cycling",{"$f":"N677-M679*$E$1","v":"00:27:35"},{"$f":"N680-M679*$E$1","v":"00:29:31"}]
[49,null,"Dino Maddern","Performance Cycles","00:28:35","01:17:35",null,null,null,null,40,35,40,"01:03:31",35,"Cheltenham CCC",{"$f":"N679-M680*$E$1","v":"00:22:38"},"00:23:50"]
[34,null,"Sophie Crampin","Dame Cycling","00:28:38","01:02:38",null,null,null,null,41,36,41,"01:03:50",36,"Ride 24/7","00:22:31","00:23:41"]
[15,null,"Terry Barry","Corinium CC","00:28:53","00:43:53",null,null,null,null,39,37,39,"01:04:41",37,"Swindon RC","00:24:50","00:26:00"]
[48,null,"Conor Thornycroft","Zappi's","00:29:02","01:17:02",null,null,null,null,38,38,38,"01:05:00",38,"Performance Cycles","00:26:41","00:28:36"]
[29,null,"Sam Hackett","Dame Cycling","00:30:58","00:59:58",null,null,null,null,42,39,42,"01:06:36",39,"Corinium CC","00:23:00","00:25:15"]
[36,null,"Ross Gregory","Corinium CC","00:31:15","01:07:15",null,null,null,null,36,40,36,"01:07:15",40,"Corinium CC","00:30:36","00:31:58"]
[30,null,"Sarah Fellows","Dame Cycling","00:31:35","01:01:35",null,null,null,null,43,41,43,"01:07:58",41,"Swindon RC","00:24:15",{"$f":"N688-M686*$E$1","v":"00:26:44"}]
[27,null,"Mandy Lloyd","Dame Cycling","00:32:36","00:59:36",null,null,null,null,44,42,44,null,42,{"$error":"#N/A"},{"$f":"N686-M687*$E$1","v":"00:23:58"},{"$f":"N688-M687*$E$1","v":"00:25:44"}]
[10,null,"Adrian Williams","Ride 24/7","Not known",null,{"$f":"VLOOKUP(A688,$M$646:$R$698,5,FALSE)","v":"00:20:47"},{"$f":"VLOOKUP(A688,$M$646:$R$698,6,FALSE)","v":"00:21:54"},null,null,45,43,45,"01:09:44",43,"Corinium CC",{"$f":"N686-M688*$E$1","v":"00:22:58"},{"$f":"N689-M688*$E$1","v":"00:26:32"}]
[44,null,"Alex Foyn","Corinium CC","Not known",null,"00:23:58","00:25:44",null,null,46,44,46,"01:11:32",44,"Performance Cycles",{"$f":"N688-M689*$E$1","v":"00:23:44"},"00:27:15"]
[26,null,"Anitia van Eijndhoven","Dame Cycling","Not known",null,"00:33:58","00:35:35",null,null,51,45,51,"01:13:15",45,"Corinium CC","00:20:32","00:23:14"]
[32,null,"Becky Brown","Dame Cycling","Not known",null,"00:27:58","00:29:35",null,null,50,46,50,"01:14:14",46,"Corinium CC","00:23:15","00:25:02"]
[8,null,"Corinne Clark","Performance Cycles","Not known",null,"00:23:54","00:24:36",null,null,47,47,47,"01:15:02",47,"Zappi's","00:27:14","00:28:12"]
[28,null,"Jean Kent","Dame Cycling","Not known",null,"00:00:00","00:00:00",null,null,53,48,53,"01:15:12",48,"Swindon RC","00:22:02","00:23:46"]
[6,null,"Jon Bayliss","Performance Cycles","Not known",null,"00:24:47","00:25:54",null,null,52,49,52,"01:16:46",49,"Ride 24/7","00:23:12","00:25:02"]
[33,null,"Kelli Salone","Dame Cycling","Not known",null,"00:28:35","00:29:38",null,null,48,50,48,"01:17:02",50,"Zappi's","00:28:46","00:29:35"]
[35,null,"Nick Lowe","Cotswold Veldrijden","Not known",null,"00:16:02","00:24:08",null,null,49,51,49,"01:17:35",51,"Performance Cycles","00:28:02",{"$f":"N697-M696*$E$1","v":-1.7824074074074131E-3}]
[37,null,"Niel Dunnage","Swindon RC","Not known",null,"00:14:02","00:22:08",null,null,null,52,18,"00:46:26",{"$error":"#N/A"},"Corinium CC",{"$f":"N696-M697*$E$1","v":"00:59:35"},-1.2500000000000001E-2]
[null,null,"2014-07-17",null,null,null,null,null,null,null,null,53,28,null,{"$error":"#N/A"},{"$error":"#N/A"}]
[1,1,"Peter Garnett","Swindon RC","00:21:46"]
[2,{"$f":"IF(E700=E699,\"=\",A700)","v":2},"Tony Costello","Corinium CC","00:22:18"]
[3,{"$f":"IF(E701=E700,\"=\",A701)","v":3},"Joe Schvartz","Swindon RC","00:22:51"]
[4,{"$f":"IF(E702=E701,\"=\",A702)","v":4},"Andy Claxton","Swindon RC","00:22:53"]
[5,5,"Julian Bullas","Cheltenham CCC","00:23:14"]
[6,6,"David Wright","Veleton","00:23:15"]
[7,7,"Richard Cooper","Swindon RC","00:23:17"]
[8,8,"Chris Broad-Drake","Swindon RC","00:23:19"]
[9,9,"Scott McArdle","Cheltenham CCC","00:23:27"]
[10,10,"Alex King","Performance Cycles","00:23:36"]
[11,11,"Paul Cook","Ride 24/7","00:23:37"]
[12,12,"Marc Allen","Swindon RC","00:23:55"]
[13,13,"Pete Scott","Cotswold Veldrijden","00:23:58"]
[14,14,"Nick Lowe","Cotswold Veldrijden","00:24:05"]
[15,15,"Dave Gibson","Swindon RC","00:24:06"]
[16,16,"Ross Thompson","Performance Cycles","00:24:09"]
[17,17,"Jason Costello","Corinium CC","00:24:13"]
[18,"=","Marcus Gales","Qoroz","00:24:13"]
[19,19,"Bradley Day","Ride 24/7","00:24:37"]
[20,20,"Mark Foyn","Corinium CC","00:24:41"]
[21,21,"Steve Davies","Swindon RC","00:24:43"]
[22,22,"Mick Sharratt","Cadence","00:24:51"]
[23,23,"Tim Strong","Ride 24/7","00:24:56"]
[24,24,"Keith Waller","Swindon RC","00:25:02"]
[25,25,"Jim Curry","Performance Cycles","00:25:17"]
[26,26,"Jeff Smith","Swindon RC","00:25:23"]
[27,"=","Rory Gilling","Performance Cycles","00:25:23"]
[28,28,"Jason Holder","Corinium CC","00:25:43"]
[29,29,"Rob Patterson","Swindon RC","00:25:45"]
[30,30,"Rob Compton","Performance Cycles","00:25:52"]
[31,31,"Richard Kendal","Performance Cycles","00:26:12"]
[32,32,"Daniel Darby","Swindon RC","00:26:30"]
[33,33,"Paul Adams","Swindon RC","00:26:35"]
[34,"=","Jon Bayliss","Performance Cycles","00:26:35"]
[35,35,"Gerry Peppin","Corinium CC","00:26:37"]
[36,36,"Steve Derrick","Corinium CC","00:26:54"]
[37,37,"Pat Hurt","Dame Cycling","00:26:59"]
[38,38,"Tim Gilling","Performance Cycles","00:27:16"]
[39,39,"Mervyn Cox","Performance Cycles","00:27:37"]
[40,40,"Neil Boyle","Ride 24/7","00:27:39"]
[41,41,"Denis Hedges","Corinium CC","00:28:03"]
[42,42,"Fay Tocknell","Dame Cycling","00:28:09"]
[43,43,"Kelli Salone","Dame Cycling","00:28:29"]
[44,44,"John Whittaker","Corinium CC","00:28:39"]
[45,45,"Terry Barry","Corinium CC","00:28:52"]
[46,46,"Dino Maddern","Performance Cycles","00:28:56"]
[47,47,"Becky Brown","Dame Cycling","00:29:30"]
[48,48,"William Mackenzie","Corinium CC","00:29:53"]
[49,49,"Marguerite Miatt","Corinium CC","00:30:17"]
[50,50,"Ross Gregory","Corinium CC","00:31:15"]
[51,51,"Carol Clarke","Corinium CC","00:31:21"]
[52,52,"Noel MacKenzie","Corinium CC","00:31:36"]
[53,53,"Mandy Lloyd","Dame Cycling","00:31:49"]
[54,54,"Anitia van Eijndhoven","Dame Cycling","00:35:19"]
[null,null,"2014-07-24"]
[1,1,"Peter Garnett","Swindon RC","00:22:00"]
[2,{"$f":"IF(E755=E754,\"=\",A755)","v":2},"Adrian Williams","Ride 24/7","00:22:04"]
[3,{"$f":"IF(E756=E755,\"=\",A756)","v":3},"Pete Hutchinson","Corinium CC","00:22:06"]
[4,{"$f":"IF(E757=E756,\"=\",A757)","v":4},"Russ Thompson/Chris Beardshaw\n(Two Up)","Performance Cycles","00:22:11"]
[5,"=","Chris Wood","Performance Cycles","00:22:11"]
[6,6,"Andy Claxton","Swindon RC","00:22:42"]
[7,7,"Ed Coxwell-Rogers ","Ride 24/7","00:22:45"]
[8,8,"Joe Schvartz","Swindon RC","00:22:59"]
[9,9,"Gary Smith","Ride 24/7","00:23:16"]
[10,10,"David Wright","Veleton","00:23:23"]
[11,11,"Alex King","Performance Cycles","00:23:31"]
[12,12,"Leigh Schvartz","Swindon RC","00:23:46"]
[13,13,"Bradley Day","Ride 24/7","00:23:53"]
[14,14,"Mick Sharratt","Cadence","00:23:55"]
[15,15,"Steve Davies","Swindon RC","00:23:59"]
[16,16,"Marc Allen","Swindon RC","00:24:00"]
[17,17,"Chris Broad-Drake","Swindon RC","00:24:06"]
[18,18,"Tim Strong","Ride 24/7","00:24:16"]
[19,19,"Dan Darby/Dave Gibson (Two Up)","Swindon RC","00:24:17"]
[20,20,"Trevor Hodges","Corinium CC","00:24:25"]
[21,21,"Tim Poole","Performance Cycles","00:24:30"]
[22,22,"Jim Curry","Performance Cycles","00:24:34"]
[23,23,"Sarah Gunn","Corinium CC","00:25:16"]
[24,24,"Andy McIntyre","Performance Cycles","00:25:18"]
[25,25,"Keith Waller","Swindon RC","00:25:20"]
[26,"=","Dave Evans","Ride 24/7","00:25:20"]
[27,27,"Jeff Smith","Swindon RC","00:25:21"]
[28,28,"Wendy Nicholls","Performance Cycles","00:25:22"]
[29,29,"Richard Kendal","Performance Cycles","00:25:32"]
[30,30,"Rob Compton","Performance Cycles","00:25:36"]
[31,31,"Helen Grosscurth","Performance Cycles","00:25:49"]
[32,32,"Kevin Lister","Corinium CC","00:25:57"]
[33,33,"Richard Woods","Corinium CC","00:26:03"]
[34,34,"Corinne Clark","Performance Cycles","00:26:09"]
[35,35,"Leanne Rogers","Ride 24/7","00:26:22"]
[36,36,"Gerry Peppin","Corinium CC","00:26:29"]
[37,37,"Jon Bayliss","Performance Cycles","00:26:37"]
[38,38,"Fay Tocknell","Dame Cycling","00:26:48"]
[39,39,"Mervyn Cox","Performance Cycles","00:27:08"]
[40,40,"Kieran Golding","Swindon RC","00:27:47"]
[41,41,"Kelli Salone","Dame Cycling","00:27:51"]
[42,42,"Nick Fiore","Cotswold Veldrijden","00:27:59"]
[43,43,"Denis Hedges","Corinium CC","00:28:13"]
[44,44,"John Whittaker","Corinium CC","00:28:31"]
[45,45,"Kevin Poole","Swindon Wheelers","00:28:36"]
[46,46,"Becky Brown","Dame Cycling","00:28:53"]
[47,47,"Keith Williams","Oxford CC","00:29:14"]
[48,48,"Paul Wood","Swindon Wheelers","00:29:16"]
[49,49,"Katie Scott","Swindon RC","00:29:45"]
[50,50,"Marguerite Miatt","Corinium CC","00:29:58"]
[51,51,"Kerrie Hutchinson","Cotswold Veldrijden","00:30:45"]
[52,52,"Emma Rider","Dame Cycling","00:31:03"]
[53,53,"Ross Gregory","Corinium CC","00:31:04"]
[54,"=","Jo Ratcliffe","Dame Cycling","00:31:04"]
[55,55,"Carol Clarke","Corinium CC","00:31:35"]
[56,56,"Jean Kent","Dame Cycling","00:31:44"]
[57,57,"Sue King","Dame Cycling","00:32:00"]
[58,58,"Mandy Lloyd","Dame Cycling","00:32:01"]
[59,59,"Conor Hutchinson","Corinium CC","00:32:13"]
[null,null,"2014-07-31"]
[1,1,"Dan Guest","Performance Cycles","00:20:49"]
[2,{"$f":"IF(E815=E814,\"=\",A815)","v":"="},"Neil Rutter/James Brown (Tandem)","Cotswold Veldrijden/Ireland","00:20:49"]
[3,{"$f":"IF(E816=E815,\"=\",A816)","v":3},"Peter Garnett","Swindon RC","00:22:15"]
[4,{"$f":"IF(E817=E816,\"=\",A817)","v":4},"Andy Claxton","Swindon RC","00:22:39"]
[5,5,"Mitch Evans","Ride 24/7","00:22:53"]
[6,6,"Gary Smith","Ride 24/7","00:23:04"]
[7,7,"Alex King","Performance Cycles","00:23:13"]
[8,8,"Joe Schvartz","Swindon RC","00:23:19"]
[9,9,"Paul Cook","Ride 24/7","00:23:37"]
[10,10,"Dave Gibson","Swindon RC","00:24:00"]
[11,11,"Mark Williams","Ride 24/7","00:24:04"]
[12,12,"Chris Broad-Drake","Swindon RC","00:24:07"]
[13,13,"Mick Sharratt","Cadence","00:24:11"]
[14,14,"Marc Allen","Swindon RC","00:24:16"]
[15,15,"Jason Costello","Corinium CC","00:24:31"]
[16,"=","Jim Curry","Performance Cycles","00:24:31"]
[17,17,"Paul Appleyard","Newbury RC","00:24:41"]
[18,18,"Simon James","Corinium CC","00:24:43"]
[19,19,"Keith Waller","Swindon RC","00:24:49"]
[20,20,"Jeff Smith","Swindon RC","00:24:55"]
[21,21,"Andy McIntyre","Performance Cycles","00:24:58"]
[22,22,"Fraser MacDonald","Corinium CC","00:25:18"]
[23,23,"Mike Firth","Corinium CC","00:25:40"]
[24,24,"Rob Patterson","Swindon RC","00:25:52"]
[25,25,"Harriet Guest/Corinne Clark\n(Two Up)","Performance Cycles","00:25:55"]
[26,26,"Craige Goodson","Cotswold Veldrijden","00:25:59"]
[27,27,"Paul Fuchs","Corinium CC","00:26:07"]
[28,28,"Wendy Nicholls","Performance Cycles","00:26:17"]
[29,29,"Angela Swain","Ride 24/7","00:26:41"]
[30,30,"Daniel Darby","Swindon RC","00:26:42"]
[31,31,"Archie Scott","Swindon RC","00:26:54"]
[32,32,"Stephen Chapman","Corinium CC","00:27:22"]
[33,33,"Kieran Golding","Swindon RC","00:28:12"]
[34,34,"John Whittaker","Corinium CC","00:28:14"]
[35,35,"Denis Hedges","Corinium CC","00:28:39"]
[36,36,"Kelli Salone","Dame Cycling","00:28:44"]
[37,37,"Carmen Young","Dame Cycling","00:29:06"]
[38,38,"Keith Williams","Corinium CC","00:29:31"]
[39,39,"Terry Barry","Corinium CC","00:29:43"]
[40,40,"Dave Miatt","Corinium CC","00:29:49"]
[41,41,"Debbie Pearce","Dame Cycling","00:30:45"]
[42,42,"Ross Gregory","Corinium CC","00:30:56"]
[43,43,"Mike Spencer","Dame Cycling","00:31:41"]
[44,44,"Jane ?","Cotswold Veldrijden","00:31:43"]
[45,45,"Jean Kent","Dame Cycling","00:31:54"]
[46,46,"Mandy Lloyd","Dame Cycling","00:32:10"]
[47,47,"Conor Hutchinson","Corinium CC","00:32:28"]
[48,48,"Mandy Scott","Swindon RC","00:32:33"]
[49,49,"Tracey Gravell","Dame Cycling","00:33:24"]
[50,50,"Anitia van Eijndhoven","Dame Cycling","00:34:50"]
[null,null,"2014-08-07"]
[1,1,"Dan Guest","Performance Cycles","00:20:39"]
[2,{"$f":"IF(E866=E865,\"=\",A866)","v":2},"Peter Garnett","Swindon RC","00:22:15"]
[3,{"$f":"IF(E867=E866,\"=\",A867)","v":3},"Les Liddiard","Team Jewson","00:22:21"]
[4,{"$f":"IF(E868=E867,\"=\",A868)","v":4},"Darrell Russell","Veleton","00:22:24"]
[5,5,"Alex King","Performance Cycles","00:22:34"]
[6,6,"Steve Yates","Corinium CC","00:22:38"]
[7,7,"Joe Schvartz","Swindon RC","00:22:40"]
[8,8,"Andy Morgan","Corinium CC","00:22:53"]
[9,9,"Leigh Schvartz","Swindon RC","00:23:11"]
[10,10,"Pete Scott","Cotswold Veldrijden","00:23:36"]
[11,11,"Paul Cook","Ride 24/7","00:23:37"]
[12,12,"Aaron Tayler","Cotswold Veldrijden","00:23:39"]
[13,"=","Richard Cooper","Swindon RC","00:23:39"]
[14,14,"Marc Allen","Swindon RC","00:23:43"]
[15,15,"Mick Sharratt","Cadence","00:23:57"]
[16,16,"Chris Broad-Drake","Swindon RC","00:24:00"]
[17,17,"Steve Davies","Swindon RC","00:24:09"]
[18,18,"Andy McIntyre","Performance Cycles","00:24:10"]
[19,19,"Simon James","Corinium CC","00:24:34"]
[20,"=","Dave Gibson","Swindon RC","00:24:34"]
[21,21,"Jeff Smith","Swindon RC","00:24:39"]
[22,22,"Andy Partl","Corinium CC","00:24:47"]
[23,23,"Keith Waller","Swindon RC","00:24:52"]
[24,24,"Jim Curry","Performance Cycles","00:24:53"]
[25,25,"Sarah Gunn","Corinium CC","00:25:09"]
[26,26,"Steve Buckley","Ride 24/7","00:25:11"]
[27,27,"Rob Patterson","Swindon RC","00:25:14"]
[28,28,"Kevin Lister","Corinium CC","00:25:29"]
[29,29,"Paul Fuchs","Corinium CC","00:25:53"]
[30,30,"Gerry Peppin","Corinium CC","00:25:57"]
[31,31,"Daniel Darby","Swindon RC","00:26:00"]
[32,32,"Richard Woods","Corinium CC","00:26:01"]
[33,33,"Pat Hurt","Dame Cycling","00:26:22"]
[34,"=","Paul Appleyard","Newbury RC","00:26:22"]
[35,35,"Stephen Chapman","Corinium CC","00:26:44"]
[36,36,"Fay Tocknell","Dame Cycling","00:26:56"]
[37,37,"Steve Derrick","Corinium CC","00:26:57"]
[38,38,"Harriet Guest","Performance Cycles","00:27:04"]
[39,39,"Rob Townsley","Chapeau CC","00:27:10"]
[40,40,"Alistair Moody","RNRMCA","00:27:20"]
[41,41,"Amy Cooper","Dame Cycling","00:27:24"]
[42,42,"Nick Fiore","Cotswold Veldrijden","00:27:29"]
[43,43,"Denis Hedges","Corinium CC","00:27:32"]
[44,44,"Mervyn Cox","Performance Cycles","00:27:35"]
[45,45,"John Ashurst","Corinium CC","00:27:50"]
[46,46,"John Whittaker","Corinium CC","00:28:05"]
[47,47,"Sophie Crampin","Dame Cycling","00:28:33"]
[48,48,"Kevin Poole","Swindon Wheelers","00:28:38"]
[49,49,"Becky Brown","Dame Cycling","00:28:44"]
[50,50,"Terry Barry","Corinium CC","00:29:10"]
[51,51,"Kelli Salone","Dame Cycling","00:29:22"]
[52,52,"Marguerite Miatt","Corinium CC","00:29:48"]
[53,53,"Debbie Pearce","Dame Cycling","00:30:12"]
[54,54,"Mandy Lloyd","Dame Cycling","00:31:13"]
[55,55,"Dave Knight","Dame Cycling","00:31:44"]
[56,56,"Carol Clarke","Corinium CC","00:31:48"]
[57,57,"Tracey Gravell","Dame Cycling","00:32:16"]
[58,58,"Sally Young","Dame Cycling","00:34:12"]
[59,59,"Anita van Eijndhoven","Dame Cycling","00:34:50"]
[60,60,"Michelle Dawson","Dame Cycling","00:35:54"]
[61,61,"Paula Knight","Dame Cycling","00:37:18"]
[null,null,"2014-08-14"]
[1,1,"Dan Guest","Performance Cycles","00:20:39"]
[2,{"$f":"IF(E928=E927,\"=\",A928)","v":2},"Tony Costello","Corinium CC","00:21:58"]
[3,{"$f":"IF(E929=E928,\"=\",A929)","v":3},"Peter Garnett","Swindon RC","00:22:32"]
[4,{"$f":"IF(E930=E929,\"=\",A930)","v":4},"Les Liddiard","Team Jewson","00:22:42"]
[5,5,"Joe Schvartz","Swindon RC","00:23:02"]
[6,6,"Steve Yates","Corinium CC","00:23:07"]
[7,7,"Pete Scott","Cotswold Veldrijden","00:23:41"]
[8,8,"Nick Lowe","Cotswold Veldrijden","00:23:59"]
[9,9,"Adriano dos Santos","Swindon RC","00:24:05"]
[10,10,"Chris Broad-Drake","Swindon RC","00:24:10"]
[11,11,"Mick Sharratt","Cadence","00:24:11"]
[12,12,"Dave Gibson","Swindon RC","00:24:23"]
[13,13,"Marc Allen","Swindon RC","00:24:46"]
[14,14,"Jason Costello","Corinium CC","00:25:00"]
[15,15,"Paul Appleyard","Newbury RC","00:25:11"]
[16,16,"Jeff Smith","Swindon RC","00:25:25"]
[17,17,"Keith Waller","Swindon RC","00:25:41"]
[18,18,"Harriet Guest","Performance Cycles","00:25:52"]
[19,19,"Steve Derrick","Corinium CC","00:27:33"]
[20,20,"Nick Kent","Dame Cycling","00:27:37"]
[21,21,"Kieran Golding","Swindon RC","00:27:54"]
[22,22,"John Whittaker","Corinium CC","00:28:30"]
[23,23,"Kelli Salone","Dame Cycling","00:29:01"]
[24,24,"Dave Miatt","Corinium CC","00:29:23"]
[25,25,"Keith Williams","Corinium CC","00:29:41"]
[26,26,"Becky Brown","Dame Cycling","00:30:00"]
[27,27,"Debbie Pearce","Dame Cycling","00:30:10"]
[28,28,"Jean Kent","Dame Cycling","00:30:22"]
[29,"=","Terry Barry","Corinium CC","00:30:22"]
[30,30,"Marguerite Miatt","Corinium CC","00:30:36"]
[31,31,"John Ashurst","Corinium CC","00:31:29"]
[32,32,"Allan Norwood/Jenny Norwood (Tandem)","Corinium CC","00:32:43"]
[33,33,"Mary Headley","Dame Cycling","00:33:44"]
[34,34,"Mervyn Cox","Performance Cycles","00:33:59"]
[null,null,"2014-08-21"]
[1,1,"Dan Guest","Performance Cycles","00:21:59"]
[2,{"$f":"IF(E963=E962,\"=\",A963)","v":2},"Tony Costello","Corinium CC","00:22:10"]
[3,{"$f":"IF(E964=E963,\"=\",A964)","v":3},"Pete Hutchinson","Corinium CC","00:22:22"]
[4,{"$f":"IF(E965=E964,\"=\",A965)","v":4},"Steve Yates","Corinium CC","00:22:33"]
[5,5,"Peter Garnett","Swindon RC","00:22:43"]
[6,6,"Les Liddiard","Team Jewson","00:22:54"]
[7,7,"Chris Wood","Performance Cycles","00:23:05"]
[8,8,"Joe Schvartz","Swindon RC","00:23:06"]
[9,9,"Alex King","Performance Cycles","00:23:12"]
[10,"=","Andy Claxton","Swindon RC","00:23:12"]
[11,11,"David Arthur","Performance Cycles","00:23:40"]
[12,12,"Callum Lister","Cotswold Veldrijden","00:23:43"]
[13,13,"Chris Broad-Drake","Swindon RC","00:23:50"]
[14,14,"Pete Scott","Cotswold Veldrijden","00:23:53"]
[15,15,"Nick Lowe","Cotswold Veldrijden","00:23:56"]
[16,16,"Dave Gibson/Jeff Smith (Two Up)","Swindon RC","00:24:09"]
[17,17,"Adriano dos Santos","Swindon RC","00:24:19"]
[18,18,"Andy McIntyre","Performance Cycles","00:24:42"]
[19,19,"Mick Sharratt","Cadence","00:24:44"]
[20,20,"Marc Allen","Swindon RC","00:24:56"]
[21,21,"Harriet Guest","Performance Cycles","00:24:57"]
[22,22,"Tom Sewell","Cotswold Veldrijden","00:25:01"]
[23,23,"Simon James","Corinium CC","00:25:15"]
[24,24,"Keith Waller","Swindon RC","00:25:21"]
[25,25,"Sarah Gunn","Corinium CC","00:25:57"]
[26,26,"Alex Foyn","Corinium CC","00:26:12"]
[27,27,"Pat Hurt","Dame Cycling","00:26:39"]
[28,28,"Kevin Lister","Corinium CC","00:26:42"]
[29,29,"Paul Fuchs","Corinium CC","00:26:44"]
[30,30,"Stephen Chapman","Corinium CC","00:27:06"]
[31,31,"Paul Adams","Swindon RC","00:27:24"]
[32,32,"Sharon Dolman","Cotswold Veldrijden","00:27:27"]
[33,33,"Leanne Rogers","Ride 24/7","00:27:38"]
[34,34,"Kieran Golding","Swindon RC","00:27:59"]
[35,35,"Daniel Darby","Swindon RC","00:28:01"]
[36,36,"Denis Hedges","Corinium CC","00:28:19"]
[37,37,"Glenn Chapman","Swindon RC","00:28:27"]
[38,38,"Sophie Crampin","Dame Cycling","00:29:02"]
[39,39,"Helen Fitton","Dame Cycling","00:29:03"]
[40,40,"Dave Miatt","Corinium CC","00:30:00"]
[41,41,"Keith Williams","Corinium CC","00:30:01"]
[42,42,"Becky Brown","Dame Cycling","00:30:04"]
[43,43,"Carmen Young","Dame Cycling","00:30:09"]
[44,44,"Kelli Salone","Dame Cycling","00:30:30"]
[45,45,"Marguerite Miatt","Corinium CC","00:30:46"]
[46,46,"Michael Spencer","Dame Cycling","00:31:06"]
[47,47,"Emma Rider","Dame Cycling","00:31:07"]
[48,48,"Terry Barry","Corinium CC","00:31:18"]
[49,49,"Jean Kent","Dame Cycling","00:31:38"]
[50,50,"Dave Knight","Dame Cycling","00:31:41"]
[51,51,"Sue King","Dame Cycling","00:32:03"]
[52,52,"Sam Hackett","Dame Cycling","00:32:16"]
[53,53,"Amanda Adams","Swindon RC","00:32:27"]
[54,54,"Kate Fitton","Dame Cycling","00:34:25"]
[55,55,"Michelle Dawson","Dame Cycling","00:35:29"]
[56,56,"Paula Knight","Dame Cycling","00:37:58"]

{"sheet":"Scratch Final 13","index":2,"n_rows":126,"n_cols":10,"rows_kept":126,"cut":false,"hidden":true,"merged":[[0,0,0,9],[2,2,2,8],[53,2,53,8],[124,0,124,9],[125,0,125,9],[71,2,71,8],[83,2,83,8],[89,2,89,8],[96,2,96,8]]}
["Swindon RC Club 10 Scratch Competitions 2013"]
[]
[null,"Overall","Best 7 rides"]
[null,null,1,2,3,4,5,6,7,"Average Speed (mph)"]
[1,"Peter Garnett","00:21:48","00:21:51","00:21:53","00:22:03","00:22:04","00:22:06","00:22:08",27.3]
[2,"Joe Schvartz","00:22:34","00:22:35","00:22:37","00:22:40","00:22:42","00:23:08","00:23:09",26.35]
[3,"Paul O'Driscoll","00:23:20","00:23:32","00:23:34","00:23:46","00:23:49","00:23:57","00:23:59",25.310000000000002]
[4,"Chris Broad-Drake","00:23:25","00:23:43","00:23:51","00:23:52","00:23:56","00:24:04","00:24:18",25.130000000000003]
[5,"Pete Jeans","00:23:39","00:23:43","00:23:52","00:23:59","00:24:00","00:24:16","00:24:25",25.020000000000003]
[6,"Marc Allen","00:23:57","00:24:17","00:24:26","00:24:30","00:24:37","00:24:39","00:24:49",24.53]
[7,"Adriano dos Santos","00:24:10","00:24:27","00:24:34","00:24:43","00:24:47","00:24:54","00:25:17",24.3]
[8,"Dave Gibson","00:24:36","00:24:43","00:24:47","00:24:49","00:24:50","00:24:57","00:26:10",24.020000000000003]
[9,"Ross Harvey","00:24:52","00:24:54","00:24:59","00:25:05","00:25:15","00:25:25","00:25:32",23.860000000000003]
[10,"Steve Davies","00:25:05","00:25:11","00:25:14","00:25:15","00:25:16","00:25:19","00:25:26",23.770000000000003]
[11,"Rob Patterson","00:25:17","00:25:21","00:25:22","00:25:33","00:25:48","00:25:58","00:26:03",23.42]
[12,"Alex McIntosh","00:27:02","00:27:11","00:27:32","00:27:42","00:28:31","00:29:32","00:31:04",21.16]
[13,"Nick Fiore","00:27:56","00:28:02","00:28:19","00:28:25","00:28:53","00:29:12","00:29:19",20.990000000000002]
[14,"Marc Roberts","00:27:51","00:27:53","00:28:07","00:28:34","00:29:20","00:29:36","00:29:43",20.89]
[15,"Keith Williams","00:28:31","00:29:04","00:29:15","00:29:23","00:29:25","00:29:37","00:30:55",20.380000000000003]
[16,"Rob Merrison","00:23:07","00:23:09","00:23:25","00:24:05","00:24:21","00:25:37","",25.05]
[17,"Aaron Collins","00:24:14","00:24:16","00:24:23","00:24:57","00:25:19","00:25:58","",24.150000000000002]
[18,"Keith Waller","00:25:31","00:25:42","00:25:45","00:25:46","00:25:58","00:26:36","",23.19]
[19,"Daniel Darby","00:27:24","00:27:34","00:28:01","00:28:30","00:28:34","00:28:50","",21.32]
[20,"Steve Harvey","00:27:52","00:28:09","00:28:14","00:28:18","00:28:33","","",21.270000000000003]
[21,"Archie Scott","00:29:10","00:30:27","00:31:00","00:31:11","00:31:52","","",19.53]
[22,"Mandy Scott","00:32:36","00:34:56","00:35:38","00:36:18","00:37:36","","",16.950000000000003]
[23,"Amanda Dickson","00:34:05","00:34:12","00:35:48","00:35:53","00:38:06","","",16.850000000000001]
[24,"Katie Scott","00:33:53","00:36:47","00:37:11","00:37:13","00:37:48","","",16.41]
[25,"Jeff Smith","00:25:41","00:25:50","00:25:57","00:25:58","","","",23.21]
[26,"Kieran Golding","00:28:11","00:28:36","00:28:57","00:29:00","","","",20.92]
[27,"Niel Dunnage","00:21:53","00:22:14","00:22:49","","","","",26.900000000000002]
[28,"Clive Hayter","00:24:25","00:24:53","","","","","",24.35]
[29,"Nick Mawson","00:24:37","00:25:09","","","","","",24.12]
[30,"Elliot Lassiter","00:24:53","00:25:27","","","","","",23.85]
[31,"Richard Cooper","00:24:16","00:26:19","","","","","",23.73]
[32,"Matt Cooper","00:25:35","00:26:51","","","","","",22.89]
[33,"Tom Longland","00:25:38","00:26:54","","","","","",22.85]
[34,"Bernie Beale","00:26:26","00:26:27","","","","","",22.700000000000003]
[35,"Lee Rayfield","00:26:37","00:27:01","","","","","",22.380000000000003]
[36,"Andy Bent","00:26:58","00:26:59","","","","","",22.25]
[37,"Mark Chick","00:26:25","00:27:53","","","","","",22.1]
[38,"Dave Newton","00:27:09","00:27:56","","","","","",21.790000000000003]
[39,"Bernie McPhail","00:28:08","00:29:17","","","","","",20.900000000000002]
[40,"Trevor Sherwood","00:28:46","00:29:19","","","","","",20.66]
[41,"Chris Fox","00:30:46","00:31:13","","","","","",19.37]
[42,"Andy Bentley","00:24:04","","","","","","",24.94]
[43,"David Ryan","00:24:23","","","","","","",24.610000000000003]
[44,"Paul Adams","00:27:12","","","","","","",22.060000000000002]
[45,"Craig Scott","00:27:16","","","","","","",22.01]
[46,"Michael Ponzo","00:27:29","","","","","","",21.84]
[47,"Daniel Watt","00:27:39","","","","","","",21.700000000000003]
[48,"Dave Roper","00:29:00","","","","","","",20.69]
[]
[null,"Non-Aero","Best 5 rides*"]
[null,null,1,2,3,4,5,null,null,"Average\nSpeed (mph)"]
[1,"Marc Allen","00:23:57","00:24:17","00:24:26","00:24:30","00:24:37",null,null,24.64]
[2,"Dave Gibson","00:24:36","00:24:43","00:24:47","00:24:49","00:24:50",null,null,24.25]
[3,"Daniel Darby","00:27:24","00:27:34","00:28:01","00:28:30","00:28:34",null,null,21.430000000000003]
[4,"Archie Scott","00:29:10","00:30:27","00:31:00","00:31:11","00:31:52","","",19.53]
[5,"Mandy Scott","00:32:36","00:34:56","00:35:38","00:36:18","00:37:36","","",16.950000000000003]
[6,"Amanda Dickson","00:34:05","00:34:12","00:35:48","00:35:53","00:38:06","","",16.850000000000001]
[7,"Katie Scott","00:33:53","00:36:47","00:37:11","00:37:13","00:37:48","","",16.41]
[8,"Jeff Smith","00:25:41","00:25:50","00:25:57","00:25:58","","","",23.21]
[9,"Elliot Lassiter","00:24:53","00:25:27","","","","","",23.85]
[10,"Lee Rayfield","00:26:37","00:27:01","","","","","",22.380000000000003]
[11,"Andy Bent","00:26:58","00:26:59","","","","","",22.25]
[12,"Mark Chick","00:26:25","00:27:53","","","","","",22.1]
[13,"Paul Adams","00:27:12","","","","","","",22.060000000000002]
[14,"Daniel Watt","00:27:39","","","","","","",21.700000000000003]
[15,"Dave Roper","00:29:00","","","","","","",20.69]
[]
[null,"50 & Over ","Best 6 rides*"]
[null,null,1,2,3,4,5,6,null,"Average\nSpeed (mph)"]
[1,"Joe Schvartz","00:22:34","00:22:35","00:22:37","00:22:40","00:22:42","00:23:08",null,26.42]
[2,"Chris Broad-Drake","00:23:25","00:23:43","00:23:51","00:23:52","00:23:56","00:24:04",null,25.21]
[3,"Pete Jeans","00:23:39","00:23:43","00:23:52","00:23:59","00:24:00","00:24:16",null,25.1]
[4,"Rob Patterson","00:25:17","00:25:21","00:25:22","00:25:33","00:25:48","00:25:58",null,23.490000000000002]
[5,"Keith Williams","00:28:31","00:29:04","00:29:15","00:29:23","00:29:25","00:29:37",null,20.55]
[6,"Steve Harvey","00:27:52","00:28:09","00:28:14","00:28:18","00:28:33","","",21.270000000000003]
[7,"Jeff Smith","00:25:41","00:25:50","00:25:57","00:25:58","","","",23.21]
[8,"Lee Rayfield","00:26:37","00:27:01","","","","","",22.380000000000003]
[9,"Bernie McPhail","00:28:08","00:29:17","","","","","",20.900000000000002]
[]
[null,"Ladies","Best 5 rides"]
[null,null,1,2,3,4,5,null,null,"Average\nSpeed (mph)"]
[1,"Mandy Scott","00:32:36","00:34:56","00:35:38","00:36:18","00:37:36","","",16.950000000000003]
[2,"Amanda Dickson","00:34:05","00:34:12","00:35:48","00:35:53","00:38:06","","",16.850000000000001]
[3,"Katie Scott","00:33:53","00:36:47","00:37:11","00:37:13","00:37:48","","",16.41]
[]
[null,"16 & Under ","Best 5 rides"]
[null,null,1,2,3,4,5,null,null,"Average\nSpeed (mph)"]
[1,"Archie Scott","00:29:10","00:30:27","00:31:00","00:31:11","00:31:52","","",19.53]
[2,"Katie Scott","00:33:53","00:36:47","00:37:11","00:37:13","00:37:48","","",16.41]
[3,"Elliot Lassiter","00:24:53","00:25:27",null,null,null,null,null,23.85]
[4,"Daniel Watt","00:27:39","","","","","","",21.700000000000003]
[]
[null,"Newcomer","Best 5 rides"]
[null,null,1,2,3,4,5,null,null,"Average\nSpeed (mph)"]
[1,"Rob Merrison","00:23:07","00:23:09","00:23:25","00:24:05","00:24:21",null,null,25.400000000000002]
[2,"Adriano dos Santos","00:24:10","00:24:27","00:24:34","00:24:43","00:24:47",null,null,24.46]
[3,"Dave Gibson","00:24:36","00:24:43","00:24:47","00:24:49","00:24:50",null,null,24.25]
[4,"Steve Davies","00:25:05","00:25:11","00:25:14","00:25:15","00:25:16",null,null,23.810000000000002]
[5,"Alex McIntosh","00:27:02","00:27:11","00:27:32","00:27:42","00:28:31",null,null,21.75]
[6,"Daniel Darby","00:27:24","00:27:34","00:28:01","00:28:30","00:28:34",null,null,21.430000000000003]
[7,"Nick Fiore","00:27:56","00:28:02","00:28:19","00:28:25","00:28:53",null,null,21.19]
[8,"Marc Roberts","00:27:51","00:27:53","00:28:07","00:28:34","00:29:20",null,null,21.17]
[9,"Archie Scott","00:29:10","00:30:27","00:31:00","00:31:11","00:31:52","","",19.53]
[10,"Mandy Scott","00:32:36","00:34:56","00:35:38","00:36:18","00:37:36","","",16.950000000000003]
[11,"Amanda Dickson","00:34:05","00:34:12","00:35:48","00:35:53","00:38:06","","",16.850000000000001]
[12,"Katie Scott","00:33:53","00:36:47","00:37:11","00:37:13","00:37:48","","",16.41]
[13,"Jeff Smith","00:25:41","00:25:50","00:25:57","00:25:58","","","",23.21]
[14,"Clive Hayter","00:24:25","00:24:53","","","","","",24.35]
[15,"Elliot Lassiter","00:24:53","00:25:27","","","","","",23.85]
[16,"Matt Cooper","00:25:35","00:26:51","","","","","",22.89]
[17,"Andy Bent","00:26:58","00:26:59","","","","","",22.25]
[18,"Mark Chick","00:26:25","00:27:53","","","","","",22.1]
[19,"Trevor Sherwood","00:28:46","00:29:19","","","","","",20.66]
[20,"Chris Fox","00:30:46","00:31:13","","","","","",19.37]
[21,"Andy Bentley","00:24:04","","","","","","",24.94]
[22,"Paul Adams","00:27:12","","","","","","",22.060000000000002]
[23,"Craig Scott","00:27:16","","","","","","",22.01]
[24,"Daniel Watt","00:27:39","","","","","","",21.700000000000003]
[25,"Dave Roper","00:29:00","","","","","","",20.69]
[]
["* Number of counting rides reduced as insufficient riders completed the required number of rides"]
["Shading denotes the required number of rides were not completed"]

{"sheet":"Points 2014","index":3,"n_rows":106,"n_cols":65,"rows_kept":106,"cut":false,"hidden":true,"merged":[[5,1,5,63],[7,1,7,2]]}
[null,null,86400]
[null,null,"Start Points",60]
[null,null,"Max Points",75]
[null,null,"Min Points",45,null,null,null,null,null,null,null,null,null,null,null,null,null,{"$f":"75*7","v":525}]
[null,null,"Counting Rides",7]
[null,"Swindon RC Club 10 Points Competition 2014"]
[null,null,null,null,null,null,null,null,"2013-04-17",null,null,{"$f":"I7+7","v":"2013-04-24"},null,null,{"$f":"L7+7","v":"2013-05-01"},null,null,{"$f":"O7+7","v":"2013-05-08"},null,null,{"$f":"R7+7","v":"2013-05-15"},null,null,{"$f":"U7+7","v":"2013-05-22"},null,null,{"$f":"X7+7","v":"2013-05-29"},null,null,"2014-06-05",null,null,{"$f":"AD7+14","v":"2014-06-19"},null,null,{"$f":"AG7+7","v":"2014-06-26"},null,null,{"$f":"AJ7+7","v":"2014-07-03"},null,null,{"$f":"AM7+7","v":"2014-07-10"},null,null,{"$f":"AP7+7","v":"2014-07-17"},null,null,{"$f":"AS7+7","v":"2014-07-24"},null,null,{"$f":"AV7+7","v":"2014-07-31"},null,null,{"$f":"AY7+7","v":"2014-08-07"},null,null,{"$f":"BB7+7","v":"2014-08-14"},null,null,{"$f":"BE7+7","v":"2014-08-21"},null,null,{"$f":"BH7+7","v":"2014-08-28"}]
[null,"(names shaded grey indicate the required marshaling and/or timekeeping has not yet been completed)",null,"Rides","Marshal/\nTimekeep","Total Points (Best 7)","Season's Best","Time","Points","Best\nto date","Time","Points","Best\nto date","Time","Points","Best\nto date","Time","Points","Best\nto date","Time","Points","Best\nto date","Time","Points","Best\nto date","Time","Points","Best\nto date","Time","Points","Best\nto date","Time","Points","Best\nto date","Time","Points","Best\nto date","Time","Points","Best\nto date","Time","Points","Best\nto date","Time","Points","Best\nto date","Time","Points","Best\nto date","Time","Points","Best\nto date","Time","Points","Best\nto date","Time","Points","Best\nto date","Time","Points","Best\nto date","Time","Points","Best\nto date"]
[null,null,2,{"$f":"COUNT(H9,K9,N9,Q9,T9,W9,Z9,AC9,AF9,AI9,AL9,AO9,AR9,AU9,AX9,BA9,BD9,BG9,BJ9)","v":0},{"$f":"VLOOKUP(C9,#REF!,2,FALSE)","v":{"$error":"#REF!"}},{"$f":"ROUNDDOWN(LARGE(H9:BK9,1)+(IF($D$5>1,LARGE(H9:BK9,2),0))+(IF($D$5>2,LARGE(H9:BK9,3),0))+(IF($D$5>3,LARGE(H9:BK9,4),0))+(IF($D$5>4,LARGE(H9:BK9,5),0))+(IF($D$5>5,LARGE(H9:BK9,6),0))+(IF($D$5>6,LARGE(H9:BK9,7),0)),0)","v":0},{"$f":"IF(D9=0,999,MIN(H9,K9,N9,Q9,T9,W9,Z9,AC9,AF9,AI9,AL9,AO9,AR9,AU9,AX9,BA9,BD9,BG9,BJ9))","v":999},null,{"$f":"IF(H9=\"\",0,$D$2)","v":0},{"$f":"IF(H9=\"\",\"\",H9)","v":""},null,{"$f":"IF(K9=\"\",0,IF(J9=\"\",$D$2,IF((J9-K9)*$C$1+$D$2<$D$4,$D$4,IF((J9-K9)*$C$1+$D$2>$D$3,$D$3,IF((J9-K9)*$C$1+$D$2<$D$3,(J9-K9)*$C$1+$D$2,0)))))","v":0},{"$f":"IF(AND(J9=\"\",K9=\"\")=TRUE,\"\",MIN(J9,K9))","v":""},null,{"$f":"IF(N9=\"\",0,IF(M9=\"\",$D$2,IF((M9-N9)*$C$1+$D$2<$D$4,$D$4,IF((M9-N9)*$C$1+$D$2>$D$3,$D$3,IF((M9-N9)*$C$1+$D$2<$D$3,(M9-N9)*$C$1+$D$2,0)))))","v":0},{"$f":"IF(AND(M9=\"\",N9=\"\")=TRUE,\"\",MIN(M9,N9))","v":""},null,{"$f":"IF(Q9=\"\",0,IF(P9=\"\",$D$2,IF((P9-Q9)*$C$1+$D$2<$D$4,$D$4,IF((P9-Q9)*$C$1+$D$2>$D$3,$D$3,IF((P9-Q9)*$C$1+$D$2<$D$3,(P9-Q9)*$C$1+$D$2,0)))))","v":0},null,null,{"$f":"IF(T9=\"\",0,IF(S9=\"\",$D$2,IF((S9-T9)*$C$1+$D$2<$D$4,$D$4,IF((S9-T9)*$C$1+$D$2>$D$3,$D$3,IF((S9-T9)*$C$1+$D$2<$D$3,(S9-T9)*$C$1+$D$2,0)))))","v":0},{"$f":"IF(AND(S9=\"\",T9=\"\")=TRUE,\"\",MIN(S9,T9))","v":""},null,{"$f":"IF(W9=\"\",0,IF(V9=\"\",$D$2,IF((V9-W9)*$C$1+$D$2<$D$4,$D$4,IF((V9-W9)*$C$1+$D$2>$D$3,$D$3,IF((V9-W9)*$C$1+$D$2<$D$3,(V9-W9)*$C$1+$D$2,0)))))","v":0},{"$f":"IF(AND(V9=\"\",W9=\"\")=TRUE,\"\",MIN(V9,W9))","v":""},null,{"$f":"IF(Z9=\"\",0,IF(Y9=\"\",$D$2,IF((Y9-Z9)*$C$1+$D$2<$D$4,$D$4,IF((Y9-Z9)*$C$1+$D$2>$D$3,$D$3,IF((Y9-Z9)*$C$1+$D$2<$D$3,(Y9-Z9)*$C$1+$D$2,0)))))","v":0},{"$f":"IF(AND(Y9=\"\",Z9=\"\")=TRUE,\"\",MIN(Y9,Z9))","v":""},null,{"$f":"IF(AC9=\"\",0,IF(AB9=\"\",$D$2,IF((AB9-AC9)*$C$1+$D$2<$D$4,$D$4,IF((AB9-AC9)*$C$1+$D$2>$D$3,$D$3,IF((AB9-AC9)*$C$1+$D$2<$D$3,(AB9-AC9)*$C$1+$D$2,0)))))","v":0},{"$f":"IF(AND(AB9=\"\",AC9=\"\")=TRUE,\"\",MIN(AB9,AC9))","v":""},null,{"$f":"IF(AF9=\"\",0,IF(AE9=\"\",$D$2,IF((AE9-AF9)*$C$1+$D$2<$D$4,$D$4,IF((AE9-AF9)*$C$1+$D$2>$D$3,$D$3,IF((AE9-AF9)*$C$1+$D$2<$D$3,(AE9-AF9)*$C$1+$D$2,0)))))","v":0},{"$f":"IF(AND(AE9=\"\",AF9=\"\")=TRUE,\"\",MIN(AE9,AF9))","v":""},null,{"$f":"IF(AI9=\"\",0,IF(AH9=\"\",$D$2,IF((AH9-AI9)*$C$1+$D$2<$D$4,$D$4,IF((AH9-AI9)*$C$1+$D$2>$D$3,$D$3,IF((AH9-AI9)*$C$1+$D$2<$D$3,(AH9-AI9)*$C$1+$D$2,0)))))","v":0},{"$f":"IF(AND(AH9=\"\",AI9=\"\")=TRUE,\"\",MIN(AH9,AI9))","v":""},null,{"$f":"IF(AL9=\"\",0,IF(AK9=\"\",$D$2,IF((AK9-AL9)*$C$1+$D$2<$D$4,$D$4,IF((AK9-AL9)*$C$1+$D$2>$D$3,$D$3,IF((AK9-AL9)*$C$1+$D$2<$D$3,(AK9-AL9)*$C$1+$D$2,0)))))","v":0},{"$f":"IF(AND(AK9=\"\",AL9=\"\")=TRUE,\"\",MIN(AK9,AL9))","v":""},null,{"$f":"IF(AO9=\"\",0,IF(AN9=\"\",$D$2,IF((AN9-AO9)*$C$1+$D$2<$D$4,$D$4,IF((AN9-AO9)*$C$1+$D$2>$D$3,$D$3,IF((AN9-AO9)*$C$1+$D$2<$D$3,(AN9-AO9)*$C$1+$D$2,0)))))","v":0},{"$f":"IF(AND(AN9=\"\",AO9=\"\")=TRUE,\"\",MIN(AN9,AO9))","v":""},null,{"$f":"IF(AR9=\"\",0,IF(AQ9=\"\",$D$2,IF((AQ9-AR9)*$C$1+$D$2<$D$4,$D$4,IF((AQ9-AR9)*$C$1+$D$2>$D$3,$D$3,IF((AQ9-AR9)*$C$1+$D$2<$D$3,(AQ9-AR9)*$C$1+$D$2,0)))))","v":0},{"$f":"IF(AND(AQ9=\"\",AR9=\"\")=TRUE,\"\",MIN(AQ9,AR9))","v":""},null,{"$f":"IF(AU9=\"\",0,IF(AT9=\"\",$D$2,IF((AT9-AU9)*$C$1+$D$2<$D$4,$D$4,IF((AT9-AU9)*$C$1+$D$2>$D$3,$D$3,IF((AT9-AU9)*$C$1+$D$2<$D$3,(AT9-AU9)*$C$1+$D$2,0)))))","v":0},{"$f":"IF(AND(AT9=\"\",AU9=\"\")=TRUE,\"\",MIN(AT9,AU9))","v":""},null,{"$f":"IF(AX9=\"\",0,IF(AW9=\"\",$D$2,IF((AW9-AX9)*$C$1+$D$2<$D$4,$D$4,IF((AW9-AX9)*$C$1+$D$2>$D$3,$D$3,IF((AW9-AX9)*$C$1+$D$2<$D$3,(AW9-AX9)*$C$1+$D$2,0)))))","v":0},{"$f":"IF(AND(AW9=\"\",AX9=\"\")=TRUE,\"\",MIN(AW9,AX9))","v":""},null,{"$f":"IF(BA9=\"\",0,IF(AZ9=\"\",$D$2,IF((AZ9-BA9)*$C$1+$D$2<$D$4,$D$4,IF((AZ9-BA9)*$C$1+$D$2>$D$3,$D$3,IF((AZ9-BA9)*$C$1+$D$2<$D$3,(AZ9-BA9)*$C$1+$D$2,0)))))","v":0},{"$f":"IF(AND(AZ9=\"\",BA9=\"\")=TRUE,\"\",MIN(AZ9,BA9))","v":""},null,{"$f":"IF(BD9=\"\",0,IF(BC9=\"\",$D$2,IF((BC9-BD9)*$C$1+$D$2<$D$4,$D$4,IF((BC9-BD9)*$C$1+$D$2>$D$3,$D$3,IF((BC9-BD9)*$C$1+$D$2<$D$3,(BC9-BD9)*$C$1+$D$2,0)))))","v":0},{"$f":"IF(AND(BC9=\"\",BD9=\"\")=TRUE,\"\",MIN(BC9,BD9))","v":""},null,{"$f":"IF(BG9=\"\",0,IF(BF9=\"\",$D$2,IF((BF9-BG9)*$C$1+$D$2<$D$4,$D$4,IF((BF9-BG9)*$C$1+$D$2>$D$3,$D$3,IF((BF9-BG9)*$C$1+$D$2<$D$3,(BF9-BG9)*$C$1+$D$2,0)))))","v":0},{"$f":"IF(AND(BF9=\"\",BG9=\"\")=TRUE,\"\",MIN(BF9,BG9))","v":""},null,{"$f":"IF(BJ9=\"\",0,IF(BI9=\"\",$D$2,IF((BI9-BJ9)*$C$1+$D$2<$D$4,$D$4,IF((BI9-BJ9)*$C$1+$D$2>$D$3,$D$3,IF((BI9-BJ9)*$C$1+$D$2<$D$3,(BI9-BJ9)*$C$1+$D$2,0)))))","v":0},{"$f":"IF(AND(BI9=\"\",BJ9=\"\")=TRUE,\"\",MIN(BI9,BJ9))","v":""}]
[1,{"$f":"IF(C10=\"\",\"\",IF(F10=F9,\"=\",A10))","v":1},"Marc Allen",16,{"$f":"VLOOKUP(C10,#REF!,2,FALSE)","v":{"$error":"#REF!"}},493,"00:23:43","00:26:02",60,"00:26:02","00:25:09",75,"00:25:09","00:24:56",73.000000000000028,"00:24:56","00:25:12",45,{"$f":"IF(AND(P10=\"\",Q10=\"\")=TRUE,\"\",MIN(P10,Q10))","v":"00:24:56"},"00:25:13",45,"00:24:56","00:24:44",71.999999999999474,"00:24:44","00:24:41",63.000000000000469,"00:24:41","00:24:38",62.999999999999872,"00:24:38","00:24:39",59.000000000000043,"00:24:38","00:24:44",53.999999999999957,"00:24:38",null,0,"00:24:38",null,0,"00:24:38","00:23:55",75,"00:23:55","00:24:00",55.00000000000022,"00:23:55","00:24:16",45,"00:23:55","00:23:43",72.000000000000369,"00:23:43","00:24:46",45,"00:23:43","00:24:56",45,"00:23:43",null,0,"00:23:43",{"$f":"IF(E10=\"N/A\",C10,IF(E10>=$C$9,C10,\"\"))","v":{"$error":"#REF!"}}]
[2,2,"Rob Patterson",9,{"$f":"VLOOKUP(C11,#REF!,2,FALSE)","v":{"$error":"#REF!"}},481,"00:25:14",null,0,"",null,0,"",null,0,"","00:26:50",60,"00:26:50","00:26:20",75,"00:26:20",null,0,"00:26:20","00:26:18",61.999999999999915,"00:26:18",null,0,"00:26:18","00:26:16",61.999999999999915,"00:26:16",null,0,"00:26:16","00:26:04",72.000000000000085,"00:26:04","00:25:41",75,"00:25:41","00:25:45",56.000000000000171,"00:25:41",null,0,"00:25:41","00:25:52",49.000000000000178,"00:25:41","00:25:14",75,"00:25:14",null,0,"00:25:14",null,0,"00:25:14",null,0,"00:25:14",{"$error":"#REF!"}]
[3,3,"Chris Broad-Drake",15,{"$f":"VLOOKUP(C12,#REF!,2,FALSE)","v":{"$error":"#REF!"}},476,"00:23:19","00:24:43",60,"00:24:43","00:25:07",45,"00:24:43","00:24:13",75,"00:24:13",null,0,"00:24:13","00:23:56",75,"00:23:56","00:23:53",63.000000000000469,"00:23:53","00:23:50",62.999999999999872,"00:23:50","00:24:15",45,"00:23:50","00:23:45",64.999999999999787,"00:23:45","00:24:39",45,"00:23:45",null,0,"00:23:45",null,0,"00:23:45","00:23:19",75,"00:23:19","00:24:06",45,"00:23:19","00:24:07",45,"00:23:19","00:24:00",45,"00:23:19","00:24:10",45,"00:23:19","00:23:50",45,"00:23:19",null,0,"00:23:19",{"$error":"#REF!"}]
[4,4,"Andy Claxton",11,{"$f":"VLOOKUP(C13,#REF!,2,FALSE)","v":{"$error":"#REF!"}},475,"00:22:39","00:23:35",60,"00:23:35",null,0,"00:23:35","00:23:45",49.999999999999837,"00:23:35",null,0,"00:23:35","00:23:19",75,"00:23:19","00:23:08",70.999999999999815,"00:23:08",null,0,"00:23:08","00:22:57",71.000000000000114,"00:22:57","00:22:52",65.000000000000085,"00:22:52","00:23:30",45,"00:22:52",null,0,"00:22:52",null,0,"00:22:52","00:22:53",59.000000000000043,"00:22:52","00:22:42",69.999999999999559,"00:22:42","00:22:39",63.000000000000469,"00:22:39",null,0,"00:22:39",null,0,"00:22:39","00:23:12",45,"00:22:39",null,0,"00:22:39",{"$error":"#REF!"}]
[5,5,"Paul Adams",7,{"$f":"VLOOKUP(C14,#REF!,2,FALSE)","v":{"$error":"#REF!"}},446,"00:26:35","00:27:55",60,"00:27:55","00:28:04",50.999999999999794,"00:27:55",null,0,"00:27:55",null,0,"00:27:55",null,0,"00:27:55","00:27:28",75,"00:27:28","00:27:22",65.999999999999432,"00:27:22",null,0,"00:27:22",null,0,"00:27:22",null,0,"00:27:22",null,0,"00:27:22","00:26:54",75,"00:26:54","00:26:35",75,"00:26:35",null,0,"00:26:35",null,0,"00:26:35",null,0,"00:26:35",null,0,"00:26:35","00:27:24",45,"00:26:35",null,0,"00:26:35",{"$error":"#REF!"}]
[6,6,"Daniel Darby",11,{"$f":"VLOOKUP(C15,#REF!,2,FALSE)","v":{"$error":"#REF!"}},442,"00:26:00","00:26:51",60,"00:26:51",null,{"$f":"IF(K15=\"\",0,IF(J15=\"\",$D$2,IF((J15-K15)*$C$1+$D$2=$D$4,$D$4,IF((J15-K15)*$C$1+$D$2>$D$3,$D$3,IF((J15-K15)*$C$1+$D$2<$D$3,(J15-K15)*$C$1+$D$2,0)))))","v":0},"00:26:51",null,0,"00:26:51",null,0,"00:26:51","00:27:19",45,"00:26:51","00:27:07",45,"00:26:51",null,0,"00:26:51","00:26:46",65.000000000000085,"00:26:46","00:26:38",67.999999999999957,"00:26:38",null,0,"00:26:38","00:26:28",70.000000000000171,"00:26:28","00:26:47",45,"00:26:28","00:26:30",57.999999999999787,"00:26:28",null,0,"00:26:28","00:26:42",45.999999999999709,"00:26:28","00:26:00",75,"00:26:00",null,0,"00:26:00","00:28:01",45,"00:26:00",null,0,"00:26:00",{"$error":"#REF!"}]
[7,7,"Joe Schvartz",12,{"$f":"VLOOKUP(C16,#REF!,2,FALSE)","v":{"$error":"#REF!"}},435,"00:22:40","00:23:27",60,"00:23:27","00:22:52",{"$f":"IF(K16=\"\",0,IF(J16=\"\",$D$2,IF((J16-K16)*$C$1+$D$2<$D$4,$D$4,IF((J16-K16)*$C$1+$D$2>$D$3,$D$3,IF((J16-K16)*$C$1+$D$2<$D$3,(J16-K16)*$C$1+$D$2,0)))))","v":75},"00:22:52",null,0,"00:22:52",null,0,"00:22:52","00:22:51",60.999999999999659,"00:22:51","00:22:49",61.999999999999616,"00:22:49","00:23:00",49.000000000000178,"00:22:49","00:23:02",47.00000000000027,"00:22:49",null,0,"00:22:49",null,0,"00:22:49",null,0,"00:22:49",null,0,"00:22:49","00:22:51",58.000000000000384,"00:22:49","00:22:59",50.000000000001037,"00:22:49","00:23:19",45,"00:22:49","00:22:40",69.000000000000213,"00:22:40","00:23:02",45,"00:22:40","00:23:06",45,"00:22:40",null,0,"00:22:40",{"$error":"#REF!"}]
[8,"=","Jeff Smith",13,{"$f":"VLOOKUP(C17,#REF!,2,FALSE)","v":{"$error":"#REF!"}},435,"00:24:39","00:25:24",60,"00:25:24",null,0,"00:25:24","00:27:09",45,"00:25:24","00:26:53",45,"00:25:24","00:25:49",45,"00:25:24","00:25:58",45,"00:25:24","00:26:22",45,"00:25:24",null,0,"00:25:24","00:26:17",45,"00:25:24",null,0,"00:25:24",null,0,"00:25:24","00:25:20",63.999999999999829,"00:25:20","00:25:23",57.000000000000128,"00:25:20","00:25:21",59.000000000000043,"00:25:20","00:24:55",75,"00:24:55","00:24:39",75,"00:24:39","00:25:25",45,"00:24:39",null,0,"00:24:39",null,0,"00:24:39",{"$error":"#REF!"}]
[9,9,"Kieran Golding",9,{"$f":"VLOOKUP(C18,#REF!,2,FALSE)","v":{"$error":"#REF!"}},432,"00:27:41","00:29:13",60,"00:29:13","00:28:21",75,"00:28:21",null,0,"00:28:21",null,0,"00:28:21","00:28:31",50.000000000000135,"00:28:21",null,0,"00:28:21","00:27:52",75,"00:27:52","00:27:41",71.000000000000114,"00:27:41",null,0,"00:27:41",null,0,"00:27:41",null,0,"00:27:41",null,0,"00:27:41",null,0,"00:27:41","00:27:47",53.999999999999957,"00:27:41","00:28:12",45,"00:27:41",null,0,"00:27:41","00:27:54",46.999999999999964,"00:27:41","00:27:59",45,"00:27:41",null,0,"00:27:41",{"$error":"#REF!"}]
[10,"=","Steve Davies",9,{"$f":"VLOOKUP(C19,#REF!,2,FALSE)","v":{"$error":"#REF!"}},432,"00:23:59",null,0,"","00:25:26",60,"00:25:26",null,0,"00:25:26",null,0,"00:25:26","00:25:06",75,"00:25:06",null,0,"00:25:06",null,0,"00:25:06","00:24:12",75,"00:24:12","00:24:28",45,"00:24:12","00:24:54",45,"00:24:12","00:24:18",54.000000000000263,"00:24:12",null,0,"00:24:12","00:24:43",45,"00:24:12","00:23:59",73.000000000000341,"00:23:59",null,0,"00:23:59","00:24:09",50.000000000000433,"00:23:59",null,0,"00:23:59",null,0,"00:23:59",null,0,"00:23:59",{"$error":"#REF!"}]
[11,11,"Keith Waller",10,{"$f":"VLOOKUP(C20,#REF!,2,FALSE)","v":{"$error":"#REF!"}},418,"00:24:49",null,0,"",null,0,"","00:25:53",60,"00:25:53",null,0,"00:25:53","00:25:05",75,"00:25:05","00:25:25",45,"00:25:05",null,0,"00:25:05",null,0,"00:25:05",null,0,"00:25:05","00:25:37",45,"00:25:05",null,0,"00:25:05",null,0,"00:25:05","00:25:02",62.999999999999567,"00:25:02","00:25:20",45,"00:25:02","00:24:49",73.000000000000341,"00:24:49","00:24:52",56.999999999999829,"00:24:49","00:25:41",45,"00:24:49","00:25:21",45,"00:24:49",null,0,"00:24:49",{"$error":"#REF!"}]
[12,12,"Les Liddiard",10,{"$f":"VLOOKUP(C21,#REF!,2,FALSE)","v":{"$error":"#REF!"}},404,"00:22:21","00:22:42",60,"00:22:42","00:22:29",72.999999999999588,"00:22:29","00:22:28",61.000000000000256,"00:22:28",null,0,"00:22:28","00:22:49",45,"00:22:28","00:22:35",52.999999999999552,"00:22:28",null,0,"00:22:28",null,0,"00:22:28",null,0,"00:22:28",null,0,"00:22:28","00:22:46",45,"00:22:28","00:22:42",46.000000000000156,"00:22:28",null,0,"00:22:28",null,0,"00:22:28",null,0,"00:22:28","00:22:21",66.999999999999844,"00:22:21","00:22:42",45,"00:22:21","00:22:54",45,"00:22:21",null,0,"00:22:21",{"$error":"#REF!"}]
[13,13,"Adriano dos Santos",7,{"$f":"VLOOKUP(C22,#REF!,2,FALSE)","v":{"$error":"#REF!"}},392,"00:23:52","00:25:07",60,"00:25:07","00:24:18",75,"00:24:18",null,0,"00:24:18","00:25:07",45,"00:24:18","00:23:52",75,"00:23:52",null,0,"00:23:52","00:26:08",45,"00:23:52",null,0,"00:23:52",null,0,"00:23:52",null,0,"00:23:52",null,0,"00:23:52",null,0,"00:23:52",null,0,"00:23:52",null,0,"00:23:52",null,0,"00:23:52",null,0,"00:23:52","00:24:05",47.00000000000027,"00:23:52","00:24:19",45,"00:23:52",null,0,"00:23:52",{"$error":"#REF!"}]
[14,14,"Dave Gibson",11,{"$f":"VLOOKUP(C23,#REF!,2,FALSE)","v":{"$error":"#REF!"}},376,"00:24:00","00:24:15",60,"00:24:15",null,0,"00:24:15","00:25:21",45,"00:24:15","00:24:51",45,"00:24:15","00:24:38",45,"00:24:15","00:24:36",45,"00:24:15",null,0,"00:24:15","00:24:29",46.000000000000014,"00:24:15",null,0,"00:24:15",null,0,"00:24:15",null,0,"00:24:15","00:24:49",45,"00:24:15","00:24:06",68.999999999999915,"00:24:06",null,0,"00:24:06","00:24:00",66.000000000000043,"00:24:00","00:24:34",45,"00:24:00","00:24:23",45,"00:24:00",null,0,"00:24:00",null,0,"00:24:00",{"$error":"#REF!"}]
[15,15,"Peter Garnett",15,{"$f":"VLOOKUP(C24,#REF!,2,FALSE)","v":{"$error":"#REF!"}},362,"00:21:46","00:21:59",60,"00:21:59","00:22:25",45,"00:21:59","00:22:26",45,"00:21:59",null,0,"00:21:59","00:22:13",46.000000000000156,"00:21:59","00:22:18",45,"00:21:59","00:22:17",45,"00:21:59","00:22:20",45,"00:21:59","00:22:15",45,"00:21:59",null,0,"00:21:59",null,0,"00:21:59","00:22:12",46.999999999999964,"00:21:59","00:21:46",73.000000000000185,"00:21:46","00:22:00",46.000000000000462,"00:21:46","00:22:15",45,"00:21:46","00:22:15",45,"00:21:46","00:22:32",45,"00:21:46","00:22:43",45,"00:21:46",null,0,"00:21:46",{"$error":"#REF!"}]
[16,16,"Stuart Longhurst",5,{"$f":"VLOOKUP(C25,#REF!,2,FALSE)","v":{"$error":"#REF!"}},346,"00:26:52","00:28:24",60,"00:28:24",null,0,"00:28:24",null,0,"00:28:24",null,0,"00:28:24","00:27:49",75,"00:27:49","00:27:48",61.000000000000256,"00:27:48","00:27:28",75,"00:27:28","00:26:52",75,"00:26:52",null,0,"00:26:52",null,0,"00:26:52",null,0,"00:26:52",null,0,"00:26:52",null,0,"00:26:52",null,0,"00:26:52",null,0,"00:26:52",null,0,"00:26:52",null,0,"00:26:52",null,0,"00:26:52",null,0,"00:26:52",{"$error":"#REF!"}]
[17,17,"Tom Sewell",6,{"$f":"VLOOKUP(C26,#REF!,2,FALSE)","v":{"$error":"#REF!"}},341,"00:25:01",null,0,"","00:25:33",60,"00:25:33","00:26:20",45,"00:25:33","00:26:05",45,"00:25:33","00:25:29",63.999999999999829,"00:25:29","00:25:37",52.00000000000005,"00:25:29",null,0,"00:25:29",null,0,"00:25:29",null,0,"00:25:29",null,0,"00:25:29",null,0,"00:25:29",null,0,"00:25:29",null,0,"00:25:29",null,0,"00:25:29",null,0,"00:25:29",null,0,"00:25:29",null,0,"00:25:29","00:25:01",75,"00:25:01",null,0,"00:25:01",{"$error":"#REF!"}]
[18,18,"Richard Cooper",5,{"$f":"VLOOKUP(C27,#REF!,2,FALSE)","v":{"$error":"#REF!"}},327,"00:23:17",null,0,"","00:24:53",60,"00:24:53",null,0,"00:24:53",null,0,"00:24:53","00:23:44",75,"00:23:44","00:23:30",73.999999999999687,"00:23:30",null,0,"00:23:30",null,0,"00:23:30",null,0,"00:23:30",null,0,"00:23:30",null,0,"00:23:30",null,0,"00:23:30","00:23:17",73.000000000000341,"00:23:17",null,0,"00:23:17",null,0,"00:23:17","00:23:39",45,"00:23:17",null,0,"00:23:17",null,0,"00:23:17",null,0,"00:23:17",{"$error":"#REF!"}]
[19,19,"Amanda Adams",6,{"$f":"VLOOKUP(C28,#REF!,2,FALSE)","v":{"$error":"#REF!"}},318,"00:31:12",null,0,"","00:32:30",60,"00:32:30",null,0,"00:32:30","00:31:12",75,"00:31:12","00:31:24",48.000000000000526,"00:31:12",null,0,"00:31:12","00:31:48",45,"00:31:12",null,0,"00:31:12",null,0,"00:31:12",null,0,"00:31:12","00:31:41",45,"00:31:12",null,0,"00:31:12",null,0,"00:31:12",null,0,"00:31:12",null,0,"00:31:12",null,0,"00:31:12",null,0,"00:31:12","00:32:27",45,"00:31:12",null,0,"00:31:12",{"$error":"#REF!"}]
[20,20,"Rob Merrison",5,{"$f":"VLOOKUP(C29,#REF!,2,FALSE)","v":{"$error":"#REF!"}},310,"00:23:28",null,0,"",null,0,"","00:24:44",60,"00:24:44",null,0,"00:24:44","00:23:58",75,"00:23:58","00:24:24",45,"00:23:58",null,0,"00:23:58","00:24:03",55.00000000000022,"00:23:58","00:23:28",75,"00:23:28",null,0,"00:23:28",null,0,"00:23:28",null,0,"00:23:28",null,0,"00:23:28",null,0,"00:23:28",null,0,"00:23:28",null,0,"00:23:28",null,0,"00:23:28",null,0,"00:23:28",null,0,"00:23:28",{"$error":"#REF!"}]
[21,21,"Mandy Scott",5,{"$f":"VLOOKUP(C30,#REF!,2,FALSE)","v":{"$error":"#REF!"}},300,"00:28:39","00:31:21",60,"00:31:21","00:30:25",75,"00:30:25",null,0,"00:30:25",null,0,"00:30:25","00:28:39",75,"00:28:39",null,0,"00:28:39","00:30:21",45,"00:28:39",null,0,"00:28:39",null,0,"00:28:39",null,0,"00:28:39",null,0,"00:28:39",null,0,"00:28:39",null,0,"00:28:39",null,0,"00:28:39","00:32:33",45,"00:28:39",null,0,"00:28:39",null,0,"00:28:39",null,0,"00:28:39",null,0,"00:28:39",{"$error":"#REF!"}]
[22,22,"Katie Scott",4,{"$f":"VLOOKUP(C31,#REF!,2,FALSE)","v":{"$error":"#REF!"}},255,"00:29:45","00:32:55",60,"00:32:55","00:33:51",45,"00:32:55",null,0,"00:32:55",null,0,"00:32:55",null,0,"00:32:55",null,0,"00:32:55","00:30:59",75,"00:30:59",null,0,"00:30:59",null,0,"00:30:59",null,0,"00:30:59",null,0,"00:30:59",null,0,"00:30:59",null,0,"00:30:59","00:29:45",75,"00:29:45",null,0,"00:29:45",null,0,"00:29:45",null,0,"00:29:45",null,0,"00:29:45",null,0,"00:29:45",{"$error":"#REF!"}]
[23,23,"Archie Scott",4,{"$f":"VLOOKUP(C32,#REF!,2,FALSE)","v":{"$error":"#REF!"}},244,"00:26:54","00:27:18",60,"00:27:18","00:26:57",75,"00:26:57",null,0,"00:26:57",null,0,"00:26:57","00:27:11",46.000000000000014,"00:26:57",null,0,"00:26:57",null,0,"00:26:57",null,0,"00:26:57",null,0,"00:26:57",null,0,"00:26:57",null,0,"00:26:57",null,0,"00:26:57",null,0,"00:26:57",null,0,"00:26:57","00:26:54",63.000000000000171,"00:26:54",null,0,"00:26:54",null,0,"00:26:54",null,0,"00:26:54",null,0,"00:26:54",{"$error":"#REF!"}]
[24,24,"Leigh Schvartz",3,{"$f":"VLOOKUP(C33,#REF!,2,FALSE)","v":{"$error":"#REF!"}},210,"00:23:11",null,0,"","00:25:30",60,"00:25:30",null,0,"00:25:30",null,0,"00:25:30",null,0,"00:25:30",null,0,"00:25:30",null,0,"00:25:30",null,0,"00:25:30",null,0,"00:25:30",null,0,"00:25:30",null,0,"00:25:30",null,0,"00:25:30",null,0,"00:25:30","00:23:46",75,"00:23:46",null,0,"00:23:46","00:23:11",75,"00:23:11",null,0,"00:23:11",null,0,"00:23:11",null,0,"00:23:11",{"$error":"#REF!"}]
[25,25,"Laura Chadwick",3,{"$f":"VLOOKUP(C34,#REF!,2,FALSE)","v":{"$error":"#REF!"}},180,"00:31:37",null,0,"","00:32:42",60,"00:32:42",null,0,"00:32:42",null,0,"00:32:42","00:31:37",75,"00:31:37",null,0,"00:31:37","00:32:11",45,"00:31:37",null,0,"00:31:37",null,0,"00:31:37",null,0,"00:31:37",null,0,"00:31:37",null,0,"00:31:37",null,0,"00:31:37",null,0,"00:31:37",null,0,"00:31:37",null,0,"00:31:37",null,0,"00:31:37",null,0,"00:31:37",null,0,"00:31:37",{"$error":"#REF!"}]
[26,26,"Tom Longland",3,{"$f":"VLOOKUP(C35,#REF!,2,FALSE)","v":{"$error":"#REF!"}},165,"00:24:23",null,0,"",null,0,"",null,0,"","01:26:50",60,null,"00:24:23",60,"00:24:23",null,0,"00:24:23",null,0,"00:24:23",null,0,"00:24:23",null,0,"00:24:23",null,0,"00:24:23",null,0,"00:24:23","00:24:58",45,"00:24:23",null,0,"00:24:23",null,0,"00:24:23",null,0,"00:24:23",null,0,"00:24:23",null,0,"00:24:23",null,0,"00:24:23",null,0,"00:24:23",{"$error":"#REF!"}]
[27,27,"Paul O'Driscoll",2,{"$f":"VLOOKUP(C36,#REF!,2,FALSE)","v":{"$error":"#REF!"}},105,"00:23:54",null,0,"","00:23:54",60,"00:23:54","00:24:18",45,"00:23:54",null,0,{"$f":"IF(AND(P36=\"\",Q36=\"\")=TRUE,\"\",MIN(P36,Q36))","v":"00:23:54"},null,0,"00:23:54",null,0,"00:23:54",null,0,"00:23:54",null,0,"00:23:54",null,0,"00:23:54",null,0,"00:23:54",null,0,"00:23:54",null,0,"00:23:54",null,0,"00:23:54",null,0,"00:23:54",null,0,"00:23:54",null,0,"00:23:54",null,0,"00:23:54",null,0,"00:23:54",null,0,"00:23:54",{"$error":"#REF!"}]
[28,"=","Niel Dunnage",2,{"$f":"VLOOKUP(C37,#REF!,2,FALSE)","v":{"$error":"#REF!"}},105,"00:22:21","00:22:21",60,"00:22:21",null,0,"00:22:21",null,0,"00:22:21",null,0,"00:22:21",null,0,"00:22:21",null,0,"00:22:21",null,0,"00:22:21",null,0,"00:22:21",null,0,"00:22:21","00:22:47",45,"00:22:21",null,0,"00:22:21",null,0,"00:22:21",null,0,"00:22:21",null,0,"00:22:21",null,0,"00:22:21",null,0,"00:22:21",null,0,"00:22:21",null,0,"00:22:21",null,0,"00:22:21",{"$error":"#REF!"}]
[29,"=","Sharon Dolman",2,{"$f":"VLOOKUP(C38,#REF!,2,FALSE)","v":{"$error":"#REF!"}},105,"00:26:36",null,0,"",null,0,"",null,0,"",null,0,"",null,0,"",null,0,"",null,0,"",null,0,"","00:26:36",60,"00:26:36",null,0,"00:26:36",null,0,"00:26:36",null,0,"00:26:36",null,0,"00:26:36",null,0,"00:26:36",null,0,"00:26:36",null,0,"00:26:36",null,0,"00:26:36","00:27:27",45,"00:26:36",null,0,"00:26:36"]
[30,30,"Malcolm Walklett",1,{"$f":"VLOOKUP(C39,#REF!,2,FALSE)","v":{"$error":"#REF!"}},60,"00:24:56","00:24:56",60,"00:24:56",null,0,"00:24:56",null,0,"00:24:56",null,0,"00:24:56",null,0,"00:24:56",null,0,"00:24:56",null,0,"00:24:56",null,0,"00:24:56",null,0,"00:24:56",null,0,"00:24:56",null,0,"00:24:56",null,0,"00:24:56",null,0,"00:24:56",null,0,"00:24:56",null,0,"00:24:56",null,0,"00:24:56",null,0,"00:24:56",null,0,"00:24:56",null,0,"00:24:56",{"$f":"IF(E39=\"N/A\",C39,IF(E39>=$C$9,C39,\"\"))","v":{"$error":"#REF!"}}]
[31,"=","David Parkin",1,{"$f":"VLOOKUP(C40,#REF!,2,FALSE)","v":{"$error":"#REF!"}},60,"00:29:34",null,0,"","00:29:34",60,"00:29:34",null,0,"00:29:34",null,0,"00:29:34",null,0,"00:29:34",null,0,"00:29:34",null,0,"00:29:34",null,0,"00:29:34",null,0,"00:29:34",null,0,"00:29:34",null,0,"00:29:34",null,0,"00:29:34",null,0,"00:29:34",null,0,"00:29:34",null,0,"00:29:34",null,0,"00:29:34",null,0,"00:29:34",null,0,"00:29:34",null,0,"00:29:34",{"$f":"IF(E40=\"N/A\",C40,IF(E40>=$C$9,C40,\"\"))","v":{"$error":"#REF!"}}]
[32,"=","Kim Lassiter",1,{"$f":"VLOOKUP(C41,#REF!,2,FALSE)","v":{"$error":"#REF!"}},60,"00:26:10",null,0,"",null,0,"",null,0,"",null,0,"","00:26:10",60,"00:26:10",null,0,"00:26:10",null,0,"00:26:10",null,0,"00:26:10",null,0,"00:26:10",null,0,"00:26:10",null,0,"00:26:10",null,0,"00:26:10",null,0,"00:26:10",null,0,"00:26:10",null,0,"00:26:10",null,0,"00:26:10",null,0,"00:26:10",null,0,"00:26:10",null,0,"00:26:10",{"$f":"IF(E41=\"N/A\",C41,IF(E41>=$C$9,C41,\"\"))","v":{"$error":"#REF!"}}]
[33,"=","Chris Lowe",1,{"$f":"VLOOKUP(C42,#REF!,2,FALSE)","v":{"$error":"#REF!"}},60,"00:23:51",null,0,"",null,0,"",null,0,"",null,0,"",null,0,"",null,0,"",null,0,"","00:23:51",60,"00:23:51",null,0,"00:23:51",null,0,"00:23:51",null,0,"00:23:51",null,0,"00:23:51",null,0,"00:23:51",null,0,"00:23:51",null,0,"00:23:51",null,0,"00:23:51",null,0,"00:23:51",null,0,"00:23:51",null,0,"00:23:51",{"$f":"IF(E42=\"N/A\",C42,IF(E42>=$C$9,C42,\"\"))","v":{"$error":"#REF!"}}]
[34,"=","Oisin Kelly",1,{"$f":"VLOOKUP(C43,#REF!,2,FALSE)","v":{"$error":"#REF!"}},60,"00:29:28",null,0,"",null,0,"",null,0,"",null,0,"",null,0,"",null,0,"",null,0,"",null,0,"","00:29:28",60,"00:29:28",null,0,"00:29:28",null,0,"00:29:28",null,0,"00:29:28",null,0,"00:29:28",null,0,"00:29:28",null,0,"00:29:28",null,0,"00:29:28",null,0,"00:29:28",null,0,"00:29:28",null,0,"00:29:28"]
[35,"",null,0,{"$f":"VLOOKUP(C44,#REF!,2,FALSE)","v":{"$error":"#REF!"}},0,999,null,0,"",null,0,"",null,0,"",null,0,"",null,0,"",null,0,"",null,0,"",null,0,"",null,0,"",null,0,"",null,0,"",null,0,"",null,0,"",null,0,"",null,0,"",null,0,"",null,0,"",null,0,"",null,0,""]
[36,"",null,0,{"$f":"VLOOKUP(C45,#REF!,2,FALSE)","v":{"$error":"#REF!"}},0,999,null,0,"",null,0,"",null,0,"",null,0,"",null,0,"",null,0,"",null,0,"",null,0,"",null,0,"",null,0,"",null,0,"",null,0,"",null,0,"",null,0,"",null,0,"",null,0,"",null,0,"",null,0,"",null,0,""]
[37,"",null,0,{"$f":"VLOOKUP(C46,#REF!,2,FALSE)","v":{"$error":"#REF!"}},0,999,null,0,"",null,0,"",null,0,"",null,0,"",null,0,"",null,0,"",null,0,"",null,0,"",null,0,"",null,0,"",null,0,"",null,0,"",null,0,"",null,0,"",null,0,"",null,0,"",null,0,"",null,0,"",null,0,""]
[38,"",null,0,{"$f":"VLOOKUP(C47,#REF!,2,FALSE)","v":{"$error":"#REF!"}},0,999,null,0,"",null,0,"",null,0,"",null,0,"",null,0,"",null,0,"",null,0,"",null,0,"",null,0,"",null,0,"",null,0,"",null,0,"",null,0,"",null,0,"",null,0,"",null,0,"",null,0,"",null,0,"",null,0,""]
[39,"",null,0,{"$f":"VLOOKUP(C48,#REF!,2,FALSE)","v":{"$error":"#REF!"}},0,999,null,0,"",null,0,"",null,0,"",null,0,"",null,0,"",null,0,"",null,0,"",null,0,"",null,0,"",null,0,"",null,0,"",null,0,"",null,0,"",null,0,"",null,0,"",null,0,"",null,0,"",null,0,"",null,0,""]
[40,"",null,0,{"$f":"VLOOKUP(C49,#REF!,2,FALSE)","v":{"$error":"#REF!"}},0,999,null,0,"",null,0,"",null,0,"",null,0,"",null,0,"",null,0,"",null,0,"",null,0,"",null,0,"",null,0,"",null,0,"",null,0,"",null,0,"",null,0,"",null,0,"",null,0,"",null,0,"",null,0,"",null,0,""]
[41,"",null,0,{"$f":"VLOOKUP(C50,#REF!,2,FALSE)","v":{"$error":"#REF!"}},0,999,null,0,"",null,0,"",null,0,"",null,0,"",null,0,"",null,0,"",null,0,"",null,0,"",null,0,"",null,0,"",null,0,"",null,0,"",null,0,"",null,0,"",null,0,"",null,0,"",null,0,"",null,0,"",null,0,""]
[42,"",null,0,{"$f":"VLOOKUP(C51,#REF!,2,FALSE)","v":{"$error":"#REF!"}},0,999,null,0,"",null,0,"",null,0,"",null,0,"",null,0,"",null,0,"",null,0,"",null,0,"",null,0,"",null,0,"",null,0,"",null,0,"",null,0,"",null,0,"",null,0,"",null,0,"",null,0,"",null,0,"",null,0,""]
[43,"",null,0,{"$f":"VLOOKUP(C52,#REF!,2,FALSE)","v":{"$error":"#REF!"}},0,999,null,0,"",null,0,"",null,0,"",null,0,"",null,0,"",null,0,"",null,0,"",null,0,"",null,0,"",null,0,"",null,0,"",null,0,"",null,0,"",null,0,"",null,0,"",null,0,"",null,0,"",null,0,"",null,0,""]
[44,"",null,0,{"$f":"VLOOKUP(C53,#REF!,2,FALSE)","v":{"$error":"#REF!"}},0,999,null,0,"",null,0,"",null,0,"",null,0,"",null,0,"",null,0,"",null,0,"",null,0,"",null,0,"",null,0,"",null,0,"",null,0,"",null,0,"",null,0,"",null,0,"",null,0,"",null,0,"",null,0,"",null,0,""]
[45,"",null,0,{"$f":"VLOOKUP(C54,#REF!,2,FALSE)","v":{"$error":"#REF!"}},0,999,null,0,"",null,0,"",null,0,"",null,0,"",null,0,"",null,0,"",null,0,"",null,0,"",null,0,"",null,0,"",null,0,"",null,0,"",null,0,"",null,0,"",null,0,"",null,0,"",null,0,"",null,0,"",null,0,""]
[46,"",null,0,{"$f":"VLOOKUP(C55,#REF!,2,FALSE)","v":{"$error":"#REF!"}},0,999,null,0,"",null,0,"",null,0,"",null,0,"",null,0,"",null,0,"",null,0,"",null,0,"",null,0,"",null,0,"",null,0,"",null,0,"",null,0,"",null,0,"",null,0,"",null,0,"",null,0,"",null,0,"",null,0,""]
[47,"",null,0,{"$f":"VLOOKUP(C56,#REF!,2,FALSE)","v":{"$error":"#REF!"}},0,999,null,0,"",null,0,"",null,0,"",null,0,"",null,0,"",null,0,"",null,0,"",null,0,"",null,0,"",null,0,"",null,0,"",null,0,"",null,0,"",null,0,"",null,0,"",null,0,"",null,0,"",null,0,"",null,0,""]
[48,"",null,0,{"$f":"VLOOKUP(C57,#REF!,2,FALSE)","v":{"$error":"#REF!"}},0,999,null,0,"",null,0,"",null,0,"",null,0,"",null,0,"",null,0,"",null,0,"",null,0,"",null,0,"",null,0,"",null,0,"",null,0,"",null,0,"",null,0,"",null,0,"",null,0,"",null,0,"",null,0,"",null,0,""]
[49,"",null,0,{"$f":"VLOOKUP(C58,#REF!,2,FALSE)","v":{"$error":"#REF!"}},0,999,null,0,"",null,0,"",null,0,"",null,0,"",null,0,"",null,0,"",null,0,"",null,0,"",null,0,"",null,0,"",null,0,"",null,0,"",null,0,"",null,0,"",null,0,"",null,0,"",null,0,"",null,0,"",null,0,""]
[50,"",null,0,{"$f":"VLOOKUP(C59,#REF!,2,FALSE)","v":{"$error":"#REF!"}},0,999,null,0,"",null,0,"",null,0,"",null,0,"",null,0,"",null,0,"",null,0,"",null,0,"",null,0,"",null,0,"",null,0,"",null,0,"",null,0,"",null,0,"",null,0,"",null,0,"",null,0,"",null,0,"",null,0,""]
[51,"",null,0,{"$f":"VLOOKUP(C60,#REF!,2,FALSE)","v":{"$error":"#REF!"}},0,999,null,0,"",null,0,"",null,0,"",null,0,"",null,0,"",null,0,"",null,0,"",null,0,"",null,0,"",null,0,"",null,0,"",null,0,"",null,0,"",null,0,"",null,0,"",null,0,"",null,0,"",null,0,"",null,0,""]
[52,"",null,0,{"$f":"VLOOKUP(C61,#REF!,2,FALSE)","v":{"$error":"#REF!"}},0,999,null,0,"",null,0,"",null,0,"",null,0,"",null,0,"",null,0,"",null,0,"",null,0,"",null,0,"",null,0,"",null,0,"",null,0,"",null,0,"",null,0,"",null,0,"",null,0,"",null,0,"",null,0,"",null,0,""]
[53,"",null,0,{"$f":"VLOOKUP(C62,#REF!,2,FALSE)","v":{"$error":"#REF!"}},0,999,null,0,"",null,0,"",null,0,"",null,0,"",null,0,"",null,0,"",null,0,"",null,0,"",null,0,"",null,0,"",null,0,"",null,0,"",null,0,"",null,0,"",null,0,"",null,0,"",null,0,"",null,0,"",null,0,""]
[54,"",null,0,{"$f":"VLOOKUP(C63,#REF!,2,FALSE)","v":{"$error":"#REF!"}},0,999,null,0,"",null,0,"",null,0,"",null,0,"",null,0,"",null,0,"",null,0,"",null,0,"",null,0,"",null,0,"",null,0,"",null,0,"",null,0,"",null,0,"",null,0,"",null,0,"",null,0,"",null,0,"",null,0,""]
[55,"",null,0,{"$f":"VLOOKUP(C64,#REF!,2,FALSE)","v":{"$error":"#REF!"}},0,999,null,0,"",null,0,"",null,0,"",null,0,"",null,0,"",null,0,"",null,0,"",null,0,"",null,0,"",null,0,"",null,0,"",null,0,"",null,0,"",null,0,"",null,0,"",null,0,"",null,0,"",null,0,"",null,0,""]
[56,"",null,0,{"$f":"VLOOKUP(C65,#REF!,2,FALSE)","v":{"$error":"#REF!"}},0,999,null,0,"",null,0,"",null,0,"",null,0,"",null,0,"",null,0,"",null,0,"",null,0,"",null,0,"",null,0,"",null,0,"",null,0,"",null,0,"",null,0,"",null,0,"",null,0,"",null,0,"",null,0,"",null,0,""]
[57,"",null,0,{"$f":"VLOOKUP(C66,#REF!,2,FALSE)","v":{"$error":"#REF!"}},0,999,null,0,"",null,0,"",null,0,"",null,0,"",null,0,"",null,0,"",null,0,"",null,0,"",null,0,"",null,0,"",null,0,"",null,0,"",null,0,"",null,0,"",null,0,"",null,0,"",null,0,"",null,0,"",null,0,""]
[58,"",null,0,{"$f":"VLOOKUP(C67,#REF!,2,FALSE)","v":{"$error":"#REF!"}},0,999,null,0,"",null,0,"",null,0,"",null,0,"",null,0,"",null,0,"",null,0,"",null,0,"",null,0,"",null,0,"",null,0,"",null,0,"",null,0,"",null,0,"",null,0,"",null,0,"",null,0,"",null,0,"",null,0,""]
[59,"",null,0,{"$f":"VLOOKUP(C68,#REF!,2,FALSE)","v":{"$error":"#REF!"}},0,999,null,0,"",null,0,"",null,0,"",null,0,"",null,0,"",null,0,"",null,0,"",null,0,"",null,0,"",null,0,"",null,0,"",null,0,"",null,0,"",null,0,"",null,0,"",null,0,"",null,0,"",null,0,"",null,0,""]
[60,"",null,0,{"$f":"VLOOKUP(C69,#REF!,2,FALSE)","v":{"$error":"#REF!"}},0,999,null,0,"",null,0,"",null,0,"",null,0,"",null,0,"",null,0,"",null,0,"",null,0,"",null,0,"",null,0,"",null,0,"",null,0,"",null,0,"",null,0,"",null,0,"",null,0,"",null,0,"",null,0,"",null,0,""]
[61,"",null,0,{"$f":"VLOOKUP(C70,#REF!,2,FALSE)","v":{"$error":"#REF!"}},0,999,null,0,"",null,0,"",null,0,"",null,0,"",null,0,"",null,0,"",null,0,"",null,0,"",null,0,"",null,0,"",null,0,"",null,0,"",null,0,"",null,0,"",null,0,"",null,0,"",null,0,"",null,0,"",null,0,""]
[62,"",null,0,{"$f":"VLOOKUP(C71,#REF!,2,FALSE)","v":{"$error":"#REF!"}},0,999,null,0,"",null,0,"",null,0,"",null,0,"",null,0,"",null,0,"",null,0,"",null,0,"",null,0,"",null,0,"",null,0,"",null,0,"",null,0,"",null,0,"",null,0,"",null,0,"",null,0,"",null,0,"",null,0,""]
[63,"",null,0,{"$f":"VLOOKUP(C72,#REF!,2,FALSE)","v":{"$error":"#REF!"}},0,999,null,0,"",null,0,"",null,0,"",null,0,"",null,0,"",null,0,"",null,0,"",null,0,"",null,0,"",null,0,"",null,0,"",null,0,"",null,0,"",null,0,"",null,0,"",null,0,"",null,0,"",null,0,"",null,0,""]
[64,"",null,{"$f":"COUNT(H73,K73,N73,Q73,T73,W73,Z73,AC73,AF73,AI73,AL73,AO73,AR73,AU73,AX73,BA73,BD73,BG73,BJ73)","v":0},{"$f":"VLOOKUP(C73,#REF!,2,FALSE)","v":{"$error":"#REF!"}},{"$f":"ROUNDDOWN(LARGE(H73:BK73,1)+(IF($D$5>1,LARGE(H73:BK73,2),0))+(IF($D$5>2,LARGE(H73:BK73,3),0))+(IF($D$5>3,LARGE(H73:BK73,4),0))+(IF($D$5>4,LARGE(H73:BK73,5),0))+(IF($D$5>5,LARGE(H73:BK73,6),0))+(IF($D$5>6,LARGE(H73:BK73,7),0)),0)","v":0},{"$f":"IF(D73=0,999,MIN(H73,K73,N73,Q73,T73,W73,Z73,AC73,AF73,AI73,AL73,AO73,AR73,AU73,AX73,BA73,BD73,BG73,BJ73))","v":999},null,{"$f":"IF(H73=\"\",0,$D$2)","v":0},{"$f":"IF(H73=\"\",\"\",H73)","v":""},null,0,{"$f":"IF(AND(J73=\"\",K73=\"\")=TRUE,\"\",MIN(J73,K73))","v":""},null,{"$f":"IF(N73=\"\",0,IF(M73=\"\",$D$2,IF((M73-N73)*$C$1+$D$2<$D$4,$D$4,IF((M73-N73)*$C$1+$D$2>$D$3,$D$3,IF((M73-N73)*$C$1+$D$2<$D$3,(M73-N73)*$C$1+$D$2,0)))))","v":0},{"$f":"IF(AND(M73=\"\",N73=\"\")=TRUE,\"\",MIN(M73,N73))","v":""},null,{"$f":"IF(Q73=\"\",0,IF(P73=\"\",$D$2,IF((P73-Q73)*$C$1+$D$2<$D$4,$D$4,IF((P73-Q73)*$C$1+$D$2>$D$3,$D$3,IF((P73-Q73)*$C$1+$D$2<$D$3,(P73-Q73)*$C$1+$D$2,0)))))","v":0},"",null,{"$f":"IF(T73=\"\",0,IF(S73=\"\",$D$2,IF((S73-T73)*$C$1+$D$2<$D$4,$D$4,IF((S73-T73)*$C$1+$D$2>$D$3,$D$3,IF((S73-T73)*$C$1+$D$2<$D$3,(S73-T73)*$C$1+$D$2,0)))))","v":0},{"$f":"IF(AND(S73=\"\",T73=\"\")=TRUE,\"\",MIN(S73,T73))","v":""},null,{"$f":"IF(W73=\"\",0,IF(V73=\"\",$D$2,IF((V73-W73)*$C$1+$D$2<$D$4,$D$4,IF((V73-W73)*$C$1+$D$2>$D$3,$D$3,IF((V73-W73)*$C$1+$D$2<$D$3,(V73-W73)*$C$1+$D$2,0)))))","v":0},{"$f":"IF(AND(V73=\"\",W73=\"\")=TRUE,\"\",MIN(V73,W73))","v":""},null,{"$f":"IF(Z73=\"\",0,IF(Y73=\"\",$D$2,IF((Y73-Z73)*$C$1+$D$2<$D$4,$D$4,IF((Y73-Z73)*$C$1+$D$2>$D$3,$D$3,IF((Y73-Z73)*$C$1+$D$2<$D$3,(Y73-Z73)*$C$1+$D$2,0)))))","v":0},{"$f":"IF(AND(Y73=\"\",Z73=\"\")=TRUE,\"\",MIN(Y73,Z73))","v":""},null,{"$f":"IF(AC73=\"\",0,IF(AB73=\"\",$D$2,IF((AB73-AC73)*$C$1+$D$2<$D$4,$D$4,IF((AB73-AC73)*$C$1+$D$2>$D$3,$D$3,IF((AB73-AC73)*$C$1+$D$2<$D$3,(AB73-AC73)*$C$1+$D$2,0)))))","v":0},{"$f":"IF(AND(AB73=\"\",AC73=\"\")=TRUE,\"\",MIN(AB73,AC73))","v":""},null,{"$f":"IF(AF73=\"\",0,IF(AE73=\"\",$D$2,IF((AE73-AF73)*$C$1+$D$2<$D$4,$D$4,IF((AE73-AF73)*$C$1+$D$2>$D$3,$D$3,IF((AE73-AF73)*$C$1+$D$2<$D$3,(AE73-AF73)*$C$1+$D$2,0)))))","v":0},{"$f":"IF(AND(AE73=\"\",AF73=\"\")=TRUE,\"\",MIN(AE73,AF73))","v":""},null,{"$f":"IF(AI73=\"\",0,IF(AH73=\"\",$D$2,IF((AH73-AI73)*$C$1+$D$2<$D$4,$D$4,IF((AH73-AI73)*$C$1+$D$2>$D$3,$D$3,IF((AH73-AI73)*$C$1+$D$2<$D$3,(AH73-AI73)*$C$1+$D$2,0)))))","v":0},{"$f":"IF(AND(AH73=\"\",AI73=\"\")=TRUE,\"\",MIN(AH73,AI73))","v":""},null,{"$f":"IF(AL73=\"\",0,IF(AK73=\"\",$D$2,IF((AK73-AL73)*$C$1+$D$2<$D$4,$D$4,IF((AK73-AL73)*$C$1+$D$2>$D$3,$D$3,IF((AK73-AL73)*$C$1+$D$2<$D$3,(AK73-AL73)*$C$1+$D$2,0)))))","v":0},{"$f":"IF(AND(AK73=\"\",AL73=\"\")=TRUE,\"\",MIN(AK73,AL73))","v":""},null,{"$f":"IF(AO73=\"\",0,IF(AN73=\"\",$D$2,IF((AN73-AO73)*$C$1+$D$2<$D$4,$D$4,IF((AN73-AO73)*$C$1+$D$2>$D$3,$D$3,IF((AN73-AO73)*$C$1+$D$2<$D$3,(AN73-AO73)*$C$1+$D$2,0)))))","v":0},{"$f":"IF(AND(AN73=\"\",AO73=\"\")=TRUE,\"\",MIN(AN73,AO73))","v":""},null,{"$f":"IF(AR73=\"\",0,IF(AQ73=\"\",$D$2,IF((AQ73-AR73)*$C$1+$D$2<$D$4,$D$4,IF((AQ73-AR73)*$C$1+$D$2>$D$3,$D$3,IF((AQ73-AR73)*$C$1+$D$2<$D$3,(AQ73-AR73)*$C$1+$D$2,0)))))","v":0},{"$f":"IF(AND(AQ73=\"\",AR73=\"\")=TRUE,\"\",MIN(AQ73,AR73))","v":""},null,{"$f":"IF(AU73=\"\",0,IF(AT73=\"\",$D$2,IF((AT73-AU73)*$C$1+$D$2<$D$4,$D$4,IF((AT73-AU73)*$C$1+$D$2>$D$3,$D$3,IF((AT73-AU73)*$C$1+$D$2<$D$3,(AT73-AU73)*$C$1+$D$2,0)))))","v":0},{"$f":"IF(AND(AT73=\"\",AU73=\"\")=TRUE,\"\",MIN(AT73,AU73))","v":""},null,{"$f":"IF(AX73=\"\",0,IF(AW73=\"\",$D$2,IF((AW73-AX73)*$C$1+$D$2<$D$4,$D$4,IF((AW73-AX73)*$C$1+$D$2>$D$3,$D$3,IF((AW73-AX73)*$C$1+$D$2<$D$3,(AW73-AX73)*$C$1+$D$2,0)))))","v":0},{"$f":"IF(AND(AW73=\"\",AX73=\"\")=TRUE,\"\",MIN(AW73,AX73))","v":""},null,{"$f":"IF(BA73=\"\",0,IF(AZ73=\"\",$D$2,IF((AZ73-BA73)*$C$1+$D$2<$D$4,$D$4,IF((AZ73-BA73)*$C$1+$D$2>$D$3,$D$3,IF((AZ73-BA73)*$C$1+$D$2<$D$3,(AZ73-BA73)*$C$1+$D$2,0)))))","v":0},{"$f":"IF(AND(AZ73=\"\",BA73=\"\")=TRUE,\"\",MIN(AZ73,BA73))","v":""},null,{"$f":"IF(BD73=\"\",0,IF(BC73=\"\",$D$2,IF((BC73-BD73)*$C$1+$D$2<$D$4,$D$4,IF((BC73-BD73)*$C$1+$D$2>$D$3,$D$3,IF((BC73-BD73)*$C$1+$D$2<$D$3,(BC73-BD73)*$C$1+$D$2,0)))))","v":0},{"$f":"IF(AND(BC73=\"\",BD73=\"\")=TRUE,\"\",MIN(BC73,BD73))","v":""},null,{"$f":"IF(BG73=\"\",0,IF(BF73=\"\",$D$2,IF((BF73-BG73)*$C$1+$D$2<$D$4,$D$4,IF((BF73-BG73)*$C$1+$D$2>$D$3,$D$3,IF((BF73-BG73)*$C$1+$D$2<$D$3,(BF73-BG73)*$C$1+$D$2,0)))))","v":0},{"$f":"IF(AND(BF73=\"\",BG73=\"\")=TRUE,\"\",MIN(BF73,BG73))","v":""},null,{"$f":"IF(BJ73=\"\",0,IF(BI73=\"\",$D$2,IF((BI73-BJ73)*$C$1+$D$2<$D$4,$D$4,IF((BI73-BJ73)*$C$1+$D$2>$D$3,$D$3,IF((BI73-BJ73)*$C$1+$D$2<$D$3,(BI73-BJ73)*$C$1+$D$2,0)))))","v":0},{"$f":"IF(AND(BI73=\"\",BJ73=\"\")=TRUE,\"\",MIN(BI73,BJ73))","v":""}]
[65,{"$f":"IF(C74=\"\",\"\",IF(F74=F73,\"=\",A74))","v":""},null,0,{"$f":"VLOOKUP(C74,#REF!,2,FALSE)","v":{"$error":"#REF!"}},0,999,null,0,"",null,0,"",null,0,"",null,0,"",null,0,"",null,0,"",null,0,"",null,0,"",null,0,"",null,0,"",null,0,"",null,0,"",null,0,"",null,0,"",null,0,"",null,0,"",null,0,"",null,0,"",null,0,""]
[66,"",null,0,{"$f":"VLOOKUP(C75,#REF!,2,FALSE)","v":{"$error":"#REF!"}},0,999,null,0,"",null,0,"",null,0,"",null,0,"",null,0,"",null,0,"",null,0,"",null,0,"",null,0,"",null,0,"",null,0,"",null,0,"",null,0,"",null,0,"",null,0,"",null,0,"",null,0,"",null,0,"",null,0,""]
[67,"",null,0,{"$f":"VLOOKUP(C76,#REF!,2,FALSE)","v":{"$error":"#REF!"}},0,999,null,0,"",null,0,"",null,0,"",null,0,"",null,0,"",null,0,"",null,0,"",null,0,"",null,0,"",null,0,"",null,0,"",null,0,"",null,0,"",null,0,"",null,0,"",null,0,"",null,0,"",null,0,"",null,0,""]
[68,"",null,0,{"$f":"VLOOKUP(C77,#REF!,2,FALSE)","v":{"$error":"#REF!"}},0,999,null,0,"",null,0,"",null,0,"",null,0,"",null,0,"",null,0,"",null,0,"",null,0,"",null,0,"",null,0,"",null,0,"",null,0,"",null,0,"",null,0,"",null,0,"",null,0,"",null,0,"",null,0,"",null,0,""]
[69,"",null,0,{"$f":"VLOOKUP(C78,#REF!,2,FALSE)","v":{"$error":"#REF!"}},0,999,null,0,"",null,0,"",null,0,"",null,0,"",null,0,"",null,0,"",null,0,"",null,0,"",null,0,"",null,0,"",null,0,"",null,0,"",null,0,"",null,0,"",null,0,"",null,0,"",null,0,"",null,0,"",null,0,""]
[70,"",null,0,{"$f":"VLOOKUP(C79,#REF!,2,FALSE)","v":{"$error":"#REF!"}},0,999,null,0,"",null,0,"",null,0,"",null,0,"",null,0,"",null,0,"",null,0,"",null,0,"",null,0,"",null,0,"",null,0,"",null,0,"",null,0,"",null,0,"",null,0,"",null,0,"",null,0,"",null,0,"",null,0,""]
[71,"",null,0,{"$f":"VLOOKUP(C80,#REF!,2,FALSE)","v":{"$error":"#REF!"}},0,999,null,0,"",null,{"$f":"IF(K80=\"\",0,IF(J80=\"\",$D$2,IF((J80-K80)*$C$1+$D$2<$D$4,$D$4,IF((J80-K80)*$C$1+$D$2>$D$3,$D$3,IF((J80-K80)*$C$1+$D$2<$D$3,(J80-K80)*$C$1+$D$2,0)))))","v":0},"",null,0,"",null,0,"",null,0,"",null,0,"",null,0,"",null,0,"",null,0,"",null,0,"",null,0,"",null,0,"",null,0,"",null,0,"",null,0,"",null,0,"",null,0,"",null,0,"",null,0,""]
[72,"",null,0,{"$f":"VLOOKUP(C81,#REF!,2,FALSE)","v":{"$error":"#REF!"}},0,999,null,0,"",null,0,"",null,0,"",null,0,"",null,0,"",null,0,"",null,0,"",null,0,"",null,0,"",null,0,"",null,0,"",null,0,"",null,0,"",null,0,"",null,0,"",null,0,"",null,0,"",null,0,"",null,0,""]
[73,"",null,0,{"$f":"VLOOKUP(C82,#REF!,2,FALSE)","v":{"$error":"#REF!"}},0,999,null,0,"",null,0,"",null,0,"",null,0,"",null,0,"",null,0,"",null,0,"",null,0,"",null,0,"",null,0,"",null,0,"",null,0,"",null,0,"",null,0,"",null,0,"",null,0,"",null,0,"",null,0,"",null,0,""]
[74,"",null,0,{"$f":"VLOOKUP(C83,#REF!,2,FALSE)","v":{"$error":"#REF!"}},0,999,null,0,"",null,0,"",null,0,"",null,0,"",null,0,"",null,0,"",null,0,"",null,0,"",null,0,"",null,0,"",null,0,"",null,0,"",null,0,"",null,0,"",null,0,"",null,0,"",null,0,"",null,0,"",null,0,""]
[75,"",null,0,{"$f":"VLOOKUP(C84,#REF!,2,FALSE)","v":{"$error":"#REF!"}},0,999,null,0,"",null,0,"",null,0,"",null,0,"",null,0,"",null,0,"",null,0,"",null,0,"",null,0,"",null,0,"",null,0,"",null,0,"",null,0,"",null,0,"",null,0,"",null,0,"",null,0,"",null,0,"",null,0,""]
[76,"",null,0,{"$f":"VLOOKUP(C85,#REF!,2,FALSE)","v":{"$error":"#REF!"}},0,999,null,0,"",null,0,"",null,0,"",null,0,"",null,0,"",null,0,"",null,0,"",null,0,"",null,0,"",null,0,"",null,0,"",null,0,"",null,0,"",null,0,"",null,0,"",null,0,"",null,0,"",null,0,"",null,0,""]
[77,"",null,0,{"$f":"VLOOKUP(C86,#REF!,2,FALSE)","v":{"$error":"#REF!"}},0,999,null,0,"",null,0,"",null,0,"",null,0,"",null,0,"",null,0,"",null,0,"",null,0,"",null,0,"",null,0,"",null,0,"",null,0,"",null,0,"",null,0,"",null,0,"",null,0,"",null,0,"",null,0,"",null,0,""]
[78,"",null,0,{"$f":"VLOOKUP(C87,#REF!,2,FALSE)","v":{"$error":"#REF!"}},0,999,null,0,"",null,0,"",null,0,"",null,0,"",null,0,"",null,0,"",null,0,"",null,0,"",null,0,"",null,0,"",null,0,"",null,0,"",null,0,"",null,0,"",null,0,"",null,0,"",null,0,"",null,0,"",null,0,""]
[79,"",null,0,{"$f":"VLOOKUP(C88,#REF!,2,FALSE)","v":{"$error":"#REF!"}},0,999,null,0,"",null,0,"",null,0,"",null,0,"",null,0,"",null,0,"",null,0,"",null,0,"",null,0,"",null,0,"",null,0,"",null,0,"",null,0,"",null,0,"",null,0,"",null,0,"",null,0,"",null,0,"",null,0,""]
[80,"",null,0,{"$f":"VLOOKUP(C89,#REF!,2,FALSE)","v":{"$error":"#REF!"}},0,999,null,0,"",null,0,"",null,0,"",null,0,"",null,0,"",null,0,"",null,0,"",null,0,"",null,0,"",null,0,"",null,0,"",null,0,"",null,0,"",null,0,"",null,0,"",null,0,"",null,0,"",null,0,"",null,0,""]
[81,"",null,0,{"$f":"VLOOKUP(C90,#REF!,2,FALSE)","v":{"$error":"#REF!"}},0,999,null,0,"",null,0,"",null,0,"",null,0,"",null,0,"",null,0,"",null,0,"",null,0,"",null,0,"",null,0,"",null,0,"",null,0,"",null,0,"",null,0,"",null,0,"",null,0,"",null,0,"",null,0,"",null,0,""]
[82,"",null,0,{"$f":"VLOOKUP(C91,#REF!,2,FALSE)","v":{"$error":"#REF!"}},0,999,null,0,"",null,0,"",null,0,"",null,0,"",null,0,"",null,0,"",null,0,"",null,0,"",null,0,"",null,0,"",null,0,"",null,0,"",null,0,"",null,0,"",null,0,"",null,0,"",null,0,"",null,0,"",null,0,""]
[83,"",null,0,{"$f":"VLOOKUP(C92,#REF!,2,FALSE)","v":{"$error":"#REF!"}},0,999,null,0,"",null,0,"",null,0,"",null,0,"",null,0,"",null,0,"",null,0,"",null,0,"",null,0,"",null,0,"",null,0,"",null,0,"",null,0,"",null,0,"",null,0,"",null,0,"",null,0,"",null,0,"",null,0,""]
[84,"",null,0,{"$f":"VLOOKUP(C93,#REF!,2,FALSE)","v":{"$error":"#REF!"}},0,999,null,0,"",null,0,"",null,0,"",null,0,"",null,0,"",null,0,"",null,0,"",null,0,"",null,0,"",null,0,"",null,0,"",null,0,"",null,0,"",null,0,"",null,0,"",null,0,"",null,0,"",null,0,"",null,0,""]
[85,"",null,0,{"$f":"VLOOKUP(C94,#REF!,2,FALSE)","v":{"$error":"#REF!"}},0,999,null,0,"",null,0,"",null,0,"",null,0,"",null,0,"",null,0,"",null,0,"",null,0,"",null,0,"",null,0,"",null,0,"",null,0,"",null,0,"",null,0,"",null,0,"",null,0,"",null,0,"",null,0,"",null,0,""]
[86,"",null,0,{"$f":"VLOOKUP(C95,#REF!,2,FALSE)","v":{"$error":"#REF!"}},0,999,null,0,"",null,0,"",null,0,"",null,0,"",null,0,"",null,0,"",null,0,"",null,0,"",null,0,"",null,0,"",null,0,"",null,0,"",null,0,"",null,0,"",null,0,"",null,0,"",null,0,"",null,0,"",null,0,""]
[87,"",null,0,{"$f":"VLOOKUP(C96,#REF!,2,FALSE)","v":{"$error":"#REF!"}},0,999,null,0,"",null,0,"",null,0,"",null,0,"",null,0,"",null,0,"",null,0,"",null,0,"",null,0,"",null,0,"",null,0,"",null,0,"",null,0,"",null,0,"",null,0,"",null,0,"",null,0,"",null,0,"",null,0,""]
[88,"",null,0,{"$f":"VLOOKUP(C97,#REF!,2,FALSE)","v":{"$error":"#REF!"}},0,999,null,0,"",null,0,"",null,0,"",null,0,"",null,0,"",null,0,"",null,0,"",null,0,"",null,0,"",null,0,"",null,0,"",null,0,"",null,0,"",null,0,"",null,0,"",null,0,"",null,0,"",null,0,"",null,0,""]
[89,"",null,0,{"$f":"VLOOKUP(C98,#REF!,2,FALSE)","v":{"$error":"#REF!"}},0,999,null,0,"",null,0,"",null,0,"",null,0,"",null,0,"",null,0,"",null,0,"",null,0,"",null,0,"",null,0,"",null,0,"",null,0,"",null,0,"",null,0,"",null,0,"",null,0,"",null,0,"",null,0,"",null,0,""]
[90,"",null,0,{"$f":"VLOOKUP(C99,#REF!,2,FALSE)","v":{"$error":"#REF!"}},0,999,null,0,"",null,0,"",null,0,"",null,0,"",null,0,"",null,0,"",null,0,"",null,0,"",null,0,"",null,0,"",null,0,"",null,0,"",null,0,"",null,0,"",null,0,"",null,0,"",null,0,"",null,0,"",null,0,""]
[91,"",null,0,{"$f":"VLOOKUP(C100,#REF!,2,FALSE)","v":{"$error":"#REF!"}},0,999,null,0,"",null,0,"",null,0,"",null,0,{"$f":"IF(AND(P100=\"\",Q100=\"\")=TRUE,\"\",MIN(P100,Q100))","v":""},null,0,"",null,0,"",null,0,"",null,0,"",null,0,"",null,0,"",null,0,"",null,0,"",null,0,"",null,0,"",null,0,"",null,0,"",null,0,"",null,0,"",null,0,""]
[92,"",null,0,{"$f":"VLOOKUP(C101,#REF!,2,FALSE)","v":{"$error":"#REF!"}},0,999,null,0,"",null,0,"",null,0,"",null,0,"",null,0,"",null,0,"",null,0,"",null,0,"",null,0,"",null,0,"",null,0,"",null,0,"",null,0,"",null,0,"",null,0,"",null,0,"",null,0,"",null,0,"",null,0,""]
[93,"",null,0,{"$f":"VLOOKUP(C102,#REF!,2,FALSE)","v":{"$error":"#REF!"}},0,999,null,0,"",null,0,"",null,0,"",null,0,"",null,0,"",null,0,"",null,0,"",null,0,"",null,0,"",null,0,"",null,0,"",null,0,"",null,0,"",null,0,"",null,0,"",null,0,"",null,0,"",null,0,"",null,0,""]
[94,"",null,0,{"$f":"VLOOKUP(C103,#REF!,2,FALSE)","v":{"$error":"#REF!"}},0,999,null,0,"",null,0,"",null,0,"",null,0,"",null,0,"",null,0,"",null,0,"",null,0,"",null,0,"",null,0,"",null,0,"",null,0,"",null,0,"",null,0,"",null,0,"",null,0,"",null,0,"",null,0,"",null,0,""]
[95,"",null,0,{"$f":"VLOOKUP(C104,#REF!,2,FALSE)","v":{"$error":"#REF!"}},0,999,null,0,"",null,0,"",null,0,"",null,0,"",null,0,"",null,0,"",null,0,"",null,0,"",null,0,"",null,0,"",null,0,"",null,0,"",null,0,"",null,0,"",null,0,"",null,0,"",null,0,"",null,0,"",null,0,""]
[96,"",null,0,{"$f":"VLOOKUP(C105,#REF!,2,FALSE)","v":{"$error":"#REF!"}},0,999,null,0,"",null,0,"",null,0,"",null,0,"",null,0,"",null,0,"",null,0,"",null,0,"",null,0,"",null,0,"",null,0,"",null,0,"",null,0,"",null,0,"",null,0,"",null,0,"",null,0,"",null,0,"",null,0,""]
[97]

{"sheet":"Points","index":4,"n_rows":89,"n_cols":75,"rows_kept":89,"cut":false,"hidden":false,"merged":[[5,1,5,67],[7,1,7,2]]}
[null,null,86400,null,null,null,1.6712962962962961E-2]
[null,null,"Start Points",60]
[null,null,"Max Points",75]
[null,null,"Min Points",45,null,null,null,null,{"$f":"COUNT(I10:I41)","v":15},null,null,{"$f":"COUNT(L10:L41)","v":10},null,null,{"$f":"COUNT(O10:O41)","v":9},null,null,{"$f":"COUNT(R10:R41)","v":15},null,null,{"$f":"COUNT(U10:U41)","v":15},null,null,{"$f":"COUNT(X10:X41)","v":14},null,null,{"$f":"COUNT(AA10:AA41)","v":0},null,null,{"$f":"COUNT(AD10:AD41)","v":0},null,null,{"$f":"COUNT(AG10:AG41)","v":0},null,null,{"$f":"COUNT(AJ10:AJ41)","v":0},null,null,{"$f":"COUNT(AM10:AM41)","v":0},null,null,{"$f":"COUNT(AP10:AP41)","v":0},null,null,{"$f":"COUNT(AS10:AS41)","v":0},null,null,{"$f":"COUNT(AV10:AV41)","v":0},null,null,{"$f":"COUNT(AY10:AY41)","v":0},null,null,{"$f":"COUNT(BB10:BB41)","v":0},null,null,{"$f":"COUNT(BE10:BE41)","v":0},null,null,{"$f":"COUNT(BH10:BH41)","v":0},null,null,null,null,null,{"$f":"COUNT(BN10:BN41)","v":0}]
[null,null,"Counting Rides",7]
[null,"SWCC 2024 Latton TT points league\n"]
[null,null,null,null,null,null,null,null,null,"2024-04-18",null,null,{"$f":"J7+7","v":"2024-04-25"},null,null,{"$f":"M7+7","v":"2024-05-02"},null,null,{"$f":"P7+7","v":"2024-05-09"},null,null,{"$f":"S7+7","v":"2024-05-16"},null,null,{"$f":"V7+7","v":"2024-05-23"},null,null,{"$f":"Y7+7","v":"2024-05-30"},null,null,{"$f":"AB7+7","v":"2024-06-06"},null,null,{"$f":"AE7+7","v":"2024-06-13"},null,null,{"$f":"AH7+7","v":"2024-06-20"},null,null,{"$f":"AK7+7","v":"2024-06-27"},null,null,{"$f":"AN7+7","v":"2024-07-04"},null,null,{"$f":"AQ7+7","v":"2024-07-11"},null,null,{"$f":"AT7+7","v":"2024-07-18"},null,null,{"$f":"AW7+7","v":"2024-07-25"},null,null,{"$f":"AZ7+7","v":"2024-08-01"},null,null,{"$f":"BC7+7","v":"2024-08-08"},null,null,{"$f":"BF7+7","v":"2024-08-15"},null,null,{"$f":"BI7+7","v":"2024-08-22"},null,null,{"$f":"BL7+7","v":"2024-08-29"}]
[null,null,null,"Rides","Age group","Gender",{"$f":"\"Total Points (Best \"&D5&\")\"","v":"Total Points (Best 7)"},"Season's Best","Time","Points","Best\nto date","Time","Points","Best\nto date","Time","Points","Best\nto date","Time","Points","Best\nto date","Time","Points","Best\nto date","Time","Points","Best\nto date","Time","Points","Best\nto date","Time","Points","Best\nto date","Time","Points","Best\nto date","Time","Points","Best\nto date","Time","Points","Best\nto date","Time","Points","Best\nto date","Time","Points","Best\nto date","Time","Points","Best\nto date","Time","Points","Best\nto date","Time","Points","Best\nto date","Time","Points","Best\nto date","Time","Points","Best\nto date","Time","Points","Best\nto date","Time","Points","Best\nto date",null,"AG","Age @31st Dec","Age adjustment","Age adjusted Best time",null,"Season's worst"]
[null,null,1,{"$f":"COUNT(I9,L9,O9,R9,U9,X9,AA9,AD9,AG9,AJ9,AM9,AP9,AS9,AV9,AY9,BB9,BE9,BH9,BN9)","v":0},null,null,{"$f":"ROUNDDOWN(LARGE(I9:BO9,1)+(IF($D$5>1,LARGE(I9:BO9,2),0))+(IF($D$5>2,LARGE(I9:BO9,3),0))+(IF($D$5>3,LARGE(I9:BO9,4),0))+(IF($D$5>4,LARGE(I9:BO9,5),0))+(IF($D$5>5,LARGE(I9:BO9,6),0))+(IF($D$5>6,LARGE(I9:BO9,7),0)),0)","v":0},{"$f":"IF(D9=0,999,MIN(I9,L9,O9,R9,U9,X9,AA9,AD9,AG9,AJ9,AM9,AP9,AS9,AV9,AY9,BB9,BE9,BH9,BK9,BN9))","v":999},null,{"$f":"IF(I9=\"\",0,$D$2)","v":0},{"$f":"IF(I9=\"\",\"\",I9)","v":""},null,{"$f":"IF(L9=\"\",0,IF(K9=\"\",$D$2,IF((K9-L9)*$C$1+$D$2<$D$4,$D$4,IF((K9-L9)*$C$1+$D$2>$D$3,$D$3,IF((K9-L9)*$C$1+$D$2<$D$3,(K9-L9)*$C$1+$D$2,0)))))","v":0},{"$f":"IF(AND(K9=\"\",L9=\"\")=TRUE,\"\",MIN(K9,L9))","v":""},null,{"$f":"IF(O9=\"\",0,IF(N9=\"\",$D$2,IF((N9-O9)*$C$1+$D$2<$D$4,$D$4,IF((N9-O9)*$C$1+$D$2>$D$3,$D$3,IF((N9-O9)*$C$1+$D$2<$D$3,(N9-O9)*$C$1+$D$2,0)))))","v":0},{"$f":"IF(AND(N9=\"\",O9=\"\")=TRUE,\"\",MIN(N9,O9))","v":""},null,{"$f":"IF(R9=\"\",0,IF(Q9=\"\",$D$2,IF((Q9-R9)*$C$1+$D$2<$D$4,$D$4,IF((Q9-R9)*$C$1+$D$2>$D$3,$D$3,IF((Q9-R9)*$C$1+$D$2<$D$3,(Q9-R9)*$C$1+$D$2,0)))))","v":0},null,null,{"$f":"IF(U9=\"\",0,IF(T9=\"\",$D$2,IF((T9-U9)*$C$1+$D$2<$D$4,$D$4,IF((T9-U9)*$C$1+$D$2>$D$3,$D$3,IF((T9-U9)*$C$1+$D$2<$D$3,(T9-U9)*$C$1+$D$2,0)))))","v":0},{"$f":"IF(AND(T9=\"\",U9=\"\")=TRUE,\"\",MIN(T9,U9))","v":""},null,{"$f":"IF(X9=\"\",0,IF(W9=\"\",$D$2,IF((W9-X9)*$C$1+$D$2<$D$4,$D$4,IF((W9-X9)*$C$1+$D$2>$D$3,$D$3,IF((W9-X9)*$C$1+$D$2<$D$3,(W9-X9)*$C$1+$D$2,0)))))","v":0},{"$f":"IF(AND(W9=\"\",X9=\"\")=TRUE,\"\",MIN(W9,X9))","v":""},null,{"$f":"IF(AA9=\"\",0,IF(Z9=\"\",$D$2,IF((Z9-AA9)*$C$1+$D$2<$D$4,$D$4,IF((Z9-AA9)*$C$1+$D$2>$D$3,$D$3,IF((Z9-AA9)*$C$1+$D$2<$D$3,(Z9-AA9)*$C$1+$D$2,0)))))","v":0},{"$f":"IF(AND(Z9=\"\",AA9=\"\")=TRUE,\"\",MIN(Z9,AA9))","v":""},null,{"$f":"IF(AD9=\"\",0,IF(AC9=\"\",$D$2,IF((AC9-AD9)*$C$1+$D$2<$D$4,$D$4,IF((AC9-AD9)*$C$1+$D$2>$D$3,$D$3,IF((AC9-AD9)*$C$1+$D$2<$D$3,(AC9-AD9)*$C$1+$D$2,0)))))","v":0},{"$f":"IF(AND(AC9=\"\",AD9=\"\")=TRUE,\"\",MIN(AC9,AD9))","v":""},null,{"$f":"IF(AG9=\"\",0,IF(AF9=\"\",$D$2,IF((AF9-AG9)*$C$1+$D$2<$D$4,$D$4,IF((AF9-AG9)*$C$1+$D$2>$D$3,$D$3,IF((AF9-AG9)*$C$1+$D$2<$D$3,(AF9-AG9)*$C$1+$D$2,0)))))","v":0},{"$f":"IF(AND(AF9=\"\",AG9=\"\")=TRUE,\"\",MIN(AF9,AG9))","v":""},null,{"$f":"IF(AJ9=\"\",0,IF(AI9=\"\",$D$2,IF((AI9-AJ9)*$C$1+$D$2<$D$4,$D$4,IF((AI9-AJ9)*$C$1+$D$2>$D$3,$D$3,IF((AI9-AJ9)*$C$1+$D$2<$D$3,(AI9-AJ9)*$C$1+$D$2,0)))))","v":0},{"$f":"IF(AND(AI9=\"\",AJ9=\"\")=TRUE,\"\",MIN(AI9,AJ9))","v":""},null,{"$f":"IF(AM9=\"\",0,IF(AL9=\"\",$D$2,IF((AL9-AM9)*$C$1+$D$2<$D$4,$D$4,IF((AL9-AM9)*$C$1+$D$2>$D$3,$D$3,IF((AL9-AM9)*$C$1+$D$2<$D$3,(AL9-AM9)*$C$1+$D$2,0)))))","v":0},{"$f":"IF(AND(AL9=\"\",AM9=\"\")=TRUE,\"\",MIN(AL9,AM9))","v":""},null,{"$f":"IF(AP9=\"\",0,IF(AO9=\"\",$D$2,IF((AO9-AP9)*$C$1+$D$2<$D$4,$D$4,IF((AO9-AP9)*$C$1+$D$2>$D$3,$D$3,IF((AO9-AP9)*$C$1+$D$2<$D$3,(AO9-AP9)*$C$1+$D$2,0)))))","v":0},{"$f":"IF(AND(AO9=\"\",AP9=\"\")=TRUE,\"\",MIN(AO9,AP9))","v":""},null,{"$f":"IF(AS9=\"\",0,IF(AR9=\"\",$D$2,IF((AR9-AS9)*$C$1+$D$2<$D$4,$D$4,IF((AR9-AS9)*$C$1+$D$2>$D$3,$D$3,IF((AR9-AS9)*$C$1+$D$2<$D$3,(AR9-AS9)*$C$1+$D$2,0)))))","v":0},{"$f":"IF(AND(AR9=\"\",AS9=\"\")=TRUE,\"\",MIN(AR9,AS9))","v":""},null,{"$f":"IF(AV9=\"\",0,IF(AU9=\"\",$D$2,IF((AU9-AV9)*$C$1+$D$2<$D$4,$D$4,IF((AU9-AV9)*$C$1+$D$2>$D$3,$D$3,IF((AU9-AV9)*$C$1+$D$2<$D$3,(AU9-AV9)*$C$1+$D$2,0)))))","v":0},{"$f":"IF(AND(AU9=\"\",AV9=\"\")=TRUE,\"\",MIN(AU9,AV9))","v":""},null,{"$f":"IF(AY9=\"\",0,IF(AX9=\"\",$D$2,IF((AX9-AY9)*$C$1+$D$2<$D$4,$D$4,IF((AX9-AY9)*$C$1+$D$2>$D$3,$D$3,IF((AX9-AY9)*$C$1+$D$2<$D$3,(AX9-AY9)*$C$1+$D$2,0)))))","v":0},{"$f":"IF(AND(AX9=\"\",AY9=\"\")=TRUE,\"\",MIN(AX9,AY9))","v":""},null,{"$f":"IF(BB9=\"\",0,IF(BA9=\"\",$D$2,IF((BA9-BB9)*$C$1+$D$2<$D$4,$D$4,IF((BA9-BB9)*$C$1+$D$2>$D$3,$D$3,IF((BA9-BB9)*$C$1+$D$2<$D$3,(BA9-BB9)*$C$1+$D$2,0)))))","v":0},{"$f":"IF(AND(BA9=\"\",BB9=\"\")=TRUE,\"\",MIN(BA9,BB9))","v":""},null,{"$f":"IF(BE9=\"\",0,IF(BD9=\"\",$D$2,IF((BD9-BE9)*$C$1+$D$2<$D$4,$D$4,IF((BD9-BE9)*$C$1+$D$2>$D$3,$D$3,IF((BD9-BE9)*$C$1+$D$2<$D$3,(BD9-BE9)*$C$1+$D$2,0)))))","v":0},{"$f":"IF(AND(BD9=\"\",BE9=\"\")=TRUE,\"\",MIN(BD9,BE9))","v":""},null,{"$f":"IF(BH9=\"\",0,IF(BG9=\"\",$D$2,IF((BG9-BH9)*$C$1+$D$2<$D$4,$D$4,IF((BG9-BH9)*$C$1+$D$2>$D$3,$D$3,IF((BG9-BH9)*$C$1+$D$2<$D$3,(BG9-BH9)*$C$1+$D$2,0)))))","v":0},{"$f":"IF(AND(BG9=\"\",BH9=\"\")=TRUE,\"\",MIN(BG9,BH9))","v":""},null,{"$f":"IF(BK9=\"\",0,IF(BG9=\"\",$D$2,IF((BG9-BK9)*$C$1+$D$2<$D$4,$D$4,IF((BG9-BK9)*$C$1+$D$2>$D$3,$D$3,IF((BG9-BK9)*$C$1+$D$2<$D$3,(BG9-BK9)*$C$1+$D$2,0)))))","v":0},{"$f":"IF(AND(BG9=\"\",BK9=\"\")=TRUE,\"\",MIN(BG9,BK9))","v":""},null,{"$f":"IF(BN9=\"\",0,IF(BJ9=\"\",$D$2,IF((BJ9-BN9)*$C$1+$D$2<$D$4,$D$4,IF((BJ9-BN9)*$C$1+$D$2>$D$3,$D$3,IF((BJ9-BN9)*$C$1+$D$2<$D$3,(BJ9-BN9)*$C$1+$D$2,0)))))","v":0},{"$f":"IF(AND(BJ9=\"\",BN9=\"\")=TRUE,\"\",MIN(BJ9,BN9))","v":""}]
[1,{"$f":"IF(C10=\"\",\"\",IF(G10=G9,\"=\",A10))","v":1},"Marcello Grossi",{"$f":"COUNT(I10,L10,O10,R10,U10,X10,AA10,AD10,AG10,AJ10,AM10,AP10,AS10,AV10,AY10,BB10,BE10,BH10,BN10)","v":3},"Sen","M",{"$f":"ROUNDDOWN(LARGE(I10:BO10,1)+(IF($D$5>1,LARGE(I10:BO10,2),0))+(IF($D$5>2,LARGE(I10:BO10,3),0))+(IF($D$5>3,LARGE(I10:BO10,4),0))+(IF($D$5>4,LARGE(I10:BO10,5),0))+(IF($D$5>5,LARGE(I10:BO10,6),0))+(IF($D$5>6,LARGE(I10:BO10,7),0)),0)","v":117},{"$f":"IF(D10=0,999,MIN(I10,L10,O10,R10,U10,X10,AA10,AD10,AG10,AJ10,AM10,AP10,AS10,AV10,AY10,BB10,BE10,BH10,BK10,BN10))","v":"00:20:55"},null,{"$f":"IF(I10=\"\",0,$D$2)","v":0},{"$f":"IF(I10=\"\",\"\",I10)","v":""},null,{"$f":"IF(L10=\"\",0,IF(K10=\"\",$D$2,IF((K10-L10)*$C$1+$D$2<$D$4,$D$4,IF((K10-L10)*$C$1+$D$2>$D$3,$D$3,IF((K10-L10)*$C$1+$D$2<$D$3,(K10-L10)*$C$1+$D$2,0)))))","v":0},{"$f":"IF(AND(K10=\"\",L10=\"\")=TRUE,\"\",MIN(K10,L10))","v":""},null,{"$f":"IF(O10=\"\",0,IF(N10=\"\",$D$2,IF((N10-O10)*$C$1+$D$2<$D$4,$D$4,IF((N10-O10)*$C$1+$D$2>$D$3,$D$3,IF((N10-O10)*$C$1+$D$2<$D$3,(N10-O10)*$C$1+$D$2,0)))))","v":0},{"$f":"IF(AND(N10=\"\",O10=\"\")=TRUE,\"\",MIN(N10,O10))","v":""},"00:20:55",{"$f":"IF(R10=\"\",0,IF(Q10=\"\",$D$2,IF((Q10-R10)*$C$1+$D$2<$D$4,$D$4,IF((Q10-R10)*$C$1+$D$2>$D$3,$D$3,IF((Q10-R10)*$C$1+$D$2<$D$3,(Q10-R10)*$C$1+$D$2,0)))))","v":60},{"$f":"IF(AND(Q10=\"\",R10=\"\")=TRUE,\"\",MIN(Q10,R10))","v":"00:20:55"},"00:20:56",null,{"$f":"IF(AND(T10=\"\",U10=\"\")=TRUE,\"\",MIN(T10,U10))","v":"00:20:55"},"00:20:58",{"$f":"IF(X10=\"\",0,IF(W10=\"\",$D$2,IF((W10-X10)*$C$1+$D$2<$D$4,$D$4,IF((W10-X10)*$C$1+$D$2>$D$3,$D$3,IF((W10-X10)*$C$1+$D$2<$D$3,(W10-X10)*$C$1+$D$2,0)))))","v":56.999999999999979},{"$f":"IF(AND(W10=\"\",X10=\"\")=TRUE,\"\",MIN(W10,X10))","v":"00:20:55"},null,{"$f":"IF(AA10=\"\",0,IF(Z10=\"\",$D$2,IF((Z10-AA10)*$C$1+$D$2<$D$4,$D$4,IF((Z10-AA10)*$C$1+$D$2>$D$3,$D$3,IF((Z10-AA10)*$C$1+$D$2<$D$3,(Z10-AA10)*$C$1+$D$2,0)))))","v":0},{"$f":"IF(AND(Z10=\"\",AA10=\"\")=TRUE,\"\",MIN(Z10,AA10))","v":"00:20:55"},null,{"$f":"IF(AD10=\"\",0,IF(AC10=\"\",$D$2,IF((AC10-AD10)*$C$1+$D$2<$D$4,$D$4,IF((AC10-AD10)*$C$1+$D$2>$D$3,$D$3,IF((AC10-AD10)*$C$1+$D$2<$D$3,(AC10-AD10)*$C$1+$D$2,0)))))","v":0},{"$f":"IF(AND(AC10=\"\",AD10=\"\")=TRUE,\"\",MIN(AC10,AD10))","v":"00:20:55"},null,{"$f":"IF(AG10=\"\",0,IF(AF10=\"\",$D$2,IF((AF10-AG10)*$C$1+$D$2<$D$4,$D$4,IF((AF10-AG10)*$C$1+$D$2>$D$3,$D$3,IF((AF10-AG10)*$C$1+$D$2<$D$3,(AF10-AG10)*$C$1+$D$2,0)))))","v":0},{"$f":"IF(AND(AF10=\"\",AG10=\"\")=TRUE,\"\",MIN(AF10,AG10))","v":"00:20:55"},null,{"$f":"IF(AJ10=\"\",0,IF(AI10=\"\",$D$2,IF((AI10-AJ10)*$C$1+$D$2<$D$4,$D$4,IF((AI10-AJ10)*$C$1+$D$2>$D$3,$D$3,IF((AI10-AJ10)*$C$1+$D$2<$D$3,(AI10-AJ10)*$C$1+$D$2,0)))))","v":0},{"$f":"IF(AND(AI10=\"\",AJ10=\"\")=TRUE,\"\",MIN(AI10,AJ10))","v":"00:20:55"},null,{"$f":"IF(AM10=\"\",0,IF(AL10=\"\",$D$2,IF((AL10-AM10)*$C$1+$D$2<$D$4,$D$4,IF((AL10-AM10)*$C$1+$D$2>$D$3,$D$3,IF((AL10-AM10)*$C$1+$D$2<$D$3,(AL10-AM10)*$C$1+$D$2,0)))))","v":0},{"$f":"IF(AND(AL10=\"\",AM10=\"\")=TRUE,\"\",MIN(AL10,AM10))","v":"00:20:55"},null,{"$f":"IF(AP10=\"\",0,IF(AO10=\"\",$D$2,IF((AO10-AP10)*$C$1+$D$2<$D$4,$D$4,IF((AO10-AP10)*$C$1+$D$2>$D$3,$D$3,IF((AO10-AP10)*$C$1+$D$2<$D$3,(AO10-AP10)*$C$1+$D$2,0)))))","v":0},{"$f":"IF(AND(AO10=\"\",AP10=\"\")=TRUE,\"\",MIN(AO10,AP10))","v":"00:20:55"},null,{"$f":"IF(AS10=\"\",0,IF(AR10=\"\",$D$2,IF((AR10-AS10)*$C$1+$D$2<$D$4,$D$4,IF((AR10-AS10)*$C$1+$D$2>$D$3,$D$3,IF((AR10-AS10)*$C$1+$D$2<$D$3,(AR10-AS10)*$C$1+$D$2,0)))))","v":0},{"$f":"IF(AND(AR10=\"\",AS10=\"\")=TRUE,\"\",MIN(AR10,AS10))","v":"00:20:55"},null,{"$f":"IF(AV10=\"\",0,IF(AU10=\"\",$D$2,IF((AU10-AV10)*$C$1+$D$2<$D$4,$D$4,IF((AU10-AV10)*$C$1+$D$2>$D$3,$D$3,IF((AU10-AV10)*$C$1+$D$2<$D$3,(AU10-AV10)*$C$1+$D$2,0)))))","v":0},{"$f":"IF(AND(AU10=\"\",AV10=\"\")=TRUE,\"\",MIN(AU10,AV10))","v":"00:20:55"},null,{"$f":"IF(AY10=\"\",0,IF(AX10=\"\",$D$2,IF((AX10-AY10)*$C$1+$D$2<$D$4,$D$4,IF((AX10-AY10)*$C$1+$D$2>$D$3,$D$3,IF((AX10-AY10)*$C$1+$D$2<$D$3,(AX10-AY10)*$C$1+$D$2,0)))))","v":0},{"$f":"IF(AND(AX10=\"\",AY10=\"\")=TRUE,\"\",MIN(AX10,AY10))","v":"00:20:55"},null,{"$f":"IF(BB10=\"\",0,IF(BA10=\"\",$D$2,IF((BA10-BB10)*$C$1+$D$2<$D$4,$D$4,IF((BA10-BB10)*$C$1+$D$2>$D$3,$D$3,IF((BA10-BB10)*$C$1+$D$2<$D$3,(BA10-BB10)*$C$1+$D$2,0)))))","v":0},{"$f":"IF(AND(BA10=\"\",BB10=\"\")=TRUE,\"\",MIN(BA10,BB10))","v":"00:20:55"},null,{"$f":"IF(BE10=\"\",0,IF(BD10=\"\",$D$2,IF((BD10-BE10)*$C$1+$D$2<$D$4,$D$4,IF((BD10-BE10)*$C$1+$D$2>$D$3,$D$3,IF((BD10-BE10)*$C$1+$D$2<$D$3,(BD10-BE10)*$C$1+$D$2,0)))))","v":0},{"$f":"IF(AND(BD10=\"\",BE10=\"\")=TRUE,\"\",MIN(BD10,BE10))","v":"00:20:55"},null,{"$f":"IF(BH10=\"\",0,IF(BG10=\"\",$D$2,IF((BG10-BH10)*$C$1+$D$2<$D$4,$D$4,IF((BG10-BH10)*$C$1+$D$2>$D$3,$D$3,IF((BG10-BH10)*$C$1+$D$2<$D$3,(BG10-BH10)*$C$1+$D$2,0)))))","v":0},{"$f":"IF(AND(BG10=\"\",BH10=\"\")=TRUE,\"\",MIN(BG10,BH10))","v":"00:20:55"},null,{"$f":"IF(BK10=\"\",0,IF(BG10=\"\",$D$2,IF((BG10-BK10)*$C$1+$D$2<$D$4,$D$4,IF((BG10-BK10)*$C$1+$D$2>$D$3,$D$3,IF((BG10-BK10)*$C$1+$D$2<$D$3,(BG10-BK10)*$C$1+$D$2,0)))))","v":0},{"$f":"IF(AND(BG10=\"\",BK10=\"\")=TRUE,\"\",MIN(BG10,BK10))","v":"00:20:55"},null,{"$f":"IF(BN10=\"\",0,IF(BJ10=\"\",$D$2,IF((BJ10-BN10)*$C$1+$D$2<$D$4,$D$4,IF((BJ10-BN10)*$C$1+$D$2>$D$3,$D$3,IF((BJ10-BN10)*$C$1+$D$2<$D$3,(BJ10-BN10)*$C$1+$D$2,0)))))","v":0},{"$f":"IF(AND(BJ10=\"\",BN10=\"\")=TRUE,\"\",MIN(BJ10,BN10))","v":"00:20:55"},null,{"$f":"E10","v":"Sen"},null,{"$f":"SUMPRODUCT(('Age Adjustments'!$A$2:$A$113=Points!BS33)*('Age Adjustments'!$B$2:$B$113=Points!F33)*('Age Adjustments'!$C$2:$C$113))","v":"00:00:00"},{"$f":"H10-BT10","v":"00:20:55"},null,{"$f":"IF(D10=0,999,MAX(I10,L10,O10,R10,U10,X10,AA10,AD10,AG10,AJ10,AM10,AP10,AS10,AV10,AY10,BB10,BE10,BH10,BK10,BN10))","v":"00:20:58"}]
[2,2,"Matt Hallett",3,"V40","M",180,"00:21:42","00:22:20",60,"00:22:20",null,0,"00:22:20",null,0,"00:22:20","00:21:42",75,"00:21:42","00:22:01",{"$f":"IF(U11=\"\",0,IF(T11=\"\",$D$2,IF((T11-U11)*$C$1+$D$2<$D$4,$D$4,IF((T11-U11)*$C$1+$D$2>$D$3,$D$3,IF((T11-U11)*$C$1+$D$2<$D$3,(T11-U11)*$C$1+$D$2,0)))))","v":45},"00:21:42",null,0,"00:21:42",null,0,"00:21:42",null,0,"00:21:42",null,0,"00:21:42",null,0,"00:21:42",null,0,"00:21:42",null,0,"00:21:42",null,0,"00:21:42",null,0,"00:21:42",null,0,"00:21:42",null,0,"00:21:42",null,0,"00:21:42",null,0,"00:21:42",null,0,"00:21:42",null,0,"00:21:42",null,"V40",null,{"$f":"SUMPRODUCT(('Age Adjustments'!$A$2:$A$113=Points!BS10)*('Age Adjustments'!$B$2:$B$113=Points!F10)*('Age Adjustments'!$C$2:$C$113))","v":"00:00:00"},"00:21:42",null,"00:22:20"]
[3,3,"Ian Cheatle",1,"Sen","M",60,"00:22:48",null,0,"",null,0,"",null,0,"","00:22:48",60,"00:22:48",null,0,"00:22:48",null,0,"00:22:48",null,0,"00:22:48",null,0,"00:22:48",null,0,"00:22:48",null,0,"00:22:48",null,0,"00:22:48",null,0,"00:22:48",null,0,"00:22:48",null,0,"00:22:48",null,0,"00:22:48",null,0,"00:22:48",null,0,"00:22:48",null,0,"00:22:48",null,0,"00:22:48",null,0,"00:22:48",null,"Sen",null,{"$f":"SUMPRODUCT(('Age Adjustments'!$A$2:$A$113=Points!BS34)*('Age Adjustments'!$B$2:$B$113=Points!F34)*('Age Adjustments'!$C$2:$C$113))","v":"00:00:00"},"00:22:48",null,"00:22:48"]
[4,"=","Chris Tye",1,"V50","M",60,"00:23:25",null,0,"",null,0,"",null,0,"",null,0,"",null,0,"","00:23:25",60,"00:23:25",null,0,"00:23:25",null,0,"00:23:25",null,0,"00:23:25",null,0,"00:23:25",null,0,"00:23:25",null,0,"00:23:25",null,0,"00:23:25",null,0,"00:23:25",null,0,"00:23:25",null,0,"00:23:25",null,0,"00:23:25",null,0,"00:23:25",null,0,"00:23:25",null,0,"00:23:25",null,"V50",null,{"$f":"SUMPRODUCT(('Age Adjustments'!$A$2:$A$113=Points!BS41)*('Age Adjustments'!$B$2:$B$113=Points!F41)*('Age Adjustments'!$C$2:$C$113))","v":"00:00:00"},"00:23:25",null,"00:23:25"]
[5,"=","Fraser Joyce",1,"Sen","M",60,"00:23:26",null,0,"",null,0,"",null,0,"","00:23:26",60,"00:23:26",null,0,"00:23:26",null,0,"00:23:26",null,0,"00:23:26",null,0,"00:23:26",null,0,"00:23:26",null,0,"00:23:26",null,0,"00:23:26",null,0,"00:23:26",null,0,"00:23:26",null,0,"00:23:26",null,0,"00:23:26",null,0,"00:23:26",null,0,"00:23:26",null,0,"00:23:26",null,0,"00:23:26",null,0,"00:23:26",null,"Sen",null,{"$f":"SUMPRODUCT(('Age Adjustments'!$A$2:$A$113=Points!BS35)*('Age Adjustments'!$B$2:$B$113=Points!F35)*('Age Adjustments'!$C$2:$C$113))","v":"00:00:00"},"00:23:26",null,"00:23:26"]
[6,6,"Justin Robbins",3,"V50","M",180,"00:23:29",null,0,"",null,0,"","00:24:04",60,"00:24:04","00:26:52",45,"00:24:04","00:23:29",75,"00:23:29",null,0,"00:23:29",null,0,"00:23:29",null,0,"00:23:29",null,0,"00:23:29",null,0,"00:23:29",null,0,"00:23:29",null,0,"00:23:29",null,0,"00:23:29",null,0,"00:23:29",null,0,"00:23:29",null,0,"00:23:29",null,0,"00:23:29",null,0,"00:23:29",null,0,"00:23:29",null,0,"00:23:29",null,"V50",null,{"$f":"SUMPRODUCT(('Age Adjustments'!$A$2:$A$113=Points!BS29)*('Age Adjustments'!$B$2:$B$113=Points!F29)*('Age Adjustments'!$C$2:$C$113))","v":"00:00:00"},"00:23:29",null,"00:26:52"]
[7,7,"Les Sheppard",3,"V50","M",184,"00:23:41","00:23:56",60,"00:23:56",null,0,"00:23:56",null,0,"00:23:56","00:23:41",74.999999999999943,"00:23:41",null,0,"00:23:41","00:23:52",48.999999999999879,"00:23:41",null,0,"00:23:41",null,0,"00:23:41",null,0,"00:23:41",null,0,"00:23:41",null,0,"00:23:41",null,0,"00:23:41",null,0,"00:23:41",null,0,"00:23:41",null,0,"00:23:41",null,0,"00:23:41",null,0,"00:23:41",null,0,"00:23:41",null,0,"00:23:41",null,0,"00:23:41",null,"V50",null,{"$f":"SUMPRODUCT(('Age Adjustments'!$A$2:$A$113=Points!BS12)*('Age Adjustments'!$B$2:$B$113=Points!F12)*('Age Adjustments'!$C$2:$C$113))","v":"00:00:00"},"00:23:41",null,"00:23:56"]
[8,8,"Ben Parker",1,"V40","M",60,"00:23:43","00:23:43",60,"00:23:43",null,0,"00:23:43",null,0,"00:23:43",null,0,"00:23:43",null,0,"00:23:43",null,0,"00:23:43",null,0,"00:23:43",null,0,"00:23:43",null,0,"00:23:43",null,0,"00:23:43",null,0,"00:23:43",null,0,"00:23:43",null,0,"00:23:43",null,0,"00:23:43",null,0,"00:23:43",null,0,"00:23:43",null,0,"00:23:43",null,0,"00:23:43",null,0,"00:23:43",null,0,"00:23:43",null,"V40",null,{"$f":"SUMPRODUCT(('Age Adjustments'!$A$2:$A$113=Points!BS11)*('Age Adjustments'!$B$2:$B$113=Points!F11)*('Age Adjustments'!$C$2:$C$113))","v":"00:00:00"},"00:23:43",null,"00:23:43"]
[9,9,"Charlotte Berry",3,"Sen","F",200,"00:23:49",null,0,"",null,0,"","00:24:09",60,"00:24:09",null,0,"00:24:09","00:23:54",74.999999999999943,"00:23:54","00:23:49",65.000000000000085,"00:23:49",null,0,"00:23:49",null,0,"00:23:49",null,0,"00:23:49",null,0,"00:23:49",null,0,"00:23:49",null,0,"00:23:49",null,0,"00:23:49",null,0,"00:23:49",null,0,"00:23:49",null,0,"00:23:49",null,0,"00:23:49",null,0,"00:23:49",null,0,"00:23:49",null,0,"00:23:49",null,"Sen",null,{"$f":"SUMPRODUCT(('Age Adjustments'!$A$2:$A$113=Points!BS30)*('Age Adjustments'!$B$2:$B$113=Points!F30)*('Age Adjustments'!$C$2:$C$113))","v":"00:00:00"},"00:23:49",null,"00:24:09"]
[10,10,"Jack Walters",4,"Jun","M",285,"00:24:06","00:25:28",60,"00:25:28",null,0,"00:25:28","00:24:51",75,"00:24:51","00:24:27",75,"00:24:27","00:24:06",75,"00:24:06",null,0,"00:24:06",null,0,"00:24:06",null,0,"00:24:06",null,0,"00:24:06",null,0,"00:24:06",null,0,"00:24:06",null,0,"00:24:06",null,0,"00:24:06",null,0,"00:24:06",null,0,"00:24:06",null,0,"00:24:06",null,0,"00:24:06",null,0,"00:24:06",null,0,"00:24:06",null,0,"00:24:06",null,"Jun",null,{"$f":"SUMPRODUCT(('Age Adjustments'!$A$2:$A$113=Points!BS15)*('Age Adjustments'!$B$2:$B$113=Points!F15)*('Age Adjustments'!$C$2:$C$113))","v":"00:00:00"},"00:24:06",null,"00:25:28"]
[11,11,"Jo Spencer",3,"V40","F",150,"00:24:11","00:24:11",60,"00:24:11","00:24:27",45,"00:24:11",null,0,"00:24:11",null,0,"00:24:11","00:24:27",45,"00:24:11",null,0,"00:24:11",null,0,"00:24:11",null,0,"00:24:11",null,0,"00:24:11",null,0,"00:24:11",null,0,"00:24:11",null,0,"00:24:11",null,0,"00:24:11",null,0,"00:24:11",null,0,"00:24:11",null,0,"00:24:11",null,0,"00:24:11",null,0,"00:24:11",null,0,"00:24:11",null,0,"00:24:11",null,"V40",null,{"$f":"SUMPRODUCT(('Age Adjustments'!$A$2:$A$113=Points!BS13)*('Age Adjustments'!$B$2:$B$113=Points!F13)*('Age Adjustments'!$C$2:$C$113))","v":"00:00:00"},"00:24:11",null,"00:24:27"]
[12,12,"Huw Riley",1,"Sen","M",60,"00:24:23",null,0,"",null,0,"",null,0,"","00:24:23",60,"00:24:23",null,0,"00:24:23",null,0,"00:24:23",null,0,"00:24:23",null,0,"00:24:23",null,0,"00:24:23",null,0,"00:24:23",null,0,"00:24:23",null,0,"00:24:23",null,0,"00:24:23",null,0,"00:24:23",null,0,"00:24:23",null,0,"00:24:23",null,0,"00:24:23",null,0,"00:24:23",null,0,"00:24:23",null,0,"00:24:23",null,"Sen",null,{"$f":"SUMPRODUCT(('Age Adjustments'!$A$2:$A$113=Points!BS36)*('Age Adjustments'!$B$2:$B$113=Points!F36)*('Age Adjustments'!$C$2:$C$113))","v":"00:00:00"},"00:24:23",null,"00:24:23"]
[13,13,"Michael Spencer",3,"V40","M",191,"00:25:02","00:25:13",60,"00:25:13","00:25:08",65.000000000000085,"00:25:08",null,0,"00:25:08",null,0,"00:25:08",null,0,"00:25:08","00:25:02",66.000000000000043,"00:25:02",null,0,"00:25:02",null,0,"00:25:02",null,0,"00:25:02",null,0,"00:25:02",null,0,"00:25:02",null,0,"00:25:02",null,0,"00:25:02",null,0,"00:25:02",null,0,"00:25:02",null,0,"00:25:02",null,0,"00:25:02",null,0,"00:25:02",null,0,"00:25:02",null,0,"00:25:02",null,"V40",null,{"$f":"SUMPRODUCT(('Age Adjustments'!$A$2:$A$113=Points!BS14)*('Age Adjustments'!$B$2:$B$113=Points!F14)*('Age Adjustments'!$C$2:$C$113))","v":"00:00:00"},"00:25:02",null,"00:25:13"]
[14,14,"Paul Ashman",2,"v40","M",120,"00:25:02",null,0,"",null,0,"",null,0,"","00:25:02",60,"00:25:02",null,0,"00:25:02","00:25:02",60,"00:25:02",null,0,"00:25:02",null,0,"00:25:02",null,0,"00:25:02",null,0,"00:25:02",null,0,"00:25:02",null,0,"00:25:02",null,0,"00:25:02",null,0,"00:25:02",null,0,"00:25:02",null,0,"00:25:02",null,0,"00:25:02",null,0,"00:25:02",null,0,"00:25:02",null,0,"00:25:02",null,"v40",null,{"$f":"SUMPRODUCT(('Age Adjustments'!$A$2:$A$113=Points!BS37)*('Age Adjustments'!$B$2:$B$113=Points!F37)*('Age Adjustments'!$C$2:$C$113))","v":"00:00:00"},"00:25:02",null,"00:25:02"]
[15,15,"John Hargreaves",3,"V60+","M",181,"00:25:03","00:26:20",60,"00:26:20",null,0,"00:26:20",null,0,"00:26:20",null,0,"00:26:20","00:25:03",75,"00:25:03","00:25:17",46.000000000000014,"00:25:03",null,0,"00:25:03",null,0,"00:25:03",null,0,"00:25:03",null,0,"00:25:03",null,0,"00:25:03",null,0,"00:25:03",null,0,"00:25:03",null,0,"00:25:03",null,0,"00:25:03",null,0,"00:25:03",null,0,"00:25:03",null,0,"00:25:03",null,0,"00:25:03",null,0,"00:25:03",null,"V60+",null,{"$f":"SUMPRODUCT(('Age Adjustments'!$A$2:$A$113=Points!BS16)*('Age Adjustments'!$B$2:$B$113=Points!F16)*('Age Adjustments'!$C$2:$C$113))","v":"00:00:00"},"00:25:03",null,"00:26:20"]
[16,16,"Jai Bhatoolaul",3,"Sen","M",180,"00:25:15",null,0,"",null,0,"","00:25:40",60,"00:25:40","00:25:15",75,"00:25:15",null,0,"00:25:15","00:25:37",45,"00:25:15",null,0,"00:25:15",null,0,"00:25:15",null,0,"00:25:15",null,0,"00:25:15",null,0,"00:25:15",null,0,"00:25:15",null,0,"00:25:15",null,0,"00:25:15",null,0,"00:25:15",null,0,"00:25:15",null,0,"00:25:15",null,0,"00:25:15",null,0,"00:25:15",null,0,"00:25:15",null,"Sen",null,{"$f":"SUMPRODUCT(('Age Adjustments'!$A$2:$A$113=Points!BS31)*('Age Adjustments'!$B$2:$B$113=Points!F31)*('Age Adjustments'!$C$2:$C$113))","v":"00:00:00"},"00:25:15",null,"00:25:40"]
[17,"=","Gary Beale",3,"v50","M",180,"00:25:59",null,0,"",null,0,"","00:28:41",60,"00:28:41",null,0,"00:28:41","00:25:59",75,"00:25:59","00:26:23",45,"00:25:59",null,0,"00:25:59",null,0,"00:25:59",null,0,"00:25:59",null,0,"00:25:59",null,0,"00:25:59",null,0,"00:25:59",null,0,"00:25:59",null,0,"00:25:59",null,0,"00:25:59",null,0,"00:25:59",null,0,"00:25:59",null,0,"00:25:59",null,0,"00:25:59",null,0,"00:25:59",null,"v50",null,{"$f":"SUMPRODUCT(('Age Adjustments'!$A$2:$A$113=Points!BS38)*('Age Adjustments'!$B$2:$B$113=Points!F38)*('Age Adjustments'!$C$2:$C$113))","v":"00:00:00"},"00:25:59",null,"00:28:41"]
[18,"=","Sue Smith",3,"V50","F",180,"00:26:01",null,0,"",null,0,"","00:27:39",60,"00:27:39","00:26:01",75,"00:26:01",null,0,"00:26:01","00:26:25",45,"00:26:01",null,0,"00:26:01",null,0,"00:26:01",null,0,"00:26:01",null,0,"00:26:01",null,0,"00:26:01",null,0,"00:26:01",null,0,"00:26:01",null,0,"00:26:01",null,0,"00:26:01",null,0,"00:26:01",null,0,"00:26:01",null,0,"00:26:01",null,0,"00:26:01",null,0,"00:26:01",null,"V50",null,{"$f":"SUMPRODUCT(('Age Adjustments'!$A$2:$A$113=Points!BS32)*('Age Adjustments'!$B$2:$B$113=Points!F32)*('Age Adjustments'!$C$2:$C$113))","v":"00:00:00"},"00:26:01",null,"00:27:39"]
[19,19,"Steve Black",5,"V50","M",309,"00:26:16","00:27:36",60,"00:27:36","00:27:42",53.999999999999957,"00:27:36",null,0,"00:27:36","00:26:43",75,"00:26:43","00:26:16",75,"00:26:16","00:26:43",45,"00:26:16",null,0,"00:26:16",null,0,"00:26:16",null,0,"00:26:16",null,0,"00:26:16",null,0,"00:26:16",null,0,"00:26:16",null,0,"00:26:16",null,0,"00:26:16",null,0,"00:26:16",null,0,"00:26:16",null,0,"00:26:16",null,0,"00:26:16",null,0,"00:26:16",null,0,"00:26:16",null,"V50",null,{"$f":"SUMPRODUCT(('Age Adjustments'!$A$2:$A$113=Points!BS19)*('Age Adjustments'!$B$2:$B$113=Points!F19)*('Age Adjustments'!$C$2:$C$113))","v":"00:00:00"},"00:26:16",null,"00:27:42"]
[20,20,"Justin Ede",1,"V40","M",60,"00:26:24","00:26:24",60,"00:26:24",null,0,"00:26:24",null,0,"00:26:24",null,0,"00:26:24",null,0,"00:26:24",null,0,"00:26:24",null,0,"00:26:24",null,0,"00:26:24",null,0,"00:26:24",null,0,"00:26:24",null,0,"00:26:24",null,0,"00:26:24",null,0,"00:26:24",null,0,"00:26:24",null,0,"00:26:24",null,0,"00:26:24",null,0,"00:26:24",null,0,"00:26:24",null,0,"00:26:24",null,0,"00:26:24",null,"V40",null,{"$f":"SUMPRODUCT(('Age Adjustments'!$A$2:$A$113=Points!BS17)*('Age Adjustments'!$B$2:$B$113=Points!F17)*('Age Adjustments'!$C$2:$C$113))","v":"00:00:00"},"00:26:24",null,"00:26:24"]
[21,"=","Tom Holden",1,"Sen","M",60,"00:26:40","00:26:40",60,"00:26:40",null,0,"00:26:40",null,0,"00:26:40",null,0,"00:26:40",null,0,"00:26:40",null,0,"00:26:40",null,0,"00:26:40",null,0,"00:26:40",null,0,"00:26:40",null,0,"00:26:40",null,0,"00:26:40",null,0,"00:26:40",null,0,"00:26:40",null,0,"00:26:40",null,0,"00:26:40",null,0,"00:26:40",null,0,"00:26:40",null,0,"00:26:40",null,0,"00:26:40",null,0,"00:26:40",null,"Sen",null,{"$f":"SUMPRODUCT(('Age Adjustments'!$A$2:$A$113=Points!BS18)*('Age Adjustments'!$B$2:$B$113=Points!F18)*('Age Adjustments'!$C$2:$C$113))","v":"00:00:00"},"00:26:40",null,"00:26:40"]
[22,"=","Marianne Day",1,"Sen","F",60,"00:26:41",null,0,"","00:26:41",60,"00:26:41",null,0,"00:26:41",null,0,"00:26:41",null,0,"00:26:41",null,0,"00:26:41",null,0,"00:26:41",null,0,"00:26:41",null,0,"00:26:41",null,0,"00:26:41",null,0,"00:26:41",null,0,"00:26:41",null,0,"00:26:41",null,0,"00:26:41",null,0,"00:26:41",null,0,"00:26:41",null,0,"00:26:41",null,0,"00:26:41",null,0,"00:26:41",null,0,"00:26:41",null,"Sen",null,{"$f":"SUMPRODUCT(('Age Adjustments'!$A$2:$A$113=Points!BS25)*('Age Adjustments'!$B$2:$B$113=Points!F25)*('Age Adjustments'!$C$2:$C$113))","v":"00:00:00"},"00:26:41",null,"00:26:41"]
[23,"=","David Addyman",1,"V50","M",60,"00:27:13",null,0,"",null,0,"",null,0,"",null,0,"",null,0,"","00:27:13",60,"00:27:13",null,0,"00:27:13",null,0,"00:27:13",null,0,"00:27:13",null,0,"00:27:13",null,0,"00:27:13",null,0,"00:27:13",null,0,"00:27:13",null,0,"00:27:13",null,0,"00:27:13",null,0,"00:27:13",null,0,"00:27:13",null,0,"00:27:13",null,0,"00:27:13",null,0,"00:27:13",null,null,null,{"$f":"SUMPRODUCT(('Age Adjustments'!$A$2:$A$113=Points!BS42)*('Age Adjustments'!$B$2:$B$113=Points!F42)*('Age Adjustments'!$C$2:$C$113))","v":"00:00:00"},"00:27:13",null,"00:27:13"]
[24,24,"Paul Fuchs",6,"V60+","M",338,"00:28:22","00:28:49",60,"00:28:49","00:28:46",62.999999999999872,"00:28:46","00:29:12",45,"00:28:46","00:28:56",50.000000000000135,"00:28:46","00:28:22",75,"00:28:22","00:28:50",45,"00:28:22",null,0,"00:28:22",null,0,"00:28:22",null,0,"00:28:22",null,0,"00:28:22",null,0,"00:28:22",null,0,"00:28:22",null,0,"00:28:22",null,0,"00:28:22",null,0,"00:28:22",null,0,"00:28:22",null,0,"00:28:22",null,0,"00:28:22",null,0,"00:28:22",null,0,"00:28:22",null,{"$f":"E33","v":"V60+"},null,{"$f":"SUMPRODUCT(('Age Adjustments'!$A$2:$A$113=Points!BS20)*('Age Adjustments'!$B$2:$B$113=Points!F20)*('Age Adjustments'!$C$2:$C$113))","v":"00:00:00"},"00:28:22",null,"00:29:12"]
[25,25,"Wing To",1,"v40","F",60,"00:29:00",null,0,"",null,0,"",null,0,"",null,0,"","00:29:00",60,"00:29:00",null,0,"00:29:00",null,0,"00:29:00",null,0,"00:29:00",null,0,"00:29:00",null,0,"00:29:00",null,0,"00:29:00",null,0,"00:29:00",null,0,"00:29:00",null,0,"00:29:00",null,0,"00:29:00",null,0,"00:29:00",null,0,"00:29:00",null,0,"00:29:00",null,0,"00:29:00",null,0,"00:29:00",null,"v40",null,{"$f":"SUMPRODUCT(('Age Adjustments'!$A$2:$A$113=Points!BS39)*('Age Adjustments'!$B$2:$B$113=Points!F39)*('Age Adjustments'!$C$2:$C$113))","v":"00:00:00"},"00:29:00",null,"00:29:00"]
[26,26,"Nigel Davies",3,"V50","M",203,"00:29:38","00:30:56",60,"00:30:56","00:30:48",67.999999999999957,"00:30:48",null,0,"00:30:48",null,0,"00:30:48","00:29:38",75,"00:29:38",null,0,"00:29:38",null,0,"00:29:38",null,0,"00:29:38",null,0,"00:29:38",null,0,"00:29:38",null,0,"00:29:38",null,0,"00:29:38",null,0,"00:29:38",null,0,"00:29:38",null,0,"00:29:38",null,0,"00:29:38",null,0,"00:29:38",null,0,"00:29:38",null,0,"00:29:38",null,0,"00:29:38",null,"V50",null,{"$f":"SUMPRODUCT(('Age Adjustments'!$A$2:$A$113=Points!BS21)*('Age Adjustments'!$B$2:$B$113=Points!F21)*('Age Adjustments'!$C$2:$C$113))","v":"00:00:00"},"00:29:38",null,"00:30:56"]
[27,27,"Darren Harrisson",2,"V50","M",135,"00:30:40",null,0,"","00:32:25",60,"00:32:25",null,0,"00:32:25",null,0,"00:32:25","00:30:40",75,"00:30:40",null,0,"00:30:40",null,0,"00:30:40",null,0,"00:30:40",null,0,"00:30:40",null,0,"00:30:40",null,0,"00:30:40",null,0,"00:30:40",null,0,"00:30:40",null,0,"00:30:40",null,0,"00:30:40",null,0,"00:30:40",null,0,"00:30:40",null,0,"00:30:40",null,0,"00:30:40",null,0,"00:30:40",null,"V50",null,{"$f":"SUMPRODUCT(('Age Adjustments'!$A$2:$A$113=Points!BS26)*('Age Adjustments'!$B$2:$B$113=Points!F26)*('Age Adjustments'!$C$2:$C$113))","v":"00:00:00"},"00:30:40",null,"00:32:25"]
[28,28,"Meena Morrish",3,"Sen","F",199,"00:32:40","00:33:50",60,"00:33:50",null,0,"00:33:50","00:33:46",64.000000000000128,"00:33:46","00:32:40",75,"00:32:40",null,0,"00:32:40",null,0,"00:32:40",null,0,"00:32:40",null,0,"00:32:40",null,0,"00:32:40",null,0,"00:32:40",null,0,"00:32:40",null,0,"00:32:40",null,0,"00:32:40",null,0,"00:32:40",null,0,"00:32:40",null,0,"00:32:40",null,0,"00:32:40",null,0,"00:32:40",null,0,"00:32:40",null,0,"00:32:40",null,"Sen",null,{"$f":"SUMPRODUCT(('Age Adjustments'!$A$2:$A$113=Points!BS22)*('Age Adjustments'!$B$2:$B$113=Points!F22)*('Age Adjustments'!$C$2:$C$113))","v":"00:00:00"},"00:32:40",null,"00:33:50"]
[29,29,"Tony White",1,"V60+","M",60,"00:32:45",null,0,"","00:32:45",60,"00:32:45",null,0,"00:32:45",null,0,"00:32:45",null,0,"00:32:45",null,0,"00:32:45",null,0,"00:32:45",null,0,"00:32:45",null,0,"00:32:45",null,0,"00:32:45",null,0,"00:32:45",null,0,"00:32:45",null,0,"00:32:45",null,0,"00:32:45",null,0,"00:32:45",null,0,"00:32:45",null,0,"00:32:45",null,0,"00:32:45",null,0,"00:32:45",null,0,"00:32:45",null,"V60+",null,{"$f":"SUMPRODUCT(('Age Adjustments'!$A$2:$A$113=Points!BS27)*('Age Adjustments'!$B$2:$B$113=Points!F27)*('Age Adjustments'!$C$2:$C$113))","v":"00:00:00"},"00:32:45",null,"00:32:45"]
[30,30,"Yvonne White",6,"V60+","F",352,"00:33:16","00:34:45",60,"00:34:45","00:35:16",45,"00:34:45","00:35:45",45,"00:34:45","00:34:32",73.000000000000028,"00:34:32","00:33:16",75,"00:33:16","00:33:22",53.999999999999957,"00:33:16",null,0,"00:33:16",null,0,"00:33:16",null,0,"00:33:16",null,0,"00:33:16",null,0,"00:33:16",null,0,"00:33:16",null,0,"00:33:16",null,0,"00:33:16",null,0,"00:33:16",null,0,"00:33:16",null,0,"00:33:16",null,0,"00:33:16",null,0,"00:33:16",null,0,"00:33:16",null,"V60+",null,{"$f":"SUMPRODUCT(('Age Adjustments'!$A$2:$A$113=Points!BS23)*('Age Adjustments'!$B$2:$B$113=Points!F23)*('Age Adjustments'!$C$2:$C$113))","v":"00:00:00"},"00:33:16",null,"00:35:45"]
[31,31,"Caroline Fishlock",1,"V40","F",60,"00:33:29",null,0,"","00:33:29",60,"00:33:29",null,0,"00:33:29",null,0,"00:33:29",null,0,"00:33:29",null,0,"00:33:29",null,0,"00:33:29",null,0,"00:33:29",null,0,"00:33:29",null,0,"00:33:29",null,0,"00:33:29",null,0,"00:33:29",null,0,"00:33:29",null,0,"00:33:29",null,0,"00:33:29",null,0,"00:33:29",null,0,"00:33:29",null,0,"00:33:29",null,0,"00:33:29",null,0,"00:33:29",null,"V40",null,{"$f":"SUMPRODUCT(('Age Adjustments'!$A$2:$A$113=Points!BS28)*('Age Adjustments'!$B$2:$B$113=Points!F28)*('Age Adjustments'!$C$2:$C$113))","v":"00:00:00"},"00:33:29",null,"00:33:29"]
[32,32,"Kyall Steab",2,"Sen","M",135,"00:35:07","00:38:01",60,"00:38:01",null,0,"00:38:01",null,0,"00:38:01",null,0,"00:38:01","00:35:07",75,"00:35:07",null,0,"00:35:07",null,0,"00:35:07",null,0,"00:35:07",null,0,"00:35:07",null,0,"00:35:07",null,0,"00:35:07",null,0,"00:35:07",null,0,"00:35:07",null,0,"00:35:07",null,0,"00:35:07",null,0,"00:35:07",null,0,"00:35:07",null,0,"00:35:07",null,0,"00:35:07",null,0,"00:35:07",null,"Sen",null,{"$f":"SUMPRODUCT(('Age Adjustments'!$A$2:$A$113=Points!BS24)*('Age Adjustments'!$B$2:$B$113=Points!F24)*('Age Adjustments'!$C$2:$C$113))","v":"00:00:00"},"00:35:07",null,"00:38:01"]
[33,33,"Charles Russell",{"$f":"COUNT(I42,L42,O42,R42,U42,X42,AA42,AD42,AG42,AJ42,AM42,AP42,AS42,AV42,AY42,BB42,BE42,BH42,BN42)","v":1},"Sen","M",{"$f":"ROUNDDOWN(LARGE(I42:BO42,1)+(IF($D$5>1,LARGE(I42:BO42,2),0))+(IF($D$5>2,LARGE(I42:BO42,3),0))+(IF($D$5>3,LARGE(I42:BO42,4),0))+(IF($D$5>4,LARGE(I42:BO42,5),0))+(IF($D$5>5,LARGE(I42:BO42,6),0))+(IF($D$5>6,LARGE(I42:BO42,7),0)),0)","v":60},{"$f":"IF(D42=0,999,MIN(I42,L42,O42,R42,U42,X42,AA42,AD42,AG42,AJ42,AM42,AP42,AS42,AV42,AY42,BB42,BE42,BH42,BK42,BN42))","v":"00:35:38"},null,{"$f":"IF(I42=\"\",0,$D$2)","v":0},{"$f":"IF(I42=\"\",\"\",I42)","v":""},null,{"$f":"IF(L42=\"\",0,IF(K42=\"\",$D$2,IF((K42-L42)*$C$1+$D$2<$D$4,$D$4,IF((K42-L42)*$C$1+$D$2>$D$3,$D$3,IF((K42-L42)*$C$1+$D$2<$D$3,(K42-L42)*$C$1+$D$2,0)))))","v":0},{"$f":"IF(AND(K42=\"\",L42=\"\")=TRUE,\"\",MIN(K42,L42))","v":""},null,{"$f":"IF(O42=\"\",0,IF(N42=\"\",$D$2,IF((N42-O42)*$C$1+$D$2<$D$4,$D$4,IF((N42-O42)*$C$1+$D$2>$D$3,$D$3,IF((N42-O42)*$C$1+$D$2<$D$3,(N42-O42)*$C$1+$D$2,0)))))","v":0},{"$f":"IF(AND(N42=\"\",O42=\"\")=TRUE,\"\",MIN(N42,O42))","v":""},null,{"$f":"IF(R42=\"\",0,IF(Q42=\"\",$D$2,IF((Q42-R42)*$C$1+$D$2<$D$4,$D$4,IF((Q42-R42)*$C$1+$D$2>$D$3,$D$3,IF((Q42-R42)*$C$1+$D$2<$D$3,(Q42-R42)*$C$1+$D$2,0)))))","v":0},{"$f":"IF(AND(Q42=\"\",R42=\"\")=TRUE,\"\",MIN(Q42,R42))","v":""},"00:35:38",60,{"$f":"IF(AND(T42=\"\",U42=\"\")=TRUE,\"\",MIN(T42,U42))","v":"00:35:38"},null,{"$f":"IF(X42=\"\",0,IF(W42=\"\",$D$2,IF((W42-X42)*$C$1+$D$2<$D$4,$D$4,IF((W42-X42)*$C$1+$D$2>$D$3,$D$3,IF((W42-X42)*$C$1+$D$2<$D$3,(W42-X42)*$C$1+$D$2,0)))))","v":0},{"$f":"IF(AND(W42=\"\",X42=\"\")=TRUE,\"\",MIN(W42,X42))","v":"00:35:38"},null,{"$f":"IF(AA42=\"\",0,IF(Z42=\"\",$D$2,IF((Z42-AA42)*$C$1+$D$2<$D$4,$D$4,IF((Z42-AA42)*$C$1+$D$2>$D$3,$D$3,IF((Z42-AA42)*$C$1+$D$2<$D$3,(Z42-AA42)*$C$1+$D$2,0)))))","v":0},{"$f":"IF(AND(Z42=\"\",AA42=\"\")=TRUE,\"\",MIN(Z42,AA42))","v":"00:35:38"},null,{"$f":"IF(AD42=\"\",0,IF(AC42=\"\",$D$2,IF((AC42-AD42)*$C$1+$D$2<$D$4,$D$4,IF((AC42-AD42)*$C$1+$D$2>$D$3,$D$3,IF((AC42-AD42)*$C$1+$D$2<$D$3,(AC42-AD42)*$C$1+$D$2,0)))))","v":0},{"$f":"IF(AND(AC42=\"\",AD42=\"\")=TRUE,\"\",MIN(AC42,AD42))","v":"00:35:38"},null,{"$f":"IF(AG42=\"\",0,IF(AF42=\"\",$D$2,IF((AF42-AG42)*$C$1+$D$2<$D$4,$D$4,IF((AF42-AG42)*$C$1+$D$2>$D$3,$D$3,IF((AF42-AG42)*$C$1+$D$2<$D$3,(AF42-AG42)*$C$1+$D$2,0)))))","v":0},{"$f":"IF(AND(AF42=\"\",AG42=\"\")=TRUE,\"\",MIN(AF42,AG42))","v":"00:35:38"},null,{"$f":"IF(AJ42=\"\",0,IF(AI42=\"\",$D$2,IF((AI42-AJ42)*$C$1+$D$2<$D$4,$D$4,IF((AI42-AJ42)*$C$1+$D$2>$D$3,$D$3,IF((AI42-AJ42)*$C$1+$D$2<$D$3,(AI42-AJ42)*$C$1+$D$2,0)))))","v":0},{"$f":"IF(AND(AI42=\"\",AJ42=\"\")=TRUE,\"\",MIN(AI42,AJ42))","v":"00:35:38"},null,{"$f":"IF(AM42=\"\",0,IF(AL42=\"\",$D$2,IF((AL42-AM42)*$C$1+$D$2<$D$4,$D$4,IF((AL42-AM42)*$C$1+$D$2>$D$3,$D$3,IF((AL42-AM42)*$C$1+$D$2<$D$3,(AL42-AM42)*$C$1+$D$2,0)))))","v":0},{"$f":"IF(AND(AL42=\"\",AM42=\"\")=TRUE,\"\",MIN(AL42,AM42))","v":"00:35:38"},null,{"$f":"IF(AP42=\"\",0,IF(AO42=\"\",$D$2,IF((AO42-AP42)*$C$1+$D$2<$D$4,$D$4,IF((AO42-AP42)*$C$1+$D$2>$D$3,$D$3,IF((AO42-AP42)*$C$1+$D$2<$D$3,(AO42-AP42)*$C$1+$D$2,0)))))","v":0},{"$f":"IF(AND(AO42=\"\",AP42=\"\")=TRUE,\"\",MIN(AO42,AP42))","v":"00:35:38"},null,{"$f":"IF(AS42=\"\",0,IF(AR42=\"\",$D$2,IF((AR42-AS42)*$C$1+$D$2<$D$4,$D$4,IF((AR42-AS42)*$C$1+$D$2>$D$3,$D$3,IF((AR42-AS42)*$C$1+$D$2<$D$3,(AR42-AS42)*$C$1+$D$2,0)))))","v":0},{"$f":"IF(AND(AR42=\"\",AS42=\"\")=TRUE,\"\",MIN(AR42,AS42))","v":"00:35:38"},null,{"$f":"IF(AV42=\"\",0,IF(AU42=\"\",$D$2,IF((AU42-AV42)*$C$1+$D$2<$D$4,$D$4,IF((AU42-AV42)*$C$1+$D$2>$D$3,$D$3,IF((AU42-AV42)*$C$1+$D$2<$D$3,(AU42-AV42)*$C$1+$D$2,0)))))","v":0},{"$f":"IF(AND(AU42=\"\",AV42=\"\")=TRUE,\"\",MIN(AU42,AV42))","v":"00:35:38"},null,{"$f":"IF(AY42=\"\",0,IF(AX42=\"\",$D$2,IF((AX42-AY42)*$C$1+$D$2<$D$4,$D$4,IF((AX42-AY42)*$C$1+$D$2>$D$3,$D$3,IF((AX42-AY42)*$C$1+$D$2<$D$3,(AX42-AY42)*$C$1+$D$2,0)))))","v":0},{"$f":"IF(AND(AX42=\"\",AY42=\"\")=TRUE,\"\",MIN(AX42,AY42))","v":"00:35:38"},null,{"$f":"IF(BB42=\"\",0,IF(BA42=\"\",$D$2,IF((BA42-BB42)*$C$1+$D$2<$D$4,$D$4,IF((BA42-BB42)*$C$1+$D$2>$D$3,$D$3,IF((BA42-BB42)*$C$1+$D$2<$D$3,(BA42-BB42)*$C$1+$D$2,0)))))","v":0},{"$f":"IF(AND(BA42=\"\",BB42=\"\")=TRUE,\"\",MIN(BA42,BB42))","v":"00:35:38"},null,{"$f":"IF(BE42=\"\",0,IF(BD42=\"\",$D$2,IF((BD42-BE42)*$C$1+$D$2<$D$4,$D$4,IF((BD42-BE42)*$C$1+$D$2>$D$3,$D$3,IF((BD42-BE42)*$C$1+$D$2<$D$3,(BD42-BE42)*$C$1+$D$2,0)))))","v":0},{"$f":"IF(AND(BD42=\"\",BE42=\"\")=TRUE,\"\",MIN(BD42,BE42))","v":"00:35:38"},null,{"$f":"IF(BH42=\"\",0,IF(BG42=\"\",$D$2,IF((BG42-BH42)*$C$1+$D$2<$D$4,$D$4,IF((BG42-BH42)*$C$1+$D$2>$D$3,$D$3,IF((BG42-BH42)*$C$1+$D$2<$D$3,(BG42-BH42)*$C$1+$D$2,0)))))","v":0},{"$f":"IF(AND(BG42=\"\",BH42=\"\")=TRUE,\"\",MIN(BG42,BH42))","v":"00:35:38"},null,{"$f":"IF(BK42=\"\",0,IF(BG42=\"\",$D$2,IF((BG42-BK42)*$C$1+$D$2<$D$4,$D$4,IF((BG42-BK42)*$C$1+$D$2>$D$3,$D$3,IF((BG42-BK42)*$C$1+$D$2<$D$3,(BG42-BK42)*$C$1+$D$2,0)))))","v":0},{"$f":"IF(AND(BG42=\"\",BK42=\"\")=TRUE,\"\",MIN(BG42,BK42))","v":"00:35:38"},null,{"$f":"IF(BN42=\"\",0,IF(BJ42=\"\",$D$2,IF((BJ42-BN42)*$C$1+$D$2<$D$4,$D$4,IF((BJ42-BN42)*$C$1+$D$2>$D$3,$D$3,IF((BJ42-BN42)*$C$1+$D$2<$D$3,(BJ42-BN42)*$C$1+$D$2,0)))))","v":0},{"$f":"IF(AND(BJ42=\"\",BN42=\"\")=TRUE,\"\",MIN(BJ42,BN42))","v":"00:35:38"},null,"Sen",null,{"$f":"SUMPRODUCT(('Age Adjustments'!$A$2:$A$113=Points!BS40)*('Age Adjustments'!$B$2:$B$113=Points!F40)*('Age Adjustments'!$C$2:$C$113))","v":"00:00:00"},"00:35:38",null,"00:35:38"]
[34,"",null,0,null,null,0,999,null,0,"",null,0,"",null,0,"",null,0,"",null,{"$f":"IF(U43=\"\",0,IF(T43=\"\",$D$2,IF((T43-U43)*$C$1+$D$2<$D$4,$D$4,IF((T43-U43)*$C$1+$D$2>$D$3,$D$3,IF((T43-U43)*$C$1+$D$2<$D$3,(T43-U43)*$C$1+$D$2,0)))))","v":0},"",null,0,"",null,0,"",null,0,"",null,0,"",null,0,"",null,0,"",null,0,"",null,0,"",null,0,"",null,0,"",null,0,"",null,0,"",null,0,"",null,0,"",null,0,"",null,0,null,{"$f":"SUMPRODUCT(('Age Adjustments'!$A$2:$A$113=Points!BS43)*('Age Adjustments'!$B$2:$B$113=Points!F43)*('Age Adjustments'!$C$2:$C$113))","v":"00:00:00"},999,null,999]
[35,"",null,0,null,null,0,999,null,0,"",null,0,"",null,0,"",null,0,"",null,0,"",null,0,"",null,0,"",null,0,"",null,0,"",null,0,"",null,0,"",null,0,"",null,0,"",null,0,"",null,0,"",null,0,"",null,0,"",null,0,"",null,0,"",null,0,""]
[36,"",null,0,null,null,0,999,null,0,"",null,0,"",null,0,"",null,0,"",null,0,"",null,0,"",null,0,"",null,0,"",null,0,"",null,0,"",null,0,"",null,0,"",null,0,"",null,0,"",null,0,"",null,0,"",null,0,"",null,0,"",null,0,"",null,0,""]
[37,"",null,0,null,null,0,999,null,0,"",null,0,"",null,0,"",null,0,"",null,0,"",null,0,"",null,0,"",null,0,"",null,0,"",null,0,"",null,0,"",null,0,"",null,0,"",null,0,"",null,0,"",null,0,"",null,0,"",null,0,"",null,0,"",null,0,""]
[38,"",null,0,null,null,0,999,null,0,"",null,0,"",null,0,"",null,0,"",null,0,"",null,0,"",null,0,"",null,0,"",null,0,"",null,0,"",null,0,"",null,0,"",null,0,"",null,0,"",null,0,"",null,0,"",null,0,"",null,0,"",null,0,"",null,0,""]
[39,"",null,0,null,null,0,999,null,0,"",null,0,"",null,0,"",null,0,"",null,0,"",null,0,"",null,0,"",null,0,"",null,0,"",null,0,"",null,0,"",null,0,"",null,0,"",null,0,"",null,0,"",null,0,"",null,0,"",null,0,"",null,0,"",null,0,""]
[40,"",null,0,null,null,0,999,null,0,"",null,0,"",null,0,"",null,0,"",null,0,"",null,0,"",null,0,"",null,0,"",null,0,"",null,0,"",null,0,"",null,0,"",null,0,"",null,0,"",null,0,"",null,0,"",null,0,"",null,0,"",null,0,"",null,0,""]
[41,"",null,0,null,null,0,999,null,0,"",null,0,"",null,0,"",null,0,"",null,0,"",null,0,"",null,0,"",null,0,"",null,0,"",null,0,"",null,0,"",null,0,"",null,0,"",null,0,"",null,0,"",null,0,"",null,0,"",null,0,"",null,0,"",null,0,""]
[42,"",null,0,null,null,0,999,null,0,"",null,0,"",null,0,"",null,0,"",null,0,"",null,0,"",null,0,"",null,0,"",null,0,"",null,0,"",null,0,"",null,0,"",null,0,"",null,0,"",null,0,"",null,0,"",null,0,"",null,0,"",null,0,"",null,0,""]
[43,"",null,0,null,null,0,999,null,0,"",null,0,"",null,0,"",null,0,"",null,0,"",null,0,"",null,0,"",null,0,"",null,0,"",null,0,"",null,0,"",null,0,"",null,0,"",null,0,"",null,0,"",null,0,"",null,0,"",null,0,"",null,0,"",null,0,""]
[44,null,null,0,null,null,0,999,null,0,"",null,0,"",null,0,"",null,0,"",null,0,"",null,0,"",null,0,"",null,0,"",null,0,"",null,0,"",null,0,"",null,0,"",null,0,"",null,0,"",null,0,"",null,0,"",null,0,"",null,0,"",null,0,"",null,0,""]
[45,{"$f":"IF(C54=\"\",\"\",IF(G54=G53,\"=\",A54))","v":""},null,0,null,null,0,999,null,0,"",null,0,"",null,0,"",null,0,"",null,0,"",null,0,"",null,0,"",null,0,"",null,0,"",null,0,"",null,0,"",null,0,"",null,0,"",null,0,"",null,0,"",null,0,"",null,0,"",null,0,"",null,0,"",null,0,""]
[46,"",null,0,null,null,0,999,null,0,"",null,0,"",null,0,"",null,0,"",null,0,"",null,0,"",null,0,"",null,0,"",null,0,"",null,0,"",null,0,"",null,0,"",null,0,"",null,0,"",null,0,"",null,0,"",null,0,"",null,0,"",null,0,"",null,0,""]
[47,"",null,0,null,null,0,999,null,0,"",null,0,"",null,0,"",null,0,"",null,0,"",null,0,"",null,0,"",null,0,"",null,0,"",null,0,"",null,0,"",null,0,"",null,0,"",null,0,"",null,0,"",null,0,"",null,0,"",null,0,"",null,0,"",null,0,""]
[48,"",null,0,null,null,0,999,null,0,"",null,0,"",null,0,"",null,0,"",null,0,"",null,0,"",null,0,"",null,0,"",null,0,"",null,0,"",null,0,"",null,0,"",null,0,"",null,0,"",null,0,"",null,0,"",null,0,"",null,0,"",null,0,"",null,0,""]
[49,"",null,0,null,null,0,999,null,0,"",null,0,"",null,0,"",null,0,"",null,0,"",null,0,"",null,0,"",null,0,"",null,0,"",null,0,"",null,0,"",null,0,"",null,0,"",null,0,"",null,0,"",null,0,"",null,0,"",null,0,"",null,0,"",null,0,""]
[50,"",null,0,null,null,0,999,null,0,"",null,0,"",null,0,"",null,0,"",null,0,"",null,0,"",null,0,"",null,0,"",null,0,"",null,0,"",null,0,"",null,0,"",null,0,"",null,0,"",null,0,"",null,0,"",null,0,"",null,0,"",null,0,"",null,0,""]
[51,"",null,0,null,null,0,999,null,0,"",null,0,"",null,0,"",null,0,"",null,0,"",null,0,"",null,0,"",null,0,"",null,0,"",null,0,"",null,0,"",null,0,"",null,0,"",null,0,"",null,0,"",null,0,"",null,0,"",null,0,"",null,0,"",null,0,""]
[52,"",null,0,null,null,0,999,null,0,"",null,0,"",null,0,"",null,0,"",null,0,"",null,0,"",null,0,"",null,0,"",null,0,"",null,0,"",null,0,"",null,0,"",null,0,"",null,0,"",null,0,"",null,0,"",null,0,"",null,0,"",null,0,"",null,0,""]
[53,"",null,0,null,null,0,999,null,0,"",null,0,"",null,0,"",null,0,"",null,0,"",null,0,"",null,0,"",null,0,"",null,0,"",null,0,"",null,0,"",null,0,"",null,0,"",null,0,"",null,0,"",null,0,"",null,0,"",null,0,"",null,0,"",null,0,""]
[54,"",null,0,null,null,0,999,null,0,"",null,0,"",null,0,"",null,0,"",null,0,"",null,0,"",null,0,"",null,0,"",null,0,"",null,0,"",null,0,"",null,0,"",null,0,"",null,0,"",null,0,"",null,0,"",null,0,"",null,0,"",null,0,"",null,0,""]
[55,"",null,0,null,null,0,999,null,0,"",null,0,"",null,0,"",null,0,"",null,0,"",null,0,"",null,0,"",null,0,"",null,0,"",null,0,"",null,0,"",null,0,"",null,0,"",null,0,"",null,0,"",null,0,"",null,0,"",null,0,"",null,0,"",null,0,""]
[56,"",null,0,null,null,0,999,null,0,"",null,0,"",null,0,"",null,0,"",null,0,"",null,0,"",null,0,"",null,0,"",null,0,"",null,0,"",null,0,"",null,0,"",null,0,"",null,0,"",null,0,"",null,0,"",null,0,"",null,0,"",null,0,"",null,0,""]
[57,"",null,0,null,null,0,999,null,0,"",null,0,"",null,0,"",null,0,"",null,0,"",null,0,"",null,0,"",null,0,"",null,0,"",null,0,"",null,0,"",null,0,"",null,0,"",null,0,"",null,0,"",null,0,"",null,0,"",null,0,"",null,0,"",null,0,""]
[58,"",null,0,null,null,0,999,null,0,"",null,0,"",null,0,"",null,0,"",null,0,"",null,0,"",null,0,"",null,0,"",null,0,"",null,0,"",null,0,"",null,0,"",null,0,"",null,0,"",null,0,"",null,0,"",null,0,"",null,0,"",null,0,"",null,0,""]
[59,"",null,0,null,null,0,999,null,0,"",null,0,"",null,0,"",null,0,"",null,0,"",null,0,"",null,0,"",null,0,"",null,0,"",null,0,"",null,0,"",null,0,"",null,0,"",null,0,"",null,0,"",null,0,"",null,0,"",null,0,"",null,0,"",null,0,""]
[60,"",null,0,null,null,0,999,null,0,"",null,0,"",null,0,"",null,0,"",null,0,"",null,0,"",null,0,"",null,0,"",null,0,"",null,0,"",null,0,"",null,0,"",null,0,"",null,0,"",null,0,"",null,0,"",null,0,"",null,0,"",null,0,"",null,0,""]
[61,"",null,0,null,null,0,999,null,0,"",null,0,"",null,0,"",null,0,"",null,0,"",null,0,"",null,0,"",null,0,"",null,0,"",null,0,"",null,0,"",null,0,"",null,0,"",null,0,"",null,0,"",null,0,"",null,0,"",null,0,"",null,0,"",null,0,""]
[62,"",null,0,null,null,0,999,null,0,"",null,0,"",null,0,"",null,0,"",null,0,"",null,0,"",null,0,"",null,0,"",null,0,"",null,0,"",null,0,"",null,0,"",null,0,"",null,0,"",null,0,"",null,0,"",null,0,"",null,0,"",null,0,"",null,0,""]
[63,"",null,0,null,null,0,999,null,0,"",null,0,"",null,0,"",null,0,"",null,0,"",null,0,"",null,0,"",null,0,"",null,0,"",null,0,"",null,0,"",null,0,"",null,0,"",null,0,"",null,0,"",null,0,"",null,0,"",null,0,"",null,0,"",null,0,""]
[64,"",null,0,null,null,0,999,null,0,"",null,0,"",null,0,"",null,0,"",null,0,"",null,0,"",null,0,"",null,0,"",null,0,"",null,0,"",null,0,"",null,0,"",null,0,"",null,0,"",null,0,"",null,0,"",null,0,"",null,0,"",null,0,"",null,0,""]
[65,"",null,{"$f":"COUNT(I74,L74,O74,R74,U74,X74,AA74,AD74,AG74,AJ74,AM74,AP74,AS74,AV74,AY74,BB74,BE74,BH74,BN74)","v":0},null,null,{"$f":"ROUNDDOWN(LARGE(I74:BO74,1)+(IF($D$5>1,LARGE(I74:BO74,2),0))+(IF($D$5>2,LARGE(I74:BO74,3),0))+(IF($D$5>3,LARGE(I74:BO74,4),0))+(IF($D$5>4,LARGE(I74:BO74,5),0))+(IF($D$5>5,LARGE(I74:BO74,6),0))+(IF($D$5>6,LARGE(I74:BO74,7),0)),0)","v":0},{"$f":"IF(D74=0,999,MIN(I74,L74,O74,R74,U74,X74,AA74,AD74,AG74,AJ74,AM74,AP74,AS74,AV74,AY74,BB74,BE74,BH74,BK74,BN74))","v":999},null,{"$f":"IF(I74=\"\",0,$D$2)","v":0},{"$f":"IF(I74=\"\",\"\",I74)","v":""},null,{"$f":"IF(L74=\"\",0,IF(K74=\"\",$D$2,IF((K74-L74)*$C$1+$D$2<$D$4,$D$4,IF((K74-L74)*$C$1+$D$2>$D$3,$D$3,IF((K74-L74)*$C$1+$D$2<$D$3,(K74-L74)*$C$1+$D$2,0)))))","v":0},{"$f":"IF(AND(K74=\"\",L74=\"\")=TRUE,\"\",MIN(K74,L74))","v":""},null,{"$f":"IF(O74=\"\",0,IF(N74=\"\",$D$2,IF((N74-O74)*$C$1+$D$2<$D$4,$D$4,IF((N74-O74)*$C$1+$D$2>$D$3,$D$3,IF((N74-O74)*$C$1+$D$2<$D$3,(N74-O74)*$C$1+$D$2,0)))))","v":0},{"$f":"IF(AND(N74=\"\",O74=\"\")=TRUE,\"\",MIN(N74,O74))","v":""},null,{"$f":"IF(R74=\"\",0,IF(Q74=\"\",$D$2,IF((Q74-R74)*$C$1+$D$2<$D$4,$D$4,IF((Q74-R74)*$C$1+$D$2>$D$3,$D$3,IF((Q74-R74)*$C$1+$D$2<$D$3,(Q74-R74)*$C$1+$D$2,0)))))","v":0},{"$f":"IF(AND(Q74=\"\",R74=\"\")=TRUE,\"\",MIN(Q74,R74))","v":""},null,0,{"$f":"IF(AND(T74=\"\",U74=\"\")=TRUE,\"\",MIN(T74,U74))","v":""},null,{"$f":"IF(X74=\"\",0,IF(W74=\"\",$D$2,IF((W74-X74)*$C$1+$D$2<$D$4,$D$4,IF((W74-X74)*$C$1+$D$2>$D$3,$D$3,IF((W74-X74)*$C$1+$D$2<$D$3,(W74-X74)*$C$1+$D$2,0)))))","v":0},{"$f":"IF(AND(W74=\"\",X74=\"\")=TRUE,\"\",MIN(W74,X74))","v":""},null,{"$f":"IF(AA74=\"\",0,IF(Z74=\"\",$D$2,IF((Z74-AA74)*$C$1+$D$2<$D$4,$D$4,IF((Z74-AA74)*$C$1+$D$2>$D$3,$D$3,IF((Z74-AA74)*$C$1+$D$2<$D$3,(Z74-AA74)*$C$1+$D$2,0)))))","v":0},{"$f":"IF(AND(Z74=\"\",AA74=\"\")=TRUE,\"\",MIN(Z74,AA74))","v":""},null,{"$f":"IF(AD74=\"\",0,IF(AC74=\"\",$D$2,IF((AC74-AD74)*$C$1+$D$2<$D$4,$D$4,IF((AC74-AD74)*$C$1+$D$2>$D$3,$D$3,IF((AC74-AD74)*$C$1+$D$2<$D$3,(AC74-AD74)*$C$1+$D$2,0)))))","v":0},{"$f":"IF(AND(AC74=\"\",AD74=\"\")=TRUE,\"\",MIN(AC74,AD74))","v":""},null,{"$f":"IF(AG74=\"\",0,IF(AF74=\"\",$D$2,IF((AF74-AG74)*$C$1+$D$2<$D$4,$D$4,IF((AF74-AG74)*$C$1+$D$2>$D$3,$D$3,IF((AF74-AG74)*$C$1+$D$2<$D$3,(AF74-AG74)*$C$1+$D$2,0)))))","v":0},{"$f":"IF(AND(AF74=\"\",AG74=\"\")=TRUE,\"\",MIN(AF74,AG74))","v":""},null,{"$f":"IF(AJ74=\"\",0,IF(AI74=\"\",$D$2,IF((AI74-AJ74)*$C$1+$D$2<$D$4,$D$4,IF((AI74-AJ74)*$C$1+$D$2>$D$3,$D$3,IF((AI74-AJ74)*$C$1+$D$2<$D$3,(AI74-AJ74)*$C$1+$D$2,0)))))","v":0},{"$f":"IF(AND(AI74=\"\",AJ74=\"\")=TRUE,\"\",MIN(AI74,AJ74))","v":""},null,{"$f":"IF(AM74=\"\",0,IF(AL74=\"\",$D$2,IF((AL74-AM74)*$C$1+$D$2<$D$4,$D$4,IF((AL74-AM74)*$C$1+$D$2>$D$3,$D$3,IF((AL74-AM74)*$C$1+$D$2<$D$3,(AL74-AM74)*$C$1+$D$2,0)))))","v":0},{"$f":"IF(AND(AL74=\"\",AM74=\"\")=TRUE,\"\",MIN(AL74,AM74))","v":""},null,{"$f":"IF(AP74=\"\",0,IF(AO74=\"\",$D$2,IF((AO74-AP74)*$C$1+$D$2<$D$4,$D$4,IF((AO74-AP74)*$C$1+$D$2>$D$3,$D$3,IF((AO74-AP74)*$C$1+$D$2<$D$3,(AO74-AP74)*$C$1+$D$2,0)))))","v":0},{"$f":"IF(AND(AO74=\"\",AP74=\"\")=TRUE,\"\",MIN(AO74,AP74))","v":""},null,{"$f":"IF(AS74=\"\",0,IF(AR74=\"\",$D$2,IF((AR74-AS74)*$C$1+$D$2<$D$4,$D$4,IF((AR74-AS74)*$C$1+$D$2>$D$3,$D$3,IF((AR74-AS74)*$C$1+$D$2<$D$3,(AR74-AS74)*$C$1+$D$2,0)))))","v":0},{"$f":"IF(AND(AR74=\"\",AS74=\"\")=TRUE,\"\",MIN(AR74,AS74))","v":""},null,{"$f":"IF(AV74=\"\",0,IF(AU74=\"\",$D$2,IF((AU74-AV74)*$C$1+$D$2<$D$4,$D$4,IF((AU74-AV74)*$C$1+$D$2>$D$3,$D$3,IF((AU74-AV74)*$C$1+$D$2<$D$3,(AU74-AV74)*$C$1+$D$2,0)))))","v":0},{"$f":"IF(AND(AU74=\"\",AV74=\"\")=TRUE,\"\",MIN(AU74,AV74))","v":""},null,{"$f":"IF(AY74=\"\",0,IF(AX74=\"\",$D$2,IF((AX74-AY74)*$C$1+$D$2<$D$4,$D$4,IF((AX74-AY74)*$C$1+$D$2>$D$3,$D$3,IF((AX74-AY74)*$C$1+$D$2<$D$3,(AX74-AY74)*$C$1+$D$2,0)))))","v":0},{"$f":"IF(AND(AX74=\"\",AY74=\"\")=TRUE,\"\",MIN(AX74,AY74))","v":""},null,{"$f":"IF(BB74=\"\",0,IF(BA74=\"\",$D$2,IF((BA74-BB74)*$C$1+$D$2<$D$4,$D$4,IF((BA74-BB74)*$C$1+$D$2>$D$3,$D$3,IF((BA74-BB74)*$C$1+$D$2<$D$3,(BA74-BB74)*$C$1+$D$2,0)))))","v":0},{"$f":"IF(AND(BA74=\"\",BB74=\"\")=TRUE,\"\",MIN(BA74,BB74))","v":""},null,{"$f":"IF(BE74=\"\",0,IF(BD74=\"\",$D$2,IF((BD74-BE74)*$C$1+$D$2<$D$4,$D$4,IF((BD74-BE74)*$C$1+$D$2>$D$3,$D$3,IF((BD74-BE74)*$C$1+$D$2<$D$3,(BD74-BE74)*$C$1+$D$2,0)))))","v":0},{"$f":"IF(AND(BD74=\"\",BE74=\"\")=TRUE,\"\",MIN(BD74,BE74))","v":""},null,{"$f":"IF(BH74=\"\",0,IF(BG74=\"\",$D$2,IF((BG74-BH74)*$C$1+$D$2<$D$4,$D$4,IF((BG74-BH74)*$C$1+$D$2>$D$3,$D$3,IF((BG74-BH74)*$C$1+$D$2<$D$3,(BG74-BH74)*$C$1+$D$2,0)))))","v":0},{"$f":"IF(AND(BG74=\"\",BH74=\"\")=TRUE,\"\",MIN(BG74,BH74))","v":""},null,{"$f":"IF(BK74=\"\",0,IF(BG74=\"\",$D$2,IF((BG74-BK74)*$C$1+$D$2<$D$4,$D$4,IF((BG74-BK74)*$C$1+$D$2>$D$3,$D$3,IF((BG74-BK74)*$C$1+$D$2<$D$3,(BG74-BK74)*$C$1+$D$2,0)))))","v":0},{"$f":"IF(AND(BG74=\"\",BK74=\"\")=TRUE,\"\",MIN(BG74,BK74))","v":""},null,{"$f":"IF(BN74=\"\",0,IF(BJ74=\"\",$D$2,IF((BJ74-BN74)*$C$1+$D$2<$D$4,$D$4,IF((BJ74-BN74)*$C$1+$D$2>$D$3,$D$3,IF((BJ74-BN74)*$C$1+$D$2<$D$3,(BJ74-BN74)*$C$1+$D$2,0)))))","v":0},{"$f":"IF(AND(BJ74=\"\",BN74=\"\")=TRUE,\"\",MIN(BJ74,BN74))","v":""}]
[66,"",null,0,null,null,0,999,null,0,"",null,0,"",null,0,"",null,0,"",null,{"$f":"IF(U75=\"\",0,IF(T75=\"\",$D$2,IF((T75-U75)*$C$1+$D$2<$D$4,$D$4,IF((T75-U75)*$C$1+$D$2>$D$3,$D$3,IF((T75-U75)*$C$1+$D$2<$D$3,(T75-U75)*$C$1+$D$2,0)))))","v":0},"",null,0,"",null,0,"",null,0,"",null,0,"",null,0,"",null,0,"",null,0,"",null,0,"",null,0,"",null,0,"",null,0,"",null,0,"",null,0,"",null,0,"",null,0,""]
[67,"",null,0,null,null,0,999,null,0,"",null,0,"",null,0,"",null,0,"",null,0,"",null,0,"",null,0,"",null,0,"",null,0,"",null,0,"",null,0,"",null,0,"",null,0,"",null,0,"",null,0,"",null,0,"",null,0,"",null,0,"",null,0,"",null,0,""]
[68,"",null,0,null,null,0,999,null,0,"",null,0,"",null,0,"",null,0,"",null,0,"",null,0,"",null,0,"",null,0,"",null,0,"",null,0,"",null,0,"",null,0,"",null,0,"",null,0,"",null,0,"",null,0,"",null,0,"",null,0,"",null,0,"",null,0,""]
[69,"",null,0,null,null,0,999,null,0,"",null,0,"",null,0,"",null,0,"",null,0,"",null,0,"",null,0,"",null,0,"",null,0,"",null,0,"",null,0,"",null,0,"",null,0,"",null,0,"",null,0,"",null,0,"",null,0,"",null,0,"",null,0,"",null,0,""]
[70,"",null,0,null,null,0,999,null,0,"",null,0,"",null,0,"",null,0,"",null,0,"",null,0,"",null,0,"",null,0,"",null,0,"",null,0,"",null,0,"",null,0,"",null,0,"",null,0,"",null,0,"",null,0,"",null,0,"",null,0,"",null,0,"",null,0,""]
[71,"",null,0,null,null,0,999,null,0,"",null,0,"",null,0,"",null,0,"",null,0,"",null,0,"",null,0,"",null,0,"",null,0,"",null,0,"",null,0,"",null,0,"",null,0,"",null,0,"",null,0,"",null,0,"",null,0,"",null,0,"",null,0,"",null,0,""]
[72,"",null,0,null,null,0,999,null,0,"",null,0,"",null,0,"",null,0,"",null,0,"",null,0,"",null,0,"",null,0,"",null,0,"",null,0,"",null,0,"",null,0,"",null,0,"",null,0,"",null,0,"",null,0,"",null,0,"",null,0,"",null,0,"",null,0,""]
[73,"",null,0,null,null,0,999,null,0,"",null,0,"",null,0,"",null,0,"",null,0,"",null,0,"",null,0,"",null,0,"",null,0,"",null,0,"",null,0,"",null,0,"",null,0,"",null,0,"",null,0,"",null,0,"",null,0,"",null,0,"",null,0,"",null,0,""]
[74,"",null,0,null,null,0,999,null,0,"",null,0,"",null,0,"",null,0,"",null,0,"",null,0,"",null,0,"",null,0,"",null,0,"",null,0,"",null,0,"",null,0,"",null,0,"",null,0,"",null,0,"",null,0,"",null,0,"",null,0,"",null,0,"",null,0,""]
[75,"",null,0,null,null,0,999,null,0,"",null,0,"",null,0,"",null,0,"",null,0,"",null,0,"",null,0,"",null,0,"",null,0,"",null,0,"",null,0,"",null,0,"",null,0,"",null,0,"",null,0,"",null,0,"",null,0,"",null,0,"",null,0,"",null,0,""]
[76,"",null,0,null,null,0,999,null,0,"",null,0,"",null,0,"",null,0,"",null,0,"",null,0,"",null,0,"",null,0,"",null,0,"",null,0,"",null,0,"",null,0,"",null,0,"",null,0,"",null,0,"",null,0,"",null,0,"",null,0,"",null,0,"",null,0,""]
[77,"",null,0,null,null,0,999,null,0,"",null,0,"",null,0,"",null,0,"",null,0,"",null,0,"",null,0,"",null,0,"",null,0,"",null,0,"",null,0,"",null,0,"",null,0,"",null,0,"",null,0,"",null,0,"",null,0,"",null,0,"",null,0,"",null,0,""]
[78,"",null,0,null,null,0,999,null,0,"",null,0,"",null,0,"",null,0,"",null,0,"",null,0,"",null,0,"",null,0,"",null,0,"",null,0,"",null,0,"",null,0,"",null,0,"",null,0,"",null,0,"",null,0,"",null,0,"",null,0,"",null,0,"",null,0,""]
[79,"",null,0,null,null,0,999,null,0,"",null,0,"",null,0,"",null,0,"",null,0,"",null,0,"",null,0,"",null,0,"",null,0,"",null,0,"",null,0,"",null,0,"",null,0,"",null,0,"",null,0,"",null,0,"",null,0,"",null,0,"",null,0,"",null,0,""]
[80,"",null,0,null,null,0,999,null,0,"",null,0,"",null,0,"",null,0,"",null,0,"",null,0,"",null,0,"",null,0,"",null,0,"",null,0,"",null,0,"",null,0,"",null,0,"",null,0,"",null,0,"",null,0,"",null,0,"",null,0,"",null,0,"",null,0,""]

{"sheet":"Stats","index":5,"n_rows":13,"n_cols":3,"rows_kept":13,"cut":false,"hidden":false,"merged":[]}
[]
[]
["Total rides",{"$f":"SUM(Points!D10:D60)","v":79}]
["Total riders",{"$f":"SUM(B5:B8)","v":32}]
["Sen",{"$f":"COUNTIF(Points!$E$10:$E$60,Stats!A5)","v":11},{"$f":"B5/$B$4","v":0.34375}]
["V40",{"$f":"COUNTIF(Points!$E$10:$E$60,Stats!A6)","v":8},{"$f":"B6/$B$4","v":0.25}]
["V50",{"$f":"COUNTIF(Points!$E$10:$E$60,Stats!A7)","v":9},0.28125]
["V60+",{"$f":"COUNTIF(Points!$E$10:$E$60,Stats!A8)","v":4},0.125]
["Average rides per rider",{"$f":"B3/B4","v":2.46875}]
[]
["Fastest",{"$f":"MIN(Points!H10:H60)","v":"00:20:55"}]
["Slowest",{"$f":"MAX(Points!BW10:BW24)","v":"00:26:52"},"Need to continually adjust the range for this"]
["Range",{"$f":"B12-B11","v":"00:05:57"}]

{"sheet":"Age Adjustments","index":6,"n_rows":113,"n_cols":3,"rows_kept":113,"cut":false,"hidden":false,"merged":[]}
["Age",null,"10 miles"]
[40,"M","00:00:00"]
[41,"M","00:00:04"]
[42,"M","00:00:08"]
[43,"M","00:00:13"]
[44,"M","00:00:17"]
[45,"M","00:00:21"]
[46,"M","00:00:26"]
[47,"M","00:00:30"]
[48,"M","00:00:35"]
[49,"M","00:00:40"]
[50,"M","00:00:45"]
[51,"M","00:00:50"]
[52,"M","00:00:55"]
[53,"M","00:01:01"]
[54,"M","00:01:06"]
[55,"M","00:01:12"]
[56,"M","00:01:18"]
[57,"M","00:01:24"]
[58,"M","00:01:31"]
[59,"M","00:01:38"]
[60,"M","00:01:45"]
[61,"M","00:01:52"]
[62,"M","00:02:00"]
[63,"M","00:02:07"]
[64,"M","00:02:16"]
[65,"M","00:02:24"]
[66,"M","00:02:33"]
[67,"M","00:02:43"]
[68,"M","00:02:52"]
[69,"M","00:03:02"]
[70,"M","00:03:13"]
[71,"M","00:03:24"]
[72,"M","00:03:36"]
[73,"M","00:03:48"]
[74,"M","00:04:01"]
[75,"M","00:04:14"]
[76,"M","00:04:29"]
[77,"M","00:04:43"]
[78,"M","00:04:59"]
[79,"M","00:05:16"]
[80,"M","00:05:33"]
[81,"M","00:05:52"]
[82,"M","00:06:11"]
[83,"M","00:06:32"]
[84,"M","00:06:54"]
[85,"M","00:07:17"]
[86,"M","00:07:42"]
[87,"M","00:08:08"]
[88,"M","00:08:37"]
[89,"M","00:09:07"]
[90,"M","00:09:40"]
[91,"M","00:10:15"]
[92,"M","00:10:53"]
[93,"M","00:11:34"]
[94,"M","00:12:19"]
[95,"M","00:13:08"]
[40,"F","00:02:27"]
[41,"F","00:02:27"]
[42,"F","00:02:36"]
[43,"F","00:02:41"]
[44,"F","00:02:46"]
[45,"F","00:02:51"]
[46,"F","00:02:56"]
[47,"F","00:03:01"]
[48,"F","00:03:06"]
[49,"F","00:03:12"]
[50,"F","00:03:17"]
[51,"F","00:03:23"]
[52,"F","00:03:29"]
[53,"F","00:03:35"]
[54,"F","00:03:42"]
[55,"F","00:03:48"]
[56,"F","00:03:55"]
[57,"F","00:04:02"]
[58,"F","00:04:09"]
[59,"F","00:04:17"]
[60,"F","00:04:25"]
[61,"F","00:04:33"]
[62,"F","00:04:41"]
[63,"F","00:04:50"]
[64,"F","00:05:00"]
[65,"F","00:05:09"]
[66,"F","00:05:19"]
[67,"F","00:05:30"]
[68,"F","00:05:41"]
[69,"F","00:05:52"]
[70,"F","00:06:04"]
[71,"F","00:06:17"]
[72,"F","00:06:30"]
[73,"F","00:06:43"]
[74,"F","00:06:58"]
[75,"F","00:07:13"]
[76,"F","00:07:29"]
[77,"F","00:07:46"]
[78,"F","00:08:03"]
[79,"F","00:08:22"]
[80,"F","00:08:41"]
[81,"F","00:09:02"]
[82,"F","00:09:24"]
[83,"F","00:09:47"]
[84,"F","00:10:12"]
[85,"F","00:10:38"]
[86,"F","00:07:42"]
[87,"F","00:08:08"]
[88,"F","00:08:37"]
[89,"F","00:09:07"]
[90,"F","00:09:40"]
[91,"F","00:10:15"]
[92,"F","00:10:53"]
[93,"F","00:11:34"]
[94,"F","00:12:19"]
[95,"F","00:13:08"]

{"sheet":"Fastest times","index":7,"n_rows":32,"n_cols":42,"rows_kept":32,"cut":false,"hidden":false,"merged":[]}
[null,{"$f":"Points!J7","v":"2024-04-18"},{"$f":"Points!M7","v":"2024-04-25"},{"$f":"Points!P7","v":"2024-05-02"},{"$f":"Points!S7","v":"2024-05-09"},{"$f":"Points!V7","v":"2024-05-16"},{"$f":"Points!Y7","v":"2024-05-23"},{"$f":"Points!AB7","v":"2024-05-30"},{"$f":"Points!AE7","v":"2024-06-06"},{"$f":"Points!AH7","v":"2024-06-13"},{"$f":"Points!AK7","v":"2024-06-20"},{"$f":"Points!AN7","v":"2024-06-27"},{"$f":"Points!AQ7","v":"2024-07-04"},{"$f":"Points!AT7","v":"2024-07-11"},{"$f":"Points!AW7","v":"2024-07-18"},{"$f":"Points!AZ7","v":"2024-07-25"},{"$f":"Points!BC7","v":"2024-08-01"},{"$f":"Points!BF7","v":"2024-08-08"},{"$f":"Points!BI7","v":"2024-08-15"},null,null,null,{"$f":"B1","v":"2024-04-18"},{"$f":"C1","v":"2024-04-25"},"2024-05-02","2024-05-09","2024-05-16","2024-05-23","2024-05-30","2024-06-06","2024-06-13","2024-06-20","2024-06-27","2024-07-04","2024-07-11","2024-07-18","2024-07-25","2024-08-01","2024-08-08","2024-08-15"]
[{"$f":"Points!C10","v":"Marcello Grossi"},{"$f":"IF(Points!I10,Points!I10,\"\")","v":""},{"$f":"IF(Points!L10,Points!L10,\"\")","v":""},{"$f":"IF(Points!O10,Points!O10,\"\")","v":""},{"$f":"IF(Points!R10,Points!R10,\"\")","v":"00:20:55"},{"$f":"IF(Points!U10,Points!U10,\"\")","v":"00:20:56"},{"$f":"IF(Points!X10,Points!X10,\"\")","v":"00:20:58"},{"$f":"IF(Points!AA10,Points!AA10,\"\")","v":""},{"$f":"IF(Points!AD10,Points!AD10,\"\")","v":""},{"$f":"IF(Points!AG10,Points!AG10,\"\")","v":""},{"$f":"IF(Points!AJ10,Points!AJ10,\"\")","v":""},{"$f":"IF(Points!AM10,Points!AM10,\"\")","v":""},{"$f":"IF(Points!AP10,Points!AP10,\"\")","v":""},{"$f":"IF(Points!AS10,Points!AS10,\"\")","v":""},{"$f":"IF(Points!AV10,Points!AV10,\"\")","v":""},{"$f":"IF(Points!AY10,Points!AY10,\"\")","v":""},{"$f":"IF(Points!BB10,Points!BB10,\"\")","v":""},{"$f":"IF(Points!BE10,Points!BE10,\"\")","v":""},{"$f":"IF(Points!BH10,Points!BH10,\"\")","v":""},null,null,{"$f":"A2","v":"Marcello Grossi"},{"$f":"IF((MIN($B2:B2)),(MIN($B2:B2)),\"\")","v":""},{"$f":"IF((MIN($B2:C2)),(MIN($B2:C2)),\"\")","v":""},{"$f":"IF((MIN($B2:D2)),(MIN($B2:D2)),\"\")","v":""},{"$f":"IF((MIN($B2:E2)),(MIN($B2:E2)),\"\")","v":"00:20:55"},{"$f":"IF((MIN($B2:F2)),(MIN($B2:F2)),\"\")","v":"00:20:55"},{"$f":"IF((MIN($B2:G2)),(MIN($B2:G2)),\"\")","v":"00:20:55"},{"$f":"IF((MIN($B2:H2)),(MIN($B2:H2)),\"\")","v":"00:20:55"},{"$f":"IF((MIN($B2:I2)),(MIN($B2:I2)),\"\")","v":"00:20:55"},{"$f":"IF((MIN($B2:J2)),(MIN($B2:J2)),\"\")","v":"00:20:55"},{"$f":"IF((MIN($B2:K2)),(MIN($B2:K2)),\"\")","v":"00:20:55"},{"$f":"IF((MIN($B2:L2)),(MIN($B2:L2)),\"\")","v":"00:20:55"},{"$f":"IF((MIN($B2:M2)),(MIN($B2:M2)),\"\")","v":"00:20:55"},{"$f":"IF((MIN($B2:N2)),(MIN($B2:N2)),\"\")","v":"00:20:55"},{"$f":"IF((MIN($B2:O2)),(MIN($B2:O2)),\"\")","v":"00:20:55"},{"$f":"IF((MIN($B2:P2)),(MIN($B2:P2)),\"\")","v":"00:20:55"},{"$f":"IF((MIN($B2:Q2)),(MIN($B2:Q2)),\"\")","v":"00:20:55"},{"$f":"IF((MIN($B2:R2)),(MIN($B2:R2)),\"\")","v":"00:20:55"},{"$f":"IF((MIN($B2:S2)),(MIN($B2:S2)),\"\")","v":"00:20:55"}]
[{"$f":"Points!C11","v":"Matt Hallett"},{"$f":"IF(Points!I11,Points!I11,\"\")","v":"00:22:20"},{"$f":"IF(Points!L11,Points!L11,\"\")","v":""},{"$f":"IF(Points!O11,Points!O11,\"\")","v":""},{"$f":"IF(Points!R11,Points!R11,\"\")","v":"00:21:42"},{"$f":"IF(Points!U11,Points!U11,\"\")","v":"00:22:01"},{"$f":"IF(Points!X11,Points!X11,\"\")","v":""},{"$f":"IF(Points!AA11,Points!AA11,\"\")","v":""},{"$f":"IF(Points!AD11,Points!AD11,\"\")","v":""},{"$f":"IF(Points!AG11,Points!AG11,\"\")","v":""},{"$f":"IF(Points!AJ11,Points!AJ11,\"\")","v":""},{"$f":"IF(Points!AM11,Points!AM11,\"\")","v":""},{"$f":"IF(Points!AP11,Points!AP11,\"\")","v":""},{"$f":"IF(Points!AS11,Points!AS11,\"\")","v":""},{"$f":"IF(Points!AV11,Points!AV11,\"\")","v":""},{"$f":"IF(Points!AY11,Points!AY11,\"\")","v":""},{"$f":"IF(Points!BB11,Points!BB11,\"\")","v":""},{"$f":"IF(Points!BE11,Points!BE11,\"\")","v":""},{"$f":"IF(Points!BH11,Points!BH11,\"\")","v":""},null,null,{"$f":"A3","v":"Matt Hallett"},{"$f":"IF((MIN($B3:B3)),(MIN($B3:B3)),\"\")","v":"00:22:20"},{"$f":"IF((MIN($B3:C3)),(MIN($B3:C3)),\"\")","v":"00:22:20"},{"$f":"IF((MIN($B3:D3)),(MIN($B3:D3)),\"\")","v":"00:22:20"},{"$f":"IF((MIN($B3:E3)),(MIN($B3:E3)),\"\")","v":"00:21:42"},{"$f":"IF((MIN($B3:F3)),(MIN($B3:F3)),\"\")","v":"00:21:42"},{"$f":"IF((MIN($B3:G3)),(MIN($B3:G3)),\"\")","v":"00:21:42"},{"$f":"IF((MIN($B3:H3)),(MIN($B3:H3)),\"\")","v":"00:21:42"},{"$f":"IF((MIN($B3:I3)),(MIN($B3:I3)),\"\")","v":"00:21:42"},{"$f":"IF((MIN($B3:J3)),(MIN($B3:J3)),\"\")","v":"00:21:42"},{"$f":"IF((MIN($B3:K3)),(MIN($B3:K3)),\"\")","v":"00:21:42"},{"$f":"IF((MIN($B3:L3)),(MIN($B3:L3)),\"\")","v":"00:21:42"},{"$f":"IF((MIN($B3:M3)),(MIN($B3:M3)),\"\")","v":"00:21:42"},{"$f":"IF((MIN($B3:N3)),(MIN($B3:N3)),\"\")","v":"00:21:42"},{"$f":"IF((MIN($B3:O3)),(MIN($B3:O3)),\"\")","v":"00:21:42"},{"$f":"IF((MIN($B3:P3)),(MIN($B3:P3)),\"\")","v":"00:21:42"},{"$f":"IF((MIN($B3:Q3)),(MIN($B3:Q3)),\"\")","v":"00:21:42"},{"$f":"IF((MIN($B3:R3)),(MIN($B3:R3)),\"\")","v":"00:21:42"},{"$f":"IF((MIN($B3:S3)),(MIN($B3:S3)),\"\")","v":"00:21:42"}]
[{"$f":"Points!C12","v":"Ian Cheatle"},{"$f":"IF(Points!I12,Points!I12,\"\")","v":""},{"$f":"IF(Points!L12,Points!L12,\"\")","v":""},{"$f":"IF(Points!O12,Points!O12,\"\")","v":""},{"$f":"IF(Points!R12,Points!R12,\"\")","v":"00:22:48"},{"$f":"IF(Points!U12,Points!U12,\"\")","v":""},{"$f":"IF(Points!X12,Points!X12,\"\")","v":""},{"$f":"IF(Points!AA12,Points!AA12,\"\")","v":""},{"$f":"IF(Points!AD12,Points!AD12,\"\")","v":""},{"$f":"IF(Points!AG12,Points!AG12,\"\")","v":""},{"$f":"IF(Points!AJ12,Points!AJ12,\"\")","v":""},{"$f":"IF(Points!AM12,Points!AM12,\"\")","v":""},{"$f":"IF(Points!AP12,Points!AP12,\"\")","v":""},{"$f":"IF(Points!AS12,Points!AS12,\"\")","v":""},{"$f":"IF(Points!AV12,Points!AV12,\"\")","v":""},{"$f":"IF(Points!AY12,Points!AY12,\"\")","v":""},{"$f":"IF(Points!BB12,Points!BB12,\"\")","v":""},{"$f":"IF(Points!BE12,Points!BE12,\"\")","v":""},{"$f":"IF(Points!BH12,Points!BH12,\"\")","v":""},null,null,"Ian Cheatle",{"$f":"IF((MIN($B4:B4)),(MIN($B4:B4)),\"\")","v":""},{"$f":"IF((MIN($B4:C4)),(MIN($B4:C4)),\"\")","v":""},{"$f":"IF((MIN($B4:D4)),(MIN($B4:D4)),\"\")","v":""},{"$f":"IF((MIN($B4:E4)),(MIN($B4:E4)),\"\")","v":"00:22:48"},{"$f":"IF((MIN($B4:F4)),(MIN($B4:F4)),\"\")","v":"00:22:48"},{"$f":"IF((MIN($B4:G4)),(MIN($B4:G4)),\"\")","v":"00:22:48"},{"$f":"IF((MIN($B4:H4)),(MIN($B4:H4)),\"\")","v":"00:22:48"},{"$f":"IF((MIN($B4:I4)),(MIN($B4:I4)),\"\")","v":"00:22:48"},{"$f":"IF((MIN($B4:J4)),(MIN($B4:J4)),\"\")","v":"00:22:48"},{"$f":"IF((MIN($B4:K4)),(MIN($B4:K4)),\"\")","v":"00:22:48"},{"$f":"IF((MIN($B4:L4)),(MIN($B4:L4)),\"\")","v":"00:22:48"},{"$f":"IF((MIN($B4:M4)),(MIN($B4:M4)),\"\")","v":"00:22:48"},{"$f":"IF((MIN($B4:N4)),(MIN($B4:N4)),\"\")","v":"00:22:48"},{"$f":"IF((MIN($B4:O4)),(MIN($B4:O4)),\"\")","v":"00:22:48"},{"$f":"IF((MIN($B4:P4)),(MIN($B4:P4)),\"\")","v":"00:22:48"},{"$f":"IF((MIN($B4:Q4)),(MIN($B4:Q4)),\"\")","v":"00:22:48"},{"$f":"IF((MIN($B4:R4)),(MIN($B4:R4)),\"\")","v":"00:22:48"},{"$f":"IF((MIN($B4:S4)),(MIN($B4:S4)),\"\")","v":"00:22:48"}]
[{"$f":"Points!C13","v":"Chris Tye"},{"$f":"IF(Points!I13,Points!I13,\"\")","v":""},{"$f":"IF(Points!L13,Points!L13,\"\")","v":""},{"$f":"IF(Points!O13,Points!O13,\"\")","v":""},{"$f":"IF(Points!R13,Points!R13,\"\")","v":""},{"$f":"IF(Points!U13,Points!U13,\"\")","v":""},{"$f":"IF(Points!X13,Points!X13,\"\")","v":"00:23:25"},{"$f":"IF(Points!AA13,Points!AA13,\"\")","v":""},{"$f":"IF(Points!AD13,Points!AD13,\"\")","v":""},{"$f":"IF(Points!AG13,Points!AG13,\"\")","v":""},{"$f":"IF(Points!AJ13,Points!AJ13,\"\")","v":""},{"$f":"IF(Points!AM13,Points!AM13,\"\")","v":""},{"$f":"IF(Points!AP13,Points!AP13,\"\")","v":""},{"$f":"IF(Points!AS13,Points!AS13,\"\")","v":""},{"$f":"IF(Points!AV13,Points!AV13,\"\")","v":""},{"$f":"IF(Points!AY13,Points!AY13,\"\")","v":""},{"$f":"IF(Points!BB13,Points!BB13,\"\")","v":""},{"$f":"IF(Points!BE13,Points!BE13,\"\")","v":""},{"$f":"IF(Points!BH13,Points!BH13,\"\")","v":""},null,null,"Chris Tye",{"$f":"IF((MIN($B5:B5)),(MIN($B5:B5)),\"\")","v":""},{"$f":"IF((MIN($B5:C5)),(MIN($B5:C5)),\"\")","v":""},{"$f":"IF((MIN($B5:D5)),(MIN($B5:D5)),\"\")","v":""},{"$f":"IF((MIN($B5:E5)),(MIN($B5:E5)),\"\")","v":""},{"$f":"IF((MIN($B5:F5)),(MIN($B5:F5)),\"\")","v":""},{"$f":"IF((MIN($B5:G5)),(MIN($B5:G5)),\"\")","v":"00:23:25"},{"$f":"IF((MIN($B5:H5)),(MIN($B5:H5)),\"\")","v":"00:23:25"},{"$f":"IF((MIN($B5:I5)),(MIN($B5:I5)),\"\")","v":"00:23:25"},{"$f":"IF((MIN($B5:J5)),(MIN($B5:J5)),\"\")","v":"00:23:25"},{"$f":"IF((MIN($B5:K5)),(MIN($B5:K5)),\"\")","v":"00:23:25"},{"$f":"IF((MIN($B5:L5)),(MIN($B5:L5)),\"\")","v":"00:23:25"},{"$f":"IF((MIN($B5:M5)),(MIN($B5:M5)),\"\")","v":"00:23:25"},{"$f":"IF((MIN($B5:N5)),(MIN($B5:N5)),\"\")","v":"00:23:25"},{"$f":"IF((MIN($B5:O5)),(MIN($B5:O5)),\"\")","v":"00:23:25"},{"$f":"IF((MIN($B5:P5)),(MIN($B5:P5)),\"\")","v":"00:23:25"},{"$f":"IF((MIN($B5:Q5)),(MIN($B5:Q5)),\"\")","v":"00:23:25"},{"$f":"IF((MIN($B5:R5)),(MIN($B5:R5)),\"\")","v":"00:23:25"},{"$f":"IF((MIN($B5:S5)),(MIN($B5:S5)),\"\")","v":"00:23:25"}]
[{"$f":"Points!C14","v":"Fraser Joyce"},{"$f":"IF(Points!I14,Points!I14,\"\")","v":""},{"$f":"IF(Points!L14,Points!L14,\"\")","v":""},{"$f":"IF(Points!O14,Points!O14,\"\")","v":""},{"$f":"IF(Points!R14,Points!R14,\"\")","v":"00:23:26"},{"$f":"IF(Points!U14,Points!U14,\"\")","v":""},{"$f":"IF(Points!X14,Points!X14,\"\")","v":""},{"$f":"IF(Points!AA14,Points!AA14,\"\")","v":""},{"$f":"IF(Points!AD14,Points!AD14,\"\")","v":""},{"$f":"IF(Points!AG14,Points!AG14,\"\")","v":""},{"$f":"IF(Points!AJ14,Points!AJ14,\"\")","v":""},{"$f":"IF(Points!AM14,Points!AM14,\"\")","v":""},{"$f":"IF(Points!AP14,Points!AP14,\"\")","v":""},{"$f":"IF(Points!AS14,Points!AS14,\"\")","v":""},{"$f":"IF(Points!AV14,Points!AV14,\"\")","v":""},{"$f":"IF(Points!AY14,Points!AY14,\"\")","v":""},{"$f":"IF(Points!BB14,Points!BB14,\"\")","v":""},{"$f":"IF(Points!BE14,Points!BE14,\"\")","v":""},{"$f":"IF(Points!BH14,Points!BH14,\"\")","v":""},null,null,"Fraser Joyce",{"$f":"IF((MIN($B6:B6)),(MIN($B6:B6)),\"\")","v":""},{"$f":"IF((MIN($B6:C6)),(MIN($B6:C6)),\"\")","v":""},{"$f":"IF((MIN($B6:D6)),(MIN($B6:D6)),\"\")","v":""},{"$f":"IF((MIN($B6:E6)),(MIN($B6:E6)),\"\")","v":"00:23:26"},{"$f":"IF((MIN($B6:F6)),(MIN($B6:F6)),\"\")","v":"00:23:26"},{"$f":"IF((MIN($B6:G6)),(MIN($B6:G6)),\"\")","v":"00:23:26"},{"$f":"IF((MIN($B6:H6)),(MIN($B6:H6)),\"\")","v":"00:23:26"},{"$f":"IF((MIN($B6:I6)),(MIN($B6:I6)),\"\")","v":"00:23:26"},{"$f":"IF((MIN($B6:J6)),(MIN($B6:J6)),\"\")","v":"00:23:26"},{"$f":"IF((MIN($B6:K6)),(MIN($B6:K6)),\"\")","v":"00:23:26"},{"$f":"IF((MIN($B6:L6)),(MIN($B6:L6)),\"\")","v":"00:23:26"},{"$f":"IF((MIN($B6:M6)),(MIN($B6:M6)),\"\")","v":"00:23:26"},{"$f":"IF((MIN($B6:N6)),(MIN($B6:N6)),\"\")","v":"00:23:26"},{"$f":"IF((MIN($B6:O6)),(MIN($B6:O6)),\"\")","v":"00:23:26"},{"$f":"IF((MIN($B6:P6)),(MIN($B6:P6)),\"\")","v":"00:23:26"},{"$f":"IF((MIN($B6:Q6)),(MIN($B6:Q6)),\"\")","v":"00:23:26"},{"$f":"IF((MIN($B6:R6)),(MIN($B6:R6)),\"\")","v":"00:23:26"},{"$f":"IF((MIN($B6:S6)),(MIN($B6:S6)),\"\")","v":"00:23:26"}]
[{"$f":"Points!C15","v":"Justin Robbins"},{"$f":"IF(Points!I15,Points!I15,\"\")","v":""},{"$f":"IF(Points!L15,Points!L15,\"\")","v":""},{"$f":"IF(Points!O15,Points!O15,\"\")","v":"00:24:04"},{"$f":"IF(Points!R15,Points!R15,\"\")","v":"00:26:52"},{"$f":"IF(Points!U15,Points!U15,\"\")","v":"00:23:29"},{"$f":"IF(Points!X15,Points!X15,\"\")","v":""},{"$f":"IF(Points!AA15,Points!AA15,\"\")","v":""},{"$f":"IF(Points!AD15,Points!AD15,\"\")","v":""},{"$f":"IF(Points!AG15,Points!AG15,\"\")","v":""},{"$f":"IF(Points!AJ15,Points!AJ15,\"\")","v":""},{"$f":"IF(Points!AM15,Points!AM15,\"\")","v":""},{"$f":"IF(Points!AP15,Points!AP15,\"\")","v":""},{"$f":"IF(Points!AS15,Points!AS15,\"\")","v":""},{"$f":"IF(Points!AV15,Points!AV15,\"\")","v":""},{"$f":"IF(Points!AY15,Points!AY15,\"\")","v":""},{"$f":"IF(Points!BB15,Points!BB15,\"\")","v":""},{"$f":"IF(Points!BE15,Points!BE15,\"\")","v":""},{"$f":"IF(Points!BH15,Points!BH15,\"\")","v":""},null,null,"Justin Robbins",{"$f":"IF((MIN($B7:B7)),(MIN($B7:B7)),\"\")","v":""},{"$f":"IF((MIN($B7:C7)),(MIN($B7:C7)),\"\")","v":""},{"$f":"IF((MIN($B7:D7)),(MIN($B7:D7)),\"\")","v":"00:24:04"},{"$f":"IF((MIN($B7:E7)),(MIN($B7:E7)),\"\")","v":"00:24:04"},{"$f":"IF((MIN($B7:F7)),(MIN($B7:F7)),\"\")","v":"00:23:29"},{"$f":"IF((MIN($B7:G7)),(MIN($B7:G7)),\"\")","v":"00:23:29"},{"$f":"IF((MIN($B7:H7)),(MIN($B7:H7)),\"\")","v":"00:23:29"},{"$f":"IF((MIN($B7:I7)),(MIN($B7:I7)),\"\")","v":"00:23:29"},{"$f":"IF((MIN($B7:J7)),(MIN($B7:J7)),\"\")","v":"00:23:29"},{"$f":"IF((MIN($B7:K7)),(MIN($B7:K7)),\"\")","v":"00:23:29"},{"$f":"IF((MIN($B7:L7)),(MIN($B7:L7)),\"\")","v":"00:23:29"},{"$f":"IF((MIN($B7:M7)),(MIN($B7:M7)),\"\")","v":"00:23:29"},{"$f":"IF((MIN($B7:N7)),(MIN($B7:N7)),\"\")","v":"00:23:29"},{"$f":"IF((MIN($B7:O7)),(MIN($B7:O7)),\"\")","v":"00:23:29"},{"$f":"IF((MIN($B7:P7)),(MIN($B7:P7)),\"\")","v":"00:23:29"},{"$f":"IF((MIN($B7:Q7)),(MIN($B7:Q7)),\"\")","v":"00:23:29"},{"$f":"IF((MIN($B7:R7)),(MIN($B7:R7)),\"\")","v":"00:23:29"},{"$f":"IF((MIN($B7:S7)),(MIN($B7:S7)),\"\")","v":"00:23:29"}]
[{"$f":"Points!C16","v":"Les Sheppard"},{"$f":"IF(Points!I16,Points!I16,\"\")","v":"00:23:56"},{"$f":"IF(Points!L16,Points!L16,\"\")","v":""},{"$f":"IF(Points!O16,Points!O16,\"\")","v":""},{"$f":"IF(Points!R16,Points!R16,\"\")","v":"00:23:41"},{"$f":"IF(Points!U16,Points!U16,\"\")","v":""},{"$f":"IF(Points!X16,Points!X16,\"\")","v":"00:23:52"},{"$f":"IF(Points!AA16,Points!AA16,\"\")","v":""},{"$f":"IF(Points!AD16,Points!AD16,\"\")","v":""},{"$f":"IF(Points!AG16,Points!AG16,\"\")","v":""},{"$f":"IF(Points!AJ16,Points!AJ16,\"\")","v":""},{"$f":"IF(Points!AM16,Points!AM16,\"\")","v":""},{"$f":"IF(Points!AP16,Points!AP16,\"\")","v":""},{"$f":"IF(Points!AS16,Points!AS16,\"\")","v":""},{"$f":"IF(Points!AV16,Points!AV16,\"\")","v":""},{"$f":"IF(Points!AY16,Points!AY16,\"\")","v":""},{"$f":"IF(Points!BB16,Points!BB16,\"\")","v":""},{"$f":"IF(Points!BE16,Points!BE16,\"\")","v":""},{"$f":"IF(Points!BH16,Points!BH16,\"\")","v":""},null,null,"Les Sheppard",{"$f":"IF((MIN($B8:B8)),(MIN($B8:B8)),\"\")","v":"00:23:56"},{"$f":"IF((MIN($B8:C8)),(MIN($B8:C8)),\"\")","v":"00:23:56"},{"$f":"IF((MIN($B8:D8)),(MIN($B8:D8)),\"\")","v":"00:23:56"},{"$f":"IF((MIN($B8:E8)),(MIN($B8:E8)),\"\")","v":"00:23:41"},{"$f":"IF((MIN($B8:F8)),(MIN($B8:F8)),\"\")","v":"00:23:41"},{"$f":"IF((MIN($B8:G8)),(MIN($B8:G8)),\"\")","v":"00:23:41"},{"$f":"IF((MIN($B8:H8)),(MIN($B8:H8)),\"\")","v":"00:23:41"},{"$f":"IF((MIN($B8:I8)),(MIN($B8:I8)),\"\")","v":"00:23:41"},{"$f":"IF((MIN($B8:J8)),(MIN($B8:J8)),\"\")","v":"00:23:41"},{"$f":"IF((MIN($B8:K8)),(MIN($B8:K8)),\"\")","v":"00:23:41"},{"$f":"IF((MIN($B8:L8)),(MIN($B8:L8)),\"\")","v":"00:23:41"},{"$f":"IF((MIN($B8:M8)),(MIN($B8:M8)),\"\")","v":"00:23:41"},{"$f":"IF((MIN($B8:N8)),(MIN($B8:N8)),\"\")","v":"00:23:41"},{"$f":"IF((MIN($B8:O8)),(MIN($B8:O8)),\"\")","v":"00:23:41"},{"$f":"IF((MIN($B8:P8)),(MIN($B8:P8)),\"\")","v":"00:23:41"},{"$f":"IF((MIN($B8:Q8)),(MIN($B8:Q8)),\"\")","v":"00:23:41"},{"$f":"IF((MIN($B8:R8)),(MIN($B8:R8)),\"\")","v":"00:23:41"},{"$f":"IF((MIN($B8:S8)),(MIN($B8:S8)),\"\")","v":"00:23:41"}]
[{"$f":"Points!C17","v":"Ben Parker"},{"$f":"IF(Points!I17,Points!I17,\"\")","v":"00:23:43"},{"$f":"IF(Points!L17,Points!L17,\"\")","v":""},{"$f":"IF(Points!O17,Points!O17,\"\")","v":""},{"$f":"IF(Points!R17,Points!R17,\"\")","v":""},{"$f":"IF(Points!U17,Points!U17,\"\")","v":""},{"$f":"IF(Points!X17,Points!X17,\"\")","v":""},{"$f":"IF(Points!AA17,Points!AA17,\"\")","v":""},{"$f":"IF(Points!AD17,Points!AD17,\"\")","v":""},{"$f":"IF(Points!AG17,Points!AG17,\"\")","v":""},{"$f":"IF(Points!AJ17,Points!AJ17,\"\")","v":""},{"$f":"IF(Points!AM17,Points!AM17,\"\")","v":""},{"$f":"IF(Points!AP17,Points!AP17,\"\")","v":""},{"$f":"IF(Points!AS17,Points!AS17,\"\")","v":""},{"$f":"IF(Points!AV17,Points!AV17,\"\")","v":""},{"$f":"IF(Points!AY17,Points!AY17,\"\")","v":""},{"$f":"IF(Points!BB17,Points!BB17,\"\")","v":""},{"$f":"IF(Points!BE17,Points!BE17,\"\")","v":""},{"$f":"IF(Points!BH17,Points!BH17,\"\")","v":""},null,null,"Ben Parker",{"$f":"IF((MIN($B9:B9)),(MIN($B9:B9)),\"\")","v":"00:23:43"},{"$f":"IF((MIN($B9:C9)),(MIN($B9:C9)),\"\")","v":"00:23:43"},{"$f":"IF((MIN($B9:D9)),(MIN($B9:D9)),\"\")","v":"00:23:43"},{"$f":"IF((MIN($B9:E9)),(MIN($B9:E9)),\"\")","v":"00:23:43"},{"$f":"IF((MIN($B9:F9)),(MIN($B9:F9)),\"\")","v":"00:23:43"},{"$f":"IF((MIN($B9:G9)),(MIN($B9:G9)),\"\")","v":"00:23:43"},{"$f":"IF((MIN($B9:H9)),(MIN($B9:H9)),\"\")","v":"00:23:43"},{"$f":"IF((MIN($B9:I9)),(MIN($B9:I9)),\"\")","v":"00:23:43"},{"$f":"IF((MIN($B9:J9)),(MIN($B9:J9)),\"\")","v":"00:23:43"},{"$f":"IF((MIN($B9:K9)),(MIN($B9:K9)),\"\")","v":"00:23:43"},{"$f":"IF((MIN($B9:L9)),(MIN($B9:L9)),\"\")","v":"00:23:43"},{"$f":"IF((MIN($B9:M9)),(MIN($B9:M9)),\"\")","v":"00:23:43"},{"$f":"IF((MIN($B9:N9)),(MIN($B9:N9)),\"\")","v":"00:23:43"},{"$f":"IF((MIN($B9:O9)),(MIN($B9:O9)),\"\")","v":"00:23:43"},{"$f":"IF((MIN($B9:P9)),(MIN($B9:P9)),\"\")","v":"00:23:43"},{"$f":"IF((MIN($B9:Q9)),(MIN($B9:Q9)),\"\")","v":"00:23:43"},{"$f":"IF((MIN($B9:R9)),(MIN($B9:R9)),\"\")","v":"00:23:43"},{"$f":"IF((MIN($B9:S9)),(MIN($B9:S9)),\"\")","v":"00:23:43"}]
[{"$f":"Points!C18","v":"Charlotte Berry"},{"$f":"IF(Points!I18,Points!I18,\"\")","v":""},{"$f":"IF(Points!L18,Points!L18,\"\")","v":""},{"$f":"IF(Points!O18,Points!O18,\"\")","v":"00:24:09"},{"$f":"IF(Points!R18,Points!R18,\"\")","v":""},{"$f":"IF(Points!U18,Points!U18,\"\")","v":"00:23:54"},{"$f":"IF(Points!X18,Points!X18,\"\")","v":"00:23:49"},{"$f":"IF(Points!AA18,Points!AA18,\"\")","v":""},{"$f":"IF(Points!AD18,Points!AD18,\"\")","v":""},{"$f":"IF(Points!AG18,Points!AG18,\"\")","v":""},{"$f":"IF(Points!AJ18,Points!AJ18,\"\")","v":""},{"$f":"IF(Points!AM18,Points!AM18,\"\")","v":""},{"$f":"IF(Points!AP18,Points!AP18,\"\")","v":""},{"$f":"IF(Points!AS18,Points!AS18,\"\")","v":""},{"$f":"IF(Points!AV18,Points!AV18,\"\")","v":""},{"$f":"IF(Points!AY18,Points!AY18,\"\")","v":""},{"$f":"IF(Points!BB18,Points!BB18,\"\")","v":""},{"$f":"IF(Points!BE18,Points!BE18,\"\")","v":""},{"$f":"IF(Points!BH18,Points!BH18,\"\")","v":""},null,null,"Charlotte Berry",{"$f":"IF((MIN($B10:B10)),(MIN($B10:B10)),\"\")","v":""},{"$f":"IF((MIN($B10:C10)),(MIN($B10:C10)),\"\")","v":""},{"$f":"IF((MIN($B10:D10)),(MIN($B10:D10)),\"\")","v":"00:24:09"},{"$f":"IF((MIN($B10:E10)),(MIN($B10:E10)),\"\")","v":"00:24:09"},{"$f":"IF((MIN($B10:F10)),(MIN($B10:F10)),\"\")","v":"00:23:54"},{"$f":"IF((MIN($B10:G10)),(MIN($B10:G10)),\"\")","v":"00:23:49"},{"$f":"IF((MIN($B10:H10)),(MIN($B10:H10)),\"\")","v":"00:23:49"},{"$f":"IF((MIN($B10:I10)),(MIN($B10:I10)),\"\")","v":"00:23:49"},{"$f":"IF((MIN($B10:J10)),(MIN($B10:J10)),\"\")","v":"00:23:49"},{"$f":"IF((MIN($B10:K10)),(MIN($B10:K10)),\"\")","v":"00:23:49"},{"$f":"IF((MIN($B10:L10)),(MIN($B10:L10)),\"\")","v":"00:23:49"},{"$f":"IF((MIN($B10:M10)),(MIN($B10:M10)),\"\")","v":"00:23:49"},{"$f":"IF((MIN($B10:N10)),(MIN($B10:N10)),\"\")","v":"00:23:49"},{"$f":"IF((MIN($B10:O10)),(MIN($B10:O10)),\"\")","v":"00:23:49"},{"$f":"IF((MIN($B10:P10)),(MIN($B10:P10)),\"\")","v":"00:23:49"},{"$f":"IF((MIN($B10:Q10)),(MIN($B10:Q10)),\"\")","v":"00:23:49"},{"$f":"IF((MIN($B10:R10)),(MIN($B10:R10)),\"\")","v":"00:23:49"},{"$f":"IF((MIN($B10:S10)),(MIN($B10:S10)),\"\")","v":"00:23:49"}]
[{"$f":"Points!C19","v":"Jack Walters"},{"$f":"IF(Points!I19,Points!I19,\"\")","v":"00:25:28"},{"$f":"IF(Points!L19,Points!L19,\"\")","v":""},{"$f":"IF(Points!O19,Points!O19,\"\")","v":"00:24:51"},{"$f":"IF(Points!R19,Points!R19,\"\")","v":"00:24:27"},{"$f":"IF(Points!U19,Points!U19,\"\")","v":"00:24:06"},{"$f":"IF(Points!X19,Points!X19,\"\")","v":""},{"$f":"IF(Points!AA19,Points!AA19,\"\")","v":""},{"$f":"IF(Points!AD19,Points!AD19,\"\")","v":""},{"$f":"IF(Points!AG19,Points!AG19,\"\")","v":""},{"$f":"IF(Points!AJ19,Points!AJ19,\"\")","v":""},{"$f":"IF(Points!AM19,Points!AM19,\"\")","v":""},{"$f":"IF(Points!AP19,Points!AP19,\"\")","v":""},{"$f":"IF(Points!AS19,Points!AS19,\"\")","v":""},{"$f":"IF(Points!AV19,Points!AV19,\"\")","v":""},{"$f":"IF(Points!AY19,Points!AY19,\"\")","v":""},{"$f":"IF(Points!BB19,Points!BB19,\"\")","v":""},{"$f":"IF(Points!BE19,Points!BE19,\"\")","v":""},{"$f":"IF(Points!BH19,Points!BH19,\"\")","v":""},null,null,"Jack Walters",{"$f":"IF((MIN($B11:B11)),(MIN($B11:B11)),\"\")","v":"00:25:28"},{"$f":"IF((MIN($B11:C11)),(MIN($B11:C11)),\"\")","v":"00:25:28"},{"$f":"IF((MIN($B11:D11)),(MIN($B11:D11)),\"\")","v":"00:24:51"},{"$f":"IF((MIN($B11:E11)),(MIN($B11:E11)),\"\")","v":"00:24:27"},{"$f":"IF((MIN($B11:F11)),(MIN($B11:F11)),\"\")","v":"00:24:06"},{"$f":"IF((MIN($B11:G11)),(MIN($B11:G11)),\"\")","v":"00:24:06"},{"$f":"IF((MIN($B11:H11)),(MIN($B11:H11)),\"\")","v":"00:24:06"},{"$f":"IF((MIN($B11:I11)),(MIN($B11:I11)),\"\")","v":"00:24:06"},{"$f":"IF((MIN($B11:J11)),(MIN($B11:J11)),\"\")","v":"00:24:06"},{"$f":"IF((MIN($B11:K11)),(MIN($B11:K11)),\"\")","v":"00:24:06"},{"$f":"IF((MIN($B11:L11)),(MIN($B11:L11)),\"\")","v":"00:24:06"},{"$f":"IF((MIN($B11:M11)),(MIN($B11:M11)),\"\")","v":"00:24:06"},{"$f":"IF((MIN($B11:N11)),(MIN($B11:N11)),\"\")","v":"00:24:06"},{"$f":"IF((MIN($B11:O11)),(MIN($B11:O11)),\"\")","v":"00:24:06"},{"$f":"IF((MIN($B11:P11)),(MIN($B11:P11)),\"\")","v":"00:24:06"},{"$f":"IF((MIN($B11:Q11)),(MIN($B11:Q11)),\"\")","v":"00:24:06"},{"$f":"IF((MIN($B11:R11)),(MIN($B11:R11)),\"\")","v":"00:24:06"},{"$f":"IF((MIN($B11:S11)),(MIN($B11:S11)),\"\")","v":"00:24:06"}]
[{"$f":"Points!C20","v":"Jo Spencer"},{"$f":"IF(Points!I20,Points!I20,\"\")","v":"00:24:11"},{"$f":"IF(Points!L20,Points!L20,\"\")","v":"00:24:27"},{"$f":"IF(Points!O20,Points!O20,\"\")","v":""},{"$f":"IF(Points!R20,Points!R20,\"\")","v":""},{"$f":"IF(Points!U20,Points!U20,\"\")","v":"00:24:27"},{"$f":"IF(Points!X20,Points!X20,\"\")","v":""},{"$f":"IF(Points!AA20,Points!AA20,\"\")","v":""},{"$f":"IF(Points!AD20,Points!AD20,\"\")","v":""},{"$f":"IF(Points!AG20,Points!AG20,\"\")","v":""},{"$f":"IF(Points!AJ20,Points!AJ20,\"\")","v":""},{"$f":"IF(Points!AM20,Points!AM20,\"\")","v":""},{"$f":"IF(Points!AP20,Points!AP20,\"\")","v":""},{"$f":"IF(Points!AS20,Points!AS20,\"\")","v":""},{"$f":"IF(Points!AV20,Points!AV20,\"\")","v":""},{"$f":"IF(Points!AY20,Points!AY20,\"\")","v":""},{"$f":"IF(Points!BB20,Points!BB20,\"\")","v":""},{"$f":"IF(Points!BE20,Points!BE20,\"\")","v":""},{"$f":"IF(Points!BH20,Points!BH20,\"\")","v":""},null,null,"Jo Spencer",{"$f":"IF((MIN($B12:B12)),(MIN($B12:B12)),\"\")","v":"00:24:11"},{"$f":"IF((MIN($B12:C12)),(MIN($B12:C12)),\"\")","v":"00:24:11"},{"$f":"IF((MIN($B12:D12)),(MIN($B12:D12)),\"\")","v":"00:24:11"},{"$f":"IF((MIN($B12:E12)),(MIN($B12:E12)),\"\")","v":"00:24:11"},{"$f":"IF((MIN($B12:F12)),(MIN($B12:F12)),\"\")","v":"00:24:11"},{"$f":"IF((MIN($B12:G12)),(MIN($B12:G12)),\"\")","v":"00:24:11"},{"$f":"IF((MIN($B12:H12)),(MIN($B12:H12)),\"\")","v":"00:24:11"},{"$f":"IF((MIN($B12:I12)),(MIN($B12:I12)),\"\")","v":"00:24:11"},{"$f":"IF((MIN($B12:J12)),(MIN($B12:J12)),\"\")","v":"00:24:11"},{"$f":"IF((MIN($B12:K12)),(MIN($B12:K12)),\"\")","v":"00:24:11"},{"$f":"IF((MIN($B12:L12)),(MIN($B12:L12)),\"\")","v":"00:24:11"},{"$f":"IF((MIN($B12:M12)),(MIN($B12:M12)),\"\")","v":"00:24:11"},{"$f":"IF((MIN($B12:N12)),(MIN($B12:N12)),\"\")","v":"00:24:11"},{"$f":"IF((MIN($B12:O12)),(MIN($B12:O12)),\"\")","v":"00:24:11"},{"$f":"IF((MIN($B12:P12)),(MIN($B12:P12)),\"\")","v":"00:24:11"},{"$f":"IF((MIN($B12:Q12)),(MIN($B12:Q12)),\"\")","v":"00:24:11"},{"$f":"IF((MIN($B12:R12)),(MIN($B12:R12)),\"\")","v":"00:24:11"},{"$f":"IF((MIN($B12:S12)),(MIN($B12:S12)),\"\")","v":"00:24:11"}]
[{"$f":"Points!C21","v":"Huw Riley"},{"$f":"IF(Points!I21,Points!I21,\"\")","v":""},{"$f":"IF(Points!L21,Points!L21,\"\")","v":""},{"$f":"IF(Points!O21,Points!O21,\"\")","v":""},{"$f":"IF(Points!R21,Points!R21,\"\")","v":"00:24:23"},{"$f":"IF(Points!U21,Points!U21,\"\")","v":""},{"$f":"IF(Points!X21,Points!X21,\"\")","v":""},{"$f":"IF(Points!AA21,Points!AA21,\"\")","v":""},{"$f":"IF(Points!AD21,Points!AD21,\"\")","v":""},{"$f":"IF(Points!AG21,Points!AG21,\"\")","v":""},{"$f":"IF(Points!AJ21,Points!AJ21,\"\")","v":""},{"$f":"IF(Points!AM21,Points!AM21,\"\")","v":""},{"$f":"IF(Points!AP21,Points!AP21,\"\")","v":""},{"$f":"IF(Points!AS21,Points!AS21,\"\")","v":""},{"$f":"IF(Points!AV21,Points!AV21,\"\")","v":""},{"$f":"IF(Points!AY21,Points!AY21,\"\")","v":""},{"$f":"IF(Points!BB21,Points!BB21,\"\")","v":""},{"$f":"IF(Points!BE21,Points!BE21,\"\")","v":""},{"$f":"IF(Points!BH21,Points!BH21,\"\")","v":""},null,null,"Huw Riley",{"$f":"IF((MIN($B13:B13)),(MIN($B13:B13)),\"\")","v":""},{"$f":"IF((MIN($B13:C13)),(MIN($B13:C13)),\"\")","v":""},{"$f":"IF((MIN($B13:D13)),(MIN($B13:D13)),\"\")","v":""},{"$f":"IF((MIN($B13:E13)),(MIN($B13:E13)),\"\")","v":"00:24:23"},{"$f":"IF((MIN($B13:F13)),(MIN($B13:F13)),\"\")","v":"00:24:23"},{"$f":"IF((MIN($B13:G13)),(MIN($B13:G13)),\"\")","v":"00:24:23"},{"$f":"IF((MIN($B13:H13)),(MIN($B13:H13)),\"\")","v":"00:24:23"},{"$f":"IF((MIN($B13:I13)),(MIN($B13:I13)),\"\")","v":"00:24:23"},{"$f":"IF((MIN($B13:J13)),(MIN($B13:J13)),\"\")","v":"00:24:23"},{"$f":"IF((MIN($B13:K13)),(MIN($B13:K13)),\"\")","v":"00:24:23"},{"$f":"IF((MIN($B13:L13)),(MIN($B13:L13)),\"\")","v":"00:24:23"},{"$f":"IF((MIN($B13:M13)),(MIN($B13:M13)),\"\")","v":"00:24:23"},{"$f":"IF((MIN($B13:N13)),(MIN($B13:N13)),\"\")","v":"00:24:23"},{"$f":"IF((MIN($B13:O13)),(MIN($B13:O13)),\"\")","v":"00:24:23"},{"$f":"IF((MIN($B13:P13)),(MIN($B13:P13)),\"\")","v":"00:24:23"},{"$f":"IF((MIN($B13:Q13)),(MIN($B13:Q13)),\"\")","v":"00:24:23"},{"$f":"IF((MIN($B13:R13)),(MIN($B13:R13)),\"\")","v":"00:24:23"},{"$f":"IF((MIN($B13:S13)),(MIN($B13:S13)),\"\")","v":"00:24:23"}]
[{"$f":"Points!C22","v":"Michael Spencer"},{"$f":"IF(Points!I22,Points!I22,\"\")","v":"00:25:13"},{"$f":"IF(Points!L22,Points!L22,\"\")","v":"00:25:08"},{"$f":"IF(Points!O22,Points!O22,\"\")","v":""},{"$f":"IF(Points!R22,Points!R22,\"\")","v":""},{"$f":"IF(Points!U22,Points!U22,\"\")","v":""},{"$f":"IF(Points!X22,Points!X22,\"\")","v":"00:25:02"},{"$f":"IF(Points!AA22,Points!AA22,\"\")","v":""},{"$f":"IF(Points!AD22,Points!AD22,\"\")","v":""},{"$f":"IF(Points!AG22,Points!AG22,\"\")","v":""},{"$f":"IF(Points!AJ22,Points!AJ22,\"\")","v":""},{"$f":"IF(Points!AM22,Points!AM22,\"\")","v":""},{"$f":"IF(Points!AP22,Points!AP22,\"\")","v":""},{"$f":"IF(Points!AS22,Points!AS22,\"\")","v":""},{"$f":"IF(Points!AV22,Points!AV22,\"\")","v":""},{"$f":"IF(Points!AY22,Points!AY22,\"\")","v":""},{"$f":"IF(Points!BB22,Points!BB22,\"\")","v":""},{"$f":"IF(Points!BE22,Points!BE22,\"\")","v":""},{"$f":"IF(Points!BH22,Points!BH22,\"\")","v":""},null,null,"Michael Spencer",{"$f":"IF((MIN($B14:B14)),(MIN($B14:B14)),\"\")","v":"00:25:13"},{"$f":"IF((MIN($B14:C14)),(MIN($B14:C14)),\"\")","v":"00:25:08"},{"$f":"IF((MIN($B14:D14)),(MIN($B14:D14)),\"\")","v":"00:25:08"},{"$f":"IF((MIN($B14:E14)),(MIN($B14:E14)),\"\")","v":"00:25:08"},{"$f":"IF((MIN($B14:F14)),(MIN($B14:F14)),\"\")","v":"00:25:08"},{"$f":"IF((MIN($B14:G14)),(MIN($B14:G14)),\"\")","v":"00:25:02"},{"$f":"IF((MIN($B14:H14)),(MIN($B14:H14)),\"\")","v":"00:25:02"},{"$f":"IF((MIN($B14:I14)),(MIN($B14:I14)),\"\")","v":"00:25:02"},{"$f":"IF((MIN($B14:J14)),(MIN($B14:J14)),\"\")","v":"00:25:02"},{"$f":"IF((MIN($B14:K14)),(MIN($B14:K14)),\"\")","v":"00:25:02"},{"$f":"IF((MIN($B14:L14)),(MIN($B14:L14)),\"\")","v":"00:25:02"},{"$f":"IF((MIN($B14:M14)),(MIN($B14:M14)),\"\")","v":"00:25:02"},{"$f":"IF((MIN($B14:N14)),(MIN($B14:N14)),\"\")","v":"00:25:02"},{"$f":"IF((MIN($B14:O14)),(MIN($B14:O14)),\"\")","v":"00:25:02"},{"$f":"IF((MIN($B14:P14)),(MIN($B14:P14)),\"\")","v":"00:25:02"},{"$f":"IF((MIN($B14:Q14)),(MIN($B14:Q14)),\"\")","v":"00:25:02"},{"$f":"IF((MIN($B14:R14)),(MIN($B14:R14)),\"\")","v":"00:25:02"},{"$f":"IF((MIN($B14:S14)),(MIN($B14:S14)),\"\")","v":"00:25:02"}]
[{"$f":"Points!C23","v":"Paul Ashman"},{"$f":"IF(Points!I23,Points!I23,\"\")","v":""},{"$f":"IF(Points!L23,Points!L23,\"\")","v":""},{"$f":"IF(Points!O23,Points!O23,\"\")","v":""},{"$f":"IF(Points!R23,Points!R23,\"\")","v":"00:25:02"},{"$f":"IF(Points!U23,Points!U23,\"\")","v":""},{"$f":"IF(Points!X23,Points!X23,\"\")","v":"00:25:02"},{"$f":"IF(Points!AA23,Points!AA23,\"\")","v":""},{"$f":"IF(Points!AD23,Points!AD23,\"\")","v":""},{"$f":"IF(Points!AG23,Points!AG23,\"\")","v":""},{"$f":"IF(Points!AJ23,Points!AJ23,\"\")","v":""},{"$f":"IF(Points!AM23,Points!AM23,\"\")","v":""},{"$f":"IF(Points!AP23,Points!AP23,\"\")","v":""},{"$f":"IF(Points!AS23,Points!AS23,\"\")","v":""},{"$f":"IF(Points!AV23,Points!AV23,\"\")","v":""},{"$f":"IF(Points!AY23,Points!AY23,\"\")","v":""},{"$f":"IF(Points!BB23,Points!BB23,\"\")","v":""},{"$f":"IF(Points!BE23,Points!BE23,\"\")","v":""},{"$f":"IF(Points!BH23,Points!BH23,\"\")","v":""},null,null,"Paul Ashman",{"$f":"IF((MIN($B15:B15)),(MIN($B15:B15)),\"\")","v":""},{"$f":"IF((MIN($B15:C15)),(MIN($B15:C15)),\"\")","v":""},{"$f":"IF((MIN($B15:D15)),(MIN($B15:D15)),\"\")","v":""},{"$f":"IF((MIN($B15:E15)),(MIN($B15:E15)),\"\")","v":"00:25:02"},{"$f":"IF((MIN($B15:F15)),(MIN($B15:F15)),\"\")","v":"00:25:02"},{"$f":"IF((MIN($B15:G15)),(MIN($B15:G15)),\"\")","v":"00:25:02"},{"$f":"IF((MIN($B15:H15)),(MIN($B15:H15)),\"\")","v":"00:25:02"},{"$f":"IF((MIN($B15:I15)),(MIN($B15:I15)),\"\")","v":"00:25:02"},{"$f":"IF((MIN($B15:J15)),(MIN($B15:J15)),\"\")","v":"00:25:02"},{"$f":"IF((MIN($B15:K15)),(MIN($B15:K15)),\"\")","v":"00:25:02"},{"$f":"IF((MIN($B15:L15)),(MIN($B15:L15)),\"\")","v":"00:25:02"},{"$f":"IF((MIN($B15:M15)),(MIN($B15:M15)),\"\")","v":"00:25:02"},{"$f":"IF((MIN($B15:N15)),(MIN($B15:N15)),\"\")","v":"00:25:02"},{"$f":"IF((MIN($B15:O15)),(MIN($B15:O15)),\"\")","v":"00:25:02"},{"$f":"IF((MIN($B15:P15)),(MIN($B15:P15)),\"\")","v":"00:25:02"},{"$f":"IF((MIN($B15:Q15)),(MIN($B15:Q15)),\"\")","v":"00:25:02"},{"$f":"IF((MIN($B15:R15)),(MIN($B15:R15)),\"\")","v":"00:25:02"},{"$f":"IF((MIN($B15:S15)),(MIN($B15:S15)),\"\")","v":"00:25:02"}]
[{"$f":"Points!C24","v":"John Hargreaves"},{"$f":"IF(Points!I24,Points!I24,\"\")","v":"00:26:20"},{"$f":"IF(Points!L24,Points!L24,\"\")","v":""},{"$f":"IF(Points!O24,Points!O24,\"\")","v":""},{"$f":"IF(Points!R24,Points!R24,\"\")","v":""},{"$f":"IF(Points!U24,Points!U24,\"\")","v":"00:25:03"},{"$f":"IF(Points!X24,Points!X24,\"\")","v":"00:25:17"},{"$f":"IF(Points!AA24,Points!AA24,\"\")","v":""},{"$f":"IF(Points!AD24,Points!AD24,\"\")","v":""},{"$f":"IF(Points!AG24,Points!AG24,\"\")","v":""},{"$f":"IF(Points!AJ24,Points!AJ24,\"\")","v":""},{"$f":"IF(Points!AM24,Points!AM24,\"\")","v":""},{"$f":"IF(Points!AP24,Points!AP24,\"\")","v":""},{"$f":"IF(Points!AS24,Points!AS24,\"\")","v":""},{"$f":"IF(Points!AV24,Points!AV24,\"\")","v":""},{"$f":"IF(Points!AY24,Points!AY24,\"\")","v":""},{"$f":"IF(Points!BB24,Points!BB24,\"\")","v":""},{"$f":"IF(Points!BE24,Points!BE24,\"\")","v":""},{"$f":"IF(Points!BH24,Points!BH24,\"\")","v":""},null,null,"John Hargreaves",{"$f":"IF((MIN($B16:B16)),(MIN($B16:B16)),\"\")","v":"00:26:20"},{"$f":"IF((MIN($B16:C16)),(MIN($B16:C16)),\"\")","v":"00:26:20"},{"$f":"IF((MIN($B16:D16)),(MIN($B16:D16)),\"\")","v":"00:26:20"},{"$f":"IF((MIN($B16:E16)),(MIN($B16:E16)),\"\")","v":"00:26:20"},{"$f":"IF((MIN($B16:F16)),(MIN($B16:F16)),\"\")","v":"00:25:03"},{"$f":"IF((MIN($B16:G16)),(MIN($B16:G16)),\"\")","v":"00:25:03"},{"$f":"IF((MIN($B16:H16)),(MIN($B16:H16)),\"\")","v":"00:25:03"},{"$f":"IF((MIN($B16:I16)),(MIN($B16:I16)),\"\")","v":"00:25:03"},{"$f":"IF((MIN($B16:J16)),(MIN($B16:J16)),\"\")","v":"00:25:03"},{"$f":"IF((MIN($B16:K16)),(MIN($B16:K16)),\"\")","v":"00:25:03"},{"$f":"IF((MIN($B16:L16)),(MIN($B16:L16)),\"\")","v":"00:25:03"},{"$f":"IF((MIN($B16:M16)),(MIN($B16:M16)),\"\")","v":"00:25:03"},{"$f":"IF((MIN($B16:N16)),(MIN($B16:N16)),\"\")","v":"00:25:03"},{"$f":"IF((MIN($B16:O16)),(MIN($B16:O16)),\"\")","v":"00:25:03"},{"$f":"IF((MIN($B16:P16)),(MIN($B16:P16)),\"\")","v":"00:25:03"},{"$f":"IF((MIN($B16:Q16)),(MIN($B16:Q16)),\"\")","v":"00:25:03"},{"$f":"IF((MIN($B16:R16)),(MIN($B16:R16)),\"\")","v":"00:25:03"},{"$f":"IF((MIN($B16:S16)),(MIN($B16:S16)),\"\")","v":"00:25:03"}]
[{"$f":"Points!C25","v":"Jai Bhatoolaul"},{"$f":"IF(Points!I25,Points!I25,\"\")","v":""},{"$f":"IF(Points!L25,Points!L25,\"\")","v":""},{"$f":"IF(Points!O25,Points!O25,\"\")","v":"00:25:40"},{"$f":"IF(Points!R25,Points!R25,\"\")","v":"00:25:15"},{"$f":"IF(Points!U25,Points!U25,\"\")","v":""},{"$f":"IF(Points!X25,Points!X25,\"\")","v":"00:25:37"},{"$f":"IF(Points!AA25,Points!AA25,\"\")","v":""},{"$f":"IF(Points!AD25,Points!AD25,\"\")","v":""},{"$f":"IF(Points!AG25,Points!AG25,\"\")","v":""},{"$f":"IF(Points!AJ25,Points!AJ25,\"\")","v":""},{"$f":"IF(Points!AM25,Points!AM25,\"\")","v":""},{"$f":"IF(Points!AP25,Points!AP25,\"\")","v":""},{"$f":"IF(Points!AS25,Points!AS25,\"\")","v":""},{"$f":"IF(Points!AV25,Points!AV25,\"\")","v":""},{"$f":"IF(Points!AY25,Points!AY25,\"\")","v":""},{"$f":"IF(Points!BB25,Points!BB25,\"\")","v":""},{"$f":"IF(Points!BE25,Points!BE25,\"\")","v":""},{"$f":"IF(Points!BH25,Points!BH25,\"\")","v":""},null,null,"Jai Bhatoolaul",{"$f":"IF((MIN($B17:B17)),(MIN($B17:B17)),\"\")","v":""},{"$f":"IF((MIN($B17:C17)),(MIN($B17:C17)),\"\")","v":""},{"$f":"IF((MIN($B17:D17)),(MIN($B17:D17)),\"\")","v":"00:25:40"},{"$f":"IF((MIN($B17:E17)),(MIN($B17:E17)),\"\")","v":"00:25:15"},{"$f":"IF((MIN($B17:F17)),(MIN($B17:F17)),\"\")","v":"00:25:15"},{"$f":"IF((MIN($B17:G17)),(MIN($B17:G17)),\"\")","v":"00:25:15"},{"$f":"IF((MIN($B17:H17)),(MIN($B17:H17)),\"\")","v":"00:25:15"},{"$f":"IF((MIN($B17:I17)),(MIN($B17:I17)),\"\")","v":"00:25:15"},{"$f":"IF((MIN($B17:J17)),(MIN($B17:J17)),\"\")","v":"00:25:15"},{"$f":"IF((MIN($B17:K17)),(MIN($B17:K17)),\"\")","v":"00:25:15"},{"$f":"IF((MIN($B17:L17)),(MIN($B17:L17)),\"\")","v":"00:25:15"},{"$f":"IF((MIN($B17:M17)),(MIN($B17:M17)),\"\")","v":"00:25:15"},{"$f":"IF((MIN($B17:N17)),(MIN($B17:N17)),\"\")","v":"00:25:15"},{"$f":"IF((MIN($B17:O17)),(MIN($B17:O17)),\"\")","v":"00:25:15"},{"$f":"IF((MIN($B17:P17)),(MIN($B17:P17)),\"\")","v":"00:25:15"},{"$f":"IF((MIN($B17:Q17)),(MIN($B17:Q17)),\"\")","v":"00:25:15"},{"$f":"IF((MIN($B17:R17)),(MIN($B17:R17)),\"\")","v":"00:25:15"},{"$f":"IF((MIN($B17:S17)),(MIN($B17:S17)),\"\")","v":"00:25:15"}]
[{"$f":"Points!C26","v":"Gary Beale"},{"$f":"IF(Points!I26,Points!I26,\"\")","v":""},{"$f":"IF(Points!L26,Points!L26,\"\")","v":""},{"$f":"IF(Points!O26,Points!O26,\"\")","v":"00:28:41"},{"$f":"IF(Points!R26,Points!R26,\"\")","v":""},{"$f":"IF(Points!U26,Points!U26,\"\")","v":"00:25:59"},{"$f":"IF(Points!X26,Points!X26,\"\")","v":"00:26:23"},{"$f":"IF(Points!AA26,Points!AA26,\"\")","v":""},{"$f":"IF(Points!AD26,Points!AD26,\"\")","v":""},{"$f":"IF(Points!AG26,Points!AG26,\"\")","v":""},{"$f":"IF(Points!AJ26,Points!AJ26,\"\")","v":""},{"$f":"IF(Points!AM26,Points!AM26,\"\")","v":""},{"$f":"IF(Points!AP26,Points!AP26,\"\")","v":""},{"$f":"IF(Points!AS26,Points!AS26,\"\")","v":""},{"$f":"IF(Points!AV26,Points!AV26,\"\")","v":""},{"$f":"IF(Points!AY26,Points!AY26,\"\")","v":""},{"$f":"IF(Points!BB26,Points!BB26,\"\")","v":""},{"$f":"IF(Points!BE26,Points!BE26,\"\")","v":""},{"$f":"IF(Points!BH26,Points!BH26,\"\")","v":""},null,null,"Gary Beale",{"$f":"IF((MIN($B18:B18)),(MIN($B18:B18)),\"\")","v":""},{"$f":"IF((MIN($B18:C18)),(MIN($B18:C18)),\"\")","v":""},{"$f":"IF((MIN($B18:D18)),(MIN($B18:D18)),\"\")","v":"00:28:41"},{"$f":"IF((MIN($B18:E18)),(MIN($B18:E18)),\"\")","v":"00:28:41"},{"$f":"IF((MIN($B18:F18)),(MIN($B18:F18)),\"\")","v":"00:25:59"},{"$f":"IF((MIN($B18:G18)),(MIN($B18:G18)),\"\")","v":"00:25:59"},{"$f":"IF((MIN($B18:H18)),(MIN($B18:H18)),\"\")","v":"00:25:59"},{"$f":"IF((MIN($B18:I18)),(MIN($B18:I18)),\"\")","v":"00:25:59"},{"$f":"IF((MIN($B18:J18)),(MIN($B18:J18)),\"\")","v":"00:25:59"},{"$f":"IF((MIN($B18:K18)),(MIN($B18:K18)),\"\")","v":"00:25:59"},{"$f":"IF((MIN($B18:L18)),(MIN($B18:L18)),\"\")","v":"00:25:59"},{"$f":"IF((MIN($B18:M18)),(MIN($B18:M18)),\"\")","v":"00:25:59"},{"$f":"IF((MIN($B18:N18)),(MIN($B18:N18)),\"\")","v":"00:25:59"},{"$f":"IF((MIN($B18:O18)),(MIN($B18:O18)),\"\")","v":"00:25:59"},{"$f":"IF((MIN($B18:P18)),(MIN($B18:P18)),\"\")","v":"00:25:59"},{"$f":"IF((MIN($B18:Q18)),(MIN($B18:Q18)),\"\")","v":"00:25:59"},{"$f":"IF((MIN($B18:R18)),(MIN($B18:R18)),\"\")","v":"00:25:59"},{"$f":"IF((MIN($B18:S18)),(MIN($B18:S18)),\"\")","v":"00:25:59"}]
[{"$f":"Points!C27","v":"Sue Smith"},{"$f":"IF(Points!I27,Points!I27,\"\")","v":""},{"$f":"IF(Points!L27,Points!L27,\"\")","v":""},{"$f":"IF(Points!O27,Points!O27,\"\")","v":"00:27:39"},{"$f":"IF(Points!R27,Points!R27,\"\")","v":"00:26:01"},{"$f":"IF(Points!U27,Points!U27,\"\")","v":""},{"$f":"IF(Points!X27,Points!X27,\"\")","v":"00:26:25"},{"$f":"IF(Points!AA27,Points!AA27,\"\")","v":""},{"$f":"IF(Points!AD27,Points!AD27,\"\")","v":""},{"$f":"IF(Points!AG27,Points!AG27,\"\")","v":""},{"$f":"IF(Points!AJ27,Points!AJ27,\"\")","v":""},{"$f":"IF(Points!AM27,Points!AM27,\"\")","v":""},{"$f":"IF(Points!AP27,Points!AP27,\"\")","v":""},{"$f":"IF(Points!AS27,Points!AS27,\"\")","v":""},{"$f":"IF(Points!AV27,Points!AV27,\"\")","v":""},{"$f":"IF(Points!AY27,Points!AY27,\"\")","v":""},{"$f":"IF(Points!BB27,Points!BB27,\"\")","v":""},{"$f":"IF(Points!BE27,Points!BE27,\"\")","v":""},{"$f":"IF(Points!BH27,Points!BH27,\"\")","v":""},null,null,"Sue Smith",{"$f":"IF((MIN($B19:B19)),(MIN($B19:B19)),\"\")","v":""},{"$f":"IF((MIN($B19:C19)),(MIN($B19:C19)),\"\")","v":""},{"$f":"IF((MIN($B19:D19)),(MIN($B19:D19)),\"\")","v":"00:27:39"},{"$f":"IF((MIN($B19:E19)),(MIN($B19:E19)),\"\")","v":"00:26:01"},{"$f":"IF((MIN($B19:F19)),(MIN($B19:F19)),\"\")","v":"00:26:01"},{"$f":"IF((MIN($B19:G19)),(MIN($B19:G19)),\"\")","v":"00:26:01"},{"$f":"IF((MIN($B19:H19)),(MIN($B19:H19)),\"\")","v":"00:26:01"},{"$f":"IF((MIN($B19:I19)),(MIN($B19:I19)),\"\")","v":"00:26:01"},{"$f":"IF((MIN($B19:J19)),(MIN($B19:J19)),\"\")","v":"00:26:01"},{"$f":"IF((MIN($B19:K19)),(MIN($B19:K19)),\"\")","v":"00:26:01"},{"$f":"IF((MIN($B19:L19)),(MIN($B19:L19)),\"\")","v":"00:26:01"},{"$f":"IF((MIN($B19:M19)),(MIN($B19:M19)),\"\")","v":"00:26:01"},{"$f":"IF((MIN($B19:N19)),(MIN($B19:N19)),\"\")","v":"00:26:01"},{"$f":"IF((MIN($B19:O19)),(MIN($B19:O19)),\"\")","v":"00:26:01"},{"$f":"IF((MIN($B19:P19)),(MIN($B19:P19)),\"\")","v":"00:26:01"},{"$f":"IF((MIN($B19:Q19)),(MIN($B19:Q19)),\"\")","v":"00:26:01"},{"$f":"IF((MIN($B19:R19)),(MIN($B19:R19)),\"\")","v":"00:26:01"},{"$f":"IF((MIN($B19:S19)),(MIN($B19:S19)),\"\")","v":"00:26:01"}]
[{"$f":"Points!C28","v":"Steve Black"},{"$f":"IF(Points!I28,Points!I28,\"\")","v":"00:27:36"},{"$f":"IF(Points!L28,Points!L28,\"\")","v":"00:27:42"},{"$f":"IF(Points!O28,Points!O28,\"\")","v":""},{"$f":"IF(Points!R28,Points!R28,\"\")","v":"00:26:43"},{"$f":"IF(Points!U28,Points!U28,\"\")","v":"00:26:16"},{"$f":"IF(Points!X28,Points!X28,\"\")","v":"00:26:43"},{"$f":"IF(Points!AA28,Points!AA28,\"\")","v":""},{"$f":"IF(Points!AD28,Points!AD28,\"\")","v":""},{"$f":"IF(Points!AG28,Points!AG28,\"\")","v":""},{"$f":"IF(Points!AJ28,Points!AJ28,\"\")","v":""},{"$f":"IF(Points!AM28,Points!AM28,\"\")","v":""},{"$f":"IF(Points!AP28,Points!AP28,\"\")","v":""},{"$f":"IF(Points!AS28,Points!AS28,\"\")","v":""},{"$f":"IF(Points!AV28,Points!AV28,\"\")","v":""},{"$f":"IF(Points!AY28,Points!AY28,\"\")","v":""},{"$f":"IF(Points!BB28,Points!BB28,\"\")","v":""},{"$f":"IF(Points!BE28,Points!BE28,\"\")","v":""},{"$f":"IF(Points!BH28,Points!BH28,\"\")","v":""},null,null,"Steve Black",{"$f":"IF((MIN($B20:B20)),(MIN($B20:B20)),\"\")","v":"00:27:36"},{"$f":"IF((MIN($B20:C20)),(MIN($B20:C20)),\"\")","v":"00:27:36"},{"$f":"IF((MIN($B20:D20)),(MIN($B20:D20)),\"\")","v":"00:27:36"},{"$f":"IF((MIN($B20:E20)),(MIN($B20:E20)),\"\")","v":"00:26:43"},{"$f":"IF((MIN($B20:F20)),(MIN($B20:F20)),\"\")","v":"00:26:16"},{"$f":"IF((MIN($B20:G20)),(MIN($B20:G20)),\"\")","v":"00:26:16"},{"$f":"IF((MIN($B20:H20)),(MIN($B20:H20)),\"\")","v":"00:26:16"},{"$f":"IF((MIN($B20:I20)),(MIN($B20:I20)),\"\")","v":"00:26:16"},{"$f":"IF((MIN($B20:J20)),(MIN($B20:J20)),\"\")","v":"00:26:16"},{"$f":"IF((MIN($B20:K20)),(MIN($B20:K20)),\"\")","v":"00:26:16"},{"$f":"IF((MIN($B20:L20)),(MIN($B20:L20)),\"\")","v":"00:26:16"},{"$f":"IF((MIN($B20:M20)),(MIN($B20:M20)),\"\")","v":"00:26:16"},{"$f":"IF((MIN($B20:N20)),(MIN($B20:N20)),\"\")","v":"00:26:16"},{"$f":"IF((MIN($B20:O20)),(MIN($B20:O20)),\"\")","v":"00:26:16"},{"$f":"IF((MIN($B20:P20)),(MIN($B20:P20)),\"\")","v":"00:26:16"},{"$f":"IF((MIN($B20:Q20)),(MIN($B20:Q20)),\"\")","v":"00:26:16"},{"$f":"IF((MIN($B20:R20)),(MIN($B20:R20)),\"\")","v":"00:26:16"},{"$f":"IF((MIN($B20:S20)),(MIN($B20:S20)),\"\")","v":"00:26:16"}]
[{"$f":"Points!C29","v":"Justin Ede"},{"$f":"IF(Points!I29,Points!I29,\"\")","v":"00:26:24"},{"$f":"IF(Points!L29,Points!L29,\"\")","v":""},{"$f":"IF(Points!O29,Points!O29,\"\")","v":""},{"$f":"IF(Points!R29,Points!R29,\"\")","v":""},{"$f":"IF(Points!U29,Points!U29,\"\")","v":""},{"$f":"IF(Points!X29,Points!X29,\"\")","v":""},{"$f":"IF(Points!AA29,Points!AA29,\"\")","v":""},{"$f":"IF(Points!AD29,Points!AD29,\"\")","v":""},{"$f":"IF(Points!AG29,Points!AG29,\"\")","v":""},{"$f":"IF(Points!AJ29,Points!AJ29,\"\")","v":""},{"$f":"IF(Points!AM29,Points!AM29,\"\")","v":""},{"$f":"IF(Points!AP29,Points!AP29,\"\")","v":""},{"$f":"IF(Points!AS29,Points!AS29,\"\")","v":""},{"$f":"IF(Points!AV29,Points!AV29,\"\")","v":""},{"$f":"IF(Points!AY29,Points!AY29,\"\")","v":""},{"$f":"IF(Points!BB29,Points!BB29,\"\")","v":""},{"$f":"IF(Points!BE29,Points!BE29,\"\")","v":""},{"$f":"IF(Points!BH29,Points!BH29,\"\")","v":""},null,null,"Justin Ede",{"$f":"IF((MIN($B21:B21)),(MIN($B21:B21)),\"\")","v":"00:26:24"},{"$f":"IF((MIN($B21:C21)),(MIN($B21:C21)),\"\")","v":"00:26:24"},{"$f":"IF((MIN($B21:D21)),(MIN($B21:D21)),\"\")","v":"00:26:24"},{"$f":"IF((MIN($B21:E21)),(MIN($B21:E21)),\"\")","v":"00:26:24"},{"$f":"IF((MIN($B21:F21)),(MIN($B21:F21)),\"\")","v":"00:26:24"},{"$f":"IF((MIN($B21:G21)),(MIN($B21:G21)),\"\")","v":"00:26:24"},{"$f":"IF((MIN($B21:H21)),(MIN($B21:H21)),\"\")","v":"00:26:24"},{"$f":"IF((MIN($B21:I21)),(MIN($B21:I21)),\"\")","v":"00:26:24"},{"$f":"IF((MIN($B21:J21)),(MIN($B21:J21)),\"\")","v":"00:26:24"},{"$f":"IF((MIN($B21:K21)),(MIN($B21:K21)),\"\")","v":"00:26:24"},{"$f":"IF((MIN($B21:L21)),(MIN($B21:L21)),\"\")","v":"00:26:24"},{"$f":"IF((MIN($B21:M21)),(MIN($B21:M21)),\"\")","v":"00:26:24"},{"$f":"IF((MIN($B21:N21)),(MIN($B21:N21)),\"\")","v":"00:26:24"},{"$f":"IF((MIN($B21:O21)),(MIN($B21:O21)),\"\")","v":"00:26:24"},{"$f":"IF((MIN($B21:P21)),(MIN($B21:P21)),\"\")","v":"00:26:24"},{"$f":"IF((MIN($B21:Q21)),(MIN($B21:Q21)),\"\")","v":"00:26:24"},{"$f":"IF((MIN($B21:R21)),(MIN($B21:R21)),\"\")","v":"00:26:24"},{"$f":"IF((MIN($B21:S21)),(MIN($B21:S21)),\"\")","v":"00:26:24"}]
[{"$f":"Points!C30","v":"Tom Holden"},{"$f":"IF(Points!I30,Points!I30,\"\")","v":"00:26:40"},{"$f":"IF(Points!L30,Points!L30,\"\")","v":""},{"$f":"IF(Points!O30,Points!O30,\"\")","v":""},{"$f":"IF(Points!R30,Points!R30,\"\")","v":""},{"$f":"IF(Points!U30,Points!U30,\"\")","v":""},{"$f":"IF(Points!X30,Points!X30,\"\")","v":""},{"$f":"IF(Points!AA30,Points!AA30,\"\")","v":""},{"$f":"IF(Points!AD30,Points!AD30,\"\")","v":""},{"$f":"IF(Points!AG30,Points!AG30,\"\")","v":""},{"$f":"IF(Points!AJ30,Points!AJ30,\"\")","v":""},{"$f":"IF(Points!AM30,Points!AM30,\"\")","v":""},{"$f":"IF(Points!AP30,Points!AP30,\"\")","v":""},{"$f":"IF(Points!AS30,Points!AS30,\"\")","v":""},{"$f":"IF(Points!AV30,Points!AV30,\"\")","v":""},{"$f":"IF(Points!AY30,Points!AY30,\"\")","v":""},{"$f":"IF(Points!BB30,Points!BB30,\"\")","v":""},{"$f":"IF(Points!BE30,Points!BE30,\"\")","v":""},{"$f":"IF(Points!BH30,Points!BH30,\"\")","v":""},null,null,"Tom Holden",{"$f":"IF((MIN($B22:B22)),(MIN($B22:B22)),\"\")","v":"00:26:40"},{"$f":"IF((MIN($B22:C22)),(MIN($B22:C22)),\"\")","v":"00:26:40"},{"$f":"IF((MIN($B22:D22)),(MIN($B22:D22)),\"\")","v":"00:26:40"},{"$f":"IF((MIN($B22:E22)),(MIN($B22:E22)),\"\")","v":"00:26:40"},{"$f":"IF((MIN($B22:F22)),(MIN($B22:F22)),\"\")","v":"00:26:40"},{"$f":"IF((MIN($B22:G22)),(MIN($B22:G22)),\"\")","v":"00:26:40"},{"$f":"IF((MIN($B22:H22)),(MIN($B22:H22)),\"\")","v":"00:26:40"},{"$f":"IF((MIN($B22:I22)),(MIN($B22:I22)),\"\")","v":"00:26:40"},{"$f":"IF((MIN($B22:J22)),(MIN($B22:J22)),\"\")","v":"00:26:40"},{"$f":"IF((MIN($B22:K22)),(MIN($B22:K22)),\"\")","v":"00:26:40"},{"$f":"IF((MIN($B22:L22)),(MIN($B22:L22)),\"\")","v":"00:26:40"},{"$f":"IF((MIN($B22:M22)),(MIN($B22:M22)),\"\")","v":"00:26:40"},{"$f":"IF((MIN($B22:N22)),(MIN($B22:N22)),\"\")","v":"00:26:40"},{"$f":"IF((MIN($B22:O22)),(MIN($B22:O22)),\"\")","v":"00:26:40"},{"$f":"IF((MIN($B22:P22)),(MIN($B22:P22)),\"\")","v":"00:26:40"},{"$f":"IF((MIN($B22:Q22)),(MIN($B22:Q22)),\"\")","v":"00:26:40"},{"$f":"IF((MIN($B22:R22)),(MIN($B22:R22)),\"\")","v":"00:26:40"},{"$f":"IF((MIN($B22:S22)),(MIN($B22:S22)),\"\")","v":"00:26:40"}]
[{"$f":"Points!C31","v":"Marianne Day"},{"$f":"IF(Points!I31,Points!I31,\"\")","v":""},{"$f":"IF(Points!L31,Points!L31,\"\")","v":"00:26:41"},{"$f":"IF(Points!O31,Points!O31,\"\")","v":""},{"$f":"IF(Points!R31,Points!R31,\"\")","v":""},{"$f":"IF(Points!U31,Points!U31,\"\")","v":""},{"$f":"IF(Points!X31,Points!X31,\"\")","v":""},{"$f":"IF(Points!AA31,Points!AA31,\"\")","v":""},{"$f":"IF(Points!AD31,Points!AD31,\"\")","v":""},{"$f":"IF(Points!AG31,Points!AG31,\"\")","v":""},{"$f":"IF(Points!AJ31,Points!AJ31,\"\")","v":""},{"$f":"IF(Points!AM31,Points!AM31,\"\")","v":""},{"$f":"IF(Points!AP31,Points!AP31,\"\")","v":""},{"$f":"IF(Points!AS31,Points!AS31,\"\")","v":""},{"$f":"IF(Points!AV31,Points!AV31,\"\")","v":""},{"$f":"IF(Points!AY31,Points!AY31,\"\")","v":""},{"$f":"IF(Points!BB31,Points!BB31,\"\")","v":""},{"$f":"IF(Points!BE31,Points!BE31,\"\")","v":""},{"$f":"IF(Points!BH31,Points!BH31,\"\")","v":""},null,null,"Marianne Day",{"$f":"IF((MIN($B23:B23)),(MIN($B23:B23)),\"\")","v":""},{"$f":"IF((MIN($B23:C23)),(MIN($B23:C23)),\"\")","v":"00:26:41"},{"$f":"IF((MIN($B23:D23)),(MIN($B23:D23)),\"\")","v":"00:26:41"},{"$f":"IF((MIN($B23:E23)),(MIN($B23:E23)),\"\")","v":"00:26:41"},{"$f":"IF((MIN($B23:F23)),(MIN($B23:F23)),\"\")","v":"00:26:41"},{"$f":"IF((MIN($B23:G23)),(MIN($B23:G23)),\"\")","v":"00:26:41"},{"$f":"IF((MIN($B23:H23)),(MIN($B23:H23)),\"\")","v":"00:26:41"},{"$f":"IF((MIN($B23:I23)),(MIN($B23:I23)),\"\")","v":"00:26:41"},{"$f":"IF((MIN($B23:J23)),(MIN($B23:J23)),\"\")","v":"00:26:41"},{"$f":"IF((MIN($B23:K23)),(MIN($B23:K23)),\"\")","v":"00:26:41"},{"$f":"IF((MIN($B23:L23)),(MIN($B23:L23)),\"\")","v":"00:26:41"},{"$f":"IF((MIN($B23:M23)),(MIN($B23:M23)),\"\")","v":"00:26:41"},{"$f":"IF((MIN($B23:N23)),(MIN($B23:N23)),\"\")","v":"00:26:41"},{"$f":"IF((MIN($B23:O23)),(MIN($B23:O23)),\"\")","v":"00:26:41"},{"$f":"IF((MIN($B23:P23)),(MIN($B23:P23)),\"\")","v":"00:26:41"},{"$f":"IF((MIN($B23:Q23)),(MIN($B23:Q23)),\"\")","v":"00:26:41"},{"$f":"IF((MIN($B23:R23)),(MIN($B23:R23)),\"\")","v":"00:26:41"},{"$f":"IF((MIN($B23:S23)),(MIN($B23:S23)),\"\")","v":"00:26:41"}]
[{"$f":"Points!C32","v":"David Addyman"},{"$f":"IF(Points!I32,Points!I32,\"\")","v":""},{"$f":"IF(Points!L32,Points!L32,\"\")","v":""},{"$f":"IF(Points!O32,Points!O32,\"\")","v":""},{"$f":"IF(Points!R32,Points!R32,\"\")","v":""},{"$f":"IF(Points!U32,Points!U32,\"\")","v":""},{"$f":"IF(Points!X32,Points!X32,\"\")","v":"00:27:13"},{"$f":"IF(Points!AA32,Points!AA32,\"\")","v":""},{"$f":"IF(Points!AD32,Points!AD32,\"\")","v":""},{"$f":"IF(Points!AG32,Points!AG32,\"\")","v":""},{"$f":"IF(Points!AJ32,Points!AJ32,\"\")","v":""},{"$f":"IF(Points!AM32,Points!AM32,\"\")","v":""},{"$f":"IF(Points!AP32,Points!AP32,\"\")","v":""},{"$f":"IF(Points!AS32,Points!AS32,\"\")","v":""},{"$f":"IF(Points!AV32,Points!AV32,\"\")","v":""},{"$f":"IF(Points!AY32,Points!AY32,\"\")","v":""},{"$f":"IF(Points!BB32,Points!BB32,\"\")","v":""},{"$f":"IF(Points!BE32,Points!BE32,\"\")","v":""},{"$f":"IF(Points!BH32,Points!BH32,\"\")","v":""},null,null,"David Addyman",{"$f":"IF((MIN($B24:B24)),(MIN($B24:B24)),\"\")","v":""},{"$f":"IF((MIN($B24:C24)),(MIN($B24:C24)),\"\")","v":""},{"$f":"IF((MIN($B24:D24)),(MIN($B24:D24)),\"\")","v":""},{"$f":"IF((MIN($B24:E24)),(MIN($B24:E24)),\"\")","v":""},{"$f":"IF((MIN($B24:F24)),(MIN($B24:F24)),\"\")","v":""},{"$f":"IF((MIN($B24:G24)),(MIN($B24:G24)),\"\")","v":"00:27:13"},{"$f":"IF((MIN($B24:H24)),(MIN($B24:H24)),\"\")","v":"00:27:13"},{"$f":"IF((MIN($B24:I24)),(MIN($B24:I24)),\"\")","v":"00:27:13"},{"$f":"IF((MIN($B24:J24)),(MIN($B24:J24)),\"\")","v":"00:27:13"},{"$f":"IF((MIN($B24:K24)),(MIN($B24:K24)),\"\")","v":"00:27:13"},{"$f":"IF((MIN($B24:L24)),(MIN($B24:L24)),\"\")","v":"00:27:13"},{"$f":"IF((MIN($B24:M24)),(MIN($B24:M24)),\"\")","v":"00:27:13"},{"$f":"IF((MIN($B24:N24)),(MIN($B24:N24)),\"\")","v":"00:27:13"},{"$f":"IF((MIN($B24:O24)),(MIN($B24:O24)),\"\")","v":"00:27:13"},{"$f":"IF((MIN($B24:P24)),(MIN($B24:P24)),\"\")","v":"00:27:13"},{"$f":"IF((MIN($B24:Q24)),(MIN($B24:Q24)),\"\")","v":"00:27:13"},{"$f":"IF((MIN($B24:R24)),(MIN($B24:R24)),\"\")","v":"00:27:13"},{"$f":"IF((MIN($B24:S24)),(MIN($B24:S24)),\"\")","v":"00:27:13"}]
[{"$f":"Points!C33","v":"Paul Fuchs"},{"$f":"IF(Points!I33,Points!I33,\"\")","v":"00:28:49"},{"$f":"IF(Points!L33,Points!L33,\"\")","v":"00:28:46"},{"$f":"IF(Points!O33,Points!O33,\"\")","v":"00:29:12"},{"$f":"IF(Points!R33,Points!R33,\"\")","v":"00:28:56"},{"$f":"IF(Points!U33,Points!U33,\"\")","v":"00:28:22"},{"$f":"IF(Points!X33,Points!X33,\"\")","v":"00:28:50"},{"$f":"IF(Points!AA33,Points!AA33,\"\")","v":""},{"$f":"IF(Points!AD33,Points!AD33,\"\")","v":""},{"$f":"IF(Points!AG33,Points!AG33,\"\")","v":""},{"$f":"IF(Points!AJ33,Points!AJ33,\"\")","v":""},{"$f":"IF(Points!AM33,Points!AM33,\"\")","v":""},{"$f":"IF(Points!AP33,Points!AP33,\"\")","v":""},{"$f":"IF(Points!AS33,Points!AS33,\"\")","v":""},{"$f":"IF(Points!AV33,Points!AV33,\"\")","v":""},{"$f":"IF(Points!AY33,Points!AY33,\"\")","v":""},{"$f":"IF(Points!BB33,Points!BB33,\"\")","v":""},{"$f":"IF(Points!BE33,Points!BE33,\"\")","v":""},{"$f":"IF(Points!BH33,Points!BH33,\"\")","v":""},null,null,"Paul Fuchs",{"$f":"IF((MIN($B25:B25)),(MIN($B25:B25)),\"\")","v":"00:28:49"},{"$f":"IF((MIN($B25:C25)),(MIN($B25:C25)),\"\")","v":"00:28:46"},{"$f":"IF((MIN($B25:D25)),(MIN($B25:D25)),\"\")","v":"00:28:46"},{"$f":"IF((MIN($B25:E25)),(MIN($B25:E25)),\"\")","v":"00:28:46"},{"$f":"IF((MIN($B25:F25)),(MIN($B25:F25)),\"\")","v":"00:28:22"},{"$f":"IF((MIN($B25:G25)),(MIN($B25:G25)),\"\")","v":"00:28:22"},{"$f":"IF((MIN($B25:H25)),(MIN($B25:H25)),\"\")","v":"00:28:22"},{"$f":"IF((MIN($B25:I25)),(MIN($B25:I25)),\"\")","v":"00:28:22"},{"$f":"IF((MIN($B25:J25)),(MIN($B25:J25)),\"\")","v":"00:28:22"},{"$f":"IF((MIN($B25:K25)),(MIN($B25:K25)),\"\")","v":"00:28:22"},{"$f":"IF((MIN($B25:L25)),(MIN($B25:L25)),\"\")","v":"00:28:22"},{"$f":"IF((MIN($B25:M25)),(MIN($B25:M25)),\"\")","v":"00:28:22"},{"$f":"IF((MIN($B25:N25)),(MIN($B25:N25)),\"\")","v":"00:28:22"},{"$f":"IF((MIN($B25:O25)),(MIN($B25:O25)),\"\")","v":"00:28:22"},{"$f":"IF((MIN($B25:P25)),(MIN($B25:P25)),\"\")","v":"00:28:22"},{"$f":"IF((MIN($B25:Q25)),(MIN($B25:Q25)),\"\")","v":"00:28:22"},{"$f":"IF((MIN($B25:R25)),(MIN($B25:R25)),\"\")","v":"00:28:22"},{"$f":"IF((MIN($B25:S25)),(MIN($B25:S25)),\"\")","v":"00:28:22"}]
[{"$f":"Points!C34","v":"Wing To"},{"$f":"IF(Points!I34,Points!I34,\"\")","v":""},{"$f":"IF(Points!L34,Points!L34,\"\")","v":""},{"$f":"IF(Points!O34,Points!O34,\"\")","v":""},{"$f":"IF(Points!R34,Points!R34,\"\")","v":""},{"$f":"IF(Points!U34,Points!U34,\"\")","v":"00:29:00"},{"$f":"IF(Points!X34,Points!X34,\"\")","v":""},{"$f":"IF(Points!AA34,Points!AA34,\"\")","v":""},{"$f":"IF(Points!AD34,Points!AD34,\"\")","v":""},{"$f":"IF(Points!AG34,Points!AG34,\"\")","v":""},{"$f":"IF(Points!AJ34,Points!AJ34,\"\")","v":""},{"$f":"IF(Points!AM34,Points!AM34,\"\")","v":""},{"$f":"IF(Points!AP34,Points!AP34,\"\")","v":""},{"$f":"IF(Points!AS34,Points!AS34,\"\")","v":""},{"$f":"IF(Points!AV34,Points!AV34,\"\")","v":""},{"$f":"IF(Points!AY34,Points!AY34,\"\")","v":""},{"$f":"IF(Points!BB34,Points!BB34,\"\")","v":""},{"$f":"IF(Points!BE34,Points!BE34,\"\")","v":""},{"$f":"IF(Points!BH34,Points!BH34,\"\")","v":""},null,null,"Wing To",{"$f":"IF((MIN($B26:B26)),(MIN($B26:B26)),\"\")","v":""},{"$f":"IF((MIN($B26:C26)),(MIN($B26:C26)),\"\")","v":""},{"$f":"IF((MIN($B26:D26)),(MIN($B26:D26)),\"\")","v":""},{"$f":"IF((MIN($B26:E26)),(MIN($B26:E26)),\"\")","v":""},{"$f":"IF((MIN($B26:F26)),(MIN($B26:F26)),\"\")","v":"00:29:00"},{"$f":"IF((MIN($B26:G26)),(MIN($B26:G26)),\"\")","v":"00:29:00"},{"$f":"IF((MIN($B26:H26)),(MIN($B26:H26)),\"\")","v":"00:29:00"},{"$f":"IF((MIN($B26:I26)),(MIN($B26:I26)),\"\")","v":"00:29:00"},{"$f":"IF((MIN($B26:J26)),(MIN($B26:J26)),\"\")","v":"00:29:00"},{"$f":"IF((MIN($B26:K26)),(MIN($B26:K26)),\"\")","v":"00:29:00"},{"$f":"IF((MIN($B26:L26)),(MIN($B26:L26)),\"\")","v":"00:29:00"},{"$f":"IF((MIN($B26:M26)),(MIN($B26:M26)),\"\")","v":"00:29:00"},{"$f":"IF((MIN($B26:N26)),(MIN($B26:N26)),\"\")","v":"00:29:00"},{"$f":"IF((MIN($B26:O26)),(MIN($B26:O26)),\"\")","v":"00:29:00"},{"$f":"IF((MIN($B26:P26)),(MIN($B26:P26)),\"\")","v":"00:29:00"},{"$f":"IF((MIN($B26:Q26)),(MIN($B26:Q26)),\"\")","v":"00:29:00"},{"$f":"IF((MIN($B26:R26)),(MIN($B26:R26)),\"\")","v":"00:29:00"},{"$f":"IF((MIN($B26:S26)),(MIN($B26:S26)),\"\")","v":"00:29:00"}]
[{"$f":"Points!C35","v":"Nigel Davies"},{"$f":"IF(Points!I35,Points!I35,\"\")","v":"00:30:56"},{"$f":"IF(Points!L35,Points!L35,\"\")","v":"00:30:48"},{"$f":"IF(Points!O35,Points!O35,\"\")","v":""},{"$f":"IF(Points!R35,Points!R35,\"\")","v":""},{"$f":"IF(Points!U35,Points!U35,\"\")","v":"00:29:38"},{"$f":"IF(Points!X35,Points!X35,\"\")","v":""},{"$f":"IF(Points!AA35,Points!AA35,\"\")","v":""},{"$f":"IF(Points!AD35,Points!AD35,\"\")","v":""},{"$f":"IF(Points!AG35,Points!AG35,\"\")","v":""},{"$f":"IF(Points!AJ35,Points!AJ35,\"\")","v":""},{"$f":"IF(Points!AM35,Points!AM35,\"\")","v":""},{"$f":"IF(Points!AP35,Points!AP35,\"\")","v":""},{"$f":"IF(Points!AS35,Points!AS35,\"\")","v":""},{"$f":"IF(Points!AV35,Points!AV35,\"\")","v":""},{"$f":"IF(Points!AY35,Points!AY35,\"\")","v":""},{"$f":"IF(Points!BB35,Points!BB35,\"\")","v":""},{"$f":"IF(Points!BE35,Points!BE35,\"\")","v":""},{"$f":"IF(Points!BH35,Points!BH35,\"\")","v":""},null,null,"Nigel Davies",{"$f":"IF((MIN($B27:B27)),(MIN($B27:B27)),\"\")","v":"00:30:56"},{"$f":"IF((MIN($B27:C27)),(MIN($B27:C27)),\"\")","v":"00:30:48"},{"$f":"IF((MIN($B27:D27)),(MIN($B27:D27)),\"\")","v":"00:30:48"},{"$f":"IF((MIN($B27:E27)),(MIN($B27:E27)),\"\")","v":"00:30:48"},{"$f":"IF((MIN($B27:F27)),(MIN($B27:F27)),\"\")","v":"00:29:38"},{"$f":"IF((MIN($B27:G27)),(MIN($B27:G27)),\"\")","v":"00:29:38"},{"$f":"IF((MIN($B27:H27)),(MIN($B27:H27)),\"\")","v":"00:29:38"},{"$f":"IF((MIN($B27:I27)),(MIN($B27:I27)),\"\")","v":"00:29:38"},{"$f":"IF((MIN($B27:J27)),(MIN($B27:J27)),\"\")","v":"00:29:38"},{"$f":"IF((MIN($B27:K27)),(MIN($B27:K27)),\"\")","v":"00:29:38"},{"$f":"IF((MIN($B27:L27)),(MIN($B27:L27)),\"\")","v":"00:29:38"},{"$f":"IF((MIN($B27:M27)),(MIN($B27:M27)),\"\")","v":"00:29:38"},{"$f":"IF((MIN($B27:N27)),(MIN($B27:N27)),\"\")","v":"00:29:38"},{"$f":"IF((MIN($B27:O27)),(MIN($B27:O27)),\"\")","v":"00:29:38"},{"$f":"IF((MIN($B27:P27)),(MIN($B27:P27)),\"\")","v":"00:29:38"},{"$f":"IF((MIN($B27:Q27)),(MIN($B27:Q27)),\"\")","v":"00:29:38"},{"$f":"IF((MIN($B27:R27)),(MIN($B27:R27)),\"\")","v":"00:29:38"},{"$f":"IF((MIN($B27:S27)),(MIN($B27:S27)),\"\")","v":"00:29:38"}]
[{"$f":"Points!C36","v":"Darren Harrisson"},{"$f":"IF(Points!I36,Points!I36,\"\")","v":""},{"$f":"IF(Points!L36,Points!L36,\"\")","v":"00:32:25"},{"$f":"IF(Points!O36,Points!O36,\"\")","v":""},{"$f":"IF(Points!R36,Points!R36,\"\")","v":""},{"$f":"IF(Points!U36,Points!U36,\"\")","v":"00:30:40"},{"$f":"IF(Points!X36,Points!X36,\"\")","v":""},{"$f":"IF(Points!AA36,Points!AA36,\"\")","v":""},{"$f":"IF(Points!AD36,Points!AD36,\"\")","v":""},{"$f":"IF(Points!AG36,Points!AG36,\"\")","v":""},{"$f":"IF(Points!AJ36,Points!AJ36,\"\")","v":""},{"$f":"IF(Points!AM36,Points!AM36,\"\")","v":""},{"$f":"IF(Points!AP36,Points!AP36,\"\")","v":""},{"$f":"IF(Points!AS36,Points!AS36,\"\")","v":""},{"$f":"IF(Points!AV36,Points!AV36,\"\")","v":""},{"$f":"IF(Points!AY36,Points!AY36,\"\")","v":""},{"$f":"IF(Points!BB36,Points!BB36,\"\")","v":""},{"$f":"IF(Points!BE36,Points!BE36,\"\")","v":""},{"$f":"IF(Points!BH36,Points!BH36,\"\")","v":""},null,null,"Darren Harrisson",{"$f":"IF((MIN($B28:B28)),(MIN($B28:B28)),\"\")","v":""},{"$f":"IF((MIN($B28:C28)),(MIN($B28:C28)),\"\")","v":"00:32:25"},{"$f":"IF((MIN($B28:D28)),(MIN($B28:D28)),\"\")","v":"00:32:25"},{"$f":"IF((MIN($B28:E28)),(MIN($B28:E28)),\"\")","v":"00:32:25"},{"$f":"IF((MIN($B28:F28)),(MIN($B28:F28)),\"\")","v":"00:30:40"},{"$f":"IF((MIN($B28:G28)),(MIN($B28:G28)),\"\")","v":"00:30:40"},{"$f":"IF((MIN($B28:H28)),(MIN($B28:H28)),\"\")","v":"00:30:40"},{"$f":"IF((MIN($B28:I28)),(MIN($B28:I28)),\"\")","v":"00:30:40"},{"$f":"IF((MIN($B28:J28)),(MIN($B28:J28)),\"\")","v":"00:30:40"},{"$f":"IF((MIN($B28:K28)),(MIN($B28:K28)),\"\")","v":"00:30:40"},{"$f":"IF((MIN($B28:L28)),(MIN($B28:L28)),\"\")","v":"00:30:40"},{"$f":"IF((MIN($B28:M28)),(MIN($B28:M28)),\"\")","v":"00:30:40"},{"$f":"IF((MIN($B28:N28)),(MIN($B28:N28)),\"\")","v":"00:30:40"},{"$f":"IF((MIN($B28:O28)),(MIN($B28:O28)),\"\")","v":"00:30:40"},{"$f":"IF((MIN($B28:P28)),(MIN($B28:P28)),\"\")","v":"00:30:40"},{"$f":"IF((MIN($B28:Q28)),(MIN($B28:Q28)),\"\")","v":"00:30:40"},{"$f":"IF((MIN($B28:R28)),(MIN($B28:R28)),\"\")","v":"00:30:40"},{"$f":"IF((MIN($B28:S28)),(MIN($B28:S28)),\"\")","v":"00:30:40"}]
[{"$f":"Points!C37","v":"Meena Morrish"},{"$f":"IF(Points!I37,Points!I37,\"\")","v":"00:33:50"},{"$f":"IF(Points!L37,Points!L37,\"\")","v":""},{"$f":"IF(Points!O37,Points!O37,\"\")","v":"00:33:46"},{"$f":"IF(Points!R37,Points!R37,\"\")","v":"00:32:40"},{"$f":"IF(Points!U37,Points!U37,\"\")","v":""},{"$f":"IF(Points!X37,Points!X37,\"\")","v":""},{"$f":"IF(Points!AA37,Points!AA37,\"\")","v":""},{"$f":"IF(Points!AD37,Points!AD37,\"\")","v":""},{"$f":"IF(Points!AG37,Points!AG37,\"\")","v":""},{"$f":"IF(Points!AJ37,Points!AJ37,\"\")","v":""},{"$f":"IF(Points!AM37,Points!AM37,\"\")","v":""},{"$f":"IF(Points!AP37,Points!AP37,\"\")","v":""},{"$f":"IF(Points!AS37,Points!AS37,\"\")","v":""},{"$f":"IF(Points!AV37,Points!AV37,\"\")","v":""},{"$f":"IF(Points!AY37,Points!AY37,\"\")","v":""},{"$f":"IF(Points!BB37,Points!BB37,\"\")","v":""},{"$f":"IF(Points!BE37,Points!BE37,\"\")","v":""},{"$f":"IF(Points!BH37,Points!BH37,\"\")","v":""},null,null,"Meena Morrish",{"$f":"IF((MIN($B29:B29)),(MIN($B29:B29)),\"\")","v":"00:33:50"},{"$f":"IF((MIN($B29:C29)),(MIN($B29:C29)),\"\")","v":"00:33:50"},{"$f":"IF((MIN($B29:D29)),(MIN($B29:D29)),\"\")","v":"00:33:46"},{"$f":"IF((MIN($B29:E29)),(MIN($B29:E29)),\"\")","v":"00:32:40"},{"$f":"IF((MIN($B29:F29)),(MIN($B29:F29)),\"\")","v":"00:32:40"},{"$f":"IF((MIN($B29:G29)),(MIN($B29:G29)),\"\")","v":"00:32:40"},{"$f":"IF((MIN($B29:H29)),(MIN($B29:H29)),\"\")","v":"00:32:40"},{"$f":"IF((MIN($B29:I29)),(MIN($B29:I29)),\"\")","v":"00:32:40"},{"$f":"IF((MIN($B29:J29)),(MIN($B29:J29)),\"\")","v":"00:32:40"},{"$f":"IF((MIN($B29:K29)),(MIN($B29:K29)),\"\")","v":"00:32:40"},{"$f":"IF((MIN($B29:L29)),(MIN($B29:L29)),\"\")","v":"00:32:40"},{"$f":"IF((MIN($B29:M29)),(MIN($B29:M29)),\"\")","v":"00:32:40"},{"$f":"IF((MIN($B29:N29)),(MIN($B29:N29)),\"\")","v":"00:32:40"},{"$f":"IF((MIN($B29:O29)),(MIN($B29:O29)),\"\")","v":"00:32:40"},{"$f":"IF((MIN($B29:P29)),(MIN($B29:P29)),\"\")","v":"00:32:40"},{"$f":"IF((MIN($B29:Q29)),(MIN($B29:Q29)),\"\")","v":"00:32:40"},{"$f":"IF((MIN($B29:R29)),(MIN($B29:R29)),\"\")","v":"00:32:40"},{"$f":"IF((MIN($B29:S29)),(MIN($B29:S29)),\"\")","v":"00:32:40"}]
[{"$f":"Points!C38","v":"Tony White"},{"$f":"IF(Points!I38,Points!I38,\"\")","v":""},{"$f":"IF(Points!L38,Points!L38,\"\")","v":"00:32:45"},{"$f":"IF(Points!O38,Points!O38,\"\")","v":""},{"$f":"IF(Points!R38,Points!R38,\"\")","v":""},{"$f":"IF(Points!U38,Points!U38,\"\")","v":""},{"$f":"IF(Points!X38,Points!X38,\"\")","v":""},{"$f":"IF(Points!AA38,Points!AA38,\"\")","v":""},{"$f":"IF(Points!AD38,Points!AD38,\"\")","v":""},{"$f":"IF(Points!AG38,Points!AG38,\"\")","v":""},{"$f":"IF(Points!AJ38,Points!AJ38,\"\")","v":""},{"$f":"IF(Points!AM38,Points!AM38,\"\")","v":""},{"$f":"IF(Points!AP38,Points!AP38,\"\")","v":""},{"$f":"IF(Points!AS38,Points!AS38,\"\")","v":""},{"$f":"IF(Points!AV38,Points!AV38,\"\")","v":""},{"$f":"IF(Points!AY38,Points!AY38,\"\")","v":""},{"$f":"IF(Points!BB38,Points!BB38,\"\")","v":""},{"$f":"IF(Points!BE38,Points!BE38,\"\")","v":""},{"$f":"IF(Points!BH38,Points!BH38,\"\")","v":""},null,null,"Tony White",{"$f":"IF((MIN($B30:B30)),(MIN($B30:B30)),\"\")","v":""},{"$f":"IF((MIN($B30:C30)),(MIN($B30:C30)),\"\")","v":"00:32:45"},{"$f":"IF((MIN($B30:D30)),(MIN($B30:D30)),\"\")","v":"00:32:45"},{"$f":"IF((MIN($B30:E30)),(MIN($B30:E30)),\"\")","v":"00:32:45"},{"$f":"IF((MIN($B30:F30)),(MIN($B30:F30)),\"\")","v":"00:32:45"},{"$f":"IF((MIN($B30:G30)),(MIN($B30:G30)),\"\")","v":"00:32:45"},{"$f":"IF((MIN($B30:H30)),(MIN($B30:H30)),\"\")","v":"00:32:45"},{"$f":"IF((MIN($B30:I30)),(MIN($B30:I30)),\"\")","v":"00:32:45"},{"$f":"IF((MIN($B30:J30)),(MIN($B30:J30)),\"\")","v":"00:32:45"},{"$f":"IF((MIN($B30:K30)),(MIN($B30:K30)),\"\")","v":"00:32:45"},{"$f":"IF((MIN($B30:L30)),(MIN($B30:L30)),\"\")","v":"00:32:45"},{"$f":"IF((MIN($B30:M30)),(MIN($B30:M30)),\"\")","v":"00:32:45"},{"$f":"IF((MIN($B30:N30)),(MIN($B30:N30)),\"\")","v":"00:32:45"},{"$f":"IF((MIN($B30:O30)),(MIN($B30:O30)),\"\")","v":"00:32:45"},{"$f":"IF((MIN($B30:P30)),(MIN($B30:P30)),\"\")","v":"00:32:45"},{"$f":"IF((MIN($B30:Q30)),(MIN($B30:Q30)),\"\")","v":"00:32:45"},{"$f":"IF((MIN($B30:R30)),(MIN($B30:R30)),\"\")","v":"00:32:45"},{"$f":"IF((MIN($B30:S30)),(MIN($B30:S30)),\"\")","v":"00:32:45"}]
[{"$f":"Points!C39","v":"Yvonne White"},{"$f":"IF(Points!I39,Points!I39,\"\")","v":"00:34:45"},{"$f":"IF(Points!L39,Points!L39,\"\")","v":"00:35:16"},{"$f":"IF(Points!O39,Points!O39,\"\")","v":"00:35:45"},{"$f":"IF(Points!R39,Points!R39,\"\")","v":"00:34:32"},{"$f":"IF(Points!U39,Points!U39,\"\")","v":"00:33:16"},{"$f":"IF(Points!X39,Points!X39,\"\")","v":"00:33:22"},{"$f":"IF(Points!AA39,Points!AA39,\"\")","v":""},{"$f":"IF(Points!AD39,Points!AD39,\"\")","v":""},{"$f":"IF(Points!AG39,Points!AG39,\"\")","v":""},{"$f":"IF(Points!AJ39,Points!AJ39,\"\")","v":""},{"$f":"IF(Points!AM39,Points!AM39,\"\")","v":""},{"$f":"IF(Points!AP39,Points!AP39,\"\")","v":""},{"$f":"IF(Points!AS39,Points!AS39,\"\")","v":""},{"$f":"IF(Points!AV39,Points!AV39,\"\")","v":""},{"$f":"IF(Points!AY39,Points!AY39,\"\")","v":""},{"$f":"IF(Points!BB39,Points!BB39,\"\")","v":""},{"$f":"IF(Points!BE39,Points!BE39,\"\")","v":""},{"$f":"IF(Points!BH39,Points!BH39,\"\")","v":""},null,null,"Yvonne White",{"$f":"IF((MIN($B31:B31)),(MIN($B31:B31)),\"\")","v":"00:34:45"},{"$f":"IF((MIN($B31:C31)),(MIN($B31:C31)),\"\")","v":"00:34:45"},{"$f":"IF((MIN($B31:D31)),(MIN($B31:D31)),\"\")","v":"00:34:45"},{"$f":"IF((MIN($B31:E31)),(MIN($B31:E31)),\"\")","v":"00:34:32"},{"$f":"IF((MIN($B31:F31)),(MIN($B31:F31)),\"\")","v":"00:33:16"},{"$f":"IF((MIN($B31:G31)),(MIN($B31:G31)),\"\")","v":"00:33:16"},{"$f":"IF((MIN($B31:H31)),(MIN($B31:H31)),\"\")","v":"00:33:16"},{"$f":"IF((MIN($B31:I31)),(MIN($B31:I31)),\"\")","v":"00:33:16"},{"$f":"IF((MIN($B31:J31)),(MIN($B31:J31)),\"\")","v":"00:33:16"},{"$f":"IF((MIN($B31:K31)),(MIN($B31:K31)),\"\")","v":"00:33:16"},{"$f":"IF((MIN($B31:L31)),(MIN($B31:L31)),\"\")","v":"00:33:16"},{"$f":"IF((MIN($B31:M31)),(MIN($B31:M31)),\"\")","v":"00:33:16"},{"$f":"IF((MIN($B31:N31)),(MIN($B31:N31)),\"\")","v":"00:33:16"},{"$f":"IF((MIN($B31:O31)),(MIN($B31:O31)),\"\")","v":"00:33:16"},{"$f":"IF((MIN($B31:P31)),(MIN($B31:P31)),\"\")","v":"00:33:16"},{"$f":"IF((MIN($B31:Q31)),(MIN($B31:Q31)),\"\")","v":"00:33:16"},{"$f":"IF((MIN($B31:R31)),(MIN($B31:R31)),\"\")","v":"00:33:16"},{"$f":"IF((MIN($B31:S31)),(MIN($B31:S31)),\"\")","v":"00:33:16"}]
[{"$f":"Points!C40","v":"Caroline Fishlock"},{"$f":"IF(Points!I40,Points!I40,\"\")","v":""},{"$f":"IF(Points!L40,Points!L40,\"\")","v":"00:33:29"},{"$f":"IF(Points!O40,Points!O40,\"\")","v":""},{"$f":"IF(Points!R40,Points!R40,\"\")","v":""},{"$f":"IF(Points!U40,Points!U40,\"\")","v":""},{"$f":"IF(Points!X40,Points!X40,\"\")","v":""},{"$f":"IF(Points!AA40,Points!AA40,\"\")","v":""},{"$f":"IF(Points!AD40,Points!AD40,\"\")","v":""},{"$f":"IF(Points!AG40,Points!AG40,\"\")","v":""},{"$f":"IF(Points!AJ40,Points!AJ40,\"\")","v":""},{"$f":"IF(Points!AM40,Points!AM40,\"\")","v":""},{"$f":"IF(Points!AP40,Points!AP40,\"\")","v":""},{"$f":"IF(Points!AS40,Points!AS40,\"\")","v":""},{"$f":"IF(Points!AV40,Points!AV40,\"\")","v":""},{"$f":"IF(Points!AY40,Points!AY40,\"\")","v":""},{"$f":"IF(Points!BB40,Points!BB40,\"\")","v":""},{"$f":"IF(Points!BE40,Points!BE40,\"\")","v":""},{"$f":"IF(Points!BH40,Points!BH40,\"\")","v":""},null,null,"Caroline Fishlock",{"$f":"IF((MIN($B32:B32)),(MIN($B32:B32)),\"\")","v":""},{"$f":"IF((MIN($B32:C32)),(MIN($B32:C32)),\"\")","v":"00:33:29"},{"$f":"IF((MIN($B32:D32)),(MIN($B32:D32)),\"\")","v":"00:33:29"},{"$f":"IF((MIN($B32:E32)),(MIN($B32:E32)),\"\")","v":"00:33:29"},{"$f":"IF((MIN($B32:F32)),(MIN($B32:F32)),\"\")","v":"00:33:29"},{"$f":"IF((MIN($B32:G32)),(MIN($B32:G32)),\"\")","v":"00:33:29"},{"$f":"IF((MIN($B32:H32)),(MIN($B32:H32)),\"\")","v":"00:33:29"},{"$f":"IF((MIN($B32:I32)),(MIN($B32:I32)),\"\")","v":"00:33:29"},{"$f":"IF((MIN($B32:J32)),(MIN($B32:J32)),\"\")","v":"00:33:29"},{"$f":"IF((MIN($B32:K32)),(MIN($B32:K32)),\"\")","v":"00:33:29"},{"$f":"IF((MIN($B32:L32)),(MIN($B32:L32)),\"\")","v":"00:33:29"},{"$f":"IF((MIN($B32:M32)),(MIN($B32:M32)),\"\")","v":"00:33:29"},{"$f":"IF((MIN($B32:N32)),(MIN($B32:N32)),\"\")","v":"00:33:29"},{"$f":"IF((MIN($B32:O32)),(MIN($B32:O32)),\"\")","v":"00:33:29"},{"$f":"IF((MIN($B32:P32)),(MIN($B32:P32)),\"\")","v":"00:33:29"},{"$f":"IF((MIN($B32:Q32)),(MIN($B32:Q32)),\"\")","v":"00:33:29"},{"$f":"IF((MIN($B32:R32)),(MIN($B32:R32)),\"\")","v":"00:33:29"},{"$f":"IF((MIN($B32:S32)),(MIN($B32:S32)),\"\")","v":"00:33:29"},{"$f":"IF((MIN($B32:S32)),(MIN($B32:S32)),\"\")","v":"00:33:29"},{"$f":"IF((MIN($B32:S32)),(MIN($B32:S32)),\"\")","v":"00:33:29"}]

{"sheet":"Counting Results (2015)","index":8,"n_rows":200,"n_cols":92,"rows_kept":200,"cut":false,"hidden":true,"merged":[]}
[null,4,null,"2015-04-16",null,null,null,0,"2015-04-23",null,null,null,0,"2015-04-30",null,null,null,0,"2015-05-07",null,null,null,0,"2015-05-14",null,null,null,0,"2015-05-21",null,null,null,0,"2015-05-28",null,null,null,0,"2015-06-04",null,null,null,0,"2015-06-11",null,null,null,0,"2015-06-18",null,null,null,0,"2015-07-02",null,null,null,0,"2015-07-09",null,null,null,0,"2015-07-16",null,null,null,0,"2015-07-23",null,null,null,0,"2015-07-30",null,null,null,0,"2015-08-06",null,null,null,0,"2015-08-13",null,null,null,0,"2015-08-20"]
[1,7,"1","Matt Woods","Banjo Cycles","00:21:21",120,null,null,null,null,null,"1","Dan Guest","Performance Cycles","00:20:59",120,"1","Peter Garnett","Swindon RC","00:22:18",120,1,"Chris Wood","Performance Cycles","00:22:49",120,"1","Paul Cook","Ride 24/7","00:22:11",120,"1","Tony Costello","Corinium CC","00:22:16",120,"1","Paul Cook","Ride 24/7","00:22:35",120,"1","Tony Costello","Corinium CC","00:21:57",120,"1","Dan Guest","Performance Cycles","00:20:19",120,"1","Dan Guest","Performance Cycles","00:20:30",120,"1","Matt Woods","Cotswold Veldrijden","00:21:05",120,"1","Dan Guest","Performance Cycles","00:20:50",120,"1","Gary Smith","Ride 24/7","00:22:17",120,"1","Dan Guest","Performance Cycles","00:20:37",120,"1","Dan Guest","Performance Cycles","00:20:40",120,"1","Dan Guest","Performance Cycles","00:20:32",120,"1","Dan Guest","Performance Cycles","00:20:51",120]
[0,null,"2","James Stewart","Performance Cycles","00:21:25",119,null,null,null,null,null,"2","James Stewart","Performance Cycles","00:21:35",119,"2","Tony Costello","Corinium CC","00:22:22",119,2,"Niel Dunnage","Swindon RC","00:23:34",119,"2","Kevin Bexley","Team Optima","00:22:29",119,"2","Pete Hutchinson","Corinium CC","00:22:23",119,"2","Peter Garnett","Swindon RC","00:22:43",119,"2","Niel Dunnage","Swindon RC","00:22:16",119,"2","Paul Cook","Ride 24/7","00:22:02",119,"2","Paul Cook","Ride 24/7","00:21:31",119,"2","Paul Cook","Ride 24/7","00:21:51",119,"2","Paul Cook","Ride 24/7","00:21:43",119,"2","Niel Dunnage","Swindon RC","00:22:18",119,"2","Matt Woods","Banjo Cycles","00:21:21",119,"2","Rory Gilling","Performance Cycles","00:21:59",119,"2","Niel Dunnage","Swindon RC","00:22:04",119,"2","Rory Gilling","Performance Cycles","00:22:13",119]
[0,null,"= 3","Chris Beardshaw","Performance Cycles","00:22:26",118,null,null,null,null,null,"3","Paul Cook","Ride 24/7","00:22:20",118,"3","Pete Hutchinson","Corinium CC","00:22:36",118,3,"Marc Allen","Swindon RC","00:26:18",118,"3","Chris Wood","Performance Cycles","00:22:38",118,"3","Peter Garnett","Swindon RC","00:22:39",118,"3","Niel Dunnage","Swindon RC","00:22:51",118,"3","Peter Garnett","Swindon RC","00:22:19",118,"3","Peter Garnett","Swindon RC","00:22:08",118,"3","Les Liddiard","Swindon RC","00:22:24",118,"3","Chris Wood","Performance Cycles","00:22:07",118,"3","Peter Garnett","Swindon RC","00:22:33",118,"3","Pete Hutchinson","Corinium CC","00:22:33",118,"3","Rory Gilling","Performance Cycles","00:22:12",118,"3","Pete Hutchinson","Corinium CC","00:22:01",118,"3","Rory Gilling","Performance Cycles","00:22:21",118,"3","Niel Dunnage","Swindon RC","00:22:21",118]
[1,null,"= 3","Niel Dunnage","Swindon RC","00:22:26",118,null,null,null,null,null,"= 4","Pete Hutchinson","Corinium CC","00:22:51",117,"4","Andy Claxton","Swindon RC","00:23:39",117,4,"Martin Pitts","Corinium CC","00:28:02",117,"4","Peter Garnett","Swindon RC","00:22:44",117,"4","Chris Wood","Performance Cycles","00:22:42",117,"4","Pete Hutchinson","Corinium CC","00:23:04",117,"4","Chris Wood","Performance Cycles","00:22:28",117,"4","Niel Dunnage","Swindon RC","00:22:17",117,"4","Chris Wood","Performance Cycles","00:22:42",117,"4","Rory Gilling","Performance Cycles","00:22:15",117,"4","Andy Claxton","Swindon RC","00:22:34",117,"4","Andy Claxton","Swindon RC","00:22:44",117,"4","Andy Claxton","Swindon RC","00:22:35",117,"4","Aled Jones","RNRMCA","00:22:09",117,"4","Paul Cook","Ride 24/7","00:22:23",117,"4","Pete Hutchinson","Corinium CC","00:22:30",117]
[0,null,"5","Chris Wood","Performance Cycles","00:22:32",116,null,null,null,null,null,"= 4","Niel Dunnage","Swindon RC","00:22:51",117,"5","Jacob Pilkington","Performance Cycles","00:23:58",116,5,"Oliver Palmer","Swindon RC","00:28:18",116,"5","Les Liddiard","Swindon RC","00:22:59",116,"5","Les Liddiard","Swindon RC","00:22:48",116,"5","Gary Smith","Ride 24/7","00:23:15",116,"5","Pete Hutchinson","Corinium CC","00:22:38",116,"5","Nick Lowe","Cotswold Veldrijden","00:23:00",116,"5","Steve Yates","Corinium CC","00:22:53",116,"5","Niel Dunnage","Swindon RC","00:22:18",116,"5","Pete Hutchinson","Corinium CC","00:22:38",116,"5","David Wright","Veloton","00:23:01",116,"= 5","Gary Smith","Ride 24/7","00:22:39",116,"5","Niel Dunnage","Swindon RC","00:22:19",116,"5","Chris Wood","Performance Cycles","00:22:33",116,"5","Paul Cook","Ride 24/7","00:22:33",116]
[0,null,"6","Peter Garnett","Swindon RC","00:22:36",115,null,null,null,null,null,"6","Peter Garnett","Swindon RC","00:23:10",115,"6","Jim Curry","Performance Cycles","00:24:13",115,6,"Stephen Chapman","Corinium CC","00:30:25",115,"6","Adrian Williams","Ride 24/7","00:23:04",115,"6","Steve Yates","Corinium CC","00:23:09",115,"6","Alex King","Performance Cycles","00:23:39",115,"6","David Arthur","Performance Cycles","00:22:43",115,"6","Andy Claxton","Swindon RC","00:23:32",115,"6","Andy Claxton","Swindon RC","00:23:02",115,"6","Pete Hutchinson","Corinium CC","00:22:36",115,"6","Les Liddiard","Swindon RC","00:22:47",115,"6","Jim Curry","Performance Cycles","00:23:26",115,"= 5","Adrian Williams","Ride 24/7","00:22:39",116,"6","Gary Smith","Ride 24/7","00:22:21",115,"6","Andy Claxton","Swindon RC","00:22:35",115,"6","Jacob Pilkington",null,"00:22:50"]
[0,null,"7","Adrian Williams","Ride 24/7","00:22:48",114,null,null,null,null,null,"7","Les Liddiard","Swindon RC","00:23:16",114,"7","Andy McIntyre","Performance Cycles","00:24:14",114,7,"Allan Norwood","Corinium CC","00:31:36",114,"7","David Wright","Veloton","00:23:09",114,"7","Gary Smith","Ride 24/7","00:23:13",114,"7","Neil Pugh","Newbury Road Club","00:24:04",114,"7","Steve Yates","Corinium CC","00:22:51",114,"7","Leigh Schvartz","Swindon RC","00:23:33",114,"7","Alex King","Performance Cycles","00:23:08",114,"7","Andy Claxton","Swindon RC","00:22:43",114,"7","Gary Smith","Ride 24/7","00:23:02",114,"7","Mick Sharratt","Swindon RC","00:23:45",114,"7","Mitch Evans","Ride 24/7","00:22:43",114,"7","Peter Garnett","Swindon RC","00:22:24",114,"7","Les Liddiard","Swindon RC","00:22:43",114,"7","Chris Wood","Performance Cycles","00:22:52",114]
[1,null,"8","Robin Short","?","00:23:15",113,null,null,null,null,null,"8","Rory Gilling","Performance Cycles","00:23:22",113,"8","Steve Davies","Swindon RC","00:24:25",113,8,"Marguerite Miatt","Corinium CC","00:32:26",113,"8","Alex King","Performance Cycles","00:23:15",113,"8","Andy Claxton","Swindon RC","00:23:17",113,"= 8","Jim Curry","Performance Cycles","00:24:09",113,"= 8","Martin Cairns",0,"00:22:59",113,"8","Chris Broad-Drake","Swindon RC","00:23:44",113,"8","Henry Slade","Performance Cycles","00:23:16",113,"8","Les Liddiard","Swindon RC","00:22:48",113,"8","Steve Yates","Corinium CC","00:23:18",113,"8","Pete Scott","Cotswold Veldrijden","00:23:50",113,"8","David Wright","Veloton","00:22:55",113,"8","Andy Claxton","Swindon RC","00:22:38",113,"8","Gary Smith","Ride 24/7","00:23:25",113,"8","Les Liddiard","Swindon RC","00:23:00",113]
[0,null,"9","Paul Cook","Ride 24/7","00:23:32",112,null,null,null,null,null,"9","Alex King","Performance Cycles","00:23:24",112,"9","Alex King","Performance Cycles","00:24:36",112,9,"Annie Pegler","Corinium CC","00:33:00",112,"9","Andy Claxton","Swindon RC","00:23:18",112,"9","Nick Lowe","Cotswold Veldrijden","00:23:39",112,"= 8","Nick Lowe","Cotswold Veldrijden","00:24:09",113,"= 8","David Wright","Veloton","00:22:59",113,"9","Andy Morgan","Corinium CC","00:23:46",112,"9","Jim Curry","Performance Cycles","00:23:19",112,"9","Alex King","Performance Cycles","00:22:49",112,"9","Mark Woolford","Chippenham Wheelers","00:23:31",112,"9","Jon Tresadern","Swindon RC","00:23:57",112,"9","Steve Yates","Corinium CC","00:23:00",112,"9","Robin Short","Performance Cycles","00:23:20",112,"= 9","Jon Tresadern","Swindon RC","00:23:27",112,"9","Peter Garnett","Swindon RC","00:23:16",112]
[1,null,"10","David Wright","Veloton","00:23:48",111,null,null,null,null,null,"10","Simon Rogers","BJW","00:23:45",111,"10","Dave Gibson","Swindon RC","00:24:42",111,1,null,null,null,null,"10","Nick Lowe","Cotswold Veldrijden","00:23:56",111,"10","Ed Coxwell-Rogers ","Ride 24/7","00:23:58",111,"10","Adam Giles","Ride 24/7","00:24:43",111,"= 10","Paul Clarkson","Kingston Wheelers","00:23:21",111,"10","Mike Ward","Performance Cycles","00:23:48",111,"10","Nick Lowe","Cotswold Veldrijden","00:23:28",111,"10","Jacob Pilkington",null,"00:22:58",null,"10","Pete Scott","Cotswold Veldrijden","00:24:09",111,"10","Andy McIntyre","Performance Cycles","00:23:58",111,"= 10","Pete Scott","Cotswold Veldrijden","00:23:46",111,"10","Tony Staples","RNRMCA","00:23:25",111,"= 9","David Wright","Veloton","00:23:27",112,"10","Jim Curry","Performance Cycles","00:23:17"]
[1,null,"11","Rory Gilling","Performance Cycles","00:23:56",110,null,null,null,null,null,"11","David Wright","Veloton","00:23:50",110,"11","Tom Longland","Swindon RC","00:24:54",110,1,null,null,null,null,"11","Mick Sharratt","Swindon RC","00:24:18",110,"11","Leigh Schvartz","Swindon RC","00:24:11",110,"11","Steve Buckley","Ride 24/7","00:24:45",110,"= 10","Andy Claxton","Swindon RC","00:23:21",111,"11","Robin Short","Performance Cycles","00:23:56",110,"11","Andy McIntyre","Performance Cycles","00:23:54",110,"11","Jim Curry","Performance Cycles","00:23:00",110,"11","Adam Giles","Ride 24/7","00:24:17",110,"11","Nick Lowe","Cotswold Veldrijden","00:24:04",110,"= 10","Jim Curry","Performance Cycles","00:23:46",111,"= 11","Alex King","Performance Cycles","00:23:30",110,"11","Jim Curry","Performance Cycles","00:23:34",110,"11","Chris Broad-Drake","Swindon RC","00:23:39",111]
[0,null,"12","Adam Giles","Ride 24/7","00:24:11",109,null,null,null,null,null,"12","Jacob Pilkington","Performance Cycles","00:24:04",109,"12","Steve Buckley","Ride 24/7","00:25:10",109,1,null,null,null,null,"12","Pete Scott","Cotswold Veldrijden","00:24:19",109,"= 12","Steve Davies","Swindon RC","00:24:14",109,"12","Malcolm Walklett","Swindon RC","00:24:46",109,"12","Jacob Pilkington",null,"00:23:27",null,"12","Mick Sharratt","Swindon RC","00:23:59",109,"12","Sarah Gunn","Corinium CC","00:24:32",109,"12","Henry Slade","Performance Cycles","00:23:05",109,"12","Andy McIntyre","Performance Cycles","00:24:27",109,"12","Tom Longland","Swindon RC","00:24:24",109,"12","Paul Cook","Ride 24/7","00:23:48",109,"= 11","Pete Scott","Cotswold Veldrijden","00:23:30",110,"= 12","Marc Allen","Swindon RC","00:24:39",109,"12","David Wright","Veloton","00:23:46",110]
[0,null,"13","Tom Sewell","Cotswold Veldrijden","00:24:12",108,null,null,null,null,null,"13","Pete Scott","Cotswold Veldrijden","00:24:23",108,"13","Harriet Guest","Performance Cycles","00:25:20",108,1,null,null,null,null,"13","Harriet Guest","Performance Cycles","00:24:23",108,"= 12","Mick Sharratt","Swindon RC","00:24:14",109,"13","Mick Sharratt","Swindon RC","00:24:49",108,"13","Nick Lowe","Cotswold Veldrijden","00:23:44",108,"13","Andy McIntyre","Performance Cycles","00:24:00",108,"13","Simon James","Corinium CC","00:24:56",108,"13","Jon Tresadern","Swindon RC","00:23:52",108,"13","Harriet Guest","Performance Cycles","00:24:47",108,"13","Marc Allen","Swindon RC","00:24:49",108,"13","Chris Broad-Drake","Swindon RC","00:24:02",108,"13","Nick Lowe","Cotswold Veldrijden","00:23:51",108,"= 12","Harriet Guest","Performance Cycles","00:24:39",109,"13","Jon Tresadern","Swindon RC","00:23:53",109]
[1,null,"14","Steve Davies","Swindon RC","00:24:14",107,null,null,null,null,null,"14","Mick Sharratt","Swindon RC","00:24:26",107,"14","Adriano dos Santos","Swindon RC","00:25:28",107,1,null,null,null,null,"14","Andy McIntyre","Performance Cycles","00:24:31",107,"14","Chris Broad-Drake","Swindon RC","00:24:25",107,"14","Pete Scott","Cotswold Veldrijden","00:24:57",107,"14","Matt Hodgson","Ride 24/7","00:23:55",107,"14","Matt Hodgson","Ride 24/7","00:24:06",107,"14","Mark Foyn","Corinium CC","00:24:59",107,"14","Ian Barrett","Corinium CC","00:24:01",107,"14","Dave Gibson","Swindon RC","00:25:17",107,"14","Simon James","Corinium CC","00:24:52",107,"14","Mark Woolford","Chippenham Wheelers","00:24:03",107,"14","Jon Tresadern","Swindon RC","00:23:55",107,"= 14","Alex Foyn","Corinium CC","00:24:54",107,"14","Andy McIntyre","Performance Cycles","00:24:01",108]
[0,null,"15","Mick Sharratt","Swindon RC","00:24:29",106,null,null,null,null,null,"15","Matt Hodgson","Ride 24/7","00:24:29",106,"15","Simon James","Corinium CC","00:25:34",106,1,null,null,null,null,"15","Jim Curry","Performance Cycles","00:24:36",106,"15","Adam Giles","Ride 24/7","00:24:40",106,"15","Chris Broad-Drake","Swindon RC","00:24:59",106,"= 15","Mick Sharratt","Swindon RC","00:24:02",106,"15","Steve Davies","Swindon RC","00:24:16",106,"15","Marc Allen","Swindon RC","00:25:02",106,"15","Marc Allen","Swindon RC","00:24:02",106,"15","Mark Foyn","Corinium CC","00:25:22",106,"15","Trevor Hodges","Corinium CC","00:24:59",106,"15","Jon Tresadern","Swindon RC","00:24:07",106,"15","Marc Allen","Swindon RC","00:24:12",106,"= 14","Mick Sharratt","Swindon RC","00:24:54",107,"15","Mick Sharratt","Swindon RC","00:24:22",107]
[1,null,"16","Andy McIntyre","Performance Cycles","00:24:33",105,null,null,null,null,null,"16","Andy Claxton","Swindon RC","00:24:30",105,"16","Marc Allen","Swindon RC","00:25:47",105,1,null,null,null,null,"16","Adam Giles","Ride 24/7","00:24:38",105,"16","Dave Gibson","Swindon RC","00:24:41",105,"16","Dave Gibson","Swindon RC","00:25:05",105,"= 15","Pete Scott","Cotswold Veldrijden","00:24:02",106,"16","Adam Giles","Ride 24/7","00:24:32",105,"16","Owen Paddock","Swindon RC","00:25:32",105,"16","Andy McIntyre","Performance Cycles","00:24:03",105,"16","Alex Foyn","Corinium CC","00:25:26",105,"16","Dave Gibson","Swindon RC","00:25:06",105,"16","Malcolm Walklett","Swindon RC","00:24:09",105,"16","Jack Thompson","Performance Cycles","00:24:13",105,"16","Steve Buckley","Ride 24/7","00:24:56",105,"16","Marc Allen","Swindon RC","00:24:37",106]
[1,null,"17","Mark Kent","Swindon RC","00:25:00",104,null,null,null,null,null,"17","Chris Broad-Drake","Swindon RC","00:24:40",104,"17","Jeff Smith","Swindon RC","00:26:04",104,1,null,null,null,null,"17","Kris Langley","Swindon RC","00:25:00",104,"17","Andy McIntyre","Performance Cycles","00:24:51",104,"17","Trevor Hodges","Corinium CC","00:25:21",104,"17","Steve Buckley","Ride 24/7","00:24:13",104,"17","Marc Allen","Swindon RC","00:24:49",104,"17","Alex Foyn","Corinium CC","00:25:45",104,"17","Mick Sharratt","Swindon RC","00:24:05",104,"17","Claire Smith","Swindon RC","00:25:48",104,"17","Keith Waller","Swindon RC","00:25:33",104,"17","Andy McIntyre","Performance Cycles","00:24:19",104,"17","Chris Broad-Drake","Swindon RC","00:24:16",104,"17","Simon James","Corinium CC","00:25:05",104,"17","Robin Short",null,"00:24:48"]
[0,null,"18","Dave Gibson","Swindon RC","00:25:04",103,null,null,null,null,null,"18","Tom Sewell","Cotswold Veldrijden","00:24:54",103,"18","Jason Costello","Corinium CC","00:26:21",103,1,null,null,null,null,"18","Chris Broad-Drake","Swindon RC","00:25:02",103,"18","Ian Barrett","Corinium CC","00:24:55",103,"18","Harriet Guest","Performance Cycles","00:25:34",103,"18","Mark Woolford","Chippenham Wheelers","00:24:40",103,"18","Adriano dos Santos","Swindon RC","00:24:58",103,"18","Rob Patterson","Swindon RC","00:25:48",103,"18","Steve Buckley","Ride 24/7","00:24:08",103,"= 18","Rob Patterson","Swindon RC","00:25:55",103,"18","Richard Cooper","Swindon RC","00:25:41",103,"18","Mick Sharratt","Swindon RC","00:24:30",103,"18","Andy Morgan","Corinium CC","00:24:19",103,"18","Trevor Hodges","Corinium CC","00:25:14",103,"18","Ian Barrett","Corinium CC","00:24:49",104]
[1,null,"19","Mike Holborow","Swindon RC","00:25:13",102,null,null,null,null,null,"19","Dave Gibson","Swindon RC","00:24:58",102,"19","Bernie Beale","Swindon RC","00:26:33",102,1,null,null,null,null,"19","Sarah Gunn","Corinium CC","00:25:15",102,"19","Trevor Hodges","Corinium CC","00:25:07",102,"19","Mark Foyn","Corinium CC","00:25:35",102,"19","Marc Allen","Swindon RC","00:24:50",102,"19","Simon James","Corinium CC","00:25:05",102,"19","Fay Tocknell","Swindon RC","00:26:36",102,"19","Ewen Lewis","Swindon Wheelers","00:24:48",102,"= 18","Jeff Smith","Swindon RC","00:25:55",103,"19","Owen Paddock","Swindon RC","00:25:53",102,"19","Ian Barrett","Corinium CC","00:24:34",102,"= 19","Russ Thompson","Performance Cycles","00:24:22",102,"19","Jeff Smith","Swindon RC","00:25:32",102,"19","Alex King","Performance Cycles","00:24:52",103]
[0,null,"= 20","Sarah Gunn","Corinium CC","00:25:25",101,null,null,null,null,null,"20","Adriano dos Santos","Swindon RC","00:25:00",101,"= 20","Martin Pitts","Corinium CC","00:27:01",101,1,null,null,null,null,"20","Marc Allen","Swindon RC","00:25:16",101,"20","Mark Foyn","Corinium CC","00:25:10",101,"20","Mike Firth","Corinium CC","00:25:52",101,"20","Mark Foyn","Corinium CC","00:24:55",101,"20","Keith Waller","Swindon RC","00:25:11",101,"20","Harriet Guest","Performance Cycles","00:26:48",101,"20","Matt Seddon",null,"00:24:50",null,"20","Gary Martin","Westerley CC","00:26:02",101,"20","Sharon Dolman","Swindon RC","00:26:14",101,"20","Steve Buckley","Ride 24/7","00:24:42",101,"= 19","Tom Longland","Swindon RC","00:24:22",102,"20","Sarah Gunn","Corinium CC","00:25:33",101,"20","Matt Seddon",null,"00:24:59"]
[0,null,"= 20","Jacob Pilkington","Performance Cycles","00:25:25",101,null,null,null,null,null,"21","Rob Merrison","Swindon RC","00:25:02",100,"= 20","Michelle Ross","Ride 24/7","00:27:01",101,1,null,null,null,null,"21","Trevor Hodges","Corinium CC","00:25:24",100,"21","Sarah Gunn","Corinium CC","00:25:20",100,"21","Adriano dos Santos","Swindon RC","00:25:58",100,"21","Dave Gibson","Swindon RC","00:24:58",100,"21","Jason Costello","Corinium CC","00:25:14",100,"21","Paul Fuchs","Corinium CC","00:27:05",100,"21","Mark Foyn","Corinium CC","00:24:52",100,"21","Gerry Peppin","Corinium CC","00:26:07",100,"21","Rob Patterson","Swindon RC","00:26:15",100,"21","Marc Allen","Swindon RC","00:25:06",100,"21","Steve Buckley","Ride 24/7","00:24:39",100,"21","Mark Foyn","Corinium CC","00:25:46",100,"= 21","Alex Foyn","Corinium CC","00:25:03",101]
[0,null,"22","Marc Allen","Swindon RC","00:25:33",99,null,null,null,null,null,"22","Adam Giles","Ride 24/7","00:25:06",99,"22","Paul Fuchs","Corinium CC","00:27:08",99,1,null,null,null,null,"22","Neil Boyle","Velo Vitesse","00:25:31",99,"22","Marc Allen","Swindon RC","00:25:31",99,"22","Jason Costello","Corinium CC","00:26:14",99,"22","Kevin Lister","Corinium CC","00:25:25",99,"22","Mark Foyn","Corinium CC","00:25:15",99,"22","John Whittaker","Corinium CC","00:28:28",99,"22","Trevor Hodges","Corinium CC","00:25:04",99,"22","Sharon Dolman","Swindon RC","00:26:26",99,"22","Gerry Peppin","Corinium CC","00:26:17",99,"22","Keith Waller","Swindon RC","00:25:18",99,"22","Harriet Guest","Performance Cycles","00:24:48",99,"22","Ewen Lewis","Swindon Wheelers","00:25:48",99,"= 21","Jason Costello","Corinium CC","00:25:03",100]
[1,null,"23","Jim Curry","Performance Cycles","00:25:39",98,null,null,null,null,null,"23","Martin Holloway","Veloton","00:25:11",98,"23","Fay Tocknell","Swindon RC","00:27:12",98,1,null,null,null,null,"23","Jason Costello","Corinium CC","00:25:56",98,"23","Jerome Wise","Swindon RC","00:25:32",98,"23","Marc Allen","Swindon RC","00:26:28",98,"23","Chris Broad-Drake","Swindon RC","00:25:40",98,"23","Jerome Wise","Swindon RC","00:25:22",98,"23","Keith Williams","Corinium CC","00:30:07",98,"23","Jason Costello","Corinium CC","00:25:13",98,"23","Paul Fuchs","Corinium CC","00:26:28",98,"23","Kevin Lister","Corinium CC","00:26:29",98,"23","Dave Gibson","Swindon RC","00:25:24",98,"23","Dave Gibson","Swindon RC","00:24:58",98,"23","Kevin Lister","Corinium CC","00:26:06",98,"23","Harriet Guest","Performance Cycles","00:25:04",99]
[0,null,"24","Corinne Clark","Performance Cycles","00:25:52",97,null,null,null,null,null,"24","Marc Allen","Swindon RC","00:25:59",97,"24","Kevin Lister","Corinium CC","00:27:13",97,1,null,null,null,null,"24","James Pocock","Ride 24/7","00:25:58",97,"24","Jeff Smith","Swindon RC","00:25:51",97,"24","Jeff Smith","Swindon RC","00:26:38",97,"= 24","Jeff Smith","Swindon RC","00:25:58",97,"24","Kevin Lister","Corinium CC","00:25:42",97,"24","Marguerite Miatt","Corinium CC","00:30:30",97,"24","Alex Foyn","Corinium CC","00:25:29",97,"24","Kieran Golding","Swindon RC","00:28:06",97,"24","Allan Norwood","Corinium CC","00:27:14",97,"24","Jeff Smith","Swindon RC","00:25:28",97,"24","Simon James","Corinium CC","00:25:03",97,"24","Tristan Stevens","Swindon RC","00:26:11",97,"24","Trevor Hodges","Corinium CC","00:25:09",98]
[0,null,"25","Wendy Nicholls","Corinium CC","00:26:11",96,null,null,null,null,null,"25","Jeff Smith","Swindon RC","00:26:08",96,"25","Matt Seddon","Corinium CC","00:27:26",96,1,null,null,null,null,"25","Keith Waller","Swindon RC","00:26:00",96,"25","Keith Waller","Swindon RC","00:25:52",96,"25","Rob Patterson","Swindon RC","00:26:51",96,"= 24","Rob Patterson","Swindon RC","00:25:58",97,"25","Jeff Smith","Swindon RC","00:25:46",96,"25","Noel MacKenzie","Corinium CC","00:30:45",96,"25","Wendy Nicholls","Kinetic One","00:25:42",96,"25","Joseph Barrowclough","Ride 24/7","00:28:26",96,"25","Steve Turtle",0,"00:27:42",96,"25","Harriet Guest","Performance Cycles","00:25:32",96,"25","Alex Foyn","Corinium CC","00:25:09",96,"25","Stephen Chapman","Corinium CC","00:26:26",96,"25","Clive Rivers","Performance Cycles","00:25:13",97]
[1,null,"26","Mark Foyn","Corinium CC","00:26:23",95,null,null,null,null,null,"26","Archie Scott","Cotswold Veldrijden","00:26:10",95,"26","Paul Adams","Swindon RC","00:27:33",95,1,null,null,null,null,"26","Kevin Lister","Corinium CC","00:26:03",95,"26","Kevin Lister","Corinium CC","00:26:11",95,"26","Michelle Ross","Ride 24/7","00:27:34",95,"26","Gerry Peppin","Corinium CC","00:26:09",95,"26","Matt Seddon","Corinium CC","00:25:52",95,"26","Annie Pegler","Corinium CC","00:30:54",95,"26","Keith Waller","Swindon RC","00:25:52",95,"26","Denis Hedges","Corinium CC","00:28:31",95,"26","Denis Hedges","Corinium CC","00:28:23",95,"26","Jason Costello","Corinium CC","00:25:52",95,"26","Trevor Hodges","Corinium CC","00:25:10",95,"26","Allan Norwood","Corinium CC","00:26:41",95,"26","Mark Sysum",0,"00:25:26",96]
[0,null,"27","Jeff Smith","Swindon RC","00:26:26",94,null,null,null,null,null,"27","Mark Foyn","Corinium CC","00:26:13",94,"27","Allan Norwood","Corinium CC","00:27:46",94,1,null,null,null,null,"= 27","Sharon Dolman","Swindon RC","00:26:25",94,"27","Rob Everill","Performance Cycles","00:26:12",94,"27","Allan Norwood","Corinium CC","00:27:40",94,"27","Sharon Dolman","Swindon RC","00:26:16",94,"27","Sharon Dolman","Swindon RC","00:26:09",94,"27","Amanda Adams","Swindon RC","00:32:01",94,"27","Gerry Peppin","Corinium CC","00:26:09",94,"27","Howard Seward","Swindon RC","00:28:40",94,"27","Nick Fiore","Cotswold Veldrijden","00:28:30",94,"27","Rob Patterson","Swindon RC","00:26:05",94,"27","Jeff Smith","Swindon RC","00:25:29",94,"27","Paul Fuchs","Corinium CC","00:26:42",94,"27","Sarah Gunn","Corinium CC","00:25:33",95]
[1,null,"28","Neil Boyle","Ride 24/7","00:26:37",93,null,null,null,null,null,"28","Tristan Stevens","Swindon RC","00:26:26",93,"28","Oliver Palmer","Swindon RC","00:27:50",93,1,null,null,null,null,"= 27","Rob Patterson","Swindon RC","00:26:25",94,"28","Rob Patterson","Swindon RC","00:26:21",93,"28","Marc Lehrer","Ride 24/7","00:27:54",93,"28","Stephen Chapman","Corinium CC","00:26:39",93,"28","Stephen Chapman","Corinium CC","00:26:18",93,null,null,null,null,null,"28","Stephen Chapman","Corinium CC","00:26:12",93,"28","Marguerite Miatt","Corinium CC","00:31:05",93,"28","Amy Cooper","Dame Cycling","00:28:52",93,"28","Dave Miatt","Corinium CC","00:30:15",93,"28","Ewen Lewis","Swindon Wheelers","00:25:34",93,"28","Nick Schiettecatte","Middlesex Road Club","00:27:15",93,"28","Jeff Smith","Swindon RC","00:25:53",94]
[1,null,"29","Gerry Peppin","Corinium CC","00:26:44",92,null,null,null,null,null,"29","Harriet Guest","Performance Cycles","00:26:37",92,"29","Kieran Golding","Swindon RC","00:28:11",92,1,null,null,null,null,"29","Gerry Peppin","Corinium CC","00:26:33",92,"29","Gerry Peppin","Corinium CC","00:26:26",92,"29","Nick Schiettecatte","Middlesex Road Club","00:27:59",92,"29","Matt Seddon","Corinium CC","00:26:42",92,"29","Rob Patterson","Swindon RC","00:26:30",92,null,null,null,null,null,"29","Paul Fuchs","Corinium CC","00:26:47",92,"29","Ross Gregory","Corinium CC","00:32:15",92,"29","Sophie Crampin","Dame Cycling","00:29:28",92,"29","Keith Williams","Corinium CC","00:30:43",92,"29","Will Shephard","Ely & District","00:25:36",92,"29","Howard Seward","Swindon RC","00:27:48",92,"29","Mark Foyn","Corinium CC","00:25:54",93]
[0,null,"30","Martin Pitts","Corinium CC","00:26:55",91,null,null,null,null,null,"= 30","Simon James","Corinium CC","00:26:40",91,"30","Sophie Crampin","Dame Cycling","00:28:40",91,1,null,null,null,null,"30","Bernie Beale","Swindon RC","00:26:41",91,"30","Gary Martin","Westerley CC","00:26:34",91,"30","Oliver Palmer","Swindon RC","00:28:55",91,"30","Allan Norwood","Corinium CC","00:27:04",91,"30","Rob Everill","Performance Cycles","00:26:35",91,null,null,null,null,null,"30","Fay Tocknell","Swindon RC","00:26:49",91,1,null,null,null,null,"30","Keith Williams","Corinium CC","00:30:27",91,"30","Annie Pegler","Corinium CC","00:30:50",91,"30","Sharon Dolman","Swindon RC","00:25:51",91,"30","Joseph Barrowclough","Ride 24/7","00:29:08",91,"30","Steve Buckley","Ride 24/7","00:25:57",92]
[0,null,"= 31","John Simmons","Performance Cycles","00:27:03",90,null,null,null,null,null,"= 30","Jason Costello","Corinium CC","00:26:40",91,"31","Denis Hedges","Corinium CC","00:28:47",90,1,null,null,null,null,"31","Fay Tocknell","Swindon RC","00:27:02",90,"31","Roger Bryan","Swindon RC","00:26:53",90,"31","Dave Fitton","West Pennine RC","00:29:29",90,"31","Paul Fuchs","Corinium CC","00:27:07",90,"31","Paul Fuchs","Corinium CC","00:26:45",90,null,null,null,null,null,"31","Paul Adams","Swindon RC","00:26:57",90,1,null,null,null,null,"31","Marguerite Miatt","Corinium CC","00:30:36",90,"31","Noel MacKenzie","Corinium CC","00:31:00",90,"31","Owen Paddock","Swindon RC","00:25:55",90,"31","Annie Pegler","Corinium CC","00:30:10",90,"31","Tristan Stevens","Swindon RC","00:26:02",91]
[1,null,"= 31","Richard Ash","Swindon RC","00:27:03",90,null,null,null,null,null,"32","Rob Everill","Performance Cycles","00:27:04",89,"32","Howard Seward","Swindon RC","00:30:13",89,1,null,null,null,null,"32","David Smith","Swindon RC","00:27:06",89,"32","Paul Fuchs","Corinium CC","00:27:10",89,"32","Kieran Golding","Swindon RC","00:29:49",89,"32","Nick Schiettecatte","Middlesex Road Club","00:27:30",89,"32","Alistair Moody","RNRMCA","00:26:58",89,null,null,null,null,null,"32","Steve Turtle","Swindon Wheelers","00:26:59",89,1,null,null,null,null,"32","Annie Pegler","Corinium CC","00:30:46",89,"32","Terry Barry","Corinium CC","00:31:33",89,"32","Rob Patterson","Swindon RC","00:26:24",89,"32","Marguerite Miatt","Corinium CC","00:30:31",89,"32","Rob Everill","Performance Cycles","00:26:09",90]
[0,null,"33","Fay Tocknell","Swindon RC","00:27:14",88,null,null,null,null,null,"33","Fay Tocknell","Swindon RC","00:27:25",88,"33","Laura Chadwick","Dame Cycling","00:30:50",88,1,null,null,null,null,"33","Michelle Ross","Ride 24/7","00:27:24",88,"33","Oliver Palmer","Swindon RC","00:27:27",88,"33","Howard Seward","Swindon RC","00:30:14",88,"33","Charlie Edmunds","Swindon RC","00:27:40",88,"33","Nick Schiettecatte","Middlesex Road Club","00:27:13",88,null,null,null,null,null,"33","Nick Schiettecatte","Middlesex Road Club","00:27:13",88,1,null,null,null,null,"33","Ewen Lewis","Swindon Wheelers","00:31:12",88,"33","Ross Gregory","Corinium CC","00:31:42",88,"33","Les Sheppard","Swindon Wheelers","00:26:26",88,"33","Keith Williams","Corinium CC","00:30:34",88,"= 33","Mike Firth","Corinium CC","00:26:11",89]
[0,null,"34","Nick Kent","Dame Cycling","00:27:38",87,null,null,null,null,null,"34","Paul Fuchs","Corinium CC","00:27:34",87,"34","Marguerite Miatt","Corinium CC","00:31:05",87,1,null,null,null,null,"34","Paul Adams","Swindon RC","00:27:37",87,"34","Michelle Ross","Ride 24/7","00:27:49",87,"34","Kate Fitton","West Pennine RC","00:30:39",87,"34","Nick Fiore","Cotswold Veldrijden","00:28:35",87,"34","James Foster","Performance Cycles","00:27:47",87,null,null,null,null,null,"34","Denis Hedges","Corinium CC","00:27:29",87,1,null,null,null,null,"34","Ross Gregory","Corinium CC","00:31:45",87,"34","Amanda Adams","Swindon RC","00:32:41",87,"34","Stephen Chapman","Corinium CC","00:26:42",87,"34","Ross Gregory","Corinium CC","00:31:47",87,"= 33","Stephen Chapman","Corinium CC","00:26:11",89]
[0,null,"35","Paul Fuchs","Corinium CC","00:27:44",86,null,null,null,null,null,"35","Sharon Dolman","Swindon RC","00:27:39",86,"35","Carol Clarke","Corinium CC","00:31:29",86,1,null,null,null,null,"35","Oliver Palmer","Swindon RC","00:28:05",86,"35","Denis Hedges","Corinium CC","00:28:32",86,"35","William MacKenzie","Corinium CC","00:31:05",86,"35","William MacKenzie","Corinium CC","00:30:20",86,"35","Kieran Golding","Swindon RC","00:28:26",86,null,null,null,null,null,"35","Kieran Golding","Swindon RC","00:27:49",86,1,null,null,null,null,"35","Terry Barry","Corinium CC","00:32:40",86,null,null,null,null,null,"35","Mike Firth","Corinium CC","00:26:49",86,"35","Richard Gower","Performance Cycles","00:32:28",86,"35","Kevin Lister","Corinium CC","00:26:14",87]
[0,null,"36","Oliver Palmer","Swindon RC","00:27:54",85,null,null,null,null,null,"36","Richard Alston","RLSCC","00:27:42",85,"36","William MacKenzie","Corinium CC","00:31:43",85,1,null,null,null,null,"36","Kieran Golding","Swindon RC","00:28:14",85,"36","Allan Norwood","Corinium CC","00:28:35",85,"36","Keith Williams","Corinium CC","00:31:46",85,"36","Keith Williams","Corinium CC","00:30:40",85,"36","Joseph Barrowclough","Ride 24/7","00:29:06",85,null,null,null,null,null,"36","John Whittaker","Corinium CC","00:28:25",85,1,null,null,null,null,0,null,null,null,null,0,null,null,null,null,"36","Paul Adams","Swindon RC","00:26:54",85,"36","Amanda Adams","Swindon RC","00:33:34",85,"36","Daniel Wood",0,"00:26:31",86]
[0,null,"37","Michelle Ross","Ride 24/7","00:28:15",84,null,null,null,null,null,"37","Michelle Ross","Ride 24/7","00:27:43",84,"37","Noel MacKenzie","Corinium CC","00:31:55",84,1,null,null,null,null,"37","James Foster","Performance Cycles","00:28:16",84,"37","Jo Cassidy","Performance Cycles","00:30:14",84,"37","Noel MacKenzie","Corinium CC","00:32:03",84,"37","Noel MacKenzie","Corinium CC","00:31:25",84,"37","Howard Seward","Swindon RC","00:29:40",84,null,null,null,null,null,"37","Marguerite Miatt","Corinium CC","00:30:04",84,1,null,null,null,null,0,null,null,null,null,0,null,null,null,null,"37","Allan Norwood","Corinium CC","00:27:22",84,"37","Terry Barry","Corinium CC","00:36:48",84,"37","Ben Gamsa",0,"00:26:42",85]
[0,null,"38","Allan Norwood","Corinium CC","00:28:29",83,null,null,null,null,null,"38","Stephen Chapman","Corinium CC","00:27:44",83,"38","Annie Pegler","Corinium CC","00:31:58",83,1,null,null,null,null,"38","Peter Mills","Swindon Wheelers","00:29:29",83,"38","Marguerite Miatt","Corinium CC","00:30:54",83,"38","Carol Clarke","Corinium CC","00:32:16",83,"38","Ross Gregory","Corinium CC","00:32:24",83,"38","Marguerite Miatt","Corinium CC","00:30:25",83,null,null,null,null,null,"38","William MacKenzie","Corinium CC","00:30:07",83,1,null,null,null,null,0,null,null,null,null,0,null,null,null,null,"38","Andy Moran","Corinium CC","00:28:04",83,1,null,null,null,null,"38","Rob Patterson","Swindon RC","00:26:46",84]
[0,null,"39","Kieran Golding","Swindon RC","00:28:44",82,null,null,null,null,null,"39","Richard Halliday","Dame Cycling","00:28:02",82,"39","Paul Wood","Swindon Wheelers","00:32:08",82,1,null,null,null,null,"39","Kate Fitton","Dame Cycling","00:30:00",82,"39","William MacKenzie","Corinium CC","00:32:16",82,"39","Paul Wood","Swindon Wheelers","00:32:34",82,"39","Joe Petrie","Swindon RC","00:33:35",82,"39","William MacKenzie","Corinium CC","00:30:44",82,null,null,null,null,null,"39","Keith Williams","Corinium CC","00:30:09",82,1,null,null,null,null,0,null,null,null,null,0,null,null,null,null,"39","Howard Seward","Swindon RC","00:28:15",82,1,null,null,null,null,"39","Gerry Peppin","Corinium CC","00:27:05",83]
[1,null,"40","Kelli Salone","Dame Cycling","00:29:19",81,null,null,null,null,null,"40","Paul Adams","Swindon RC","00:28:10",81,"40","Amanda Adams","Swindon RC","00:32:50",81,1,null,null,null,null,"40","Keith Williams","Corinium CC","00:31:01",81,"40","Dave Miatt","Corinium CC","00:33:16",81,null,null,null,null,null,0,null,null,null,null,"40","Keith Williams","Corinium CC","00:30:51",81,null,null,null,null,null,"40","Noel MacKenzie","Corinium CC","00:31:05",81,1,null,null,null,null,0,null,null,null,null,0,null,null,null,null,"40","Fay Tocknell","Swindon RC","00:28:20",81,1,null,null,null,null,"40","Denis Hedges","Corinium CC","00:28:43",82]
[1506,null,"41","Carmen Young","Dame Cycling","00:29:27",80,null,null,null,null,null,"41","David Smith","Swindon RC","00:28:43",80,1,null,null,null,null,0,null,null,null,null,"41","Marguerite Miatt","Corinium CC","00:31:29",80,"41","Noel MacKenzie","Corinium CC","00:33:23",80,null,null,null,null,null,0,null,null,null,null,"41","Noel MacKenzie","Corinium CC","00:31:08",80,null,null,null,null,null,"41","Charlotte Berry","Performance Cycles","00:31:08",80,1,null,null,null,null,0,null,null,null,null,0,null,null,null,null,"41","Denis Hedges","Corinium CC","00:28:45",80,1,null,null,null,null,"41","Howard Seward","Swindon RC","00:28:56",81]
[1506,null,"42","Chris Fox (SRC)","Swindon RC","00:29:35",79,null,null,null,null,null,"42","Mervyn Cox","Performance Cycles","00:28:44",79,1,null,null,null,null,0,null,null,null,null,"42","Jo Cassidy","Performance Cycles","00:31:45",79,"42","Ross Gregory","Corinium CC","00:33:40",79,null,null,null,null,null,0,null,null,null,null,"42","Joe Petrie","Swindon RC","00:31:10",79,null,null,null,null,null,"42","Amanda Adams","Swindon RC","00:31:10",79,1,null,null,null,null,0,null,null,null,null,0,null,null,null,null,"42","Kieran Golding","Swindon RC","00:28:57",79,1,null,null,null,null,"42","Annie Pegler","Corinium CC","00:30:33",80]
[1506,null,"43","Katie Scott","Cotswold Veldrijden","00:29:42",78,null,null,null,null,null,"43","Kieran Golding","Swindon RC","00:28:51",78,1,null,null,null,null,0,null,null,null,null,"43","Ross Gregory","Corinium CC","00:33:10",78,null,null,null,null,null,0,null,null,null,null,0,null,null,null,null,"43","Ross Gregory","Corinium CC","00:31:44",78,null,null,null,null,null,"43","Paul Wood","Swindon Wheelers","00:31:21",78,1,null,null,null,null,0,null,null,null,null,0,null,null,null,null,"43","Steve Turtle","Swindon Wheelers","00:29:34",78,1,null,null,null,null,"43","Keith Williams","Corinium CC","00:30:57",79]
[1506,null,"44","Michael Soan","?","00:29:44",77,null,null,null,null,null,"44","John Whittaker","Corinium CC","00:30:06",77,1,null,null,null,null,0,null,null,null,null,0,null,null,null,null,0,null,null,null,null,0,null,null,null,null,0,null,null,null,null,"44","Carol Clarke","Corinium CC","00:32:00",77,null,null,null,null,null,"44","Ross Gregory","Corinium CC","00:31:37",77,1,null,null,null,null,0,null,null,null,null,0,null,null,null,null,"44","Annie Pegler","Corinium CC","00:30:04",77,1,null,null,null,null,"44","Marguerite Miatt","Corinium CC","00:31:11",78]
[1506,null,"45","John Whittaker","Corinium CC","00:29:49",76,null,null,null,null,null,"45","Stewart Layzell","Swindon RC","00:30:23",76,1,null,null,null,null,0,null,null,null,null,0,null,null,null,null,0,null,null,null,null,0,null,null,null,null,0,null,null,null,null,"45","Amanda Adams","Swindon RC","00:32:50",76,null,null,null,null,null,"45","Alasdair MacKenzie","Corinium CC","00:35:06",76,1,null,null,null,null,0,null,null,null,null,0,null,null,null,null,"45","Marguerite Miatt","Corinium CC","00:30:34",76,1,null,null,null,null,"45","Ross Gregory","Corinium CC","00:31:51",77]
[1506,null,"46","William Mackenzie","Corinium CC","00:30:38",75,null,null,null,null,null,"46","Marguerite Miatt","Corinium CC","00:31:35",75,1,null,null,null,null,0,null,null,null,null,0,null,null,null,null,0,null,null,null,null,0,null,null,null,null,0,null,null,null,null,0,null,null,null,null,0,null,null,null,null,0,null,null,null,null,0,null,null,null,null,0,null,null,null,null,0,null,null,null,null,"46","Ross Gregory","Corinium CC","00:31:19",75,1,null,null,null,null,"46","Allan Norwood","Corinium CC","00:32:01"]
[1506,null,"47","Mandy Scott","Cotswold Veldrijden","00:30:51",74,null,null,null,null,null,"47","Carol Clarke","Corinium CC","00:32:13",74,1,null,null,null,null,0,null,null,null,null,0,null,null,null,null,0,null,null,null,null,0,null,null,null,null,0,null,null,null,null,0,null,null,null,null,0,null,null,null,null,0,null,null,null,null,0,null,null,null,null,0,null,null,null,null,0,null,null,null,null,"47","Paul Wood","Swindon Wheelers","00:32:18",74,1,null,null,null,null,0]
[1506,null,"48","Stewart Layzell","Swindon RC","00:30:52",73,null,null,null,null,null,"48","Keith Williams","Corinium CC","00:32:28",73,1,null,null,null,null,0,null,null,null,null,0,null,null,null,null,0,null,null,null,null,0,null,null,null,null,0,null,null,null,null,0,null,null,null,null,0,null,null,null,null,0,null,null,null,null,0,null,null,null,null,0,null,null,null,null,0,null,null,null,null,"48","Mandy Martin","Swindon Wheelers","00:34:10",73,1,null,null,null,null,0]
[1506,null,"49","Denis Hedges","Corinium CC","00:31:42",72,null,null,null,null,null,"49","Annie Pegler","Corinium CC","00:32:31",72,1,null,null,null,null,0,null,null,null,null,0,null,null,null,null,0,null,null,null,null,0,null,null,null,null,0,null,null,null,null,0,null,null,null,null,0,null,null,null,null,0,null,null,null,null,0,null,null,null,null,0,null,null,null,null,0,null,null,null,null,"49","Jo Thompson","Performance Cycles","00:34:50",72,1,null,null,null,null,0]
[1506,null,"50","Howard Seward","Swindon RC","00:31:56",71,null,null,null,null,null,"50","Mandy Scott","Cotswold Veldrijden","00:33:05",71,1,null,null,null,null,0,null,null,null,null,0,null,null,null,null,0,null,null,null,null,0,null,null,null,null,0,null,null,null,null,0,null,null,null,null,0,null,null,null,null,0,null,null,null,null,0,null,null,null,null,0,null,null,null,null,0,null,null,null,null,0,null,null,null,null,0,null,null,null,null,0]
[1506,null,"51","Paul Wood","Swindon Wheelers","00:32:14",70,null,null,null,null,null,"51","Ross Gregory","Corinium CC","00:33:30",70,1,null,null,null,null,0,null,null,null,null,0,null,null,null,null,0,null,null,null,null,0,null,null,null,null,0,null,null,null,null,0,null,null,null,null,0,null,null,null,null,0,null,null,null,null,0,null,null,null,null,0,null,null,null,null,0,null,null,null,null,0,null,null,null,null,0,null,null,null,null,0]
[1506,null,"52","Annie Pegler","Corinium CC","00:32:43",69,null,null,null,null,null,"52","J Richards","Dame Cycling","00:34:32",69,1,null,null,null,null,0,null,null,null,null,0,null,null,null,null,0,null,null,null,null,0,null,null,null,null,0,null,null,null,null,0,null,null,null,null,0,null,null,null,null,0,null,null,null,null,0,null,null,null,null,0,null,null,null,null,0,null,null,null,null,0,null,null,null,null,0,null,null,null,null,0]
[1506,null,"53","Carol Clarke","Corinium CC","00:32:47",68,null,null,null,null,null,"53","Deborah Crawford","Dame Cycling","00:35:56",68,1,null,null,null,null,0,null,null,null,null,0,null,null,null,null,0,null,null,null,null,0,null,null,null,null,0,null,null,null,null,0,null,null,null,null,0,null,null,null,null,0,null,null,null,null,0,null,null,null,null,0,null,null,null,null,0,null,null,null,null,0,null,null,null,null,0,null,null,null,null,0]
[1506,null,"54","Noel MacKenzie","Corinium CC","00:32:58",67,null,null,null,null,null,"54","Nikki Thompson","Dame Cycling","00:39:19",67,1,null,null,null,null,0,null,null,null,null,0,null,null,null,null,0,null,null,null,null,0,null,null,null,null,0,null,null,null,null,0,null,null,null,null,0,null,null,null,null,0,null,null,null,null,0,null,null,null,null,0,null,null,null,null,0,null,null,null,null,0,null,null,null,null,0,null,null,null,null,0]
[1506,null,"55","Jean Kent","Dame Cycling","00:33:05",66,null,null,null,null,null,0,null,null,null,null,0,null,null,null,null,0,null,null,null,null,0,null,null,null,null,0,null,null,null,null,0,null,null,null,null,0,null,null,null,null,0,null,null,null,null,0,null,null,null,null,0,null,null,null,null,0,null,null,null,null,0,null,null,null,null,0,null,null,null,null,0,null,null,null,null,0,null,null,null,null,0]
[1506,null,"56","J Richards","Dame Cycling","00:33:50",65,null,null,null,null,null,0,null,null,null,null,0,null,null,null,null,0,null,null,null,null,0,null,null,null,null,0,null,null,null,null,0,null,null,null,null,0,null,null,null,null,0,null,null,null,null,0,null,null,null,null,0,null,null,null,null,0,null,null,null,null,0,null,null,null,null,0,null,null,null,null,0,null,null,null,null,0,null,null,null,null,0]
[1506,null,"57","Ross Gregory","Corinium CC","00:34:44",64,null,null,null,null,null,0,null,null,null,null,0,null,null,null,null,0,null,null,null,null,0,null,null,null,null,0,null,null,null,null,0,null,null,null,null,0,null,null,null,null,0,null,null,null,null,0,null,null,null,null,0,null,null,null,null,0,null,null,null,null,0,null,null,null,null,0,null,null,null,null,0,null,null,null,null,0,null,null,null,null,0]
[1506,null,"58","Deborah Crawford","Dame Cycling","00:35:34",63,null,null,null,null,null,0,null,null,null,null,0,null,null,null,null,0,null,null,null,null,0,null,null,null,null,0,null,null,null,null,0,null,null,null,null,0,null,null,null,null,0,null,null,null,null,0,null,null,null,null,0,null,null,null,null,0,null,null,null,null,0,null,null,null,null,0,null,null,null,null,0,null,null,null,null,0,null,null,null,null,0]
[1506,null,null,null,null,null,null,0,null,null,null,null,0,null,null,null,null,0,null,null,null,null,0,null,null,null,null,0,null,null,null,null,0,null,null,null,null,0,null,null,null,null,0,null,null,null,null,0,null,null,null,null,0,null,null,null,null,0,null,null,null,null,0,null,null,null,null,0,null,null,null,null,0,null,null,null,null,0,null,null,null,null,0,null,null,null,null,0]
[1506,null,null,null,null,null,null,0,null,null,null,null,0,null,null,null,null,0,null,null,null,null,0,null,null,null,null,0,null,null,null,null,0,null,null,null,null,0,null,null,null,null,0,null,null,null,null,0,null,null,null,null,0,null,null,null,null,0,null,null,null,null,0,null,null,null,null,0,null,null,null,null,0,null,null,null,null,0,null,null,null,null,0,null,null,null,null,0]
[1506,null,null,null,null,null,null,0,null,null,null,null,0,null,null,null,null,0,null,null,null,null,0,null,null,null,null,0,null,null,null,null,0,null,null,null,null,0,null,null,null,null,0,null,null,null,null,0,null,null,null,null,0,null,null,null,null,0,null,null,null,null,0,null,null,null,null,0,null,null,null,null,0,null,null,null,null,0,null,null,null,null,0,null,null,null,null,0]
[1506,null,null,null,null,null,null,0,null,null,null,null,0,null,null,null,null,0,null,null,null,null,0,null,null,null,null,0,null,null,null,null,0,null,null,null,null,0,null,null,null,null,0,null,null,null,null,0,null,null,null,null,0,null,null,null,null,0,null,null,null,null,0,null,null,null,null,0,null,null,null,null,0,null,null,null,null,0,null,null,null,null,0,null,null,null,null,0]
[1506,null,null,null,null,null,null,0,null,null,null,null,0,null,null,null,null,0,null,null,null,null,0,null,null,null,null,0,null,null,null,null,0,null,null,null,null,0,null,null,null,null,0,null,null,null,null,0,null,null,null,null,0,null,null,null,null,0,null,null,null,null,0,null,null,null,null,0,null,null,null,null,0,null,null,null,null,0,null,null,null,null,0,null,null,null,null,0]
[1506,null,null,null,null,null,null,0,null,null,null,null,0,null,null,null,null,0,null,null,null,null,0,null,null,null,null,0,null,null,null,null,0,null,null,null,null,0,null,null,null,null,0,null,null,null,null,0,null,null,null,null,0,null,null,null,null,0,null,null,null,null,0,null,null,null,null,0,null,null,null,null,0,null,null,null,null,0,null,null,null,null,0,null,null,null,null,0]
[1506,null,null,null,null,null,null,0,null,null,null,null,0,null,null,null,null,0,null,null,null,null,0,null,null,null,null,0,null,null,null,null,0,null,null,null,null,0,null,null,null,null,0,null,null,null,null,0,null,null,null,null,0,null,null,null,null,0,null,null,null,null,0,null,null,null,null,0,null,null,null,null,0,null,null,null,null,0,null,null,null,null,0,null,null,null,null,0]
[1506,null,null,null,null,null,null,0,null,null,null,null,0,null,null,null,null,0,null,null,null,null,0,null,null,null,null,0,null,null,null,null,0,null,null,null,null,0,null,null,null,null,0,null,null,null,null,0,null,null,null,null,0,null,null,null,null,0,null,null,null,null,0,null,null,null,null,0,null,null,null,null,0,null,null,null,null,0,null,null,null,null,0,null,null,null,null,0]
[1506,null,null,null,null,null,null,0,null,null,null,null,0,null,null,null,null,0,null,null,null,null,0,null,null,null,null,0,null,null,null,null,0,null,null,null,null,0,null,null,null,null,0,null,null,null,null,0,null,null,null,null,0,null,null,null,null,0,null,null,null,null,0,null,null,null,null,0,null,null,null,null,0,null,null,null,null,0,null,null,null,null,0,null,null,null,null,0]
[1506,null,null,null,null,null,null,0,null,null,null,null,0,null,null,null,null,0,null,null,null,null,0,null,null,null,null,0,null,null,null,null,0,null,null,null,null,0,null,null,null,null,0,null,null,null,null,0,null,null,null,null,0,null,null,null,null,0,null,null,null,null,0,null,null,null,null,0,null,null,null,null,0,null,null,null,null,0,null,null,null,null,0,null,null,null,null,0]
[1506,null,null,null,null,null,null,0,null,null,null,null,0,null,null,null,null,0,null,null,null,null,0,null,null,null,null,0,null,null,null,null,0,null,null,null,null,0,null,null,null,null,0,null,null,null,null,0,null,null,null,null,0,null,null,null,null,0,null,null,null,null,0,null,null,null,null,0,null,null,null,null,0,null,null,null,null,0,null,null,null,null,0,null,null,null,null,0]
[1506,null,null,null,null,null,null,0,null,null,null,null,0,null,null,null,null,0,null,null,null,null,0,null,null,null,null,0,null,null,null,null,0,null,null,null,null,0,null,null,null,null,0,null,null,null,null,0,null,null,null,null,0,null,null,null,null,0,null,null,null,null,0,null,null,null,null,0,null,null,null,null,0,null,null,null,null,0,null,null,null,null,0,null,null,null,null,0]
[1506,null,null,null,null,null,null,0,null,null,null,null,0,null,null,null,null,0,null,null,null,null,0,null,null,null,null,0,null,null,null,null,0,null,null,null,null,0,null,null,null,null,0,null,null,null,null,0,null,null,null,null,0,null,null,null,null,0,null,null,null,null,0,null,null,null,null,0,null,null,null,null,0,null,null,null,null,0,null,null,null,null,0,null,null,null,null,0]
[1506,null,null,null,null,null,null,0,null,null,null,null,0,null,null,null,null,0,null,null,null,null,0,null,null,null,null,0,null,null,null,null,0,null,null,null,null,0,null,null,null,null,0,null,null,null,null,0,null,null,null,null,0,null,null,null,null,0,null,null,null,null,0,null,null,null,null,0,null,null,null,null,0,null,null,null,null,0,null,null,null,null,0,null,null,null,null,0]
[1506,null,null,null,null,null,null,0,null,null,null,null,0,null,null,null,null,0,null,null,null,null,0,null,null,null,null,0,null,null,null,null,0,null,null,null,null,0,null,null,null,null,0,null,null,null,null,0,null,null,null,null,0,null,null,null,null,0,null,null,null,null,0,null,null,null,null,0,null,null,null,null,0,null,null,null,null,0,null,null,null,null,0,null,null,null,null,0]
[1506,null,null,null,null,null,null,0,null,null,null,null,0,null,null,null,null,0,null,null,null,null,0,null,null,null,null,0,null,null,null,null,0,null,null,null,null,0,null,null,null,null,0,null,null,null,null,0,null,null,null,null,0,null,null,null,null,0,null,null,null,null,0,null,null,null,null,0,null,null,null,null,0,null,null,null,null,0,null,null,null,null,0,null,null,null,null,0]
[1506,null,null,null,null,null,null,0,null,null,null,null,0,null,null,null,null,0,null,null,null,null,0,null,null,null,null,0,null,null,null,null,0,null,null,null,null,0,null,null,null,null,0,null,null,null,null,0,null,null,null,null,0,null,null,null,null,0,null,null,null,null,0,null,null,null,null,0,null,null,null,null,0,null,null,null,null,0,null,null,null,null,0,null,null,null,null,0]
[1506,null,null,null,null,null,null,0,null,null,null,null,0,null,null,null,null,0,null,null,null,null,0,null,null,null,null,0,null,null,null,null,0,null,null,null,null,0,null,null,null,null,0,null,null,null,null,0,null,null,null,null,0,null,null,null,null,0,null,null,null,null,0,null,null,null,null,0,null,null,null,null,0,null,null,null,null,0,null,null,null,null,0,null,null,null,null,0]
[1506,null,null,null,null,null,null,0,null,null,null,null,0,null,null,null,null,0,null,null,null,null,0,null,null,null,null,0,null,null,null,null,0,null,null,null,null,0,null,null,null,null,0,null,null,null,null,0,null,null,null,null,0,null,null,null,null,0,null,null,null,null,0,null,null,null,null,0,null,null,null,null,0,null,null,null,null,0,null,null,null,null,0,null,null,null,null,0]
[1506,null,null,null,null,null,null,0,null,null,null,null,0,null,null,null,null,0,null,null,null,null,0,null,null,null,null,0,null,null,null,null,0,null,null,null,null,0,null,null,null,null,0,null,null,null,null,0,null,null,null,null,0,null,null,null,null,0,null,null,null,null,0,null,null,null,null,0,null,null,null,null,0,null,null,null,null,0,null,null,null,null,0,null,null,null,null,0]
[1506,null,null,null,null,null,null,0,null,null,null,null,0,null,null,null,null,0,null,null,null,null,0,null,null,null,null,0,null,null,null,null,0,null,null,null,null,0,null,null,null,null,0,null,null,null,null,0,null,null,null,null,0,null,null,null,null,0,null,null,null,null,0,null,null,null,null,0,null,null,null,null,0,null,null,null,null,0,null,null,null,null,0,null,null,null,null,0]
[1506,null,null,null,null,null,null,0,null,null,null,null,0,null,null,null,null,0,null,null,null,null,0,null,null,null,null,0,null,null,null,null,0,null,null,null,null,0,null,null,null,null,0,null,null,null,null,0,null,null,null,null,0,null,null,null,null,0,null,null,null,null,0,null,null,null,null,0,null,null,null,null,0,null,null,null,null,0,null,null,null,null,0,null,null,null,null,0]
[1506,null,null,null,null,null,null,0,null,null,null,null,0,null,null,null,null,0,null,null,null,null,0,null,null,null,null,0,null,null,null,null,0,null,null,null,null,0,null,null,null,null,0,null,null,null,null,0,null,null,null,null,0,null,null,null,null,0,null,null,null,null,0,null,null,null,null,0,null,null,null,null,0,null,null,null,null,0,null,null,null,null,0,null,null,null,null,0]
[1506,null,null,null,null,null,null,0,null,null,null,null,0,null,null,null,null,0,null,null,null,null,0,null,null,null,null,0,null,null,null,null,0,null,null,null,null,0,null,null,null,null,0,null,null,null,null,0,null,null,null,null,0,null,null,null,null,0,null,null,null,null,0,null,null,null,null,0,null,null,null,null,0,null,null,null,null,0,null,null,null,null,0,null,null,null,null,0]
[1506,null,null,null,null,null,null,0,null,null,null,null,0,null,null,null,null,0,null,null,null,null,0,null,null,null,null,0,null,null,null,null,0,null,null,null,null,0,null,null,null,null,0,null,null,null,null,0,null,null,null,null,0,null,null,null,null,0,null,null,null,null,0,null,null,null,null,0,null,null,null,null,0,null,null,null,null,0,null,null,null,null,0,null,null,null,null,0]
[1506,null,null,null,null,null,null,0,null,null,null,null,0,null,null,null,null,0,null,null,null,null,0,null,null,null,null,0,null,null,null,null,0,null,null,null,null,0,null,null,null,null,0,null,null,null,null,0,null,null,null,null,0,null,null,null,null,0,null,null,null,null,0,null,null,null,null,0,null,null,null,null,0,null,null,null,null,0,null,null,null,null,0,null,null,null,null,0]
[1506,null,null,null,null,null,null,0,null,null,null,null,0,null,null,null,null,0,null,null,null,null,0,null,null,null,null,0,null,null,null,null,0,null,null,null,null,0,null,null,null,null,0,null,null,null,null,0,null,null,null,null,0,null,null,null,null,0,null,null,null,null,0,null,null,null,null,0,null,null,null,null,0,null,null,null,null,0,null,null,null,null,0,null,null,null,null,0]
[1506,null,null,null,null,null,null,0,null,null,null,null,0,null,null,null,null,0,null,null,null,null,0,null,null,null,null,0,null,null,null,null,0,null,null,null,null,0,null,null,null,null,0,null,null,null,null,0,null,null,null,null,0,null,null,null,null,0,null,null,null,null,0,null,null,null,null,0,null,null,null,null,0,null,null,null,null,0,null,null,null,null,0,null,null,null,null,0]
[1506,null,null,null,null,null,null,0,null,null,null,null,0,null,null,null,null,0,null,null,null,null,0,null,null,null,null,0,null,null,null,null,0,null,null,null,null,0,null,null,null,null,0,null,null,null,null,0,null,null,null,null,0,null,null,null,null,0,null,null,null,null,0,null,null,null,null,0,null,null,null,null,0,null,null,null,null,0,null,null,null,null,0,null,null,null,null,0]
[1506,null,null,null,null,null,null,0,null,null,null,null,0,null,null,null,null,0,null,null,null,null,0,null,null,null,null,0,null,null,null,null,0,null,null,null,null,0,null,null,null,null,0,null,null,null,null,0,null,null,null,null,0,null,null,null,null,0,null,null,null,null,0,null,null,null,null,0,null,null,null,null,0,null,null,null,null,0,null,null,null,null,0,null,null,null,null,0]
[1506,null,null,null,null,null,null,0,null,null,null,null,0,null,null,null,null,0,null,null,null,null,0,null,null,null,null,0,null,null,null,null,0,null,null,null,null,0,null,null,null,null,0,null,null,null,null,0,null,null,null,null,0,null,null,null,null,0,null,null,null,null,0,null,null,null,null,0,null,null,null,null,0,null,null,null,null,0,null,null,null,null,0,null,null,null,null,0]
[1506,null,null,null,null,null,null,0,null,null,null,null,0,null,null,null,null,0,null,null,null,null,0,null,null,null,null,0,null,null,null,null,0,null,null,null,null,0,null,null,null,null,0,null,null,null,null,0,null,null,null,null,0,null,null,null,null,0,null,null,null,null,0,null,null,null,null,0,null,null,null,null,0,null,null,null,null,0,null,null,null,null,0,null,null,null,null,0]
[1506,null,null,null,null,null,null,0,null,null,null,null,0,null,null,null,null,0,null,null,null,null,0,null,null,null,null,0,null,null,null,null,0,null,null,null,null,0,null,null,null,null,0,null,null,null,null,0,null,null,null,null,0,null,null,null,null,0,null,null,null,null,0,null,null,null,null,0,null,null,null,null,0,null,null,null,null,0,null,null,null,null,0,null,null,null,null,0]
[1506,null,null,null,null,null,null,0,null,null,null,null,0,null,null,null,null,0,null,null,null,null,0,null,null,null,null,0,null,null,null,null,0,null,null,null,null,0,null,null,null,null,0,null,null,null,null,0,null,null,null,null,0,null,null,null,null,0,null,null,null,null,0,null,null,null,null,0,null,null,null,null,0,null,null,null,null,0,null,null,null,null,0,null,null,null,null,0]
[1506,null,null,null,null,null,null,0,null,null,null,null,0,null,null,null,null,0,null,null,null,null,0,null,null,null,null,0,null,null,null,null,0,null,null,null,null,0,null,null,null,null,0,null,null,null,null,0,null,null,null,null,0,null,null,null,null,0,null,null,null,null,0,null,null,null,null,0,null,null,null,null,0,null,null,null,null,0,null,null,null,null,0,null,null,null,null,0]
[1506,null,null,null,null,null,null,0,null,null,null,null,0,null,null,null,null,0,null,null,null,null,0,null,null,null,null,0,null,null,null,null,0,null,null,null,null,0,null,null,null,null,0,null,null,null,null,0,null,null,null,null,0,null,null,null,null,0,null,null,null,null,0,null,null,null,null,0,null,null,null,null,0,null,null,null,null,0,null,null,null,null,0,null,null,null,null,0]
[1506,null,null,null,null,null,null,0,null,null,null,null,0,null,null,null,null,0,null,null,null,null,0,null,null,null,null,0,null,null,null,null,0,null,null,null,null,0,null,null,null,null,0,null,null,null,null,0,null,null,null,null,0,null,null,null,null,0,null,null,null,null,0,null,null,null,null,0,null,null,null,null,0,null,null,null,null,0,null,null,null,null,0,null,null,null,null,0]
[1506,null,null,null,null,null,null,0,null,null,null,null,0,null,null,null,null,0,null,null,null,null,0,null,null,null,null,0,null,null,null,null,0,null,null,null,null,0,null,null,null,null,0,null,null,null,null,0,null,null,null,null,0,null,null,null,null,0,null,null,null,null,0,null,null,null,null,0,null,null,null,null,0,null,null,null,null,0,null,null,null,null,0,null,null,null,null,0]
[1506,null,null,null,null,null,null,0,null,null,null,null,0,null,null,null,null,0,null,null,null,null,0,null,null,null,null,0,null,null,null,null,0,null,null,null,null,0,null,null,null,null,0,null,null,null,null,0,null,null,null,null,0,null,null,null,null,0,null,null,null,null,0,null,null,null,null,0,null,null,null,null,0,null,null,null,null,0,null,null,null,null,0,null,null,null,null,0]
[1506,null,null,null,null,null,null,0,null,null,null,null,0,null,null,null,null,0,null,null,null,null,0,null,null,null,null,0,null,null,null,null,0,null,null,null,null,0,null,null,null,null,0,null,null,null,null,0,null,null,null,null,0,null,null,null,null,0,null,null,null,null,0,null,null,null,null,0,null,null,null,null,0,null,null,null,null,0,null,null,null,null,0,null,null,null,null,0]
[1506,null,null,null,null,null,null,0,null,null,null,null,0,null,null,null,null,0,null,null,null,null,0,null,null,null,null,0,null,null,null,null,0,null,null,null,null,0,null,null,null,null,0,null,null,null,null,0,null,null,null,null,0,null,null,null,null,0,null,null,null,null,0,null,null,null,null,0,null,null,null,null,0,null,null,null,null,0,null,null,null,null,0,null,null,null,null,0]
[]
[null,null,null,"Matt Woods","Banjo Cycles",null,120,null,0,0,null,0,null,"Dan Guest","Performance Cycles",null,120,null,"Peter Garnett","Swindon RC",null,120,null,"Chris Wood","Performance Cycles",null,120,null,"Paul Cook","Ride 24/7",null,120,null,"Tony Costello","Corinium CC",null,120,null,"Paul Cook","Ride 24/7",null,120,null,"Tony Costello","Corinium CC",null,120,null,"Dan Guest","Performance Cycles",null,120,null,"Dan Guest","Performance Cycles",null,120,null,"Matt Woods","Cotswold Veldrijden",null,120,null,"Dan Guest","Performance Cycles",null,120,null,"Gary Smith","Ride 24/7",null,120,null,"Dan Guest","Performance Cycles",null,120,null,"Dan Guest","Performance Cycles",null,120,null,"Dan Guest","Performance Cycles",null,120,null,"Dan Guest","Performance Cycles",null,120]
[null,null,null,"James Stewart","Performance Cycles",null,119,null,0,0,null,0,null,"James Stewart","Performance Cycles",null,119,null,"Tony Costello","Corinium CC",null,119,null,"Niel Dunnage","Swindon RC",null,119,null,"Kevin Bexley","Team Optima",null,119,null,"Pete Hutchinson","Corinium CC",null,119,null,"Peter Garnett","Swindon RC",null,119,null,"Niel Dunnage","Swindon RC",null,119,null,"Paul Cook","Ride 24/7",null,119,null,"Paul Cook","Ride 24/7",null,119,null,"Paul Cook","Ride 24/7",null,119,null,"Paul Cook","Ride 24/7",null,119,null,"Niel Dunnage","Swindon RC",null,119,null,"Matt Woods","Banjo Cycles",null,119,null,"Rory Gilling","Performance Cycles",null,119,null,"Niel Dunnage","Swindon RC",null,119,null,"Rory Gilling","Performance Cycles",null,119]
[null,null,null,"Chris Beardshaw","Performance Cycles",null,118,null,0,0,null,0,null,"Paul Cook","Ride 24/7",null,118,null,"Pete Hutchinson","Corinium CC",null,118,null,"Marc Allen","Swindon RC",null,118,null,"Chris Wood","Performance Cycles",null,118,null,"Peter Garnett","Swindon RC",null,118,null,"Niel Dunnage","Swindon RC",null,118,null,"Peter Garnett","Swindon RC",null,118,null,"Peter Garnett","Swindon RC",null,118,null,"Les Liddiard","Swindon RC",null,118,null,"Chris Wood","Performance Cycles",null,118,null,"Peter Garnett","Swindon RC",null,118,null,"Pete Hutchinson","Corinium CC",null,118,null,"Rory Gilling","Performance Cycles",null,118,null,"Pete Hutchinson","Corinium CC",null,118,null,"Rory Gilling","Performance Cycles",null,118,null,"Niel Dunnage","Swindon RC",null,118]
[null,null,null,"Niel Dunnage","Swindon RC",null,118,null,0,0,null,0,null,"Pete Hutchinson","Corinium CC",null,117,null,"Andy Claxton","Swindon RC",null,117,null,"Martin Pitts","Corinium CC",null,117,null,"Peter Garnett","Swindon RC",null,117,null,"Chris Wood","Performance Cycles",null,117,null,"Pete Hutchinson","Corinium CC",null,117,null,"Chris Wood","Performance Cycles",null,117,null,"Niel Dunnage","Swindon RC",null,117,null,"Chris Wood","Performance Cycles",null,117,null,"Rory Gilling","Performance Cycles",null,117,null,"Andy Claxton","Swindon RC",null,117,null,"Andy Claxton","Swindon RC",null,117,null,"Andy Claxton","Swindon RC",null,117,null,"Aled Jones","RNRMCA",null,117,null,"Paul Cook","Ride 24/7",null,117,null,"Pete Hutchinson","Corinium CC",null,117]
[null,null,null,"Chris Wood","Performance Cycles",null,116,null,0,0,null,0,null,"Niel Dunnage","Swindon RC",null,117,null,"Jacob Pilkington","Performance Cycles",null,116,null,"Oliver Palmer","Swindon RC",null,116,null,"Les Liddiard","Swindon RC",null,116,null,"Les Liddiard","Swindon RC",null,116,null,"Gary Smith","Ride 24/7",null,116,null,"Pete Hutchinson","Corinium CC",null,116,null,"Nick Lowe","Cotswold Veldrijden",null,116,null,"Steve Yates","Corinium CC",null,116,null,"Niel Dunnage","Swindon RC",null,116,null,"Pete Hutchinson","Corinium CC",null,116,null,"David Wright","Veloton",null,116,null,"Gary Smith","Ride 24/7",null,116,null,"Niel Dunnage","Swindon RC",null,116,null,"Chris Wood","Performance Cycles",null,116,null,"Paul Cook","Ride 24/7",null,116]
[null,null,null,"Peter Garnett","Swindon RC",null,115,null,0,0,null,0,null,"Peter Garnett","Swindon RC",null,115,null,"Jim Curry","Performance Cycles",null,115,null,"Stephen Chapman","Corinium CC",null,115,null,"Adrian Williams","Ride 24/7",null,115,null,"Steve Yates","Corinium CC",null,115,null,"Alex King","Performance Cycles",null,115,null,"David Arthur","Performance Cycles",null,115,null,"Andy Claxton","Swindon RC",null,115,null,"Andy Claxton","Swindon RC",null,115,null,"Pete Hutchinson","Corinium CC",null,115,null,"Les Liddiard","Swindon RC",null,115,null,"Jim Curry","Performance Cycles",null,115,null,"Adrian Williams","Ride 24/7",null,116,null,"Gary Smith","Ride 24/7",null,115,null,"Andy Claxton","Swindon RC",null,115,null,"Jacob Pilkington",0,null,0]
[null,null,null,"Adrian Williams","Ride 24/7",null,114,null,0,0,null,0,null,"Les Liddiard","Swindon RC",null,114,null,"Andy McIntyre","Performance Cycles",null,114,null,"Allan Norwood","Corinium CC",null,114,null,"David Wright","Veloton",null,114,null,"Gary Smith","Ride 24/7",null,114,null,"Neil Pugh","Newbury Road Club",null,114,null,"Steve Yates","Corinium CC",null,114,null,"Leigh Schvartz","Swindon RC",null,0,null,"Alex King","Performance Cycles",null,114,null,"Andy Claxton","Swindon RC",null,114,null,"Gary Smith","Ride 24/7",null,114,null,"Mick Sharratt","Swindon RC",null,114,null,"Mitch Evans","Ride 24/7",null,114,null,"Peter Garnett","Swindon RC",null,114,null,"Les Liddiard","Swindon RC",null,114,null,"Chris Wood","Performance Cycles",null,114]
[null,null,null,"Robin Short","?",null,113,null,0,0,null,0,null,"Rory Gilling","Performance Cycles",null,113,null,"Steve Davies","Swindon RC",null,113,null,"Marguerite Miatt","Corinium CC",null,0,null,"Alex King","Performance Cycles",null,113,null,"Andy Claxton","Swindon RC",null,113,null,"Jim Curry","Performance Cycles",null,113,null,"Martin Cairns",0,null,0,null,"Chris Broad-Drake","Swindon RC",null,0,null,"Henry Slade","Performance Cycles",null,0,null,"Les Liddiard","Swindon RC",null,113,null,"Steve Yates","Corinium CC",null,113,null,"Pete Scott","Cotswold Veldrijden",null,113,null,"David Wright","Veloton",null,113,null,"Andy Claxton","Swindon RC",null,113,null,"Gary Smith","Ride 24/7",null,113,null,"Les Liddiard","Swindon RC",null,113]
[null,null,null,"Paul Cook","Ride 24/7",null,112,null,0,0,null,0,null,"Alex King","Performance Cycles",null,0,null,"Alex King","Performance Cycles",null,0,null,"Annie Pegler","Corinium CC",null,0,null,"Andy Claxton","Swindon RC",null,112,null,"Nick Lowe","Cotswold Veldrijden",null,112,null,"Nick Lowe","Cotswold Veldrijden",null,113,null,"David Wright","Veloton",null,113,null,"Andy Morgan","Corinium CC",null,112,null,"Jim Curry","Performance Cycles",null,0,null,"Alex King","Performance Cycles",null,112,null,"Mark Woolford","Chippenham Wheelers",null,112,null,"Jon Tresadern","Swindon RC",null,0,null,"Steve Yates","Corinium CC",null,112,null,"Robin Short","Performance Cycles",null,112,null,"Jon Tresadern","Swindon RC",null,0,null,"Peter Garnett","Swindon RC",null,112]
[null,null,null,"David Wright","Veloton",null,111,null,0,0,null,0,null,"Simon Rogers","BJW",null,111,null,"Dave Gibson","Swindon RC",null,0,null,0,0,null,0,null,"Nick Lowe","Cotswold Veldrijden",null,111,null,"Ed Coxwell-Rogers ","Ride 24/7",null,111,null,"Adam Giles","Ride 24/7",null,111,null,"Paul Clarkson","Kingston Wheelers",null,111,null,"Mike Ward","Performance Cycles",null,111,null,"Nick Lowe","Cotswold Veldrijden",null,111,null,"Jacob Pilkington",0,null,0,null,"Pete Scott","Cotswold Veldrijden",null,111,null,"Andy McIntyre","Performance Cycles",null,111,null,"Pete Scott","Cotswold Veldrijden",null,111,null,"Tony Staples","RNRMCA",null,111,null,"David Wright","Veloton",null,112,null,"Jim Curry","Performance Cycles",null,0]
[null,null,null,"Rory Gilling","Performance Cycles",null,0,null,0,0,null,0,null,"David Wright","Veloton",null,110,null,"Tom Longland","Swindon RC",null,0,null,0,0,null,0,null,"Mick Sharratt","Swindon RC",null,0,null,"Leigh Schvartz","Swindon RC",null,0,null,"Steve Buckley","Ride 24/7",null,0,null,"Andy Claxton","Swindon RC",null,111,null,"Robin Short","Performance Cycles",null,110,null,"Andy McIntyre","Performance Cycles",null,0,null,"Jim Curry","Performance Cycles",null,0,null,"Adam Giles","Ride 24/7",null,110,null,"Nick Lowe","Cotswold Veldrijden",null,110,null,"Jim Curry","Performance Cycles",null,111,null,"Alex King","Performance Cycles",null,0,null,"Jim Curry","Performance Cycles",null,0,null,"Chris Broad-Drake","Swindon RC",null,0]
[null,null,null,"Adam Giles","Ride 24/7",null,109,null,0,0,null,0,null,"Jacob Pilkington","Performance Cycles",null,0,null,"Steve Buckley","Ride 24/7",null,109,null,0,0,null,0,null,"Pete Scott","Cotswold Veldrijden",null,109,null,"Steve Davies","Swindon RC",null,0,null,"Malcolm Walklett","Swindon RC",null,109,null,"Jacob Pilkington",0,null,0,null,"Mick Sharratt","Swindon RC",null,0,null,"Sarah Gunn","Corinium CC",null,109,null,"Henry Slade","Performance Cycles",null,0,null,"Andy McIntyre","Performance Cycles",null,109,null,"Tom Longland","Swindon RC",null,0,null,"Paul Cook","Ride 24/7",null,0,null,"Pete Scott","Cotswold Veldrijden",null,110,null,"Marc Allen","Swindon RC",null,0,null,"David Wright","Veloton",null,110]
[null,null,null,"Tom Sewell","Cotswold Veldrijden",null,108,null,0,0,null,0,null,"Pete Scott","Cotswold Veldrijden",null,108,null,"Harriet Guest","Performance Cycles",null,0,null,0,0,null,0,null,"Harriet Guest","Performance Cycles",null,108,null,"Mick Sharratt","Swindon RC",null,0,null,"Mick Sharratt","Swindon RC",null,0,null,"Nick Lowe","Cotswold Veldrijden",null,108,null,"Andy McIntyre","Performance Cycles",null,0,null,"Simon James","Corinium CC",null,108,null,"Jon Tresadern","Swindon RC",null,0,null,"Harriet Guest","Performance Cycles",null,108,null,"Marc Allen","Swindon RC",null,0,null,"Chris Broad-Drake","Swindon RC",null,108,null,"Nick Lowe","Cotswold Veldrijden",null,108,null,"Harriet Guest","Performance Cycles",null,0,null,"Jon Tresadern","Swindon RC",null,0]
[null,null,null,"Steve Davies","Swindon RC",null,107,null,0,0,null,0,null,"Mick Sharratt","Swindon RC",null,0,null,"Adriano dos Santos","Swindon RC",null,0,null,0,0,null,0,null,"Andy McIntyre","Performance Cycles",null,0,null,"Chris Broad-Drake","Swindon RC",null,0,null,"Pete Scott","Cotswold Veldrijden",null,107,null,"Matt Hodgson","Ride 24/7",null,107,null,"Matt Hodgson","Ride 24/7",null,107,null,"Mark Foyn","Corinium CC",null,0,null,"Ian Barrett","Corinium CC",null,107,null,"Dave Gibson","Swindon RC",null,0,null,"Simon James","Corinium CC",null,107,null,"Mark Woolford","Chippenham Wheelers",null,107,null,"Jon Tresadern","Swindon RC",null,0,null,"Alex Foyn","Corinium CC",null,107,null,"Andy McIntyre","Performance Cycles",null,0]
[null,null,null,"Mick Sharratt","Swindon RC",null,0,null,0,0,null,0,null,"Matt Hodgson","Ride 24/7",null,106,null,"Simon James","Corinium CC",null,106,null,0,0,null,0,null,"Jim Curry","Performance Cycles",null,0,null,"Adam Giles","Ride 24/7",null,106,null,"Chris Broad-Drake","Swindon RC",null,0,null,"Mick Sharratt","Swindon RC",null,0,null,"Steve Davies","Swindon RC",null,0,null,"Marc Allen","Swindon RC",null,106,null,"Marc Allen","Swindon RC",null,0,null,"Mark Foyn","Corinium CC",null,106,null,"Trevor Hodges","Corinium CC",null,106,null,"Jon Tresadern","Swindon RC",null,106,null,"Marc Allen","Swindon RC",null,0,null,"Mick Sharratt","Swindon RC",null,0,null,"Mick Sharratt","Swindon RC",null,0]
[null,null,null,"Andy McIntyre","Performance Cycles",null,0,null,0,0,null,0,null,"Andy Claxton","Swindon RC",null,0,null,"Marc Allen","Swindon RC",null,0,null,0,0,null,0,null,"Adam Giles","Ride 24/7",null,105,null,"Dave Gibson","Swindon RC",null,0,null,"Dave Gibson","Swindon RC",null,0,null,"Pete Scott","Cotswold Veldrijden",null,106,null,"Adam Giles","Ride 24/7",null,105,null,"Owen Paddock","Swindon RC",null,0,null,"Andy McIntyre","Performance Cycles",null,0,null,"Alex Foyn","Corinium CC",null,0,null,"Dave Gibson","Swindon RC",null,0,null,"Malcolm Walklett","Swindon RC",null,0,null,"Jack Thompson","Performance Cycles",null,0,null,"Steve Buckley","Ride 24/7",null,105,null,"Marc Allen","Swindon RC",null,0]
[null,null,null,"Mark Kent","Swindon RC",null,0,null,0,0,null,0,null,"Chris Broad-Drake","Swindon RC",null,0,null,"Jeff Smith","Swindon RC",null,0,null,0,0,null,0,null,"Kris Langley","Swindon RC",null,0,null,"Andy McIntyre","Performance Cycles",null,104,null,"Trevor Hodges","Corinium CC",null,104,null,"Steve Buckley","Ride 24/7",null,104,null,"Marc Allen","Swindon RC",null,0,null,"Alex Foyn","Corinium CC",null,0,null,"Mick Sharratt","Swindon RC",null,0,null,"Claire Smith","Swindon RC",null,0,null,"Keith Waller","Swindon RC",null,0,null,"Andy McIntyre","Performance Cycles",null,0,null,"Chris Broad-Drake","Swindon RC",null,0,null,"Simon James","Corinium CC",null,104,null,"Robin Short",0,null,0]
[null,null,null,"Dave Gibson","Swindon RC",null,0,null,0,0,null,0,null,"Tom Sewell","Cotswold Veldrijden",null,103,null,"Jason Costello","Corinium CC",null,0,null,0,0,null,0,null,"Chris Broad-Drake","Swindon RC",null,0,null,"Ian Barrett","Corinium CC",null,0,null,"Harriet Guest","Performance Cycles",null,103,null,"Mark Woolford","Chippenham Wheelers",null,103,null,"Adriano dos Santos","Swindon RC",null,0,null,"Rob Patterson","Swindon RC",null,0,null,"Steve Buckley","Ride 24/7",null,103,null,"Rob Patterson","Swindon RC",null,0,null,"Richard Cooper","Swindon RC",null,0,null,"Mick Sharratt","Swindon RC",null,0,null,"Andy Morgan","Corinium CC",null,103,null,"Trevor Hodges","Corinium CC",null,103,null,"Ian Barrett","Corinium CC",null,104]
[null,null,null,"Mike Holborow","Swindon RC",null,0,null,0,0,null,0,null,"Dave Gibson","Swindon RC",null,0,null,"Bernie Beale","Swindon RC",null,0,null,0,0,null,0,null,"Sarah Gunn","Corinium CC",null,102,null,"Trevor Hodges","Corinium CC",null,0,null,"Mark Foyn","Corinium CC",null,102,null,"Marc Allen","Swindon RC",null,0,null,"Simon James","Corinium CC",null,102,null,"Fay Tocknell","Swindon RC",null,0,null,"Ewen Lewis","Swindon Wheelers",null,102,null,"Jeff Smith","Swindon RC",null,0,null,"Owen Paddock","Swindon RC",null,0,null,"Ian Barrett","Corinium CC",null,102,null,"Russ Thompson","Performance Cycles",null,0,null,"Jeff Smith","Swindon RC",null,0,null,"Alex King","Performance Cycles",null,0]
[null,null,null,"Sarah Gunn","Corinium CC",null,101,null,0,0,null,0,null,"Adriano dos Santos","Swindon RC",null,0,null,"Martin Pitts","Corinium CC",null,0,null,0,0,null,0,null,"Marc Allen","Swindon RC",null,0,null,"Mark Foyn","Corinium CC",null,0,null,"Mike Firth","Corinium CC",null,0,null,"Mark Foyn","Corinium CC",null,0,null,"Keith Waller","Swindon RC",null,0,null,"Harriet Guest","Performance Cycles",null,0,null,"Matt Seddon",0,null,0,null,"Gary Martin","Westerley CC",null,101,null,"Sharon Dolman","Swindon RC",null,0,null,"Steve Buckley","Ride 24/7",null,0,null,"Tom Longland","Swindon RC",null,0,null,"Sarah Gunn","Corinium CC",null,0,null,"Matt Seddon",0,null,0]
[null,null,null,"Jacob Pilkington","Performance Cycles",null,0,null,0,0,null,0,null,"Rob Merrison","Swindon RC",null,0,null,"Michelle Ross","Ride 24/7",null,101,null,0,0,null,0,null,"Trevor Hodges","Corinium CC",null,100,null,"Sarah Gunn","Corinium CC",null,0,null,"Adriano dos Santos","Swindon RC",null,0,null,"Dave Gibson","Swindon RC",null,0,null,"Jason Costello","Corinium CC",null,100,null,"Paul Fuchs","Corinium CC",null,0,null,"Mark Foyn","Corinium CC",null,100,null,"Gerry Peppin","Corinium CC",null,0,null,"Rob Patterson","Swindon RC",null,0,null,"Marc Allen","Swindon RC",null,0,null,"Steve Buckley","Ride 24/7",null,100,null,"Mark Foyn","Corinium CC",null,0,null,"Alex Foyn","Corinium CC",null,101]
[null,null,null,"Marc Allen","Swindon RC",null,0,null,0,0,null,0,null,"Adam Giles","Ride 24/7",null,99,null,"Paul Fuchs","Corinium CC",null,0,null,0,0,null,0,null,"Neil Boyle","Velo Vitesse",null,99,null,"Marc Allen","Swindon RC",null,0,null,"Jason Costello","Corinium CC",null,0,null,"Kevin Lister","Corinium CC",null,0,null,"Mark Foyn","Corinium CC",null,0,null,"John Whittaker","Corinium CC",null,0,null,"Trevor Hodges","Corinium CC",null,0,null,"Sharon Dolman","Swindon RC",null,0,null,"Gerry Peppin","Corinium CC",null,0,null,"Keith Waller","Swindon RC",null,0,null,"Harriet Guest","Performance Cycles",null,0,null,"Ewen Lewis","Swindon Wheelers",null,99,null,"Jason Costello","Corinium CC",null,0]
[null,null,null,"Jim Curry","Performance Cycles",null,0,null,0,0,null,0,null,"Martin Holloway","Veloton",null,98,null,"Fay Tocknell","Swindon RC",null,0,null,0,0,null,0,null,"Jason Costello","Corinium CC",null,98,null,"Jerome Wise","Swindon RC",null,0,null,"Marc Allen","Swindon RC",null,0,null,"Chris Broad-Drake","Swindon RC",null,0,null,"Jerome Wise","Swindon RC",null,0,null,"Keith Williams","Corinium CC",null,0,null,"Jason Costello","Corinium CC",null,0,null,"Paul Fuchs","Corinium CC",null,0,null,"Kevin Lister","Corinium CC",null,0,null,"Dave Gibson","Swindon RC",null,0,null,"Dave Gibson","Swindon RC",null,0,null,"Kevin Lister","Corinium CC",null,0,null,"Harriet Guest","Performance Cycles",null,0]
[null,null,null,"Corinne Clark","Performance Cycles",null,0,null,0,0,null,0,null,"Marc Allen","Swindon RC",null,0,null,"Kevin Lister","Corinium CC",null,0,null,0,0,null,0,null,"James Pocock","Ride 24/7",null,0,null,"Jeff Smith","Swindon RC",null,0,null,"Jeff Smith","Swindon RC",null,0,null,"Jeff Smith","Swindon RC",null,0,null,"Kevin Lister","Corinium CC",null,0,null,"Marguerite Miatt","Corinium CC",null,0,null,"Alex Foyn","Corinium CC",null,0,null,"Kieran Golding","Swindon RC",null,0,null,"Allan Norwood","Corinium CC",null,0,null,"Jeff Smith","Swindon RC",null,0,null,"Simon James","Corinium CC",null,97,null,"Tristan Stevens","Swindon RC",null,0,null,"Trevor Hodges","Corinium CC",null,0]
[null,null,null,"Wendy Nicholls","Corinium CC",null,0,null,0,0,null,0,null,"Jeff Smith","Swindon RC",null,0,null,"Matt Seddon","Corinium CC",null,0,null,0,0,null,0,null,"Keith Waller","Swindon RC",null,0,null,"Keith Waller","Swindon RC",null,0,null,"Rob Patterson","Swindon RC",null,0,null,"Rob Patterson","Swindon RC",null,0,null,"Jeff Smith","Swindon RC",null,0,null,"Noel MacKenzie","Corinium CC",null,0,null,"Wendy Nicholls","Kinetic One",null,96,null,"Joseph Barrowclough","Ride 24/7",null,0,null,"Steve Turtle",0,null,0,null,"Harriet Guest","Performance Cycles",null,0,null,"Alex Foyn","Corinium CC",null,0,null,"Stephen Chapman","Corinium CC",null,0,null,"Clive Rivers","Performance Cycles",null,0]
[null,null,null,"Mark Foyn","Corinium CC",null,95,null,0,0,null,0,null,"Archie Scott","Cotswold Veldrijden",null,95,null,"Paul Adams","Swindon RC",null,0,null,0,0,null,0,null,"Kevin Lister","Corinium CC",null,0,null,"Kevin Lister","Corinium CC",null,0,null,"Michelle Ross","Ride 24/7",null,0,null,"Gerry Peppin","Corinium CC",null,0,null,"Matt Seddon","Corinium CC",null,0,null,"Annie Pegler","Corinium CC",null,0,null,"Keith Waller","Swindon RC",null,0,null,"Denis Hedges","Corinium CC",null,0,null,"Denis Hedges","Corinium CC",null,0,null,"Jason Costello","Corinium CC",null,95,null,"Trevor Hodges","Corinium CC",null,0,null,"Allan Norwood","Corinium CC",null,0,null,"Mark Sysum",0,null,0]
[null,null,null,"Jeff Smith","Swindon RC",null,0,null,0,0,null,0,null,"Mark Foyn","Corinium CC",null,94,null,"Allan Norwood","Corinium CC",null,0,null,0,0,null,0,null,"Sharon Dolman","Swindon RC",null,0,null,"Rob Everill","Performance Cycles",null,94,null,"Allan Norwood","Corinium CC",null,0,null,"Sharon Dolman","Swindon RC",null,0,null,"Sharon Dolman","Swindon RC",null,0,null,"Amanda Adams","Swindon RC",null,0,null,"Gerry Peppin","Corinium CC",null,0,null,"Howard Seward","Swindon RC",null,0,null,"Nick Fiore","Cotswold Veldrijden",null,94,null,"Rob Patterson","Swindon RC",null,0,null,"Jeff Smith","Swindon RC",null,0,null,"Paul Fuchs","Corinium CC",null,0,null,"Sarah Gunn","Corinium CC",null,0]
[null,null,null,"Neil Boyle","Ride 24/7",null,0,null,0,0,null,0,null,"Tristan Stevens","Swindon RC",null,0,null,"Oliver Palmer","Swindon RC",null,0,null,0,0,null,0,null,"Rob Patterson","Swindon RC",null,0,null,"Rob Patterson","Swindon RC",null,0,null,"Marc Lehrer","Ride 24/7",null,0,null,"Stephen Chapman","Corinium CC",null,0,null,"Stephen Chapman","Corinium CC",null,0,null,0,0,null,0,null,"Stephen Chapman","Corinium CC",null,0,null,"Marguerite Miatt","Corinium CC",null,0,null,"Amy Cooper","Dame Cycling",null,93,null,"Dave Miatt","Corinium CC",null,0,null,"Ewen Lewis","Swindon Wheelers",null,93,null,"Nick Schiettecatte","Middlesex Road Club",null,93,null,"Jeff Smith","Swindon RC",null,0]
[null,null,null,"Gerry Peppin","Corinium CC",null,92,null,0,0,null,0,null,"Harriet Guest","Performance Cycles",null,0,null,"Kieran Golding","Swindon RC",null,0,null,0,0,null,0,null,"Gerry Peppin","Corinium CC",null,0,null,"Gerry Peppin","Corinium CC",null,0,null,"Nick Schiettecatte","Middlesex Road Club",null,92,null,"Matt Seddon","Corinium CC",null,0,null,"Rob Patterson","Swindon RC",null,0,null,0,0,null,0,null,"Paul Fuchs","Corinium CC",null,0,null,"Ross Gregory","Corinium CC",null,0,null,"Sophie Crampin","Dame Cycling",null,92,null,"Keith Williams","Corinium CC",null,0,null,"Will Shephard","Ely & District",null,92,null,"Howard Seward","Swindon RC",null,0,null,"Mark Foyn","Corinium CC",null,0]
[null,null,null,"Martin Pitts","Corinium CC",null,0,null,0,0,null,0,null,"Simon James","Corinium CC",null,91,null,"Sophie Crampin","Dame Cycling",null,91,null,0,0,null,0,null,"Bernie Beale","Swindon RC",null,0,null,"Gary Martin","Westerley CC",null,91,null,"Oliver Palmer","Swindon RC",null,0,null,"Allan Norwood","Corinium CC",null,0,null,"Rob Everill","Performance Cycles",null,0,null,0,0,null,0,null,"Fay Tocknell","Swindon RC",null,0,null,0,0,null,0,null,"Keith Williams","Corinium CC",null,0,null,"Annie Pegler","Corinium CC",null,0,null,"Sharon Dolman","Swindon RC",null,0,null,"Joseph Barrowclough","Ride 24/7",null,0,null,"Steve Buckley","Ride 24/7",null,92]
[null,null,null,"John Simmons","Performance Cycles",null,0,null,0,0,null,0,null,"Jason Costello","Corinium CC",null,0,null,"Denis Hedges","Corinium CC",null,0,null,0,0,null,0,null,"Fay Tocknell","Swindon RC",null,0,null,"Roger Bryan","Swindon RC",null,0,null,"Dave Fitton","West Pennine RC",null,90,null,"Paul Fuchs","Corinium CC",null,0,null,"Paul Fuchs","Corinium CC",null,0,null,0,0,null,0,null,"Paul Adams","Swindon RC",null,0,null,0,0,null,0,null,"Marguerite Miatt","Corinium CC",null,0,null,"Noel MacKenzie","Corinium CC",null,0,null,"Owen Paddock","Swindon RC",null,0,null,"Annie Pegler","Corinium CC",null,0,null,"Tristan Stevens","Swindon RC",null,0]
[null,null,null,"Richard Ash","Swindon RC",null,0,null,0,0,null,0,null,"Rob Everill","Performance Cycles",null,0,null,"Howard Seward","Swindon RC",null,0,null,0,0,null,0,null,"David Smith","Swindon RC",null,0,null,"Paul Fuchs","Corinium CC",null,0,null,"Kieran Golding","Swindon RC",null,0,null,"Nick Schiettecatte","Middlesex Road Club",null,89,null,"Alistair Moody","RNRMCA",null,89,null,0,0,null,0,null,"Steve Turtle","Swindon Wheelers",null,89,null,0,0,null,0,null,"Annie Pegler","Corinium CC",null,0,null,"Terry Barry","Corinium CC",null,0,null,"Rob Patterson","Swindon RC",null,0,null,"Marguerite Miatt","Corinium CC",null,0,null,"Rob Everill","Performance Cycles",null,0]
[null,null,null,"Fay Tocknell","Swindon RC",null,0,null,0,0,null,0,null,"Fay Tocknell","Swindon RC",null,0,null,"Laura Chadwick","Dame Cycling",null,88,null,0,0,null,0,null,"Michelle Ross","Ride 24/7",null,0,null,"Oliver Palmer","Swindon RC",null,0,null,"Howard Seward","Swindon RC",null,0,null,"Charlie Edmunds","Swindon RC",null,0,null,"Nick Schiettecatte","Middlesex Road Club",null,88,null,0,0,null,0,null,"Nick Schiettecatte","Middlesex Road Club",null,88,null,0,0,null,0,null,"Ewen Lewis","Swindon Wheelers",null,88,null,"Ross Gregory","Corinium CC",null,0,null,"Les Sheppard","Swindon Wheelers",null,88,null,"Keith Williams","Corinium CC",null,0,null,"Mike Firth","Corinium CC",null,0]
[null,null,null,"Nick Kent","Dame Cycling",null,87,null,0,0,null,0,null,"Paul Fuchs","Corinium CC",null,0,null,"Marguerite Miatt","Corinium CC",null,0,null,0,0,null,0,null,"Paul Adams","Swindon RC",null,0,null,"Michelle Ross","Ride 24/7",null,0,null,"Kate Fitton","West Pennine RC",null,87,null,"Nick Fiore","Cotswold Veldrijden",null,87,null,"James Foster","Performance Cycles",null,0,null,0,0,null,0,null,"Denis Hedges","Corinium CC",null,0,null,0,0,null,0,null,"Ross Gregory","Corinium CC",null,0,null,"Amanda Adams","Swindon RC",null,0,null,"Stephen Chapman","Corinium CC",null,0,null,"Ross Gregory","Corinium CC",null,0,null,"Stephen Chapman","Corinium CC",null,0]
[null,null,null,"Paul Fuchs","Corinium CC",null,0,null,0,0,null,0,null,"Sharon Dolman","Swindon RC",null,0,null,"Carol Clarke","Corinium CC",null,0,null,0,0,null,0,null,"Oliver Palmer","Swindon RC",null,0,null,"Denis Hedges","Corinium CC",null,0,null,"William MacKenzie","Corinium CC",null,0,null,"William MacKenzie","Corinium CC",null,0,null,"Kieran Golding","Swindon RC",null,0,null,0,0,null,0,null,"Kieran Golding","Swindon RC",null,0,null,0,0,null,0,null,"Terry Barry","Corinium CC",null,0,null,0,0,null,0,null,"Mike Firth","Corinium CC",null,0,null,"Richard Gower","Performance Cycles",null,0,null,"Kevin Lister","Corinium CC",null,0]
[null,null,null,"Oliver Palmer","Swindon RC",null,0,null,0,0,null,0,null,"Richard Alston","RLSCC",null,85,null,"William MacKenzie","Corinium CC",null,0,null,0,0,null,0,null,"Kieran Golding","Swindon RC",null,0,null,"Allan Norwood","Corinium CC",null,0,null,"Keith Williams","Corinium CC",null,0,null,"Keith Williams","Corinium CC",null,0,null,"Joseph Barrowclough","Ride 24/7",null,0,null,0,0,null,0,null,"John Whittaker","Corinium CC",null,0,null,0,0,null,0,null,0,0,null,0,null,0,0,null,0,null,"Paul Adams","Swindon RC",null,0,null,"Amanda Adams","Swindon RC",null,0,null,"Daniel Wood",0,null,0]
[null,null,null,"Michelle Ross","Ride 24/7",null,0,null,0,0,null,0,null,"Michelle Ross","Ride 24/7",null,0,null,"Noel MacKenzie","Corinium CC",null,0,null,0,0,null,0,null,"James Foster","Performance Cycles",null,0,null,"Jo Cassidy","Performance Cycles",null,0,null,"Noel MacKenzie","Corinium CC",null,0,null,"Noel MacKenzie","Corinium CC",null,0,null,"Howard Seward","Swindon RC",null,0,null,0,0,null,0,null,"Marguerite Miatt","Corinium CC",null,0,null,0,0,null,0,null,0,0,null,0,null,0,0,null,0,null,"Allan Norwood","Corinium CC",null,0,null,"Terry Barry","Corinium CC",null,0,null,"Ben Gamsa",0,null,0]
[null,null,null,"Allan Norwood","Corinium CC",null,0,null,0,0,null,0,null,"Stephen Chapman","Corinium CC",null,0,null,"Annie Pegler","Corinium CC",null,0,null,0,0,null,0,null,"Peter Mills","Swindon Wheelers",null,83,null,"Marguerite Miatt","Corinium CC",null,0,null,"Carol Clarke","Corinium CC",null,0,null,"Ross Gregory","Corinium CC",null,0,null,"Marguerite Miatt","Corinium CC",null,0,null,0,0,null,0,null,"William MacKenzie","Corinium CC",null,0,null,0,0,null,0,null,0,0,null,0,null,0,0,null,0,null,"Andy Moran","Corinium CC",null,0,null,0,0,null,0,null,"Rob Patterson","Swindon RC",null,0]
[null,null,null,"Kieran Golding","Swindon RC",null,0,null,0,0,null,0,null,"Richard Halliday","Dame Cycling",null,82,null,"Paul Wood","Swindon Wheelers",null,82,null,0,0,null,0,null,"Kate Fitton","Dame Cycling",null,82,null,"William MacKenzie","Corinium CC",null,0,null,"Paul Wood","Swindon Wheelers",null,82,null,"Joe Petrie","Swindon RC",null,0,null,"William MacKenzie","Corinium CC",null,0,null,0,0,null,0,null,"Keith Williams","Corinium CC",null,0,null,0,0,null,0,null,0,0,null,0,null,0,0,null,0,null,"Howard Seward","Swindon RC",null,0,null,0,0,null,0,null,"Gerry Peppin","Corinium CC",null,0]
[null,null,null,"Kelli Salone","Dame Cycling",null,81,null,0,0,null,0,null,"Paul Adams","Swindon RC",null,0,null,"Amanda Adams","Swindon RC",null,0,null,0,0,null,0,null,"Keith Williams","Corinium CC",null,0,null,"Dave Miatt","Corinium CC",null,0,null,0,0,null,0,null,0,0,null,0,null,"Keith Williams","Corinium CC",null,0,null,0,0,null,0,null,"Noel MacKenzie","Corinium CC",null,0,null,0,0,null,0,null,0,0,null,0,null,0,0,null,0,null,"Fay Tocknell","Swindon RC",null,0,null,0,0,null,0,null,"Denis Hedges","Corinium CC",null,0]
[null,null,null,"Carmen Young","Dame Cycling",null,80,null,0,0,null,0,null,"David Smith","Swindon RC",null,0,null,0,0,null,0,null,0,0,null,0,null,"Marguerite Miatt","Corinium CC",null,0,null,"Noel MacKenzie","Corinium CC",null,0,null,0,0,null,0,null,0,0,null,0,null,"Noel MacKenzie","Corinium CC",null,0,null,0,0,null,0,null,"Charlotte Berry","Performance Cycles",null,0,null,0,0,null,0,null,0,0,null,0,null,0,0,null,0,null,"Denis Hedges","Corinium CC",null,0,null,0,0,null,0,null,"Howard Seward","Swindon RC",null,0]
[null,null,null,"Chris Fox (SRC)","Swindon RC",null,0,null,0,0,null,0,null,"Mervyn Cox","Performance Cycles",null,0,null,0,0,null,0,null,0,0,null,0,null,"Jo Cassidy","Performance Cycles",null,0,null,"Ross Gregory","Corinium CC",null,0,null,0,0,null,0,null,0,0,null,0,null,"Joe Petrie","Swindon RC",null,0,null,0,0,null,0,null,"Amanda Adams","Swindon RC",null,0,null,0,0,null,0,null,0,0,null,0,null,0,0,null,0,null,"Kieran Golding","Swindon RC",null,0,null,0,0,null,0,null,"Annie Pegler","Corinium CC",null,0]
[null,null,null,"Katie Scott","Cotswold Veldrijden",null,78,null,0,0,null,0,null,"Kieran Golding","Swindon RC",null,0,null,0,0,null,0,null,0,0,null,0,null,"Ross Gregory","Corinium CC",null,0,null,0,0,null,0,null,0,0,null,0,null,0,0,null,0,null,"Ross Gregory","Corinium CC",null,0,null,0,0,null,0,null,"Paul Wood","Swindon Wheelers",null,78,null,0,0,null,0,null,0,0,null,0,null,0,0,null,0,null,"Steve Turtle","Swindon Wheelers",null,78,null,0,0,null,0,null,"Keith Williams","Corinium CC",null,0]
[null,null,null,"Michael Soan","?",null,77,null,0,0,null,0,null,"John Whittaker","Corinium CC",null,0,null,0,0,null,0,null,0,0,null,0,null,0,0,null,0,null,0,0,null,0,null,0,0,null,0,null,0,0,null,0,null,"Carol Clarke","Corinium CC",null,0,null,0,0,null,0,null,"Ross Gregory","Corinium CC",null,0,null,0,0,null,0,null,0,0,null,0,null,0,0,null,0,null,"Annie Pegler","Corinium CC",null,0,null,0,0,null,0,null,"Marguerite Miatt","Corinium CC",null,0]
[null,null,null,"John Whittaker","Corinium CC",null,0,null,0,0,null,0,null,"Stewart Layzell","Swindon RC",null,0,null,0,0,null,0,null,0,0,null,0,null,0,0,null,0,null,0,0,null,0,null,0,0,null,0,null,0,0,null,0,null,"Amanda Adams","Swindon RC",null,0,null,0,0,null,0,null,"Alasdair MacKenzie","Corinium CC",null,0,null,0,0,null,0,null,0,0,null,0,null,0,0,null,0,null,"Marguerite Miatt","Corinium CC",null,0,null,0,0,null,0,null,"Ross Gregory","Corinium CC",null,0]
[null,null,null,"William Mackenzie","Corinium CC",null,0,null,0,0,null,0,null,"Marguerite Miatt","Corinium CC",null,0,null,0,0,null,0,null,0,0,null,0,null,0,0,null,0,null,0,0,null,0,null,0,0,null,0,null,0,0,null,0,null,0,0,null,0,null,0,0,null,0,null,0,0,null,0,null,0,0,null,0,null,0,0,null,0,null,0,0,null,0,null,"Ross Gregory","Corinium CC",null,0,null,0,0,null,0,null,"Allan Norwood","Corinium CC",null,0]
[null,null,null,"Mandy Scott","Cotswold Veldrijden",null,74,null,0,0,null,0,null,"Carol Clarke","Corinium CC",null,0,null,0,0,null,0,null,0,0,null,0,null,0,0,null,0,null,0,0,null,0,null,0,0,null,0,null,0,0,null,0,null,0,0,null,0,null,0,0,null,0,null,0,0,null,0,null,0,0,null,0,null,0,0,null,0,null,0,0,null,0,null,"Paul Wood","Swindon Wheelers",null,0,null,0,0,null,0,null,0,0,null,0]
[null,null,null,"Stewart Layzell","Swindon RC",null,0,null,0,0,null,0,null,"Keith Williams","Corinium CC",null,0,null,0,0,null,0,null,0,0,null,0,null,0,0,null,0,null,0,0,null,0,null,0,0,null,0,null,0,0,null,0,null,0,0,null,0,null,0,0,null,0,null,0,0,null,0,null,0,0,null,0,null,0,0,null,0,null,0,0,null,0,null,"Mandy Martin","Swindon Wheelers",null,0,null,0,0,null,0,null,0,0,null,0]
[null,null,null,"Denis Hedges","Corinium CC",null,0,null,0,0,null,0,null,"Annie Pegler","Corinium CC",null,0,null,0,0,null,0,null,0,0,null,0,null,0,0,null,0,null,0,0,null,0,null,0,0,null,0,null,0,0,null,0,null,0,0,null,0,null,0,0,null,0,null,0,0,null,0,null,0,0,null,0,null,0,0,null,0,null,0,0,null,0,null,"Jo Thompson","Performance Cycles",null,0,null,0,0,null,0,null,0,0,null,0]
[null,null,null,"Howard Seward","Swindon RC",null,0,null,0,0,null,0,null,"Mandy Scott","Cotswold Veldrijden",null,0,null,0,0,null,0,null,0,0,null,0,null,0,0,null,0,null,0,0,null,0,null,0,0,null,0,null,0,0,null,0,null,0,0,null,0,null,0,0,null,0,null,0,0,null,0,null,0,0,null,0,null,0,0,null,0,null,0,0,null,0,null,0,0,null,0,null,0,0,null,0,null,0,0,null,0]
[null,null,null,"Paul Wood","Swindon Wheelers",null,70,null,0,0,null,0,null,"Ross Gregory","Corinium CC",null,0,null,0,0,null,0,null,0,0,null,0,null,0,0,null,0,null,0,0,null,0,null,0,0,null,0,null,0,0,null,0,null,0,0,null,0,null,0,0,null,0,null,0,0,null,0,null,0,0,null,0,null,0,0,null,0,null,0,0,null,0,null,0,0,null,0,null,0,0,null,0,null,0,0,null,0]
[null,null,null,"Annie Pegler","Corinium CC",null,0,null,0,0,null,0,null,"J Richards","Dame Cycling",null,69,null,0,0,null,0,null,0,0,null,0,null,0,0,null,0,null,0,0,null,0,null,0,0,null,0,null,0,0,null,0,null,0,0,null,0,null,0,0,null,0,null,0,0,null,0,null,0,0,null,0,null,0,0,null,0,null,0,0,null,0,null,0,0,null,0,null,0,0,null,0,null,0,0,null,0]
[null,null,null,"Carol Clarke","Corinium CC",null,0,null,0,0,null,0,null,"Deborah Crawford","Dame Cycling",null,68,null,0,0,null,0,null,0,0,null,0,null,0,0,null,0,null,0,0,null,0,null,0,0,null,0,null,0,0,null,0,null,0,0,null,0,null,0,0,null,0,null,0,0,null,0,null,0,0,null,0,null,0,0,null,0,null,0,0,null,0,null,0,0,null,0,null,0,0,null,0,null,0,0,null,0]
[null,null,null,"Noel MacKenzie","Corinium CC",null,0,null,0,0,null,0,null,"Nikki Thompson","Dame Cycling",null,0,null,0,0,null,0,null,0,0,null,0,null,0,0,null,0,null,0,0,null,0,null,0,0,null,0,null,0,0,null,0,null,0,0,null,0,null,0,0,null,0,null,0,0,null,0,null,0,0,null,0,null,0,0,null,0,null,0,0,null,0,null,0,0,null,0,null,0,0,null,0,null,0,0,null,0]
[null,null,null,"Jean Kent","Dame Cycling",null,0,null,0,0,null,0,null,0,0,null,0,null,0,0,null,0,null,0,0,null,0,null,0,0,null,0,null,0,0,null,0,null,0,0,null,0,null,0,0,null,0,null,0,0,null,0,null,0,0,null,0,null,0,0,null,0,null,0,0,null,0,null,0,0,null,0,null,0,0,null,0,null,0,0,null,0,null,0,0,null,0,null,0,0,null,0]
[null,null,null,"J Richards","Dame Cycling",null,0,null,0,0,null,0,null,0,0,null,0,null,0,0,null,0,null,0,0,null,0,null,0,0,null,0,null,0,0,null,0,null,0,0,null,0,null,0,0,null,0,null,0,0,null,0,null,0,0,null,0,null,0,0,null,0,null,0,0,null,0,null,0,0,null,0,null,0,0,null,0,null,0,0,null,0,null,0,0,null,0,null,0,0,null,0]
[null,null,null,"Ross Gregory","Corinium CC",null,0,null,0,0,null,0,null,0,0,null,0,null,0,0,null,0,null,0,0,null,0,null,0,0,null,0,null,0,0,null,0,null,0,0,null,0,null,0,0,null,0,null,0,0,null,0,null,0,0,null,0,null,0,0,null,0,null,0,0,null,0,null,0,0,null,0,null,0,0,null,0,null,0,0,null,0,null,0,0,null,0,null,0,0,null,0]
[null,null,null,"Deborah Crawford","Dame Cycling",null,0,null,0,0,null,0,null,0,0,null,0,null,0,0,null,0,null,0,0,null,0,null,0,0,null,0,null,0,0,null,0,null,0,0,null,0,null,0,0,null,0,null,0,0,null,0,null,0,0,null,0,null,0,0,null,0,null,0,0,null,0,null,0,0,null,0,null,0,0,null,0,null,0,0,null,0,null,0,0,null,0,null,0,0,null,0]
[null,null,null,0,0,null,0,null,0,0,null,0,null,0,0,null,0,null,0,0,null,0,null,0,0,null,0,null,0,0,null,0,null,0,0,null,0,null,0,0,null,0,null,0,0,null,0,null,0,0,null,0,null,0,0,null,0,null,0,0,null,0,null,0,0,null,0,null,0,0,null,0,null,0,0,null,0,null,0,0,null,0,null,0,0,null,0,null,0,0,null,0]
[null,null,null,0,0,null,0,null,0,0,null,0,null,0,0,null,0,null,0,0,null,0,null,0,0,null,0,null,0,0,null,0,null,0,0,null,0,null,0,0,null,0,null,0,0,null,0,null,0,0,null,0,null,0,0,null,0,null,0,0,null,0,null,0,0,null,0,null,0,0,null,0,null,0,0,null,0,null,0,0,null,0,null,0,0,null,0,null,0,0,null,0]
[null,null,null,0,0,null,0,null,0,0,null,0,null,0,0,null,0,null,0,0,null,0,null,0,0,null,0,null,0,0,null,0,null,0,0,null,0,null,0,0,null,0,null,0,0,null,0,null,0,0,null,0,null,0,0,null,0,null,0,0,null,0,null,0,0,null,0,null,0,0,null,0,null,0,0,null,0,null,0,0,null,0,null,0,0,null,0,null,0,0,null,0]
[null,null,null,0,0,null,0,null,0,0,null,0,null,0,0,null,0,null,0,0,null,0,null,0,0,null,0,null,0,0,null,0,null,0,0,null,0,null,0,0,null,0,null,0,0,null,0,null,0,0,null,0,null,0,0,null,0,null,0,0,null,0,null,0,0,null,0,null,0,0,null,0,null,0,0,null,0,null,0,0,null,0,null,0,0,null,0,null,0,0,null,0]
[null,null,null,0,0,null,0,null,0,0,null,0,null,0,0,null,0,null,0,0,null,0,null,0,0,null,0,null,0,0,null,0,null,0,0,null,0,null,0,0,null,0,null,0,0,null,0,null,0,0,null,0,null,0,0,null,0,null,0,0,null,0,null,0,0,null,0,null,0,0,null,0,null,0,0,null,0,null,0,0,null,0,null,0,0,null,0,null,0,0,null,0]
[null,null,null,0,0,null,0,null,0,0,null,0,null,0,0,null,0,null,0,0,null,0,null,0,0,null,0,null,0,0,null,0,null,0,0,null,0,null,0,0,null,0,null,0,0,null,0,null,0,0,null,0,null,0,0,null,0,null,0,0,null,0,null,0,0,null,0,null,0,0,null,0,null,0,0,null,0,null,0,0,null,0,null,0,0,null,0,null,0,0,null,0]
[null,null,null,0,0,null,0,null,0,0,null,0,null,0,0,null,0,null,0,0,null,0,null,0,0,null,0,null,0,0,null,0,null,0,0,null,0,null,0,0,null,0,null,0,0,null,0,null,0,0,null,0,null,0,0,null,0,null,0,0,null,0,null,0,0,null,0,null,0,0,null,0,null,0,0,null,0,null,0,0,null,0,null,0,0,null,0,null,0,0,null,0]
[null,null,null,0,0,null,0,null,0,0,null,0,null,0,0,null,0,null,0,0,null,0,null,0,0,null,0,null,0,0,null,0,null,0,0,null,0,null,0,0,null,0,null,0,0,null,0,null,0,0,null,0,null,0,0,null,0,null,0,0,null,0,null,0,0,null,0,null,0,0,null,0,null,0,0,null,0,null,0,0,null,0,null,0,0,null,0,null,0,0,null,0]
[null,null,null,0,0,null,0,null,0,0,null,0,null,0,0,null,0,null,0,0,null,0,null,0,0,null,0,null,0,0,null,0,null,0,0,null,0,null,0,0,null,0,null,0,0,null,0,null,0,0,null,0,null,0,0,null,0,null,0,0,null,0,null,0,0,null,0,null,0,0,null,0,null,0,0,null,0,null,0,0,null,0,null,0,0,null,0,null,0,0,null,0]
[null,null,null,0,0,null,0,null,0,0,null,0,null,0,0,null,0,null,0,0,null,0,null,0,0,null,0,null,0,0,null,0,null,0,0,null,0,null,0,0,null,0,null,0,0,null,0,null,0,0,null,0,null,0,0,null,0,null,0,0,null,0,null,0,0,null,0,null,0,0,null,0,null,0,0,null,0,null,0,0,null,0,null,0,0,null,0,null,0,0,null,0]
[null,null,null,0,0,null,0,null,0,0,null,0,null,0,0,null,0,null,0,0,null,0,null,0,0,null,0,null,0,0,null,0,null,0,0,null,0,null,0,0,null,0,null,0,0,null,0,null,0,0,null,0,null,0,0,null,0,null,0,0,null,0,null,0,0,null,0,null,0,0,null,0,null,0,0,null,0,null,0,0,null,0,null,0,0,null,0,null,0,0,null,0]
[null,null,null,0,0,null,0,null,0,0,null,0,null,0,0,null,0,null,0,0,null,0,null,0,0,null,0,null,0,0,null,0,null,0,0,null,0,null,0,0,null,0,null,0,0,null,0,null,0,0,null,0,null,0,0,null,0,null,0,0,null,0,null,0,0,null,0,null,0,0,null,0,null,0,0,null,0,null,0,0,null,0,null,0,0,null,0,null,0,0,null,0]
[null,null,null,0,0,null,0,null,0,0,null,0,null,0,0,null,0,null,0,0,null,0,null,0,0,null,0,null,0,0,null,0,null,0,0,null,0,null,0,0,null,0,null,0,0,null,0,null,0,0,null,0,null,0,0,null,0,null,0,0,null,0,null,0,0,null,0,null,0,0,null,0,null,0,0,null,0,null,0,0,null,0,null,0,0,null,0,null,0,0,null,0]
[null,null,null,0,0,null,0,null,0,0,null,0,null,0,0,null,0,null,0,0,null,0,null,0,0,null,0,null,0,0,null,0,null,0,0,null,0,null,0,0,null,0,null,0,0,null,0,null,0,0,null,0,null,0,0,null,0,null,0,0,null,0,null,0,0,null,0,null,0,0,null,0,null,0,0,null,0,null,0,0,null,0,null,0,0,null,0,null,0,0,null,0]
[null,null,null,0,0,null,0,null,0,0,null,0,null,0,0,null,0,null,0,0,null,0,null,0,0,null,0,null,0,0,null,0,null,0,0,null,0,null,0,0,null,0,null,0,0,null,0,null,0,0,null,0,null,0,0,null,0,null,0,0,null,0,null,0,0,null,0,null,0,0,null,0,null,0,0,null,0,null,0,0,null,0,null,0,0,null,0,null,0,0,null,0]
[null,null,null,0,0,null,0,null,0,0,null,0,null,0,0,null,0,null,0,0,null,0,null,0,0,null,0,null,0,0,null,0,null,0,0,null,0,null,0,0,null,0,null,0,0,null,0,null,0,0,null,0,null,0,0,null,0,null,0,0,null,0,null,0,0,null,0,null,0,0,null,0,null,0,0,null,0,null,0,0,null,0,null,0,0,null,0,null,0,0,null,0]
[null,null,null,0,0,null,0,null,0,0,null,0,null,0,0,null,0,null,0,0,null,0,null,0,0,null,0,null,0,0,null,0,null,0,0,null,0,null,0,0,null,0,null,0,0,null,0,null,0,0,null,0,null,0,0,null,0,null,0,0,null,0,null,0,0,null,0,null,0,0,null,0,null,0,0,null,0,null,0,0,null,0,null,0,0,null,0,null,0,0,null,0]
[null,null,null,0,0,null,0,null,0,0,null,0,null,0,0,null,0,null,0,0,null,0,null,0,0,null,0,null,0,0,null,0,null,0,0,null,0,null,0,0,null,0,null,0,0,null,0,null,0,0,null,0,null,0,0,null,0,null,0,0,null,0,null,0,0,null,0,null,0,0,null,0,null,0,0,null,0,null,0,0,null,0,null,0,0,null,0,null,0,0,null,0]
[null,null,null,0,0,null,0,null,0,0,null,0,null,0,0,null,0,null,0,0,null,0,null,0,0,null,0,null,0,0,null,0,null,0,0,null,0,null,0,0,null,0,null,0,0,null,0,null,0,0,null,0,null,0,0,null,0,null,0,0,null,0,null,0,0,null,0,null,0,0,null,0,null,0,0,null,0,null,0,0,null,0,null,0,0,null,0,null,0,0,null,0]
[null,null,null,0,0,null,0,null,0,0,null,0,null,0,0,null,0,null,0,0,null,0,null,0,0,null,0,null,0,0,null,0,null,0,0,null,0,null,0,0,null,0,null,0,0,null,0,null,0,0,null,0,null,0,0,null,0,null,0,0,null,0,null,0,0,null,0,null,0,0,null,0,null,0,0,null,0,null,0,0,null,0,null,0,0,null,0,null,0,0,null,0]
[null,null,null,0,0,null,0,null,0,0,null,0,null,0,0,null,0,null,0,0,null,0,null,0,0,null,0,null,0,0,null,0,null,0,0,null,0,null,0,0,null,0,null,0,0,null,0,null,0,0,null,0,null,0,0,null,0,null,0,0,null,0,null,0,0,null,0,null,0,0,null,0,null,0,0,null,0,null,0,0,null,0,null,0,0,null,0,null,0,0,null,0]
[null,null,null,0,0,null,0,null,0,0,null,0,null,0,0,null,0,null,0,0,null,0,null,0,0,null,0,null,0,0,null,0,null,0,0,null,0,null,0,0,null,0,null,0,0,null,0,null,0,0,null,0,null,0,0,null,0,null,0,0,null,0,null,0,0,null,0,null,0,0,null,0,null,0,0,null,0,null,0,0,null,0,null,0,0,null,0,null,0,0,null,0]
[null,null,null,0,0,null,0,null,0,0,null,0,null,0,0,null,0,null,0,0,null,0,null,0,0,null,0,null,0,0,null,0,null,0,0,null,0,null,0,0,null,0,null,0,0,null,0,null,0,0,null,0,null,0,0,null,0,null,0,0,null,0,null,0,0,null,0,null,0,0,null,0,null,0,0,null,0,null,0,0,null,0,null,0,0,null,0,null,0,0,null,0]
[null,null,null,0,0,null,0,null,0,0,null,0,null,0,0,null,0,null,0,0,null,0,null,0,0,null,0,null,0,0,null,0,null,0,0,null,0,null,0,0,null,0,null,0,0,null,0,null,0,0,null,0,null,0,0,null,0,null,0,0,null,0,null,0,0,null,0,null,0,0,null,0,null,0,0,null,0,null,0,0,null,0,null,0,0,null,0,null,0,0,null,0]
[null,null,null,0,0,null,0,null,0,0,null,0,null,0,0,null,0,null,0,0,null,0,null,0,0,null,0,null,0,0,null,0,null,0,0,null,0,null,0,0,null,0,null,0,0,null,0,null,0,0,null,0,null,0,0,null,0,null,0,0,null,0,null,0,0,null,0,null,0,0,null,0,null,0,0,null,0,null,0,0,null,0,null,0,0,null,0,null,0,0,null,0]
[null,null,null,0,0,null,0,null,0,0,null,0,null,0,0,null,0,null,0,0,null,0,null,0,0,null,0,null,0,0,null,0,null,0,0,null,0,null,0,0,null,0,null,0,0,null,0,null,0,0,null,0,null,0,0,null,0,null,0,0,null,0,null,0,0,null,0,null,0,0,null,0,null,0,0,null,0,null,0,0,null,0,null,0,0,null,0,null,0,0,null,0]
[null,null,null,0,0,null,0,null,0,0,null,0,null,0,0,null,0,null,0,0,null,0,null,0,0,null,0,null,0,0,null,0,null,0,0,null,0,null,0,0,null,0,null,0,0,null,0,null,0,0,null,0,null,0,0,null,0,null,0,0,null,0,null,0,0,null,0,null,0,0,null,0,null,0,0,null,0,null,0,0,null,0,null,0,0,null,0,null,0,0,null,0]
[null,null,null,0,0,null,0,null,0,0,null,0,null,0,0,null,0,null,0,0,null,0,null,0,0,null,0,null,0,0,null,0,null,0,0,null,0,null,0,0,null,0,null,0,0,null,0,null,0,0,null,0,null,0,0,null,0,null,0,0,null,0,null,0,0,null,0,null,0,0,null,0,null,0,0,null,0,null,0,0,null,0,null,0,0,null,0,null,0,0,null,0]
[null,null,null,0,0,null,0,null,0,0,null,0,null,0,0,null,0,null,0,0,null,0,null,0,0,null,0,null,0,0,null,0,null,0,0,null,0,null,0,0,null,0,null,0,0,null,0,null,0,0,null,0,null,0,0,null,0,null,0,0,null,0,null,0,0,null,0,null,0,0,null,0,null,0,0,null,0,null,0,0,null,0,null,0,0,null,0,null,0,0,null,0]
[null,null,null,0,0,null,0,null,0,0,null,0,null,0,0,null,0,null,0,0,null,0,null,0,0,null,0,null,0,0,null,0,null,0,0,null,0,null,0,0,null,0,null,0,0,null,0,null,0,0,null,0,null,0,0,null,0,null,0,0,null,0,null,0,0,null,0,null,0,0,null,0,null,0,0,null,0,null,0,0,null,0,null,0,0,null,0,null,0,0,null,0]
[null,null,null,0,0,null,0,null,0,0,null,0,null,0,0,null,0,null,0,0,null,0,null,0,0,null,0,null,0,0,null,0,null,0,0,null,0,null,0,0,null,0,null,0,0,null,0,null,0,0,null,0,null,0,0,null,0,null,0,0,null,0,null,0,0,null,0,null,0,0,null,0,null,0,0,null,0,null,0,0,null,0,null,0,0,null,0,null,0,0,null,0]
[null,null,null,0,0,null,0,null,0,0,null,0,null,0,0,null,0,null,0,0,null,0,null,0,0,null,0,null,0,0,null,0,null,0,0,null,0,null,0,0,null,0,null,0,0,null,0,null,0,0,null,0,null,0,0,null,0,null,0,0,null,0,null,0,0,null,0,null,0,0,null,0,null,0,0,null,0,null,0,0,null,0,null,0,0,null,0,null,0,0,null,0]
[null,null,null,0,0,null,0,null,0,0,null,0,null,0,0,null,0,null,0,0,null,0,null,0,0,null,0,null,0,0,null,0,null,0,0,null,0,null,0,0,null,0,null,0,0,null,0,null,0,0,null,0,null,0,0,null,0,null,0,0,null,0,null,0,0,null,0,null,0,0,null,0,null,0,0,null,0,null,0,0,null,0,null,0,0,null,0,null,0,0,null,0]
[null,null,null,0,0,null,0,null,0,0,null,0,null,0,0,null,0,null,0,0,null,0,null,0,0,null,0,null,0,0,null,0,null,0,0,null,0,null,0,0,null,0,null,0,0,null,0,null,0,0,null,0,null,0,0,null,0,null,0,0,null,0,null,0,0,null,0,null,0,0,null,0,null,0,0,null,0,null,0,0,null,0,null,0,0,null,0,null,0,0,null,0]
[null,null,null,0,0,null,0,null,0,0,null,0,null,0,0,null,0,null,0,0,null,0,null,0,0,null,0,null,0,0,null,0,null,0,0,null,0,null,0,0,null,0,null,0,0,null,0,null,0,0,null,0,null,0,0,null,0,null,0,0,null,0,null,0,0,null,0,null,0,0,null,0,null,0,0,null,0,null,0,0,null,0,null,0,0,null,0,null,0,0,null,0]
[null,null,null,0,0,null,0,null,0,0,null,0,null,0,0,null,0,null,0,0,null,0,null,0,0,null,0,null,0,0,null,0,null,0,0,null,0,null,0,0,null,0,null,0,0,null,0,null,0,0,null,0,null,0,0,null,0,null,0,0,null,0,null,0,0,null,0,null,0,0,null,0,null,0,0,null,0,null,0,0,null,0,null,0,0,null,0,null,0,0,null,0]
[null,null,null,0,0,null,0,null,0,0,null,0,null,0,0,null,0,null,0,0,null,0,null,0,0,null,0,null,0,0,null,0,null,0,0,null,0,null,0,0,null,0,null,0,0,null,0,null,0,0,null,0,null,0,0,null,0,null,0,0,null,0,null,0,0,null,0,null,0,0,null,0,null,0,0,null,0,null,0,0,null,0,null,0,0,null,0,null,0,0,null,0]
[null,null,null,0,0,null,0,null,0,0,null,0,null,0,0,null,0,null,0,0,null,0,null,0,0,null,0,null,0,0,null,0,null,0,0,null,0,null,0,0,null,0,null,0,0,null,0,null,0,0,null,0,null,0,0,null,0,null,0,0,null,0,null,0,0,null,0,null,0,0,null,0,null,0,0,null,0,null,0,0,null,0,null,0,0,null,0,null,0,0,null,0]
[null,null,null,0,0,null,0,null,0,0,null,0,null,0,0,null,0,null,0,0,null,0,null,0,0,null,0,null,0,0,null,0,null,0,0,null,0,null,0,0,null,0,null,0,0,null,0,null,0,0,null,0,null,0,0,null,0,null,0,0,null,0,null,0,0,null,0,null,0,0,null,0,null,0,0,null,0,null,0,0,null,0,null,0,0,null,0,null,0,0,null,0]
[null,null,null,0,0,null,0,null,0,0,null,0,null,0,0,null,0,null,0,0,null,0,null,0,0,null,0,null,0,0,null,0,null,0,0,null,0,null,0,0,null,0,null,0,0,null,0,null,0,0,null,0,null,0,0,null,0,null,0,0,null,0,null,0,0,null,0,null,0,0,null,0,null,0,0,null,0,null,0,0,null,0,null,0,0,null,0,null,0,0,null,0]
[null,null,null,0,0,null,0,null,0,0,null,0,null,0,0,null,0,null,0,0,null,0,null,0,0,null,0,null,0,0,null,0,null,0,0,null,0,null,0,0,null,0,null,0,0,null,0,null,0,0,null,0,null,0,0,null,0,null,0,0,null,0,null,0,0,null,0,null,null,null,null,0,null,0,0,null,0,null,0,0,null,0,null,0,0,null,0,null,"Dan Guest","Performance Cycles",null,0]

{"sheet":"Team (2015)","index":9,"n_rows":22,"n_cols":24,"rows_kept":22,"cut":false,"hidden":true,"merged":[[0,1,0,20]]}
[null,"Interclub Points Competition - Team\n(updates available at www.swindon-rc.co.uk)"]
[null,"00:00:00","Total \n(Best 7)","2015-04-16","2015-04-23","2015-04-30","2015-05-07","2015-05-14","2015-05-21","2015-05-28","2015-06-04","2015-06-11","2015-06-18","2015-07-02","2015-07-09","2015-07-16","2015-07-23","2015-07-30","2015-08-06","2015-08-13","2015-08-20","00:00:00","00:00:00","00:00:00"]
[null,"x",0,0,0,0,0,0,0,0,0,0,0,0,0,0,0,0,0,0,0]
[null,"Performance Cycles",2463,353,0,352,345,120,339,315,331,232,341,351,347,337,226,349,351,354,353]
[null,"Swindon RC",2449,340,0,346,350,353,345,347,346,348,350,339,343,350,350,331,343,348,343]
[null,"Corinium CC",2392,288,0,302,343,346,300,354,323,350,314,333,322,335,331,309,318,314,322]
[null,"Ride 24/7",2377,335,0,323,210,0,340,331,347,211,331,119,222,343,120,346,215,335,208]
[null,"Cotswold Veldrijden",1842,260,0,306,0,0,220,112,220,301,116,111,120,111,317,111,218,0,0]
[null,"Swindon Wheelers",962,70,0,0,82,0,83,0,82,0,0,0,269,0,88,0,259,99,0]
[null,"Dame Cycling",913,248,0,219,179,0,82,0,0,0,0,0,0,0,185,0,0,0,0]
[null,"Veloton",887,111,0,208,0,0,114,0,0,113,0,0,0,0,116,113,0,112,110]
[null,"Middlesex Road Club",450,0,0,0,0,0,0,0,92,89,88,0,88,0,0,0,0,93,0]
[null,"Chippenham Wheelers",322,0,0,0,0,0,0,0,0,103,0,0,0,112,0,107,0,0,0]
[null,"RNRMCA",317,0,0,0,0,0,0,0,0,0,89,0,0,0,0,0,228,0,0]
[null,"Banjo Cycles",239,120,0,0,0,0,0,0,0,0,0,0,0,0,0,119,0,0,0]
[null,"Westerley CC",192,0,0,0,0,0,0,91,0,0,0,0,0,101,0,0,0,0,0]
[null,"West Pennine RC",177,0,0,0,0,0,0,0,177,0,0,0,0,0,0,0,0,0,0]
[null,"Team Optima",119,0,0,0,0,0,119,0,0,0,0,0,0,0,0,0,0,0,0]
[null,"Newbury Road Club",114,0,0,0,0,0,0,0,114,0,0,0,0,0,0,0,0,0,0]
[null,"BJW",111,0,0,111,0,0,0,0,0,0,0,0,0,0,0,0,0,0,0]
[null,"Ely & District",92,0,0,0,0,0,0,0,0,0,0,0,0,0,0,0,92,0,0]
[null,"RLSCC",85,0,0,85,0,0,0,0,0,0,0,0,0,0,0,0,0,0,0]

{"sheet":"Individual (2015)","index":10,"n_rows":196,"n_cols":26,"rows_kept":196,"cut":false,"hidden":true,"merged":[[0,0,0,25]]}
["Interclub Points Competition - Individual\n\n(updates available at www.swindon-rc.co.uk)\n\n\n\n\n\n"]
["Name","Club","Ladies","Juniors","Over 40","Over 50","Over 60","Total \n(Best 7)","2015-04-16","2015-04-23","2015-04-30","2015-05-07","2015-05-14","2015-05-21","2015-05-28","2015-06-04","2015-06-11","2015-06-18","2015-07-02","2015-07-09","2015-07-16","2015-07-23","2015-07-30","2015-08-06","2015-08-13","2015-08-20"]
[null,null,null,null,null,null,null,null,0,0,0,0,0,0,0,0,0,0,0,0,0,0,0,0,0,0]
["Dan Guest","Performance Cycles",null,null,"Y",null,null,840,0,0,120,0,0,0,0,0,0,120,120,0,120,0,120,120,120,120]
["Paul Cook","Ride 24/7",null,null,null,null,null,834,112,0,118,0,0,120,0,120,0,119,119,119,119,0,109,0,117,116]
["Niel Dunnage","Swindon RC",null,null,"Y",null,null,830,118,0,117,0,119,0,0,118,119,117,0,116,0,119,0,116,119,118]
["Peter Garnett","Swindon RC",null,null,"Y",null,null,828,115,0,115,120,0,117,118,119,118,118,0,0,118,0,0,114,0,112]
["Pete Hutchinson","Corinium CC",null,null,"Y",null,null,824,0,0,117,118,0,0,119,117,116,0,0,115,116,118,0,118,0,117]
["Chris Wood","Performance Cycles",null,null,null,null,null,823,116,0,0,0,120,118,117,0,117,0,117,118,0,0,0,0,116,114]
["Rory Gilling","Performance Cycles",null,null,null,null,null,814,110,0,113,0,0,0,0,0,0,0,0,117,0,0,118,119,118,119]
["Andy Claxton","Swindon RC",null,null,"Y",null,null,813,0,0,105,117,0,112,113,0,111,115,115,114,117,117,117,113,115,0]
["Gary Smith","Ride 24/7",null,null,null,null,null,808,0,0,0,0,0,0,114,116,0,0,0,0,114,120,116,115,113,0]
["Les Liddiard","Swindon RC",null,null,null,"Y",null,806,0,0,114,0,0,116,116,0,0,0,118,113,115,0,0,0,114,113]
["David Wright","Veloton",null,null,null,"Y",null,789,111,0,110,0,0,114,0,0,113,0,0,0,0,116,113,0,112,110]
["Alex King","Performance Cycles",null,null,null,null,null,788,0,0,112,112,0,113,0,115,0,0,114,112,0,0,0,110,0,103]
["Jim Curry","Performance Cycles",null,null,"Y",null,null,786,98,0,0,115,0,106,0,113,0,0,112,110,0,115,111,0,110,0]
["Nick Lowe","Cotswold Veldrijden",null,null,null,null,null,781,0,0,0,0,0,111,112,113,108,116,111,0,0,110,0,108,0,0]
["Pete Scott","Cotswold Veldrijden",null,null,null,null,null,769,0,0,108,0,0,109,0,107,106,0,0,0,111,113,111,110,0,0]
["Andy McIntyre","Performance Cycles",null,null,"Y",null,null,767,105,0,0,114,0,107,104,0,0,108,110,105,109,111,104,0,0,108]
["Mick Sharratt","Swindon RC",null,null,null,"Y",null,764,106,0,107,0,0,110,109,108,106,109,0,104,0,114,103,0,107,107]
["Marc Allen","Swindon RC",null,null,"Y",null,null,759,99,0,97,105,118,101,99,98,102,104,106,106,0,108,100,106,109,106]
["Chris Broad-Drake","Swindon RC",null,null,null,"Y",null,753,0,0,104,0,0,103,107,106,98,113,0,0,0,0,108,104,0,111]
["Adam Giles","Ride 24/7",null,null,null,null,null,745,109,0,99,0,0,105,106,111,0,105,0,0,110,0,0,0,0,0]
["Dave Gibson","Swindon RC",null,null,null,null,null,738,103,0,102,111,0,0,105,105,100,0,0,0,107,105,98,98,0,0]
["Harriet Guest","Performance Cycles","Y",null,null,null,null,736,0,0,92,108,0,108,0,103,0,0,101,0,108,0,96,99,109,99]
["Steve Buckley","Ride 24/7",null,null,null,null,null,732,0,0,0,109,0,0,0,110,104,0,0,103,0,0,101,100,105,92]
["Mark Foyn","Corinium CC",null,null,null,null,null,717,95,0,94,0,0,0,101,102,101,99,107,100,106,0,0,0,100,93]
["Simon James","Corinium CC",null,null,null,"Y",null,715,0,0,91,106,0,0,0,0,0,102,108,0,0,107,0,97,104,0]
["Trevor Hodges","Corinium CC",null,null,null,null,null,712,0,0,0,0,0,100,102,104,0,0,0,99,0,106,0,95,103,98]
["Jeff Smith","Swindon RC",null,null,null,"Y",null,697,94,0,96,104,0,0,97,97,97,96,0,0,103,0,97,94,102,94]
["Jason Costello","Corinium CC",null,null,"Y",null,null,693,0,0,91,103,0,98,0,99,0,100,0,98,0,0,95,0,0,100]
["Rob Patterson","Swindon RC",null,null,null,"Y",null,687,0,0,0,0,0,94,93,96,97,92,103,0,103,100,94,89,0,84]
["Kevin Lister","Corinium CC",null,null,null,null,null,679,0,0,0,97,0,95,95,0,99,97,0,0,0,98,0,0,98,87]
["Allan Norwood","Corinium CC",null,null,null,null,"Y",670,83,0,0,94,114,0,85,94,91,0,0,0,0,97,0,84,95]
["Stephen Chapman","Corinium CC",null,null,null,"Y",null,666,0,0,83,0,115,0,0,0,93,93,0,93,0,0,0,87,96,89]
["Gerry Peppin","Corinium CC",null,null,null,"Y",null,664,92,0,0,0,0,92,92,0,95,0,0,94,100,99,0,0,0,83]
["Paul Fuchs","Corinium CC",null,null,null,"Y",null,663,86,0,87,99,0,0,89,0,90,90,100,92,98,0,0,0,94,0]
["Sharon Dolman","Swindon RC","Y",null,null,null,null,659,0,0,86,0,0,94,0,0,94,94,0,0,99,101,0,91,0,0]
["Jon Tresadern","Swindon RC",null,null,"Y",null,null,654,0,0,0,0,0,0,0,0,0,0,0,108,0,112,106,107,112,109]
["Marguerite Miatt","Corinium CC","Y",null,null,null,"Y",653,0,0,75,87,113,80,83,0,0,83,97,84,93,90,0,76,89,78]
["Annie Pegler","Corinium CC","Y",null,null,null,null,640,69,0,72,83,112,0,0,0,0,0,95,0,0,89,91,77,90,80]
["Fay Tocknell","Swindon RC","Y",null,null,null,null,638,88,0,88,98,0,90,0,0,0,0,102,91,0,0,0,81,0,0]
["Keith Williams","Corinium CC",null,null,null,null,"Y",621,0,0,73,0,0,81,0,85,85,81,98,82,0,91,92,0,88,79]
["Kieran Golding","Swindon RC",null,null,null,null,null,617,82,0,78,92,0,85,0,89,0,86,0,86,97,0,0,79,0,0]
["Denis Hedges","Corinium CC",null,null,null,null,"Y",615,72,0,0,90,0,0,86,0,0,0,0,87,95,95,0,80,0,82]
["Howard Seward","Swindon RC",null,null,null,"Y",null,610,71,0,0,89,0,0,0,88,0,84,0,0,94,0,0,82,92,81]
["Alex Foyn","Corinium CC",null,null,null,null,null,610,0,0,0,0,0,0,0,0,0,0,104,97,105,0,0,96,107,101]
["Sarah Gunn","Corinium CC","Y",null,null,null,null,608,101,0,0,0,0,102,100,0,0,0,109,0,0,0,0,0,101,95]
["Noel MacKenzie","Corinium CC",null,null,null,null,null,599,67,0,0,84,0,0,80,84,84,80,96,81,0,0,90,0,0,0]
["Ross Gregory","Corinium CC",null,null,null,null,"Y",594,64,0,70,0,0,78,79,0,83,78,0,77,92,87,88,75,87,77]
["Keith Waller","Swindon RC",null,null,null,null,null,591,0,0,0,0,0,96,96,0,0,101,0,95,0,104,99,0,0,0]
["William Mackenzie","Corinium CC",null,"Y",null,null,null,579,75,0,0,85,0,0,82,86,86,82,0,83,0,0,0,0,0,0]
["Steve Yates","Corinium CC",null,null,null,null,null,570,0,0,0,0,0,0,115,0,114,0,116,0,113,0,112,0,0,0]
["Oliver Palmer","Swindon RC",null,null,null,null,null,559,85,0,0,93,116,86,88,91,0,0,0,0,0,0,0,0,0,0]
["Michelle Ross","Ride 24/7","Y",null,null,null,null,539,84,0,84,101,0,88,87,95,0,0,0,0,0,0,0,0,0,0]
["Amanda Adams","Swindon RC","Y",null,null,null,null,502,0,0,0,81,0,0,0,0,0,76,94,79,0,0,87,0,85,0]
["Nick Schiettecatte","Middlesex Road Club",null,null,null,null,null,450,0,0,0,0,0,0,0,92,89,88,0,88,0,0,0,0,93,0]
["Paul Adams","Swindon RC",null,null,"Y",null,null,438,0,0,81,95,0,87,0,0,0,0,0,90,0,0,0,85,0,0]
["Steve Davies","Swindon RC",null,null,"Y",null,null,435,107,0,0,113,0,0,109,0,0,106,0,0,0,0,0,0,0,0]
["Ian Barrett","Corinium CC",null,null,null,null,null,416,0,0,0,0,0,0,103,0,0,0,0,107,0,0,102,0,0,104]
["Adriano dos Santos","Swindon RC",null,null,null,null,null,411,0,0,101,107,0,0,0,100,0,103,0,0,0,0,0,0,0,0]
["Carol Clarke","Corinium CC","Y",null,null,null,"Y",388,68,0,74,86,0,0,0,83,0,77,0,0,0,0,0,0,0,0]
["Paul Wood","Swindon Wheelers",null,null,null,null,null,386,70,0,0,82,0,0,0,82,0,0,0,78,0,0,0,74,0,0]
["Ewen Lewis","Swindon Wheelers",null,null,null,null,null,382,0,0,0,0,0,0,0,0,0,0,0,102,0,88,0,93,99,0]
["Rob Everill","Performance Cycles",null,null,null,null,null,364,0,0,89,0,0,0,94,0,0,91,0,0,0,0,0,0,0,90]
["Tony Costello","Corinium CC",null,null,"Y",null,null,359,0,0,0,119,0,0,120,0,120,0,0,0,0,0,0,0,0,0]
["Matt Woods","Banjo Cycles",null,null,null,null,null,359,120,0,0,0,0,0,0,0,0,0,0,120,0,0,119,0,0,0]
["Adrian Williams","Ride 24/7",null,null,null,null,null,345,114,0,0,0,0,115,0,0,0,0,0,0,0,0,116,0,0,0]
["John Whittaker","Corinium CC",null,null,null,null,"Y",337,76,0,77,0,0,0,0,0,0,0,99,85,0,0,0,0,0,0]
["Robin Short","Performance Cycles",null,null,null,null,null,335,113,0,0,0,0,0,0,0,0,110,0,0,0,0,0,112,0]
["Jacob Pilkington","Performance Cycles",null,null,null,null,null,326,101,0,109,116,0,0,0,0,null,0,0,null,0,0,0,0,0]
["Mark Woolford","Chippenham Wheelers",null,null,null,null,null,322,0,0,0,0,0,0,0,0,103,0,0,0,112,0,107,0,0,0]
["Tom Longland","Swindon RC",null,null,null,null,null,321,0,0,0,110,0,0,0,0,0,0,0,0,0,109,0,102,0,0]
["Matt Hodgson","Ride 24/7",null,"Y",null,null,null,320,0,0,106,0,0,0,0,0,107,107,0,0,0,0,0,0,0,0]
["Martin Pitts","Corinium CC",null,null,null,null,null,309,91,0,0,101,117,0,0,0,0,0,0,0,0,0,0,0,0,0]
["Owen Paddock","Swindon RC",null,null,null,null,null,297,0,0,0,0,0,0,0,0,0,0,105,0,0,102,0,90,0,0]
["Matt Seddon","Corinium CC",null,null,null,null,null,283,0,0,0,96,0,0,0,0,92,95,0,null,0,0,0,0,0]
["Tristan Stevens","Swindon RC",null,null,null,null,null,281,0,0,93,0,0,0,0,0,0,0,0,0,0,0,0,0,97,91]
["Mike Firth","Corinium CC",null,null,null,null,null,276,0,0,0,0,0,0,0,101,0,0,0,0,0,0,0,86,0,89]
["Joseph Barrowclough","Ride 24/7",null,null,null,null,null,272,0,0,0,0,0,0,0,0,0,85,0,0,96,0,0,0,91,0]
["Steve Turtle","Swindon Wheelers",null,null,null,null,null,263,0,0,0,0,0,0,0,0,0,0,0,89,0,96,0,78,0,0]
["Terry Barry","Corinium CC",null,null,null,null,null,259,0,0,0,0,0,0,0,0,0,0,0,0,0,86,89,0,84,0]
["James Stewart","Performance Cycles",null,null,null,null,null,238,119,0,119,0,0,0,0,0,0,0,0,0,0,0,0,0,0,0]
["Leigh Schvartz","Swindon RC",null,null,null,null,null,224,0,0,0,0,0,0,110,0,0,114,0,0,0,0,0,0,0,0]
["Henry Slade","Performance Cycles",null,null,null,null,null,222,0,0,0,0,0,0,0,0,0,0,113,109,0,0,0,0,0,0]
["Andy Morgan","Corinium CC",null,null,null,null,null,215,0,0,0,0,0,0,0,0,0,112,0,0,0,0,0,103,0,0]
["Malcolm Walklett","Swindon RC",null,null,null,null,null,214,0,0,0,0,0,0,0,109,0,0,0,0,0,0,105,0,0,0]
["Tom Sewell","Cotswold Veldrijden",null,"Y",null,null,null,211,108,0,103,0,0,0,0,0,0,0,0,0,0,0,0,0,0,0]
["Jerome Wise","Swindon RC",null,null,null,null,null,196,0,0,0,0,0,0,98,0,0,98,0,0,0,0,0,0,0,0]
["Bernie Beale","Swindon RC",null,null,null,null,null,193,0,0,0,102,0,91,0,0,0,0,0,0,0,0,0,0,0,0]
["Wendy Nicholls","Kinetic One","Y",null,null,null,null,192,96,0,0,0,0,0,0,0,0,0,0,96,0,0,0,0,0,0]
["Gary Martin","Westerley CC",null,null,null,null,null,192,0,0,0,0,0,0,91,0,0,0,0,0,101,0,0,0,0,0]
["Neil Boyle","Ride 24/7",null,null,null,null,null,192,93,0,0,0,0,99,0,0,0,0,0,0,0,0,0,0,0,0]
["Sophie Crampin","Dame Cycling",null,null,null,null,null,183,0,0,0,91,0,0,0,0,0,0,0,0,0,92,0,0,0,0]
["Nick Fiore","Cotswold Veldrijden",null,null,null,null,null,181,0,0,0,0,0,0,0,0,87,0,0,0,0,94,0,0,0,0]
["Dave Miatt","Corinium CC",null,null,null,null,null,174,0,0,0,0,0,0,81,0,0,0,0,0,0,0,93,0,0,0]
["James Foster","Performance Cycles",null,null,null,null,null,171,0,0,0,0,0,84,0,0,0,87,0,0,0,0,0,0,0,0]
["Kate Fitton","Dame Cycling","Y",null,null,null,null,169,0,0,0,0,0,82,0,87,0,0,0,0,0,0,0,0,0,0]
["David Smith","Swindon RC",null,null,null,null,null,169,0,0,80,0,0,89,0,0,0,0,0,0,0,0,0,0,0,0]
["Jo Cassidy","Performance Cycles","Y",null,null,null,null,163,0,0,0,0,0,79,84,0,0,0,0,0,0,0,0,0,0,0]
["Joe Petrie","Swindon RC",null,null,null,null,null,161,0,0,0,0,0,0,0,0,82,79,0,0,0,0,0,0,0,0]
["Stewart Layzell","Swindon RC",null,null,null,null,null,149,73,0,76,0,0,0,0,0,0,0,0,0,0,0,0,0,0,0]
["Mandy Scott","Cotswold Veldrijden","Y",null,"Y",null,null,145,74,0,71,0,0,0,0,0,0,0,0,0,0,0,0,0,0,0]
["J Richards",0,"Y",null,null,"Y",null,134,65,0,69,0,0,0,0,0,0,0,0,0,0,0,0,0,0,0]
["Deborah Crawford",0,"Y",null,null,null,null,131,63,0,68,0,0,0,0,0,0,0,0,0,0,0,0,0,0,0]
["Kevin Bexley","Team Optima",null,null,null,null,null,119,0,0,0,0,0,119,0,0,0,0,0,0,0,0,0,0,0,0]
["Chris Beardshaw","Performance Cycles",null,null,"Y",null,null,118,118,0,0,0,0,0,0,0,0,0,0,0,0,0,0,0,0,0]
["Aled Jones","RNRMCA",null,null,null,null,null,117,0,0,0,0,0,0,0,0,0,0,0,0,0,0,0,117,0,0]
["David Arthur","Performance Cycles",null,null,null,null,null,115,0,0,0,0,0,0,0,0,115,0,0,0,0,0,0,0,0,0]
["Neil Pugh","Newbury Road Club",null,null,null,null,null,114,0,0,0,0,0,0,0,114,0,0,0,0,0,0,0,0,0,0]
["Mitch Evans","Ride 24/7",null,null,null,null,null,114,0,0,0,0,0,0,0,0,0,0,0,0,0,0,114,0,0,0]
["Martin Cairns",0,null,null,null,null,null,113,0,0,0,0,0,0,0,0,113,0,0,0,0,0,0,0,0,0]
["Simon Rogers","BJW",null,null,null,null,null,111,0,0,111,0,0,0,0,0,0,0,0,0,0,0,0,0,0,0]
["Ed Coxwell-Rogers ","Ride 24/7",null,null,null,null,null,111,0,0,0,0,0,0,111,0,0,0,0,0,0,0,0,0,0,0]
["Paul Clarkson","Kingston Wheelers",null,null,null,null,null,111,0,0,0,0,0,0,0,0,111,0,0,0,0,0,0,0,0,0]
["Mike Ward","Performance Cycles",null,null,null,null,null,111,0,0,0,0,0,0,0,0,0,111,0,0,0,0,0,0,0,0]
["Tony Staples","RNRMCA",null,null,"Y",null,null,111,0,0,0,0,0,0,0,0,0,0,0,0,0,0,0,111,0,0]
["Jack Thompson","Performance Cycles","Y",null,null,null,null,105,0,0,0,0,0,0,0,0,0,0,0,0,0,0,0,105,0,0]
["Mark Kent","Swindon RC",null,null,null,null,null,104,104,0,0,0,0,0,0,0,0,0,0,0,0,0,0,0,0,0]
["Claire Smith","Swindon RC","Y",null,"Y",null,null,104,0,0,0,0,0,0,0,0,0,0,0,0,104,0,0,0,0,0]
["Kris Langley","Swindon RC",null,null,null,null,null,104,0,0,0,0,0,104,0,0,0,0,0,0,0,0,0,0,0,0]
["Richard Cooper","Swindon RC",null,null,null,null,null,103,0,0,0,0,0,0,0,0,0,0,0,0,0,103,0,0,0,0]
["Mike Holborow","Swindon RC",null,null,null,null,null,102,102,0,0,0,0,0,0,0,0,0,0,0,0,0,0,0,0,0]
["Russ Thompson","Performance Cycles",null,null,"Y",null,null,102,0,0,0,0,0,0,0,0,0,0,0,0,0,0,0,102,0,0]
["Rob Merrison","Swindon RC",null,null,"Y",null,null,100,0,0,100,0,0,0,0,0,0,0,0,0,0,0,0,0,0,0]
["Martin Holloway","Veloton",null,null,null,null,null,98,0,0,98,0,0,0,0,0,0,0,0,0,0,0,0,0,0,0]
["Corinne Clark","Performance Cycles","Y",null,null,null,null,97,97,0,0,0,0,0,0,0,0,0,0,0,0,0,0,0,0,0]
["James Pocock","Ride 24/7",null,null,null,null,null,97,0,0,0,0,0,97,0,0,0,0,0,0,0,0,0,0,0,0]
["Archie Scott","Cotswold Veldrijden",null,"Y",null,null,null,95,0,0,95,0,0,0,0,0,0,0,0,0,0,0,0,0,0,0]
["Marc Lehrer","Ride 24/7",null,null,null,null,null,93,0,0,0,0,0,0,0,93,0,0,0,0,0,0,0,0,0,0]
["Amy Cooper","Dame Cycling","Y",null,null,null,null,93,0,0,0,0,0,0,0,0,0,0,0,0,0,93,0,0,0,0]
["Will Shephard","Ely & District",null,null,"Y",null,null,92,0,0,0,0,0,0,0,0,0,0,0,0,0,0,0,92,0,0]
["John Simmons","Performance Cycles",null,null,null,null,null,90,90,0,0,0,0,0,0,0,0,0,0,0,0,0,0,0,0,0]
["Richard Ash","Swindon RC",null,null,null,null,null,90,90,0,0,0,0,0,0,0,0,0,0,0,0,0,0,0,0,0]
["Roger Bryan","Swindon RC",null,null,null,null,null,90,0,0,0,0,0,0,90,0,0,0,0,0,0,0,0,0,0,0]
["Dave Fitton","West Pennine RC",null,null,null,null,null,90,0,0,0,0,0,0,0,90,0,0,0,0,0,0,0,0,0,0]
["Alistair Moody","RNRMCA",null,null,null,null,null,89,0,0,0,0,0,0,0,0,0,89,0,0,0,0,0,0,0,0]
["Charlie Edmunds","Swindon RC",null,null,null,null,null,88,0,0,0,0,0,0,0,0,88,0,0,0,0,0,0,0,0,0]
["Laura Chadwick","Dame Cycling","Y",null,null,null,null,88,0,0,0,88,0,0,0,0,0,0,0,0,0,0,0,0,0,0]
["Les Sheppard","Swindon Wheelers",null,null,"Y",null,null,88,0,0,0,0,0,0,0,0,0,0,0,0,0,0,0,88,0,0]
["Nick Kent","Dame Cycling",null,null,null,null,null,87,87,0,0,0,0,0,0,0,0,0,0,0,0,0,0,0,0,0]
["Richard Gower","Performance Cycles",null,null,null,null,null,86,0,0,0,0,0,0,0,0,0,0,0,0,0,0,0,0,86,0]
["Richard Alston","RLSCC",null,null,null,null,null,85,0,0,85,0,0,0,0,0,0,0,0,0,0,0,0,0,0,0]
["Peter Mills","Swindon Wheelers",null,null,null,null,null,83,0,0,0,0,0,83,0,0,0,0,0,0,0,0,0,0,0,0]
["Andy Moran","Corinium CC",null,null,null,null,null,83,0,0,0,0,0,0,0,0,0,0,0,0,0,0,0,83,0,0]
["Richard Halliday","Dame Cycling",null,null,"Y",null,null,82,0,0,82,0,0,0,0,0,0,0,0,0,0,0,0,0,0,0]
["Kelli Salone","Dame Cycling","Y",null,"Y",null,null,81,81,0,0,0,0,0,0,0,0,0,0,0,0,0,0,0,0,0]
["Carmen Young","Dame Cycling","Y",null,null,null,null,80,80,0,0,0,0,0,0,0,0,0,0,0,0,0,0,0,0,0]
["Charlotte Berry","Performance Cycles","Y",null,null,null,null,80,0,0,0,0,0,0,0,0,0,0,0,80,0,0,0,0,0,0]
["Chris Fox (SRC)","Swindon RC",null,null,null,null,null,79,79,0,0,0,0,0,0,0,0,0,0,0,0,0,0,0,0,0]
["Mervyn Cox","Performance Cycles",null,null,null,"Y",null,79,0,0,79,0,0,0,0,0,0,0,0,0,0,0,0,0,0,0]
["Katie Scott","Cotswold Veldrijden","Y",null,null,null,null,78,78,0,0,0,0,0,0,0,0,0,0,0,0,0,0,0,0,0]
["Michael Soan",0,null,null,null,null,null,77,77,0,0,0,0,0,0,0,0,0,0,0,0,0,0,0,0,0]
["Alasdair MacKenzie","Corinium CC",null,"Y",null,null,null,76,0,0,0,0,0,0,0,0,0,0,0,76,0,0,0,0,0,0]
["Mandy Martin","Swindon Wheelers","Y",null,null,null,null,73,0,0,0,0,0,0,0,0,0,0,0,0,0,0,0,73,0,0]
["Jo Thompson","Performance Cycles","Y",null,"Y",null,null,72,0,0,0,0,0,0,0,0,0,0,0,0,0,0,0,72,0,0]
["Nikki Thompson","Dame Cycling","Y",null,"Y",null,null,67,0,0,67,0,0,0,0,0,0,0,0,0,0,0,0,0,0,0]
["Jean Kent","Dame Cycling","Y",null,null,null,null,66,66,0,0,0,0,0,0,0,0,0,0,0,0,0,0,0,0,0]
[null,null,null,null,null,null,null,0,0,0,0,0,0,0,0,0,0,0,0,0,0,0,0,0,0,0]
[null,null,null,null,null,null,null,0,0,0,0,0,0,0,0,0,0,0,0,0,0,0,0,0,0,0]
[null,null,null,null,null,null,null,0,0,0,0,0,0,0,0,0,0,0,0,0,0,0,0,0,0,0]
[null,null,null,null,null,null,null,0,0,0,0,0,0,0,0,0,0,0,0,0,0,0,0,0,0,0]
[null,null,null,null,null,null,null,0,0,0,0,0,0,0,0,0,0,0,0,0,0,0,0,0,0,0]
[null,null,null,null,null,null,null,0,0,0,0,0,0,0,0,0,0,0,0,0,0,0,0,0,0,0]
[null,null,null,null,null,null,null,0,0,0,0,0,0,0,0,0,0,0,0,0,0,0,0,0,0,0]
[null,null,null,null,null,null,null,0,0,0,0,0,0,0,0,0,0,0,0,0,0,0,0,0,0,0]
[null,null,null,null,null,null,null,0,0,0,0,0,0,0,0,0,0,0,0,0,0,0,0,0,0,0]
[null,null,null,null,null,null,null,0,0,0,0,0,0,0,0,0,0,0,0,0,0,0,0,0,0,0]
[null,null,null,null,null,null,null,0,0,0,0,0,0,0,0,0,0,0,0,0,0,0,0,0,0,0]
[null,null,null,null,null,null,null,0,0,0,0,0,0,0,0,0,0,0,0,0,0,0,0,0,0,0]
[null,null,null,null,null,null,null,0,0,0,0,0,0,0,0,0,0,0,0,0,0,0,0,0,0,0]
[null,null,null,null,null,null,null,0,0,0,0,0,0,0,0,0,0,0,0,0,0,0,0,0,0,0]
[null,null,null,null,null,null,null,0,0,0,0,0,0,0,0,0,0,0,0,0,0,0,0,0,0,0]
[null,null,null,null,null,null,null,0,0,0,0,0,0,0,0,0,0,0,0,0,0,0,0,0,0,0]
[null,null,null,null,null,null,null,0,0,0,0,0,0,0,0,0,0,0,0,0,0,0,0,0,0,0]
[null,null,null,null,null,null,null,0,0,0,0,0,0,0,0,0,0,0,0,0,0,0,0,0,0,0]
[null,null,null,null,null,null,null,0,0,0,0,0,0,0,0,0,0,0,0,0,0,0,0,0,0,0]
[null,null,null,null,null,null,null,0,0,0,0,0,0,0,0,0,0,0,0,0,0,0,0,0,0,0]
[null,null,null,null,null,null,null,0,0,0,0,0,0,0,0,0,0,0,0,0,0,0,0,0,0,0]
[null,null,null,null,null,null,null,0,0,0,0,0,0,0,0,0,0,0,0,0,0,0,0,0,0,0]
[null,null,null,null,null,null,null,0,0,0,0,0,0,0,0,0,0,0,0,0,0,0,0,0,0,0]
[null,null,null,null,null,null,null,0,0,0,0,0,0,0,0,0,0,0,0,0,0,0,0,0,0,0]
[null,null,null,null,null,null,null,0,0,0,0,0,0,0,0,0,0,0,0,0,0,0,0,0,0,0]
[null,null,null,null,null,null,null,0,0,0,0,0,0,0,0,0,0,0,0,0,0,0,0,0,0,0]
[null,null,null,null,null,null,null,0,0,0,0,0,0,0,0,0,0,0,0,0,0,0,0,0,0,0]
[null,null,null,null,null,null,null,0,0,0,0,0,0,0,0,0,0,0,0,0,0,0,0,0,0,0]
[null,null,null,null,null,null,null,0,0,0,0,0,0,0,0,0,0,0,0,0,0,0,0,0,0,0]
[null,null,null,null,null,null,null,0,0,0,0,0,0,0,0,0,0,0,0,0,0,0,0,0,0,0]
[null,null,null,null,null,null,null,0,0,0,0,0,0,0,0,0,0,0,0,0,0,0,0,0,0,0]
[null,null,null,null,null,null,null,0,0,0,0,0,0,0,0,0,0,0,0,0,0,0,0,0,0,0]
[null,null,null,null,null,null,null,0,0,0,0,0,0,0,0,0,0,0,0,0,0,0,0,0,0,0]
[null,null,null,null,null,null,null,0,0,0,0,0,0,0,0,0,0,0,0,0,0,0,0,0,0,0]
[null,null,null,null,null,null,null,0,0,0,0,0,0,0,0,0,0,0,0,0,0,0,0,0,0,0]
[null,null,null,null,null,null,null,0,0,0,0,0,0,0,0,0,0,0,0,0,0,0,0,0,0,0]
[null,null,null,null,null,null,null,0,0,0,0,0,0,0,0,0,0,0,0,0,0,0,0,0,0,0]
[null,null,null,null,null,null,null,0,0,0,0,0,0,0,0,0,0,0,0,0,0,0,0,0,0,0]

{"sheet":"Points (2015)","index":11,"n_rows":94,"n_cols":65,"rows_kept":94,"cut":false,"hidden":true,"merged":[[5,1,5,63],[7,1,7,2]]}
[null,null,86400]
[null,null,"Start Points",60]
[null,null,"Max Points",75]
[null,null,"Min Points",45,null,null,null,null,null,null,null,null,null,null,null,null,null,525]
[null,null,"Counting Rides",7]
[null,"Swindon RC Club 10 Points Competition 2015\n"]
[null,null,null,null,null,null,null,null,"2015-04-16",null,null,"2015-04-23",null,null,"2015-04-30",null,null,"2015-05-07",null,null,"2015-05-14",null,null,"2015-05-21",null,null,"2015-05-28",null,null,"2015-06-04",null,null,"2015-06-11",null,null,"2015-06-18",null,null,"2015-07-02",null,null,"2015-07-09",null,null,"2015-07-16",null,null,"2015-07-23",null,null,"2015-07-30",null,null,"2015-08-06",null,null,"2015-08-13",null,null,"2015-08-20",null,null,"2015-08-27"]
[null,"(names shaded grey indicate the required marshaling and/or timekeeping has not yet been completed)",null,"Rides","Duties","Total Points (Best 7)","Season's Best","Time","Points","Best\nto date","Time","Points","Best\nto date","Time","Points","Best\nto date","Time","Points","Best\nto date","Time","Points","Best\nto date","Time","Points","Best\nto date","Time","Points","Best\nto date","Time","Points","Best\nto date","Time","Points","Best\nto date","Time","Points","Best\nto date","Time","Points","Best\nto date","Time","Points","Best\nto date","Time","Points","Best\nto date","Time","Points","Best\nto date","Time","Points","Best\nto date","Time","Points","Best\nto date","Time","Points","Best\nto date","Time","Points","Best\nto date","Time","Points","Best\nto date"]
[null,null,1,0,{"$error":"#VALUE!"},0,999,null,0,"",null,0,"",null,0,"",null,0,null,null,0,"",null,0,"",null,0,"",null,0,"",null,0,"",null,0,"",null,0,"",null,0,"",null,0,"",null,0,"",null,0,"",null,0,"",null,0,"",null,0,"",null,0,""]
[1,1,"Howard Seward",8,1,494,"00:27:48","00:31:56",60,"00:31:56",null,0,"00:31:56",null,0,"00:31:56","00:30:13",75,"00:30:13",null,0,"00:30:13",null,0,"00:30:13",null,0,"00:30:13","00:30:14",59.000000000000043,"00:30:13",null,0,"00:30:13","00:29:40",75,"00:29:40",null,0,"00:29:40",null,0,"00:29:40","00:28:40",75,"00:28:40",null,0,"00:28:40",null,0,"00:28:40","00:28:15",75,"00:28:15","00:27:48",75,"00:27:48","00:28:56",45,"00:27:48",null,0,"00:27:48","Howard Seward"]
[2,2,"Andy Claxton",13,2,490,"00:22:34",null,0,"",null,0,"","00:24:30",60,"00:24:30","00:23:39",75,"00:23:39",null,0,"00:23:39","00:23:18",75,"00:23:18","00:23:17",60.999999999999957,"00:23:17",null,0,"00:23:17","00:23:21",56.000000000000171,"00:23:17","00:23:32",45.000000000000057,"00:23:17","00:23:02",74.999999999999943,"00:23:02","00:22:43",75,"00:22:43","00:22:34",68.999999999999915,"00:22:34","00:22:44",49.999999999999837,"00:22:34","00:22:35",58.999999999999744,"00:22:34","00:22:38",55.999999999999872,"00:22:34","00:22:35",58.999999999999744,"00:22:34",null,0,"00:22:34",null,0,"00:22:34","Andy Claxton"]
[3,3,"Jeff Smith",12,11,471,"00:25:28","00:26:26",60,"00:26:26",null,0,"00:26:26","00:26:08",75,"00:26:08","00:26:04",63.999999999999829,"00:26:04",null,0,"00:26:04",null,0,"00:26:04","00:25:51",73.000000000000028,"00:25:51","00:26:38",45,"00:25:51","00:25:58",53.000000000000007,"00:25:51","00:25:46",65.000000000000085,"00:25:46",null,0,"00:25:46",null,0,"00:25:46","00:25:55",50.999999999999794,"00:25:46",null,0,"00:25:46","00:25:28",75,"00:25:28","00:25:29",59.000000000000043,"00:25:28","00:25:32",56.000000000000171,"00:25:28","00:25:53",45,"00:25:28",null,0,"00:25:28","Jeff Smith"]
[4,4,"Mick Sharratt",12,2,464,"00:23:45","00:24:29",60,"00:24:29",null,0,"00:24:29","00:24:26",62.999999999999872,"00:24:26",null,0,"00:24:26",null,0,"00:24:26","00:24:18",68.000000000000256,"00:24:18","00:24:14",63.999999999999829,"00:24:14","00:24:49",45,"00:24:14","00:24:02",72.000000000000085,"00:24:02","00:23:59",62.999999999999872,"00:23:59",null,0,"00:23:59","00:24:05",54.000000000000263,"00:23:59",null,0,"00:23:59","00:23:45",73.999999999999986,"00:23:45","00:24:30",45,"00:23:45",null,0,"00:23:45","00:24:54",45,"00:23:45","00:24:22",45,"00:23:45",null,0,"00:23:45","Mick Sharratt"]
[5,5,"Sharon Dolman",7,1,446,"00:25:51",null,0,"",null,0,"","00:27:39",60,"00:27:39",null,0,"00:27:39",null,0,"00:27:39","00:26:25",75,"00:26:25",null,0,"00:26:25",null,0,"00:26:25","00:26:16",68.999999999999915,"00:26:16","00:26:09",67,"00:26:09",null,0,"00:26:09",null,0,"00:26:09","00:26:26",45,"00:26:09","00:26:14",55.00000000000022,"00:26:09",null,0,"00:26:09","00:25:51",75,"00:25:51",null,0,"00:25:51",null,0,"00:25:51",null,0,"00:25:51","Sharon Dolman"]
[6,6,"Marc Allen",16,3,443,"00:24:02","00:25:33",60,"00:25:33",null,0,"00:25:33","00:25:59",45,"00:25:33","00:25:47",46.000000000000014,"00:25:33","00:26:18",45,"00:25:33","00:25:16",75,"00:25:16","00:25:31",45.000000000000057,"00:25:16","00:26:28",45,"00:25:16","00:24:50",75,"00:24:50","00:24:49",60.999999999999957,"00:24:49","00:25:02",46.999999999999964,"00:24:49","00:24:02",75,"00:24:02",null,0,"00:24:02","00:24:49",45,"00:24:02","00:25:06",45,"00:24:02","00:24:12",50.000000000000135,"00:24:02","00:24:39",45,"00:24:02","00:24:37",45,"00:24:02",null,0,"00:24:02","Marc Allen"]
[7,7,"Niel Dunnage",11,2,434,"00:22:04","00:22:26",60,"00:22:26",null,0,"00:22:26","00:22:51",45,"00:22:26",null,0,"00:22:26","00:23:34",45,"00:22:26",null,0,"00:22:26",null,0,"00:22:26","00:22:51",45,"00:22:26","00:22:16",70.000000000000014,"00:22:16","00:22:17",58.999999999999893,"00:22:16",null,0,"00:22:16","00:22:18",57.999999999999787,"00:22:16",null,0,"00:22:16","00:22:18",57.999999999999936,"00:22:16",null,0,"00:22:16","00:22:19",56.999999999999979,"00:22:16","00:22:04",71.999999999999929,"00:22:04","00:22:21",45,"00:22:04",null,0,"00:22:04","Niel Dunnage"]
[8,8,"Les Liddiard",8,2,416,"00:22:24",null,0,"",null,0,"","00:23:16",60,"00:23:16",null,0,"00:23:16",null,0,"00:23:16","00:22:59",75,"00:22:59","00:22:48",71.000000000000114,"00:22:48",null,0,"00:22:48",null,0,"00:22:48",null,0,"00:22:48","00:22:24",75,"00:22:24","00:22:48",45,"00:22:24","00:22:47",45,"00:22:24",null,0,"00:22:24",null,0,"00:22:24",null,0,"00:22:24","00:22:43",45,"00:22:24","00:23:00",45,"00:22:24",null,0,"00:22:24","Les Liddiard"]
[9,9,"Kieran Golding",9,2,410,"00:27:49","00:28:44",60,"00:28:44",null,0,"00:28:44","00:28:51",53.000000000000007,"00:28:44","00:28:11",75,"00:28:11",null,0,"00:28:11","00:28:14",56.999999999999829,"00:28:11",null,0,"00:28:11","00:29:49",45,"00:28:11",null,0,"00:28:11","00:28:26",45.000000000000057,"00:28:11",null,0,"00:28:11","00:27:49",75,"00:27:49","00:28:06",45,"00:27:49",null,0,"00:27:49",null,0,"00:27:49","00:28:57",45,"00:27:49",null,0,"00:27:49",null,0,"00:27:49",null,0,"00:27:49","Kieran Golding"]
[10,"=","Chris Broad-Drake",9,6,410,"00:23:39",null,0,"",null,0,"","00:24:40",60,"00:24:40",null,0,"00:24:40",null,0,"00:24:40","00:25:02",45,"00:24:40","00:24:25",75,"00:24:25","00:24:59",45,"00:24:25","00:25:40",45,"00:24:25","00:23:44",75,"00:23:44",null,0,"00:23:44",null,0,"00:23:44",null,0,"00:23:44",null,0,"00:23:44","00:24:02",45,"00:23:44","00:24:16",45,"00:23:44",null,0,"00:23:44","00:23:39",65.000000000000085,"00:23:39",null,0,"00:23:39","Chris Broad-Drake"]
[11,11,"Peter Garnett",11,10,399,"00:22:08","00:22:36",60,"00:22:36",null,0,"00:22:36","00:23:10",45,"00:22:36","00:22:18",75,"00:22:18",null,0,"00:22:18","00:22:44",45,"00:22:18","00:22:39",45,"00:22:18","00:22:43",45,"00:22:18","00:22:19",59.000000000000043,"00:22:18","00:22:08",70.000000000000014,"00:22:08",null,0,"00:22:08",null,0,"00:22:08","00:22:33",45,"00:22:08",null,0,"00:22:08",null,0,"00:22:08","00:22:24",45,"00:22:08",null,0,"00:22:08","00:23:16",45,"00:22:08",null,0,"00:22:08","Peter Garnett"]
[12,12,"Dave Gibson",10,10,397,"00:24:41","00:25:04",60,"00:25:04",null,0,"00:25:04","00:24:58",66.000000000000043,"00:24:58","00:24:42",75,"00:24:42",null,0,"00:24:42",null,0,"00:24:42","00:24:41",60.999999999999957,"00:24:41","00:25:05",45,"00:24:41","00:24:58",45,"00:24:41",null,0,"00:24:41",null,0,"00:24:41",null,0,"00:24:41","00:25:17",45,"00:24:41","00:25:06",45,"00:24:41","00:25:24",45,"00:24:41","00:24:58",45,"00:24:41",null,0,"00:24:41",null,0,"00:24:41",null,0,"00:24:41","Dave Gibson"]
[13,13,"Rob Patterson",11,3,393,"00:25:48",null,0,"",null,0,"",null,0,"",null,0,"",null,0,"","00:26:25",60,"00:26:25","00:26:21",64.000000000000128,"00:26:21","00:26:51",45,"00:26:21","01:25:58",45,"00:26:21","00:26:30",50.999999999999794,"00:26:21","00:25:48",75,"00:25:48",null,0,"00:25:48","00:25:55",52.999999999999702,"00:25:48","00:26:15",45,"00:25:48","00:26:05",45,"00:25:48","00:26:24",45,"00:25:48",null,0,"00:25:48","00:26:46",45,"00:25:48",null,0,"00:25:48","Rob Patterson"]
[14,14,"Amanda Adams",6,2,360,"00:31:10",null,0,"",null,0,"",null,0,"","00:32:50",60,"00:32:50",null,0,"00:32:50",null,0,"00:32:50",null,0,"00:32:50",null,0,"00:32:50",null,0,"00:32:50","00:32:50",60,"00:32:50","00:32:01",75,"00:32:01","00:31:10",75,"00:31:10",null,0,"00:31:10",null,0,"00:31:10","00:32:41",45,"00:31:10",null,0,"00:31:10","00:33:34",45,"00:31:10",null,0,"00:31:10",null,0,"00:31:10","Amanda Adams"]
[15,15,"Keith Waller",6,2,346,"00:25:11",null,0,"",null,0,"",null,0,"",null,0,"",null,0,"","00:26:00",60,"00:26:00","00:25:52",67.999999999999957,"00:25:52",null,0,"00:25:52",null,0,"00:25:52","00:25:11",75,"00:25:11",null,0,"00:25:11","00:25:52",45,"00:25:11",null,0,"00:25:11","00:25:33",45,"00:25:11","00:25:18",53.000000000000007,"00:25:11",null,0,"00:25:11",null,0,"00:25:11",null,0,"00:25:11",null,0,"00:25:11","Keith Waller"]
[16,16,"Jon Tresadern",6,1,337,"00:23:27",null,0,"",null,0,"",null,0,"",null,0,"",null,0,"",null,0,"",null,0,"",null,0,"",null,0,"",null,0,"",null,0,"","00:23:52",60,"00:23:52",null,0,"00:23:52","00:23:57",55.00000000000022,"00:23:52","00:24:07",45.000000000000057,"00:23:52","00:23:55",57.000000000000128,"00:23:52","00:23:27",75,"00:23:27","00:23:53",45,"00:23:27",null,0,"00:23:27","Jon Tresadern"]
[17,17,"Oliver Palmer",6,1,334,"00:27:27","00:27:54",60,"00:27:54",null,0,"00:27:54",null,0,"00:27:54","00:27:50",64.000000000000128,"00:27:50","00:28:18",45,"00:27:50","00:28:05",45.000000000000057,"00:27:50","00:27:27",75,"00:27:27","00:28:55",45,"00:27:27",null,0,"00:27:27",null,0,"00:27:27",null,0,"00:27:27",null,0,"00:27:27",null,0,"00:27:27",null,0,"00:27:27",null,0,"00:27:27",null,0,"00:27:27",null,0,"00:27:27",null,0,"00:27:27",null,0,"00:27:27","Oliver Palmer"]
[18,18,"Fay Tocknell",7,1,330,"00:26:14","00:26:14",60,"00:26:14",null,0,"00:26:14","00:27:25",45,"00:26:14","00:27:12",45,"00:26:14",null,0,"00:26:14","00:27:02",45,"00:26:14",null,0,"00:26:14",null,0,"00:26:14",null,0,"00:26:14",null,0,"00:26:14","00:26:36",45,"00:26:14","00:26:49",45,"00:26:14",null,0,"00:26:14",null,0,"00:26:14",null,0,"00:26:14","00:28:20",45,"00:26:14",null,0,"00:26:14",null,0,"00:26:14",null,0,"00:26:14","Fay Tocknell"]
[19,19,"Paul Adams",5,2,329,"00:26:54",null,0,"",null,0,"","00:28:10",60,"00:28:10","00:27:33",75,"00:27:33",null,0,"00:27:33","00:27:37",56.000000000000171,"00:27:33",null,0,"00:27:33",null,0,"00:27:33",null,0,"00:27:33",null,0,"00:27:33",null,0,"00:27:33","00:26:57",75,"00:26:57",null,0,"00:26:57",null,0,"00:26:57",null,0,"00:26:57","00:26:54",63.000000000000171,"00:26:54",null,0,"00:26:54",null,0,"00:26:54",null,0,"00:26:54","Paul Adams"]
[20,20,"Steve Davies",4,1,227,"00:24:14","00:24:14",60,"00:24:14",null,0,"00:24:14",null,0,"00:24:14","00:24:25",49.000000000000178,"00:24:14",null,0,"00:24:14",null,0,"00:24:14","00:24:14",60,"00:24:14",null,0,"00:24:14",null,0,"00:24:14","00:24:16",58.000000000000085,"00:24:14",null,0,"00:24:14",null,0,"00:24:14",null,0,"00:24:14",null,0,"00:24:14",null,0,"00:24:14",null,0,"00:24:14",null,0,"00:24:14",null,0,"00:24:14",null,0,"00:24:14","Steve Davies"]
[21,21,"Adriano dos Santos",4,1,212,"00:24:58",null,0,"",null,0,"","00:25:00",60,"00:25:00","00:25:28",45,"00:25:00",null,0,"00:25:00",null,0,"00:25:00",null,0,"00:25:00","00:25:58",45,"00:25:00",null,0,"00:25:00","00:24:58",62.000000000000213,"00:24:58",null,0,"00:24:58",null,0,"00:24:58",null,0,"00:24:58",null,0,"00:24:58",null,0,"00:24:58",null,0,"00:24:58",null,0,"00:24:58",null,0,"00:24:58",null,0,"00:24:58","Adriano dos Santos"]
[22,22,"Tristan Stevens",3,0,204,"00:26:02",null,0,"",null,0,"","00:26:26",60,"00:26:26",null,0,"00:26:26",null,0,"00:26:26",null,0,"00:26:26",null,0,"00:26:26",null,0,"00:26:26",null,0,"00:26:26",null,0,"00:26:26",null,0,"00:26:26",null,0,"00:26:26",null,0,"00:26:26",null,0,"00:26:26",null,0,"00:26:26",null,0,"00:26:26","00:26:11",74.999999999999943,"00:26:11","00:26:02",68.999999999999915,"00:26:02",null,0,"00:26:02",""]
[23,23,"Tom Longland",3,0,197,"00:24:22",null,0,"",null,0,"",null,0,"","00:24:54",60,"00:24:54",null,0,"00:24:54",null,0,"00:24:54",null,0,"00:24:54",null,0,"00:24:54",null,0,"00:24:54",null,0,"00:24:54",null,0,"00:24:54",null,0,"00:24:54",null,0,"00:24:54","00:24:24",75,"00:24:24",null,0,"00:24:24","00:24:22",61.999999999999915,"00:24:22",null,0,"00:24:22",null,0,"00:24:22",null,0,"00:24:22",""]
[24,24,"Owen Paddock",3,0,150,"00:25:32",null,0,"",null,0,"",null,0,"",null,0,"",null,0,"",null,0,"",null,0,"",null,0,"",null,0,"",null,0,"","00:25:32",60,"00:25:32",null,0,"00:25:32",null,0,"00:25:32","00:25:53",45,"00:25:32",null,0,"00:25:32","00:25:55",45,"00:25:32",null,0,"00:25:32",null,0,"00:25:32",null,0,"00:25:32",""]
[25,25,"David Smith",2,0,135,"00:27:06",null,0,"",null,0,"","00:28:43",60,"00:28:43",null,0,"00:28:43",null,0,"00:28:43","00:27:06",75,"00:27:06",null,0,"00:27:06",null,0,"00:27:06",null,0,"00:27:06",null,0,"00:27:06",null,0,"00:27:06",null,0,"00:27:06",null,0,"00:27:06",null,0,"00:27:06",null,0,"00:27:06",null,0,"00:27:06",null,0,"00:27:06",null,0,"00:27:06",null,0,"00:27:06",""]
[26,"=","Leigh Schvartz",2,0,135,"00:23:33",null,0,"",null,0,"",null,0,"",null,0,"",null,0,"",null,0,"","00:24:11",60,"00:24:11",null,0,"00:24:11",null,0,"00:24:11","00:23:33",75,"00:23:33",null,0,"00:23:33",null,0,"00:23:33",null,0,"00:23:33",null,0,"00:23:33",null,0,"00:23:33",null,0,"00:23:33",null,0,"00:23:33",null,0,"00:23:33",null,0,"00:23:33",""]
[27,"=","Joe Petrie",2,0,135,"00:31:10",null,0,"",null,0,"",null,0,"",null,0,"",null,0,"",null,0,"",null,0,"",null,0,"","00:33:35",60,"00:33:35","00:31:10",75,"00:31:10",null,0,"00:31:10",null,0,"00:31:10",null,0,"00:31:10",null,0,"00:31:10",null,0,"00:31:10",null,0,"00:31:10",null,0,"00:31:10",null,0,"00:31:10",null,0,"00:31:10",""]
[28,"=","Malcolm Walklett",2,0,135,"00:24:09",null,0,"",null,0,"",null,0,"",null,0,"",null,0,"",null,0,"",null,0,"","00:24:46",60,"00:24:46",null,0,"00:24:46",null,0,"00:24:46",null,0,"00:24:46",null,0,"00:24:46",null,0,"00:24:46",null,0,"00:24:46","00:24:09",75,"00:24:09",null,0,"00:24:09",null,0,"00:24:09",null,0,"00:24:09",null,0,"00:24:09",""]
[29,29,"Jerome Wise",2,0,130,"00:25:22",null,0,"",null,0,"",null,0,"",null,0,"",null,0,"",null,0,"","00:25:32",60,"00:25:32",null,0,"00:25:32",null,0,"00:25:32","00:25:22",69.999999999999858,"00:25:22",null,0,"00:25:22",null,0,"00:25:22",null,0,"00:25:22",null,0,"00:25:22",null,0,"00:25:22",null,0,"00:25:22",null,0,"00:25:22",null,0,"00:25:22",null,0,"00:25:22",""]
[30,30,"Bernie Beale",2,2,112,"00:26:33",null,0,"",null,0,"",null,0,"","00:26:33",60,"00:26:33",null,0,"00:26:33","00:26:41",52.00000000000005,"00:26:33",null,0,"00:26:33",null,0,"00:26:33",null,0,"00:26:33",null,0,"00:26:33",null,0,"00:26:33",null,0,"00:26:33",null,0,"00:26:33",null,0,"00:26:33",null,0,"00:26:33",null,0,"00:26:33",null,0,"00:26:33",null,0,"00:26:33",null,0,"00:26:33","Bernie Beale"]
[31,31,"Mark Kent",1,1,60,"00:25:00","00:25:00",60,"00:25:00",null,0,"00:25:00",null,0,"00:25:00",null,0,"00:25:00",null,0,"00:25:00",null,0,"00:25:00",null,0,"00:25:00",null,0,"00:25:00",null,0,"00:25:00",null,0,"00:25:00",null,0,"00:25:00",null,0,"00:25:00",null,0,"00:25:00",null,0,"00:25:00",null,0,"00:25:00",null,0,"00:25:00",null,0,"00:25:00",null,0,"00:25:00",null,0,"00:25:00","Mark Kent"]
[32,"=","Mike Holborow",1,0,60,"00:25:13","00:25:13",60,"00:25:13",null,0,"00:25:13",null,0,"00:25:13",null,0,"00:25:13",null,0,"00:25:13",null,0,"00:25:13",null,0,"00:25:13",null,0,"00:25:13",null,0,"00:25:13",null,0,"00:25:13",null,0,"00:25:13",null,0,"00:25:13",null,0,"00:25:13",null,0,"00:25:13",null,0,"00:25:13",null,0,"00:25:13",null,0,"00:25:13",null,0,"00:25:13",null,0,"00:25:13",""]
[33,"=","Richard Ash",1,0,60,"00:27:03","00:27:03",60,"00:27:03",null,0,"00:27:03",null,0,"00:27:03",null,0,"00:27:03",null,0,"00:27:03",null,0,"00:27:03",null,0,"00:27:03",null,0,"00:27:03",null,0,"00:27:03",null,0,"00:27:03",null,0,"00:27:03",null,0,"00:27:03",null,0,"00:27:03",null,0,"00:27:03",null,0,"00:27:03",null,0,"00:27:03",null,0,"00:27:03",null,0,"00:27:03",null,0,"00:27:03",""]
[34,"=","Chris Fox (SRC)",1,1,60,"00:29:35","00:29:35",60,"00:29:35",null,0,"00:29:35",null,0,"00:29:35",null,0,"00:29:35",null,0,"00:29:35",null,0,"00:29:35",null,0,"00:29:35",null,0,"00:29:35",null,0,"00:29:35",null,0,"00:29:35",null,0,"00:29:35",null,0,"00:29:35",null,0,"00:29:35",null,0,"00:29:35",null,0,"00:29:35",null,0,"00:29:35",null,0,"00:29:35",null,0,"00:29:35",null,0,"00:29:35","Chris Fox (SRC)"]
[35,"=","Rob Merrison",1,1,60,"00:25:02",null,0,"",null,0,"","00:25:02",60,"00:25:02",null,0,"00:25:02",null,0,"00:25:02",null,0,"00:25:02",null,0,"00:25:02",null,0,"00:25:02",null,0,"00:25:02",null,0,"00:25:02",null,0,"00:25:02",null,0,"00:25:02",null,0,"00:25:02",null,0,"00:25:02",null,0,"00:25:02",null,0,"00:25:02",null,0,"00:25:02",null,0,"00:25:02",null,0,"00:25:02","Rob Merrison"]
[36,"=","Stewart Layzell",1,0,60,"00:30:23",null,0,"",null,0,"","00:30:23",60,"00:30:23",null,0,"00:30:23",null,0,"00:30:23",null,0,"00:30:23",null,0,"00:30:23",null,0,"00:30:23",null,0,"00:30:23",null,0,"00:30:23",null,0,"00:30:23",null,0,"00:30:23",null,0,"00:30:23",null,0,"00:30:23",null,0,"00:30:23",null,0,"00:30:23",null,0,"00:30:23",null,0,"00:30:23",null,0,"00:30:23",""]
[37,"=","Kris Langley",1,0,60,"00:25:00",null,0,"",null,0,"",null,0,"",null,0,"",null,0,"","00:25:00",60,"00:25:00",null,0,"00:25:00",null,0,"00:25:00",null,0,"00:25:00",null,0,"00:25:00",null,0,"00:25:00",null,0,"00:25:00",null,0,"00:25:00",null,0,"00:25:00",null,0,"00:25:00",null,0,"00:25:00",null,0,"00:25:00",null,0,"00:25:00",null,0,"00:25:00",""]
[38,"=","Roger Bryan",1,0,60,"00:26:53",null,0,"",null,0,"",null,0,"",null,0,"",null,0,"",null,0,"","00:26:53",60,"00:26:53",null,0,"00:26:53",null,0,"00:26:53",null,0,"00:26:53",null,0,"00:26:53",null,0,"00:26:53",null,0,"00:26:53",null,0,"00:26:53",null,0,"00:26:53",null,0,"00:26:53",null,0,"00:26:53",null,0,"00:26:53",null,0,"00:26:53",""]
[39,"=","Charlie Edmunds",1,0,60,"00:27:40",null,0,"",null,0,"",null,0,"",null,0,"",null,0,"",null,0,"",null,0,"",null,0,"","00:27:40",60,"00:27:40",null,0,"00:27:40",null,0,"00:27:40",null,0,"00:27:40",null,0,"00:27:40",null,0,"00:27:40",null,0,"00:27:40",null,0,"00:27:40",null,0,"00:27:40",null,0,"00:27:40",null,0,"00:27:40",""]
[40,"=","Claire Smith",1,0,60,"00:25:48",null,0,"",null,0,"",null,0,"",null,0,"",null,0,"",null,0,"",null,0,"",null,0,"",null,0,"",null,0,"",null,0,"",null,0,"","00:25:48",60,"00:25:48",null,0,"00:25:48",null,0,"00:25:48",null,0,"00:25:48",null,0,"00:25:48",null,0,"00:25:48",null,0,"00:25:48",""]
[41,"=","Richard Cooper",1,0,60,"00:25:41",null,0,"",null,0,"",null,0,"",null,0,"",null,0,"",null,0,"",null,0,"",null,0,"",null,0,"",null,0,"",null,0,"",null,0,"",null,0,"","00:25:41",60,"00:25:41",null,0,"00:25:41",null,0,"00:25:41",null,0,"00:25:41",null,0,"00:25:41",null,0,"00:25:41",""]
[42,"",null,0,{"$error":"#N/A"},0,999,null,0,"",null,0,"",null,0,"",null,0,"",null,0,"",null,0,"",null,0,"",null,0,"",null,0,"",null,0,"",null,0,"",null,0,"",null,0,"",null,0,"",null,0,"",null,0,"",null,0,"",null,0,"",null,0,"",{"$error":"#N/A"}]
[43,"",null,0,{"$error":"#N/A"},0,999,null,0,"",null,0,"",null,0,"",null,0,"",null,0,"",null,0,"",null,0,"",null,0,"",null,0,"",null,0,"",null,0,"",null,0,"",null,0,"",null,0,"",null,0,"",null,0,"",null,0,"",null,0,"",null,0,"",{"$error":"#N/A"}]
[44,"",null,0,{"$error":"#N/A"},0,999,null,0,"",null,0,"",null,0,"",null,0,"",null,0,"",null,0,"",null,0,"",null,0,"",null,0,"",null,0,"",null,0,"",null,0,"",null,0,"",null,0,"",null,0,"",null,0,"",null,0,"",null,0,"",null,0,"",{"$error":"#N/A"}]
[45,"",null,0,{"$error":"#N/A"},0,999,null,0,"",null,0,"",null,0,"",null,0,"",null,0,"",null,0,"",null,0,"",null,0,"",null,0,"",null,0,"",null,0,"",null,0,"",null,0,"",null,0,"",null,0,"",null,0,"",null,0,"",null,0,"",null,0,"",{"$error":"#N/A"}]
[46,"",null,0,{"$error":"#N/A"},0,999,null,0,"",null,0,"",null,0,"",null,0,"",null,0,"",null,0,"",null,0,"",null,0,"",null,0,"",null,0,"",null,0,"",null,0,"",null,0,"",null,0,"",null,0,"",null,0,"",null,0,"",null,0,"",null,0,"",{"$error":"#N/A"}]
[47,"",null,0,{"$error":"#N/A"},0,999,null,0,"",null,0,"",null,0,"",null,0,"",null,0,"",null,0,"",null,0,"",null,0,"",null,0,"",null,0,"",null,0,"",null,0,"",null,0,"",null,0,"",null,0,"",null,0,"",null,0,"",null,0,"",null,0,"",{"$error":"#N/A"}]
[48,"",null,0,{"$error":"#N/A"},0,999,null,0,"",null,0,"",null,0,"",null,0,"",null,0,"",null,0,"",null,0,"",null,0,"",null,0,"",null,0,"",null,0,"",null,0,"",null,0,"",null,0,"",null,0,"",null,0,"",null,0,"",null,0,"",null,0,"",{"$error":"#N/A"}]
[49,"",null,0,{"$error":"#N/A"},0,999,null,0,"",null,0,"",null,0,"",null,0,"",null,0,"",null,0,"",null,0,"",null,0,"",null,0,"",null,0,"",null,0,"",null,0,"",null,0,"",null,0,"",null,0,"",null,0,"",null,0,"",null,0,"",null,0,"",{"$error":"#N/A"}]
[50,"",null,0,{"$error":"#N/A"},0,999,null,0,"",null,0,"",null,0,"",null,0,"",null,0,"",null,0,"",null,0,"",null,0,"",null,0,"",null,0,"",null,0,"",null,0,"",null,0,"",null,0,"",null,0,"",null,0,"",null,0,"",null,0,"",null,0,"",{"$error":"#N/A"}]
[51,"",null,0,{"$error":"#N/A"},0,999,null,0,"",null,0,"",null,0,"",null,0,"",null,0,"",null,0,"",null,0,"",null,0,"",null,0,"",null,0,"",null,0,"",null,0,"",null,0,"",null,0,"",null,0,"",null,0,"",null,0,"",null,0,"",null,0,"",{"$error":"#N/A"}]
[52,"",null,0,{"$error":"#N/A"},0,999,null,0,"",null,0,"",null,0,"",null,0,"",null,0,"",null,0,"",null,0,"",null,0,"",null,0,"",null,0,"",null,0,"",null,0,"",null,0,"",null,0,"",null,0,"",null,0,"",null,0,"",null,0,"",null,0,"",{"$error":"#N/A"}]
[53,"",null,0,{"$error":"#N/A"},0,999,null,0,"",null,0,"",null,0,"",null,0,"",null,0,"",null,0,"",null,0,"",null,0,"",null,0,"",null,0,"",null,0,"",null,0,"",null,0,"",null,0,"",null,0,"",null,0,"",null,0,"",null,0,"",null,0,"",{"$error":"#N/A"}]
[54,"",null,0,{"$error":"#N/A"},0,999,null,0,"",null,0,"",null,0,"",null,0,"",null,0,"",null,0,"",null,0,"",null,0,"",null,0,"",null,0,"",null,0,"",null,0,"",null,0,"",null,0,"",null,0,"",null,0,"",null,0,"",null,0,"",null,0,"",{"$error":"#N/A"}]
[55,"",null,0,{"$error":"#N/A"},0,999,null,0,"",null,0,"",null,0,"",null,0,"",null,0,"",null,0,"",null,0,"",null,0,"",null,0,"",null,0,"",null,0,"",null,0,"",null,0,"",null,0,"",null,0,"",null,0,"",null,0,"",null,0,"",null,0,"",{"$error":"#N/A"}]
[56,"",null,0,{"$error":"#N/A"},0,999,null,0,"",null,0,"",null,0,"",null,0,"",null,0,"",null,0,"",null,0,"",null,0,"",null,0,"",null,0,"",null,0,"",null,0,"",null,0,"",null,0,"",null,0,"",null,0,"",null,0,"",null,0,"",null,0,"",{"$error":"#N/A"}]
[57,"",null,0,{"$error":"#N/A"},0,999,null,0,"",null,0,"",null,0,"",null,0,"",null,0,"",null,0,"",null,0,"",null,0,"",null,0,"",null,0,"",null,0,"",null,0,"",null,0,"",null,0,"",null,0,"",null,0,"",null,0,"",null,0,"",null,0,"",{"$error":"#N/A"}]
[58,"",null,0,{"$error":"#N/A"},0,999,null,0,"",null,0,"",null,0,"",null,0,"",null,0,"",null,0,"",null,0,"",null,0,"",null,0,"",null,0,"",null,0,"",null,0,"",null,0,"",null,0,"",null,0,"",null,0,"",null,0,"",null,0,"",null,0,"",{"$error":"#N/A"}]
[59,"",null,0,{"$error":"#N/A"},0,999,null,0,"",null,0,"",null,0,"",null,0,"",null,0,"",null,0,"",null,0,"",null,0,"",null,0,"",null,0,"",null,0,"",null,0,"",null,0,"",null,0,"",null,0,"",null,0,"",null,0,"",null,0,"",null,0,"",{"$error":"#N/A"}]
[60,"",null,0,{"$error":"#N/A"},0,999,null,0,"",null,0,"",null,0,"",null,0,"",null,0,"",null,0,"",null,0,"",null,0,"",null,0,"",null,0,"",null,0,"",null,0,"",null,0,"",null,0,"",null,0,"",null,0,"",null,0,"",null,0,"",null,0,"",{"$error":"#N/A"}]
[61,"",null,0,{"$error":"#N/A"},0,999,null,0,"",null,0,"",null,0,"",null,0,"",null,0,"",null,0,"",null,0,"",null,0,"",null,0,"",null,0,"",null,0,"",null,0,"",null,0,"",null,0,"",null,0,"",null,0,"",null,0,"",null,0,"",null,0,"",{"$error":"#N/A"}]
[62,"",null,0,{"$error":"#N/A"},0,999,null,0,"",null,0,"",null,0,"",null,0,"",null,0,"",null,0,"",null,0,"",null,0,"",null,0,"",null,0,"",null,0,"",null,0,"",null,0,"",null,0,"",null,0,"",null,0,"",null,0,"",null,0,"",null,0,"",{"$error":"#N/A"}]
[63,"",null,0,{"$error":"#N/A"},0,999,null,0,"",null,0,"",null,0,"",null,0,"",null,0,"",null,0,"",null,0,"",null,0,"",null,0,"",null,0,"",null,0,"",null,0,"",null,0,"",null,0,"",null,0,"",null,0,"",null,0,"",null,0,"",null,0,"",{"$error":"#N/A"}]
[64,"",null,0,{"$error":"#N/A"},0,999,null,0,"",null,0,"",null,0,"",null,0,"",null,0,"",null,0,"",null,0,"",null,0,"",null,0,"",null,0,"",null,0,"",null,0,"",null,0,"",null,0,"",null,0,"",null,0,"",null,0,"",null,0,"",null,0,"",{"$error":"#N/A"}]
[65,"",null,0,{"$error":"#N/A"},0,999,null,0,"",null,0,"",null,0,"",null,0,"",null,0,"",null,0,"",null,0,"",null,0,"",null,0,"",null,0,"",null,0,"",null,0,"",null,0,"",null,0,"",null,0,"",null,0,"",null,0,"",null,0,"",null,0,"",{"$error":"#N/A"}]
[66,"",null,0,{"$error":"#N/A"},0,999,null,0,"",null,0,"",null,0,"",null,0,"",null,0,"",null,0,"",null,0,"",null,0,"",null,0,"",null,0,"",null,0,"",null,0,"",null,0,"",null,0,"",null,0,"",null,0,"",null,0,"",null,0,"",null,0,"",{"$error":"#N/A"}]
[67,"",null,0,{"$error":"#N/A"},0,999,null,0,"",null,0,"",null,0,"",null,0,"",null,0,"",null,0,"",null,0,"",null,0,"",null,0,"",null,0,"",null,0,"",null,0,"",null,0,"",null,0,"",null,0,"",null,0,"",null,0,"",null,0,"",null,0,"",{"$error":"#N/A"}]
[68,"",null,0,{"$error":"#N/A"},0,999,null,0,"",null,0,"",null,0,"",null,0,"",null,0,"",null,0,"",null,0,"",null,0,"",null,0,"",null,0,"",null,0,"",null,0,"",null,0,"",null,0,"",null,0,"",null,0,"",null,0,"",null,0,"",null,0,"",{"$error":"#N/A"}]
[69,"",null,0,{"$error":"#N/A"},0,999,null,0,"",null,0,"",null,0,"",null,0,"",null,0,"",null,0,"",null,0,"",null,0,"",null,0,"",null,0,"",null,0,"",null,0,"",null,0,"",null,0,"",null,0,"",null,0,"",null,0,"",null,0,"",null,0,"",{"$error":"#N/A"}]
[70,"",null,0,{"$error":"#N/A"},0,999,null,0,"",null,0,"",null,0,"",null,0,"",null,0,"",null,0,"",null,0,"",null,0,"",null,0,"",null,0,"",null,0,"",null,0,"",null,0,"",null,0,"",null,0,"",null,0,"",null,0,"",null,0,"",null,0,"",{"$error":"#N/A"}]
[71,"",null,0,{"$error":"#N/A"},0,999,null,0,"",null,0,"",null,0,"",null,0,"",null,0,"",null,0,"",null,0,"",null,0,"",null,0,"",null,0,"",null,0,"",null,0,"",null,0,"",null,0,"",null,0,"",null,0,"",null,0,"",null,0,"",null,0,"",{"$error":"#N/A"}]
[72,"",null,0,{"$error":"#N/A"},0,999,null,0,"",null,0,"",null,0,"",null,0,"",null,0,"",null,0,"",null,0,"",null,0,"",null,0,"",null,0,"",null,0,"",null,0,"",null,0,"",null,0,"",null,0,"",null,0,"",null,0,"",null,0,"",null,0,"",{"$error":"#N/A"}]
[73,"",null,0,{"$error":"#N/A"},0,999,null,0,"",null,0,"",null,0,"",null,0,"",null,0,"",null,0,"",null,0,"",null,0,"",null,0,"",null,0,"",null,0,"",null,0,"",null,0,"",null,0,"",null,0,"",null,0,"",null,0,"",null,0,"",null,0,"",{"$error":"#N/A"}]
[74,"",null,0,{"$error":"#N/A"},0,999,null,0,"",null,0,"",null,0,"",null,0,"",null,0,"",null,0,"",null,0,"",null,0,"",null,0,"",null,0,"",null,0,"",null,0,"",null,0,"",null,0,"",null,0,"",null,0,"",null,0,"",null,0,"",null,0,"",{"$error":"#N/A"}]
[75,"",null,0,{"$error":"#N/A"},0,999,null,0,"",null,0,"",null,0,"",null,0,"",null,0,"",null,0,"",null,0,"",null,0,"",null,0,"",null,0,"",null,0,"",null,0,"",null,0,"",null,0,"",null,0,"",null,0,"",null,0,"",null,0,"",null,0,"",{"$error":"#N/A"}]
[76,"",null,0,{"$error":"#N/A"},0,999,null,0,"",null,0,"",null,0,"",null,0,"",null,0,"",null,0,"",null,0,"",null,0,"",null,0,"",null,0,"",null,0,"",null,0,"",null,0,"",null,0,"",null,0,"",null,0,"",null,0,"",null,0,"",null,0,"",{"$error":"#N/A"}]
[77,"",null,0,{"$error":"#N/A"},0,999,null,0,"",null,0,"",null,0,"",null,0,"",null,0,"",null,0,"",null,0,"",null,0,"",null,0,"",null,0,"",null,0,"",null,0,"",null,0,"",null,0,"",null,0,"",null,0,"",null,0,"",null,0,"",null,0,"",{"$error":"#N/A"}]
[78,"",null,0,{"$error":"#N/A"},0,999,null,0,"",null,0,"",null,0,"",null,0,"",null,0,"",null,0,"",null,0,"",null,0,"",null,0,"",null,0,"",null,0,"",null,0,"",null,0,"",null,0,"",null,0,"",null,0,"",null,0,"",null,0,"",null,0,"",{"$error":"#N/A"}]
[79,"",null,0,{"$error":"#N/A"},0,999,null,0,"",null,0,"",null,0,"",null,0,"",null,0,"",null,0,"",null,0,"",null,0,"",null,0,"",null,0,"",null,0,"",null,0,"",null,0,"",null,0,"",null,0,"",null,0,"",null,0,"",null,0,"",null,0,"",{"$error":"#N/A"}]
[80,"",null,0,{"$error":"#N/A"},0,999,null,0,"",null,0,"",null,0,"",null,0,"",null,0,"",null,0,"",null,0,"",null,0,"",null,0,"",null,0,"",null,0,"",null,0,"",null,0,"",null,0,"",null,0,"",null,0,"",null,0,"",null,0,"",null,0,"",{"$error":"#N/A"}]
[81,"",null,0,{"$error":"#N/A"},0,999,null,0,"",null,0,"",null,0,"",null,0,"",null,0,"",null,0,"",null,0,"",null,0,"",null,0,"",null,0,"",null,0,"",null,0,"",null,0,"",null,0,"",null,0,"",null,0,"",null,0,"",null,0,"",null,0,"",{"$error":"#N/A"}]
[82,"",null,0,{"$error":"#N/A"},0,999,null,0,"",null,0,"",null,0,"",null,0,"",null,0,"",null,0,"",null,0,"",null,0,"",null,0,"",null,0,"",null,0,"",null,0,"",null,0,"",null,0,"",null,0,"",null,0,"",null,0,"",null,0,"",null,0,"",{"$error":"#N/A"}]
[83,"",null,0,{"$error":"#N/A"},0,999,null,0,"",null,0,"",null,0,"",null,0,"",null,0,"",null,0,"",null,0,"",null,0,"",null,0,"",null,0,"",null,0,"",null,0,"",null,0,"",null,0,"",null,0,"",null,0,"",null,0,"",null,0,"",null,0,"",{"$error":"#N/A"}]
[84,"",null,0,{"$error":"#N/A"},0,999,null,0,"",null,0,"",null,0,"",null,0,"",null,0,"",null,0,"",null,0,"",null,0,"",null,0,"",null,0,"",null,0,"",null,0,"",null,0,"",null,0,"",null,0,"",null,0,"",null,0,"",null,0,"",null,0,""]
[85]

{"sheet":"Scratch (2015)","index":12,"n_rows":47,"n_cols":48,"rows_kept":47,"cut":false,"hidden":true,"merged":[[2,0,2,26],[3,0,4,0],[3,2,3,8],[3,11,3,26]]}
["Counting Rides",null,null,null,null,null,null,null,null,null,7,null,7,null,null,7,null,null,5,null,null,5,null,null,5]
["Minimum Riders",null,null,null,null,null,null,null,null,null,10,41,5,null,10,5,null,7,3,null,3,3,null,0,3,null,15]
["Swindon RC Club 10 Scratch Competitions 2015\n\n\n"]
["(names shaded grey indicate the required marshaling and/or timekeeping has not yet been completed)",null,"Best Times",null,null,null,null,null,null,null,null,"Average Speeds (m.p.h.)\n(speeds shaded grey denote the required number of rides have not yet been completed)"]
[null,"Duties",1,2,3,4,5,6,7,null,14,"Overall \n(7 rides)","Eligible",3,"Non-Aero \n(7 rides)","Eligible",6,"50 & Over \n(7 rides)","Eligible",2,"Ladies \n(5 rides)","Eligible",0,"Under 18\n(5 rides)","Eligible",3,"Newcomer \n(5 rides)",null,null,"2015-04-16","2015-04-23","2015-04-30","2015-05-07","2015-05-14","2015-05-21","2015-05-28","2015-06-04","2015-06-11","2015-06-18","2015-07-02","2015-07-09","2015-07-16","2015-07-23","2015-07-30","2015-08-06","2015-08-13","2015-08-20","2015-08-27"]
[1,{"$error":"#VALUE!"},"","","","","","","",0,"",{"$error":"#DIV/0!"},null,"","",null,"","",null,"","",null,"","",null,"",""]
["Niel Dunnage",2,"00:22:04","00:22:16","00:22:17","00:22:18","00:22:18","00:22:19","00:22:21",7,"Y",26.950000000000003,null,"","",null,"","",null,"","",null,"","",null,"","",null,"Niel Dunnage","00:22:26",null,"00:22:51",null,"00:23:34",null,null,"00:22:51","00:22:16","00:22:17",null,"00:22:18",null,"00:22:18",null,"00:22:19","00:22:04","00:22:21"]
["Peter Garnett",10,"00:22:08","00:22:18","00:22:19","00:22:24","00:22:33","00:22:36","00:22:39",7,"Y",26.770000000000003,null,"","",null,"","",null,"","",null,"","",null,"","",null,"Peter Garnett","00:22:36",null,"00:23:10","00:22:18",null,"00:22:44","00:22:39","00:22:43","00:22:19","00:22:08",null,null,"00:22:33",null,null,"00:22:24",null,"00:23:16"]
["Andy Claxton",2,"00:22:34","00:22:35","00:22:35","00:22:38","00:22:43","00:22:44","00:23:02",7,"Y",26.450000000000003,null,"","",null,"","",null,"","",null,"","",null,"","",null,"Andy Claxton",null,null,"00:24:30","00:23:39",null,"00:23:18","00:23:17",null,"00:23:21","00:23:32","00:23:02","00:22:43","00:22:34","00:22:44","00:22:35","00:22:38","00:22:35"]
["Les Liddiard",2,"00:22:24","00:22:43","00:22:47","00:22:48","00:22:48","00:22:59","00:23:00",7,"Y",26.34,null,"","","Y","Y",26.34,null,"","",null,"","",null,"","",null,"Les Liddiard",null,null,"00:23:16",null,null,"00:22:59","00:22:48",null,null,null,"00:22:24","00:22:48","00:22:47",null,null,null,"00:22:43","00:23:00"]
["Jon Tresadern",1,"00:23:27","00:23:52","00:23:53","00:23:55","00:23:57","00:24:07","",6,"",25.150000000000002,"Y","","",null,"","",null,"","",null,"","","Y","Y",25.200000000000003,null,"Jon Tresadern",null,null,null,null,null,null,null,null,null,null,null,"00:23:52",null,"00:23:57","00:24:07","00:23:55","00:23:27","00:23:53"]
["Leigh Schvartz",0,"00:23:33","00:24:11","","","","","",2,"",25.14,null,"","",null,"","",null,"","",null,"","",null,"","",null,"",null,null,null,null,null,null,"00:24:11",null,null,"00:23:33"]
["Mick Sharratt",2,"00:23:45","00:23:59","00:24:02","00:24:05","00:24:14","00:24:18","00:24:22",7,"Y",24.89,null,"","","Y","Y",24.89,null,"","",null,"","",null,"","",null,"Mick Sharratt","00:24:29",null,"00:24:26",null,null,"00:24:18","00:24:14","00:24:49","00:24:02","00:23:59",null,"00:24:05",null,"00:23:45","00:24:30",null,"00:24:54","00:24:22"]
["Chris Broad-Drake",6,"00:23:39","00:23:44","00:24:02","00:24:16","00:24:25","00:24:40","00:24:59",7,"Y",24.75,null,"","","Y","Y",24.75,null,"","",null,"","",null,"","",null,"Chris Broad-Drake",null,null,"00:24:40",null,null,"00:25:02","00:24:25","00:24:59","00:25:40","00:23:44",null,null,null,null,"00:24:02","00:24:16",null,"00:23:39"]
["Steve Davies",1,"00:24:14","00:24:14","00:24:16","00:24:25","","","",4,"",24.71,null,"","",null,"","",null,"","",null,"","",null,"","",null,"Steve Davies","00:24:14",null,null,"00:24:25",null,null,"00:24:14",null,null,"00:24:16"]
["Malcolm Walklett",0,"00:24:09","00:24:46","","","","","",2,"",24.540000000000003,"Y","",24.540000000000003,null,"","",null,"","",null,"","","Y","",24.540000000000003,null,"",null,null,null,null,null,null,null,"00:24:46",null,null,null,null,null,null,"00:24:09"]
["Tom Longland",0,"00:24:22","00:24:24","00:24:54","","","","",3,"",24.44,null,"","",null,"","",null,"","",null,"","",null,"","",null,"",null,null,null,"00:24:54",null,null,null,null,null,null,null,null,null,"00:24:24",null,"00:24:22"]
["Marc Allen",3,"00:24:02","00:24:12","00:24:37","00:24:39","00:24:49","00:24:49","00:24:50",7,"Y",24.430000000000003,"Y","Y",24.430000000000003,null,"","",null,"","",null,"","",null,"","",null,"Marc Allen","00:25:33",null,"00:25:59","00:25:47","00:26:18","00:25:16","00:25:31","00:26:28","00:24:50","00:24:49","00:25:02","00:24:02",null,"00:24:49","00:25:06","00:24:12","00:24:39","00:24:37"]
["Dave Gibson",10,"00:24:41","00:24:42","00:24:58","00:24:58","00:24:58","00:25:04","00:25:05",7,"Y",24.080000000000002,"Y","Y",24.080000000000002,null,"","",null,"","",null,"","",null,"","",null,"Dave Gibson","00:25:04",null,"00:24:58","00:24:42",null,null,"00:24:41","00:25:05","00:24:58",null,null,null,"00:25:17","00:25:06","00:25:24","00:24:58"]
["Mark Kent",1,"00:25:00","","","","","","",1,"",24,null,"","",null,"","",null,"","",null,"","",null,"","",null,"Mark Kent","00:25:00"]
["Kris Langley",0,"00:25:00","","","","","","",1,"",24,null,"","",null,"","",null,"","",null,"","","Y","",24,null,"",null,null,null,null,null,"00:25:00"]
["Rob Merrison",1,"00:25:02","","","","","","",1,"",23.970000000000002,null,"","",null,"","",null,"","",null,"","",null,"","",null,"Rob Merrison",null,null,"00:25:02"]
["Mike Holborow",0,"00:25:13","","","","","","",1,"",23.8,null,"","",null,"","",null,"","",null,"","",null,"","",null,"","00:25:13"]
["Adriano dos Santos",1,"00:24:58","00:25:00","00:25:28","00:25:58","","","",4,"",23.67,null,"","",null,"","",null,"","",null,"","",null,"","",null,"Adriano dos Santos",null,null,"00:25:00","00:25:28",null,null,null,"00:25:58",null,"00:24:58"]
["Jerome Wise",0,"00:25:22","00:25:32","","","","","",2,"",23.580000000000002,null,"","",null,"","",null,"","",null,"","","Y","",23.580000000000002,null,"",null,null,null,null,null,null,"00:25:32",null,null,"00:25:22"]
["Keith Waller",2,"00:25:11","00:25:18","00:25:33","00:25:52","00:25:52","00:26:00","",6,"",23.42,null,"","",null,"","",null,"","",null,"","",null,"","",null,"Keith Waller",null,null,null,null,null,"00:26:00","00:25:52",null,null,"00:25:11",null,"00:25:52",null,"00:25:33","00:25:18"]
["Richard Cooper",0,"00:25:41","","","","","","",null,null,23.37,null,null,"","Y",null,23.37,null,null,"",null,null,"","Y","",23.37,null,null,null,null,null,null,null,null,null,null,null,null,null,null,"00:25:41"]
["Jeff Smith",11,"00:25:28","00:25:29","00:25:32","00:25:46","00:25:51","00:25:53","00:25:55",7,"Y",23.35,"Y","Y",23.35,"Y","Y",23.35,null,"","",null,"","",null,"","",null,"Jeff Smith","00:26:26",null,"00:26:08","00:26:04",null,null,"00:25:51","00:26:38","00:25:58","00:25:46",null,null,"00:25:55",null,"00:25:28","00:25:29","00:25:32","00:25:53"]
["Owen Paddock",0,"00:25:32","00:25:53","00:25:55","","","","",3,"",23.28,"Y","",23.28,null,"","",null,"","",null,"","",null,"","",null,"",null,null,null,null,null,null,null,null,null,null,"00:25:32",null,null,"00:25:53",null,"00:25:55"]
["Claire Smith",0,"00:25:48","","","","","","",1,"",23.26,"Y","",23.26,null,"","","Y","",23.26,null,"","",null,"","",null,"",null,null,null,null,null,null,null,null,null,null,null,null,"00:25:48"]
["Rob Patterson",3,"00:25:48","00:25:55","00:25:58","00:26:05","00:26:15","00:26:21","00:26:24",7,"Y",22.990000000000002,null,"","","Y","Y",22.990000000000002,null,"","",null,"","",null,"","",null,"Rob Patterson",null,null,null,null,null,"00:26:25","00:26:21","00:26:51","00:25:58","00:26:30","00:25:48",null,"00:25:55","00:26:15","00:26:05","00:26:24",null,"00:26:46"]
["Tristan Stevens",0,"00:26:02","00:26:11","00:26:26","","","","",null,null,22.89,null,null,"",null,null,"",null,null,"",null,null,"","Y",null,22.89,null,null,null,null,"00:26:26",null,null,null,null,null,null,null,null,null,null,null,null,null,"00:26:11","00:26:02"]
["Sharon Dolman",1,"00:25:51","00:26:09","00:26:14","00:26:16","00:26:25","00:26:26","00:27:39",7,"Y",22.71,null,"","",null,"","","Y","Y",22.92,null,"","",null,"","",null,"Sharon Dolman",null,null,"00:27:39",null,null,"00:26:25",null,null,"00:26:16","00:26:09",null,null,"00:26:26","00:26:14",null,"00:25:51"]
["Bernie Beale",2,"00:26:33","00:26:41","","","","","",2,"",22.55,null,"","",null,"","",null,"","",null,"","",null,"","",null,"Bernie Beale",null,null,null,"00:26:33",null,"00:26:41"]
["Roger Bryan",0,"00:26:53","","","","","","",1,"",22.32,"Y","",22.32,null,"","",null,"","",null,"","","Y","",22.32,null,"",null,null,null,null,null,null,"00:26:53"]
["Richard Ash",0,"00:27:03","","","","","","",1,"",22.19,null,"","",null,"","",null,"","",null,"","","Y","",22.19,null,"","00:27:03"]
["Fay Tocknell",1,"00:26:14","00:26:36","00:26:49","00:27:02","00:27:12","00:27:25","00:28:20",7,"Y",22.150000000000002,null,"","","Y","Y",22.150000000000002,null,"","",null,"","","Y","Y",22.41,null,"Fay Tocknell","00:26:14",null,"00:27:25","00:27:12",null,"00:27:02",null,null,null,null,"00:26:36","00:26:49",null,null,null,"00:28:20"]
["Paul Adams",2,"00:26:54","00:26:57","00:27:33","00:27:37","00:28:10","","",5,"",21.87,"Y","",21.87,null,"","",null,"","",null,"","",null,"","",null,"Paul Adams",null,null,"00:28:10","00:27:33",null,"00:27:37",null,null,null,null,null,"00:26:57",null,null,null,"00:26:54"]
["Charlie Edmunds",0,"00:27:40","","","","","","",null,null,21.69,null,null,"",null,null,"",null,null,"",null,"","","Y",null,21.69,null,null,null,null,null,null,null,null,null,null,"00:27:40"]
["David Smith",0,"00:27:06","00:28:43","","","","","",2,"",21.5,null,"","",null,"","",null,"","",null,"","","Y","",21.5,null,"",null,null,"00:28:43",null,null,"00:27:06"]
["Oliver Palmer",1,"00:27:27","00:27:50","00:27:54","00:28:05","00:28:18","00:28:55","",6,"",21.37,null,"","",null,"","",null,"","",null,"","","Y","Y",21.5,null,"Oliver Palmer","00:27:54",null,null,"00:27:50","00:28:18","00:28:05","00:27:27","00:28:55"]
["Kieran Golding",2,"00:27:49","00:28:06","00:28:11","00:28:14","00:28:26","00:28:44","00:28:51",7,"Y",21.180000000000003,null,"","",null,"","",null,"","",null,"","",null,"","",null,"Kieran Golding","00:28:44",null,"00:28:51","00:28:11",null,"00:28:14",null,"00:29:49",null,"00:28:26",null,"00:27:49","00:28:06",null,null,"00:28:57"]
["Howard Seward",1,"00:27:48","00:28:15","00:28:40","00:28:56","00:29:40","00:30:13","00:30:14",7,"Y",20.62,null,"","",null,"","",null,"","",null,"","","Y","Y",20.94,null,"Howard Seward","00:31:56",null,null,"00:30:13",null,null,null,"00:30:14",null,"00:29:40",null,null,"00:28:40",null,null,"00:28:15","00:27:48","00:28:56"]
["Chris Fox (SRC)",1,"00:29:35","","","","","","",1,"",20.290000000000003,null,"","",null,"","",null,"","",null,"","","Y","",20.290000000000003,null,"Chris Fox (SRC)","00:29:35"]
["Stewart Layzell",0,"00:30:23","","","","","","",1,"",19.75,null,"","",null,"","",null,"","",null,"","","Y","",19.75,null,"",null,null,"00:30:23"]
["Joe Petrie",0,"00:31:10","00:33:35","","","","","",null,null,18.540000000000003,null,null,"",null,null,"",null,null,"",null,null,"","Y","",18.540000000000003,null,null,null,null,null,null,null,null,null,null,"00:33:35","00:31:10"]
["Amanda Adams",2,"00:31:10","00:32:01","00:32:41","00:32:50","00:32:50","00:33:34","",6,"",18.46,"Y","",18.46,null,"","","Y","Y",18.580000000000002,null,"","",null,"","",null,"Amanda Adams",null,null,null,"00:32:50",null,null,null,null,null,"00:32:50","00:32:01","00:31:10",null,null,"00:32:41",null,"00:33:34"]

{"sheet":"Results 2015","index":13,"n_rows":698,"n_cols":18,"rows_kept":698,"cut":false,"hidden":true,"merged":[]}
[1,1,null,null,"00:01:00",null,null,null," "]
[2,{"$f":"IF(E2=E1,\"=\",A2)","v":2},null,null,null,null,null,null,"http://www.swindon-rc.co.uk/documents/Scratch.pdf"]
[3,{"$f":"IF(E3=E2,\"=\",A3)","v":"="},null,null,null,null,null,null,"prohost19.34sp.com"]
[null,null,null,null,null,null,null,null,"swindonrccouk"]
[null,null,null,null,null,null,null,null,"wobble99"]
[null,null,null,null,null,null,null,null,"http://www.swindon-rc.co.uk/documents/Rota.pdf"]
[null,null,null,null,null,null,null,null,"http://www.swindon-rc.co.uk/administrator/index.php?option=com_content&sectionid=-1&task=edit&cid[]=109"]
[null,null,"New Year's Day - 1 January 2015"]
[null,"1","Xavier Disley","RST Sport/Aero Coach","00:22:39"]
[null,"2","Neil Rutter","Swindon RC 2nd claim","00:24:27"]
[null,"3","Dave Roper","Ride 24/7","00:24:29"]
[null,"4","Les Liddiard","Swindon RC","00:24:32"]
[null,"5","Nathan Huynh","Cotswold Veldrijden","00:24:56"]
[null,"6","Andy Claxton","Swindon RC","00:25:24"]
[null,"7","Tom Willemsen","Swindon RC","00:25:52"]
[null,"8","Tony Staples","RNRMCA","00:26:15"]
[null,"9","Jeff Smith/Chris Broad-Drake","Swindon RC","00:27:03"]
[null,"10","Rob Everill","Performance Cycles","00:27:11"]
[null,"11","Archie Scott","Swindon RC","00:28:14"]
[null,"12","Richard Craig","Swindon RC","00:28:30"]
[null,"13","Marc Allen","Swindon RC","00:28:34"]
[null,"14","Bernard Beale/Steve Hardy","Swindon RC","00:28:45"]
[null,"15","Jon Tresadern","Swindon RC","00:28:50"]
[null,"16","Mervyn Neely","Swindon RC","00:29:19"]
[null,"17","Jo Wilkie","Ride 24/7","00:29:21"]
[null,"18","Jamie Ellis","Cotswold Veldrijden","00:29:33"]
[null,"19","Michael Ponzo","Cotswold Veldrijden","00:29:38"]
[null,"20","Daniel Darby","Swindon RC","00:30:00"]
[null,"21","Denis Hedges","Corinium CC","00:34:33"]
[null,"22","Lily Beardshaw","Performance Cycles","00:43:19"]
[null,null,"Come & Try It - 28 March 2015"]
[null,"1","Tony Costello","Corinium CC","00:22:47"]
[null,"2","Les Liddiard","Swindon RC","00:23:27"]
[null,"= 3","Kieran Hill","Jackpot Racing","00:23:51"]
[null,"= 3","Chris Fox (Swindon Wheelers)","Swindon Wheelers","00:23:51"]
[null,"5","Adriano dos Santos","Swindon RC","00:24:32"]
[null,"6","Mick Sharratt","Swindon RC","00:24:51"]
[null,"7","Russ Thompson/Jim Curry/ Chris Beardshaw (3 Up)","Performance Cycles","00:25:09"]
[null,"8","Patrick Mintram",0,"00:25:15"]
[null,"= 9","Andy McIntyre","Performance Cycles","00:25:46"]
[null,"= 9","Colin Engley",0,"00:25:46"]
[null,"11","Kris Langley","Swindon RC","00:25:51"]
[null,"12","Mark Kent","Swindon RC","00:26:09"]
[null,"13","Dan Godwin",0,"00:26:17"]
[null,"14","Ben Walter","Swindon RC","00:26:20"]
[null,"15","Steven Wasley",0,"00:26:46"]
[null,"16","Marc Allen","Swindon RC","00:27:01"]
[null,"17","Richard Keye","Swindon RC","00:27:07"]
[null,"18","Ian Barrett",0,"00:27:20"]
[null,"19","Michelle Ross",0,"00:28:11"]
[null,"20","Simon Purnell","Performance Cycles","00:28:31"]
[null,"21","Oliver Palmer","Swindon RC","00:28:43"]
[null,"22","Conor Raymen",0,"00:30:41"]
[null,"23","Brian Watt","Swindon RC","00:31:36"]
[null,"24","Trevor Sherwood","Swindon RC","00:31:59"]
[null,"25","Mandy Scott","Swindon RC","00:33:03"]
[null,"26","Howard Seward",0,"00:33:09"]
[null,"27","Barry Raymen",0,"00:34:09"]
[null,"28","Jodie Watt","Swindon RC","00:34:41"]
[null,"29","Neil Lewis","Swindon RC","00:35:16"]
[null,null,"Wroughton - Beckhampton ","2015-04-05",null,null,null,null,{"$f":"IF(COUNTIF(#REF!,'Results 2015'!#REF!)>COUNTIF(Points!$C$10:$C$86,'Results 2015'!#REF!),\"Not on Comps\",\"\")","v":{"$error":"#REF!"}}]
[null,"1","Les Liddiard","Swindon RC 2nd claim","00:45:03",{"$f":"IF(COUNTIF(#REF!,'Results 2015'!#REF!)>COUNTIF(Points!$C$10:$C$86,'Results 2015'!#REF!),\"Not on Comps\",\"\")","v":{"$error":"#REF!"}}]
[null,"2","Peter Garnett","Swindon RC","00:45:44",{"$f":"IF(COUNTIF(#REF!,'Results 2015'!#REF!)>COUNTIF(Points!$C$10:$C$86,'Results 2015'!#REF!),\"Not on Comps\",\"\")","v":{"$error":"#REF!"}}]
[null,"3","Malcolm Walklett","Swindon RC","00:45:55",{"$f":"IF(COUNTIF(#REF!,'Results 2015'!#REF!)>COUNTIF(Points!$C$10:$C$86,'Results 2015'!#REF!),\"Not on Comps\",\"\")","v":{"$error":"#REF!"}}]
[null,"4","Andy Claxton","Swindon RC","00:46:44",{"$f":"IF(COUNTIF(#REF!,'Results 2015'!#REF!)>COUNTIF(Points!$C$10:$C$86,'Results 2015'!#REF!),\"Not on Comps\",\"\")","v":{"$error":"#REF!"}}]
[null,"5","Tony Staples","RNRMCA","00:47:54",{"$f":"IF(COUNTIF(#REF!,'Results 2015'!#REF!)>COUNTIF(Points!$C$10:$C$86,'Results 2015'!#REF!),\"Not on Comps\",\"\")","v":{"$error":"#REF!"}}]
[null,"6","Mark Woolford","Chippenham Wheelers","00:48:29",{"$f":"IF(COUNTIF(#REF!,'Results 2015'!#REF!)>COUNTIF(Points!$C$10:$C$86,'Results 2015'!#REF!),\"Not on Comps\",\"\")","v":{"$error":"#REF!"}}]
[null,"7","Joe Schvartz","Swindon RC","00:48:40",{"$f":"IF(COUNTIF(#REF!,'Results 2015'!#REF!)>COUNTIF(Points!$C$10:$C$86,'Results 2015'!#REF!),\"Not on Comps\",\"\")","v":{"$error":"#REF!"}}]
[null,"8","Richard Craig","Swindon RC","00:49:21",{"$f":"IF(COUNTIF(#REF!,'Results 2015'!#REF!)>COUNTIF(Points!$C$10:$C$86,'Results 2015'!#REF!),\"Not on Comps\",\"\")","v":{"$error":"#REF!"}}]
[null,"9","Jeff Smith","Swindon RC","00:49:28",{"$f":"IF(COUNTIF(#REF!,'Results 2015'!#REF!)>COUNTIF(Points!$C$10:$C$86,'Results 2015'!#REF!),\"Not on Comps\",\"\")","v":{"$error":"#REF!"}}]
[null,"10","Chris Broad-Drake","Swindon RC","00:49:40",{"$f":"IF(COUNTIF(#REF!,'Results 2015'!#REF!)>COUNTIF(Points!$C$10:$C$86,'Results 2015'!#REF!),\"Not on Comps\",\"\")","v":{"$error":"#REF!"}}]
[null,"11","Leigh Schvartz","Swindon RC","00:50:01",{"$f":"IF(COUNTIF(#REF!,'Results 2015'!#REF!)>COUNTIF(Points!$C$10:$C$86,'Results 2015'!#REF!),\"Not on Comps\",\"\")","v":{"$error":"#REF!"}}]
[null,"12","Marc Allen","Swindon RC","00:50:21",{"$f":"IF(COUNTIF(#REF!,'Results 2015'!#REF!)>COUNTIF(Points!$C$10:$C$86,'Results 2015'!#REF!),\"Not on Comps\",\"\")","v":{"$error":"#REF!"}}]
[null,"13","Adriano dos Santos","Swindon RC","00:51:11",{"$f":"IF(COUNTIF(#REF!,'Results 2015'!#REF!)>COUNTIF(Points!$C$10:$C$86,'Results 2015'!#REF!),\"Not on Comps\",\"\")","v":{"$error":"#REF!"}}]
[null,"14","Richard Ash",0,"00:51:50",{"$f":"IF(COUNTIF(#REF!,'Results 2015'!#REF!)>COUNTIF(Points!$C$10:$C$86,'Results 2015'!#REF!),\"Not on Comps\",\"\")","v":{"$error":"#REF!"}}]
[null,"15","Gary Vickery","Swindon RC","00:54:01",{"$f":"IF(COUNTIF(#REF!,'Results 2015'!#REF!)>COUNTIF(Points!$C$10:$C$86,'Results 2015'!#REF!),\"Not on Comps\",\"\")","v":{"$error":"#REF!"}}]
[null,"16","Rob Hawkins","Swindon RC","00:56:02",{"$f":"IF(COUNTIF(#REF!,'Results 2015'!#REF!)>COUNTIF(Points!$C$10:$C$86,'Results 2015'!#REF!),\"Not on Comps\",\"\")","v":{"$error":"#REF!"}}]
[null,null,"Prologue - 9 April 2015",null,null,null,null,null,{"$f":"IF(COUNTIF(#REF!,'Results 2015'!#REF!)>COUNTIF(Points!$C$10:$C$86,'Results 2015'!#REF!),\"Not on Comps\",\"\")","v":{"$error":"#REF!"}}]
[null,"= 1","Dan Guest","Performance Cycles","00:10:58",null,null,{"$f":"IF(COUNTIF(#REF!,'Results 2015'!#REF!)>COUNTIF(Points!$C$10:$C$86,'Results 2015'!#REF!),\"Not on Comps\",\"\")","v":{"$error":"#REF!"}}]
[null,"= 1","Matt Woods","Cotswold Veldrijden","00:10:58",null,null,{"$f":"IF(COUNTIF(#REF!,'Results 2015'!#REF!)>COUNTIF(Points!$C$10:$C$86,'Results 2015'!#REF!),\"Not on Comps\",\"\")","v":{"$error":"#REF!"}}]
[null,"3","James Stewart","Performance Cycles","00:11:24",null,null,{"$f":"IF(COUNTIF(#REF!,'Results 2015'!#REF!)>COUNTIF(Points!$C$10:$C$86,'Results 2015'!#REF!),\"Not on Comps\",\"\")","v":{"$error":"#REF!"}}]
[null,"4","Darrell Russell","Veloton","00:11:29",null,null,{"$f":"IF(COUNTIF(#REF!,'Results 2015'!#REF!)>COUNTIF(Points!$C$10:$C$86,'Results 2015'!#REF!),\"Not on Comps\",\"\")","v":{"$error":"#REF!"}}]
[null,"5","Steve Yates","Corinium CC","00:11:49",null,null,{"$f":"IF(COUNTIF(#REF!,'Results 2015'!#REF!)>COUNTIF(Points!$C$10:$C$86,'Results 2015'!#REF!),\"Not on Comps\",\"\")","v":{"$error":"#REF!"}}]
[null,"6","Gary Smith","Ride 24/7","00:12:08",null,null,{"$f":"IF(COUNTIF(#REF!,'Results 2015'!#REF!)>COUNTIF(Points!$C$10:$C$86,'Results 2015'!#REF!),\"Not on Comps\",\"\")","v":{"$error":"#REF!"}}]
[null,"7","Kieran Hill","Jackpot Racing","00:12:13",null,null,{"$f":"IF(COUNTIF(#REF!,'Results 2015'!#REF!)>COUNTIF(Points!$C$10:$C$86,'Results 2015'!#REF!),\"Not on Comps\",\"\")","v":{"$error":"#REF!"}}]
[null,"8","Julian Bullas","Cheltenham CCC","00:12:28",null,null,{"$f":"IF(COUNTIF(#REF!,'Results 2015'!#REF!)>COUNTIF(Points!$C$10:$C$86,'Results 2015'!#REF!),\"Not on Comps\",\"\")","v":{"$error":"#REF!"}}]
[null,"9","Rory Gilling","Performance Cycles","00:12:33",null,null,{"$f":"IF(COUNTIF(#REF!,'Results 2015'!#REF!)>COUNTIF(Points!$C$10:$C$86,'Results 2015'!#REF!),\"Not on Comps\",\"\")","v":{"$error":"#REF!"}}]
[null,"= 10","Jim Curry","Performance Cycles","00:12:34",null,null,{"$f":"IF(COUNTIF(#REF!,'Results 2015'!#REF!)>COUNTIF(Points!$C$10:$C$86,'Results 2015'!#REF!),\"Not on Comps\",\"\")","v":{"$error":"#REF!"}}]
[null,"= 10","Mick Sharratt","Swindon RC","00:12:34",null,null,{"$f":"IF(COUNTIF(#REF!,'Results 2015'!#REF!)>COUNTIF(Points!$C$10:$C$86,'Results 2015'!#REF!),\"Not on Comps\",\"\")","v":{"$error":"#REF!"}}]
[null,"= 10","Tom Sewell","Cotswold Veldrijden","00:12:34",null,null,{"$f":"IF(COUNTIF(#REF!,'Results 2015'!#REF!)>COUNTIF(Points!$C$10:$C$86,'Results 2015'!#REF!),\"Not on Comps\",\"\")","v":{"$error":"#REF!"}}]
[null,"13","Chris Broad-Drake","Swindon RC","00:12:37",null,null,{"$f":"IF(COUNTIF(#REF!,'Results 2015'!#REF!)>COUNTIF(Points!$C$10:$C$86,'Results 2015'!#REF!),\"Not on Comps\",\"\")","v":{"$error":"#REF!"}}]
[null,"14","Tom Denley","Performance Cycles","00:13:04",null,null,{"$f":"IF(COUNTIF(#REF!,'Results 2015'!#REF!)>COUNTIF(Points!$C$10:$C$86,'Results 2015'!#REF!),\"Not on Comps\",\"\")","v":{"$error":"#REF!"}}]
[null,"15","Steve Davies","Swindon RC","00:13:25",null,null,{"$f":"IF(COUNTIF(#REF!,'Results 2015'!#REF!)>COUNTIF(Points!$C$10:$C$86,'Results 2015'!#REF!),\"Not on Comps\",\"\")","v":{"$error":"#REF!"}}]
[null,"16","Marc Allen","Swindon RC","00:13:27",null,null,{"$f":"IF(COUNTIF(#REF!,'Results 2015'!#REF!)>COUNTIF(Points!$C$10:$C$86,'Results 2015'!#REF!),\"Not on Comps\",\"\")","v":{"$error":"#REF!"}}]
[null,"17","Richard Ash","Swindon RC","00:13:43",null,null,{"$f":"IF(COUNTIF(#REF!,'Results 2015'!#REF!)>COUNTIF(Points!$C$10:$C$86,'Results 2015'!#REF!),\"Not on Comps\",\"\")","v":{"$error":"#REF!"}}]
[null,"18","Fay Tocknell","Dame Cycling","00:13:53",null,null,{"$f":"IF(COUNTIF(#REF!,'Results 2015'!#REF!)>COUNTIF(Points!$C$10:$C$86,'Results 2015'!#REF!),\"Not on Comps\",\"\")","v":{"$error":"#REF!"}}]
[null,"19","Harriet Guest","Performance Cycles","00:14:02",null,null,{"$f":"IF(COUNTIF(#REF!,'Results 2015'!#REF!)>COUNTIF(Points!$C$10:$C$86,'Results 2015'!#REF!),\"Not on Comps\",\"\")","v":{"$error":"#REF!"}}]
[null,"20","Oliver Palmer","Swindon RC","00:14:06"]
[null,"21","Daniel Watt","Swindon RC","00:14:09"]
[null,"22","Arja Scarsbrook","Corinium CC","00:14:10"]
[null,"23","Joe Barry","Performance Cycles","00:14:17"]
[null,"24","Neil Boyle","Velo Vitesse","00:14:24"]
[null,"25","Brian Watt","Swindon RC","00:14:52"]
[null,"26","Brian Newton ","Corinium CC","00:14:54"]
[null,"27","Mervyn Cox","Performance Cycles","00:14:59"]
[null,"28","Chris Fox (SRC)","Swindon RC","00:15:21"]
[null,"29","Liam Sewell","Cotswold Veldrijden","00:15:37"]
[null,"30","Bernie McPhail","Swindon RC","00:15:49"]
[null,"31","Jodie Watt","Swindon RC","00:16:51"]
[null,"32","Annie Pegler","Corinium CC","00:17:42"]
[null,null,"Come & Try It - 25 June 2015"]
[null,"1","Paul Cook","Ride 24/7","00:22:12"]
[null,"2","Niel Dunnage","Swindon RC","00:22:22"]
[null,"3","Peter Garnett","Swindon RC","00:22:29"]
[null,"4","Pete Hutchinson","Corinium CC","00:22:33",null,null,null,{"$f":"IF(COUNTIF(#REF!,'Results 2015'!#REF!)>COUNTIF(Points!$C$10:$C$86,'Results 2015'!#REF!),\"Not on Comps\",\"\")","v":{"$error":"#REF!"}}]
[null,"5","Les Liddiard","Swindon RC","00:22:53",null,null,null,{"$f":"IF(COUNTIF(#REF!,'Results 2015'!#REF!)>COUNTIF(Points!$C$10:$C$86,'Results 2015'!#REF!),\"Not on Comps\",\"\")","v":{"$error":"#REF!"}}]
[null,"6","Gary Smith","Ride 24/7","00:23:07",null,null,null,{"$f":"IF(COUNTIF(#REF!,'Results 2015'!#REF!)>COUNTIF(Points!$C$10:$C$86,'Results 2015'!#REF!),\"Not on Comps\",\"\")","v":{"$error":"#REF!"}}]
[null,"7","Jacob Pilkington","Performance Cycles","00:23:21",null,null,null,{"$f":"IF(COUNTIF(#REF!,'Results 2015'!#REF!)>COUNTIF(Points!$C$10:$C$86,'Results 2015'!#REF!),\"Not on Comps\",\"\")","v":{"$error":"#REF!"}}]
[null,"8","Mark Woolford","Chippenham Wheelers","00:23:32",null,null,null,{"$f":"IF(COUNTIF(#REF!,'Results 2015'!#REF!)>COUNTIF(Points!$C$10:$C$86,'Results 2015'!#REF!),\"Not on Comps\",\"\")","v":{"$error":"#REF!"}}]
[null,"9","Jim Curry","Performance Cycles","00:23:46",null,null,null,{"$f":"IF(COUNTIF(#REF!,'Results 2015'!#REF!)>COUNTIF(Points!$C$10:$C$86,'Results 2015'!#REF!),\"Not on Comps\",\"\")","v":{"$error":"#REF!"}}]
[null,"10","Nick Lowe","Cotswold Veldrijden","00:23:57",null,null,null,{"$f":"IF(COUNTIF(#REF!,'Results 2015'!#REF!)>COUNTIF(Points!$C$10:$C$86,'Results 2015'!#REF!),\"Not on Comps\",\"\")","v":{"$error":"#REF!"}}]
[null,"11","Mike Bowering","Windy Milla","00:24:00",null,null,null,{"$f":"IF(COUNTIF(#REF!,'Results 2015'!#REF!)>COUNTIF(Points!$C$10:$C$86,'Results 2015'!#REF!),\"Not on Comps\",\"\")","v":{"$error":"#REF!"}}]
[null,"12","Chris Broad-Drake","Swindon RC","00:24:08",null,null,null,{"$f":"IF(COUNTIF(#REF!,'Results 2015'!#REF!)>COUNTIF(Points!$C$10:$C$86,'Results 2015'!#REF!),\"Not on Comps\",\"\")","v":{"$error":"#REF!"}}]
[null,"13","Alex King","Performance Cycles","00:24:12",null,null,null,{"$f":"IF(COUNTIF(#REF!,'Results 2015'!#REF!)>COUNTIF(Points!$C$10:$C$86,'Results 2015'!#REF!),\"Not on Comps\",\"\")","v":{"$error":"#REF!"}}]
[null,"14","Mick Sharratt","Swindon RC","00:24:14",null,null,null,{"$f":"IF(COUNTIF(#REF!,'Results 2015'!#REF!)>COUNTIF(Points!$C$10:$C$86,'Results 2015'!#REF!),\"Not on Comps\",\"\")","v":{"$error":"#REF!"}}]
[null,"15","Steve Buckley","Ride 24/7","00:24:16",null,null,null,{"$f":"IF(COUNTIF(#REF!,'Results 2015'!#REF!)>COUNTIF(Points!$C$10:$C$86,'Results 2015'!#REF!),\"Not on Comps\",\"\")","v":{"$error":"#REF!"}}]
[null,"16","Steve Davies","Swindon RC","00:24:20",null,null,null,{"$f":"IF(COUNTIF(#REF!,'Results 2015'!#REF!)>COUNTIF(Points!$C$10:$C$86,'Results 2015'!#REF!),\"Not on Comps\",\"\")","v":{"$error":"#REF!"}}]
[null,"17","George Wadsworth","Malmesbury Clarion","00:24:33",null,null,null,{"$f":"IF(COUNTIF(#REF!,'Results 2015'!#REF!)>COUNTIF(Points!$C$10:$C$86,'Results 2015'!#REF!),\"Not on Comps\",\"\")","v":{"$error":"#REF!"}}]
[null,"18","Gwilym Evans",0,"00:24:37",null,null,null,{"$f":"IF(COUNTIF(#REF!,'Results 2015'!#REF!)>COUNTIF(Points!$C$10:$C$86,'Results 2015'!#REF!),\"Not on Comps\",\"\")","v":{"$error":"#REF!"}}]
[null,"19","Dan Cooper",0,"00:24:41",null,null,null,{"$f":"IF(COUNTIF(#REF!,'Results 2015'!#REF!)>COUNTIF(Points!$C$10:$C$86,'Results 2015'!#REF!),\"Not on Comps\",\"\")","v":{"$error":"#REF!"}}]
[null,"20","Mark Foyn","Corinium CC","00:24:45",null,null,null,{"$f":"IF(COUNTIF(#REF!,'Results 2015'!#REF!)>COUNTIF(Points!$C$10:$C$86,'Results 2015'!#REF!),\"Not on Comps\",\"\")","v":{"$error":"#REF!"}}]
[null,"21","Marc Allen","Swindon RC","00:24:47",null,null,null,{"$f":"IF(COUNTIF(#REF!,'Results 2015'!#REF!)>COUNTIF(Points!$C$10:$C$86,'Results 2015'!#REF!),\"Not on Comps\",\"\")","v":{"$error":"#REF!"}}]
[null,"22","Ewen Lewis",0,"00:25:01",null,null,null,{"$f":"IF(COUNTIF(#REF!,'Results 2015'!#REF!)>COUNTIF(Points!$C$10:$C$86,'Results 2015'!#REF!),\"Not on Comps\",\"\")","v":{"$error":"#REF!"}}]
[null,"23","Sarah Gunn","Corinium CC","00:25:02",null,null,null,{"$f":"IF(COUNTIF(#REF!,'Results 2015'!#REF!)>COUNTIF(Points!$C$10:$C$86,'Results 2015'!#REF!),\"Not on Comps\",\"\")","v":{"$error":"#REF!"}}]
[null,"24","Simon James","Corinium CC","00:25:05",null,null,null,{"$f":"IF(COUNTIF(#REF!,'Results 2015'!#REF!)>COUNTIF(Points!$C$10:$C$86,'Results 2015'!#REF!),\"Not on Comps\",\"\")","v":{"$error":"#REF!"}}]
[null,"25","Adam Giles","Ride 24/7","00:25:09",null,null,null,{"$f":"IF(COUNTIF(#REF!,'Results 2015'!#REF!)>COUNTIF(Points!$C$10:$C$86,'Results 2015'!#REF!),\"Not on Comps\",\"\")","v":{"$error":"#REF!"}}]
[null,"26","Jason Costello","Corinium CC","00:25:20",null,null,null,{"$f":"IF(COUNTIF(#REF!,'Results 2015'!#REF!)>COUNTIF(Points!$C$10:$C$86,'Results 2015'!#REF!),\"Not on Comps\",\"\")","v":{"$error":"#REF!"}}]
[null,"27","Charlie Edmonds",0,"00:25:21",null,null,null,{"$f":"IF(COUNTIF(#REF!,'Results 2015'!#REF!)>COUNTIF(Points!$C$10:$C$86,'Results 2015'!#REF!),\"Not on Comps\",\"\")","v":{"$error":"#REF!"}}]
[null,"28","Kevin Lister","Corinium CC","00:25:31",null,null,null,{"$f":"IF(COUNTIF(#REF!,'Results 2015'!#REF!)>COUNTIF(Points!$C$10:$C$86,'Results 2015'!#REF!),\"Not on Comps\",\"\")","v":{"$error":"#REF!"}}]
[null,"29","Keith Williams","Corinium CC","00:25:35",null,null,null,{"$f":"IF(COUNTIF(#REF!,'Results 2015'!#REF!)>COUNTIF(Points!$C$10:$C$86,'Results 2015'!#REF!),\"Not on Comps\",\"\")","v":{"$error":"#REF!"}}]
[null,"30","Matt Seddon","Corinium CC","00:25:45",null,null,null,{"$f":"IF(COUNTIF(#REF!,'Results 2015'!#REF!)>COUNTIF(Points!$C$10:$C$86,'Results 2015'!#REF!),\"Not on Comps\",\"\")","v":{"$error":"#REF!"}}]
[null,"31","Owen Paddock",0,"00:25:52",null,null,null,{"$f":"IF(COUNTIF(#REF!,'Results 2015'!#REF!)>COUNTIF(Points!$C$10:$C$86,'Results 2015'!#REF!),\"Not on Comps\",\"\")","v":{"$error":"#REF!"}}]
[null,"32","Rob Patterson","Swindon RC","00:25:53",null,null,null,{"$f":"IF(COUNTIF(#REF!,'Results 2015'!#REF!)>COUNTIF(Points!$C$10:$C$86,'Results 2015'!#REF!),\"Not on Comps\",\"\")","v":{"$error":"#REF!"}}]
[null,"33","Jeff Smith","Swindon RC","00:26:02",null,null,null,{"$f":"IF(COUNTIF(#REF!,'Results 2015'!#REF!)>COUNTIF(Points!$C$10:$C$86,'Results 2015'!#REF!),\"Not on Comps\",\"\")","v":{"$error":"#REF!"}}]
[null,"34","David Smith","Swindon RC","00:26:17",null,null,null,{"$f":"IF(COUNTIF(#REF!,'Results 2015'!#REF!)>COUNTIF(Points!$C$10:$C$86,'Results 2015'!#REF!),\"Not on Comps\",\"\")","v":{"$error":"#REF!"}}]
[null,"35","Sharon Dolman","Swindon RC","00:26:26",null,null,null,{"$f":"IF(COUNTIF(#REF!,'Results 2015'!#REF!)>COUNTIF(Points!$C$10:$C$86,'Results 2015'!#REF!),\"Not on Comps\",\"\")","v":{"$error":"#REF!"}}]
[null,"36","Rob Everill","Performance Cycles","00:26:31",null,null,null,{"$f":"IF(COUNTIF(#REF!,'Results 2015'!#REF!)>COUNTIF(Points!$C$10:$C$86,'Results 2015'!#REF!),\"Not on Comps\",\"\")","v":{"$error":"#REF!"}}]
[null,"37","Paul Fuchs","Corinium CC","00:26:53",null,null,null,{"$f":"IF(COUNTIF(#REF!,'Results 2015'!#REF!)>COUNTIF(Points!$C$10:$C$86,'Results 2015'!#REF!),\"Not on Comps\",\"\")","v":{"$error":"#REF!"}}]
[null,"38","Alex Foyn","Corinium CC","00:26:55",null,null,null,{"$f":"IF(COUNTIF(#REF!,'Results 2015'!#REF!)>COUNTIF(Points!$C$10:$C$86,'Results 2015'!#REF!),\"Not on Comps\",\"\")","v":{"$error":"#REF!"}}]
[null,"39","Mike Brien","? Need to obtain","00:27:15",null,null,null,{"$f":"IF(COUNTIF(#REF!,'Results 2015'!#REF!)>COUNTIF(Points!$C$10:$C$86,'Results 2015'!#REF!),\"Not on Comps\",\"\")","v":{"$error":"#REF!"}}]
[null,"40","Fay Tocknell","Swindon RC","00:27:19",null,null,null,{"$f":"IF(COUNTIF(#REF!,'Results 2015'!#REF!)>COUNTIF(Points!$C$10:$C$86,'Results 2015'!#REF!),\"Not on Comps\",\"\")","v":{"$error":"#REF!"}}]
[null,"41","Allan Norwood","Corinium CC","00:27:20",null,null,null,{"$f":"IF(COUNTIF(#REF!,'Results 2015'!#REF!)>COUNTIF(Points!$C$10:$C$86,'Results 2015'!#REF!),\"Not on Comps\",\"\")","v":{"$error":"#REF!"}}]
[null,"42","Steve Turtle",0,"00:27:38",null,null,null,{"$f":"IF(COUNTIF(#REF!,'Results 2015'!#REF!)>COUNTIF(Points!$C$10:$C$86,'Results 2015'!#REF!),\"Not on Comps\",\"\")","v":{"$error":"#REF!"}}]
[null,"= 43","Tim Wadsworth","Malmesbury Clarion","00:28:11",null,null,null,{"$f":"IF(COUNTIF(#REF!,'Results 2015'!#REF!)>COUNTIF(Points!$C$10:$C$86,'Results 2015'!#REF!),\"Not on Comps\",\"\")","v":{"$error":"#REF!"}}]
[null,"= 43","Jon Hoppner",0,"00:28:11",null,null,null,{"$f":"IF(COUNTIF(#REF!,'Results 2015'!#REF!)>COUNTIF(Points!$C$10:$C$86,'Results 2015'!#REF!),\"Not on Comps\",\"\")","v":{"$error":"#REF!"}}]
[null,"45","John Whittaker","Corinium CC","00:28:48",null,null,null,{"$f":"IF(COUNTIF(#REF!,'Results 2015'!#REF!)>COUNTIF(Points!$C$10:$C$86,'Results 2015'!#REF!),\"Not on Comps\",\"\")","v":{"$error":"#REF!"}}]
[null,"46","Nick Cullow",0,"00:28:56",null,null,null,{"$f":"IF(COUNTIF(#REF!,'Results 2015'!#REF!)>COUNTIF(Points!$C$10:$C$86,'Results 2015'!#REF!),\"Not on Comps\",\"\")","v":{"$error":"#REF!"}}]
[null,"47","Denis Hedges","Corinium CC","00:29:16",null,null,null,{"$f":"IF(COUNTIF(#REF!,'Results 2015'!#REF!)>COUNTIF(Points!$C$10:$C$86,'Results 2015'!#REF!),\"Not on Comps\",\"\")","v":{"$error":"#REF!"}}]
[null,"48","Joe Petrie","Swindon RC","00:29:51",null,null,null,{"$f":"IF(COUNTIF(#REF!,'Results 2015'!#REF!)>COUNTIF(Points!$C$10:$C$86,'Results 2015'!#REF!),\"Not on Comps\",\"\")","v":{"$error":"#REF!"}}]
[null,"49","Nicola Dolman",0,"00:30:28",null,null,null,{"$f":"IF(COUNTIF(#REF!,'Results 2015'!#REF!)>COUNTIF(Points!$C$10:$C$86,'Results 2015'!#REF!),\"Not on Comps\",\"\")","v":{"$error":"#REF!"}}]
[null,"50","Ross Gregory","Corinium CC","00:31:44",null,null,null,{"$f":"IF(COUNTIF(#REF!,'Results 2015'!#REF!)>COUNTIF(Points!$C$10:$C$86,'Results 2015'!#REF!),\"Not on Comps\",\"\")","v":{"$error":"#REF!"}}]
[null,"51","Annie Pegler","Corinium CC","00:32:00",null,null,null,{"$f":"IF(COUNTIF(#REF!,'Results 2015'!#REF!)>COUNTIF(Points!$C$10:$C$86,'Results 2015'!#REF!),\"Not on Comps\",\"\")","v":{"$error":"#REF!"}}]
[null,"= 52","Kath Wilton",0,"00:32:04",null,null,null,{"$f":"IF(COUNTIF(#REF!,'Results 2015'!#REF!)>COUNTIF(Points!$C$10:$C$86,'Results 2015'!#REF!),\"Not on Comps\",\"\")","v":{"$error":"#REF!"}}]
[null,"= 52","Carol Clarke","Corinium CC","00:32:04",null,null,null,{"$f":"IF(COUNTIF(#REF!,'Results 2015'!#REF!)>COUNTIF(Points!$C$10:$C$86,'Results 2015'!#REF!),\"Not on Comps\",\"\")","v":{"$error":"#REF!"}}]
[null,"54","Marguerite Miatt","Corinium CC","00:32:16",null,null,null,{"$f":"IF(COUNTIF(#REF!,'Results 2015'!#REF!)>COUNTIF(Points!$C$10:$C$86,'Results 2015'!#REF!),\"Not on Comps\",\"\")","v":{"$error":"#REF!"}}]
[null,"55","Piers Butler",0,"00:34:07",null,null,null,{"$f":"IF(COUNTIF(#REF!,'Results 2015'!#REF!)>COUNTIF(Points!$C$10:$C$86,'Results 2015'!#REF!),\"Not on Comps\",\"\")","v":{"$error":"#REF!"}}]
[null,"56","Richard Chua",0,"00:35:12",null,null,null,{"$f":"IF(COUNTIF(#REF!,'Results 2015'!#REF!)>COUNTIF(Points!$C$10:$C$86,'Results 2015'!#REF!),\"Not on Comps\",\"\")","v":{"$error":"#REF!"}}]
[null,"57","J Phillips",0,"00:35:27",null,null,null,{"$f":"IF(COUNTIF(#REF!,'Results 2015'!#REF!)>COUNTIF(Points!$C$10:$C$86,'Results 2015'!#REF!),\"Not on Comps\",\"\")","v":{"$error":"#REF!"}}]
[null,"58","Alasdair MacKenzie","Corinium CC","00:36:29",null,null,null,{"$f":"IF(COUNTIF(#REF!,'Results 2015'!#REF!)>COUNTIF(Points!$C$10:$C$86,'Results 2015'!#REF!),\"Not on Comps\",\"\")","v":{"$error":"#REF!"}}]
[null,"59","Mandy Martin",0,"00:43:28",null,null,null,{"$f":"IF(COUNTIF(#REF!,'Results 2015'!#REF!)>COUNTIF(Points!$C$10:$C$86,'Results 2015'!#REF!),\"Not on Comps\",\"\")","v":{"$error":"#REF!"}}]
[null,null,null,null,null,null,null,null,{"$f":"IF(COUNTIF(#REF!,'Results 2015'!#REF!)>COUNTIF(Points!$C$10:$C$86,'Results 2015'!#REF!),\"Not on Comps\",\"\")","v":{"$error":"#REF!"}}]
[null,null,null,null,null,null,null,null,{"$f":"IF(COUNTIF(#REF!,'Results 2015'!#REF!)>COUNTIF(Points!$C$10:$C$86,'Results 2015'!#REF!),\"Not on Comps\",\"\")","v":{"$error":"#REF!"}}]
[null,null,null,null,null,null,null,null,{"$f":"IF(COUNTIF(#REF!,'Results 2015'!#REF!)>COUNTIF(Points!$C$10:$C$86,'Results 2015'!#REF!),\"Not on Comps\",\"\")","v":{"$error":"#REF!"}}]
[null,null,null,null,null,null,null,null,{"$f":"IF(COUNTIF(#REF!,'Results 2015'!#REF!)>COUNTIF(Points!$C$10:$C$86,'Results 2015'!#REF!),\"Not on Comps\",\"\")","v":{"$error":"#REF!"}}]
[null,null,null,null,null,null,null,null,{"$f":"IF(COUNTIF(#REF!,'Results 2015'!#REF!)>COUNTIF(Points!$C$10:$C$86,'Results 2015'!#REF!),\"Not on Comps\",\"\")","v":{"$error":"#REF!"}}]
[null,null,null,null,null,null,null,null,{"$f":"IF(COUNTIF(#REF!,'Results 2015'!#REF!)>COUNTIF(Points!$C$10:$C$86,'Results 2015'!#REF!),\"Not on Comps\",\"\")","v":{"$error":"#REF!"}}]
[null,null,null,null,null,null,null,null,{"$f":"IF(COUNTIF(#REF!,'Results 2015'!#REF!)>COUNTIF(Points!$C$10:$C$86,'Results 2015'!#REF!),\"Not on Comps\",\"\")","v":{"$error":"#REF!"}}]
[null,null,null,null,null,null,null,null,{"$f":"IF(COUNTIF(#REF!,'Results 2015'!#REF!)>COUNTIF(Points!$C$10:$C$86,'Results 2015'!#REF!),\"Not on Comps\",\"\")","v":{"$error":"#REF!"}}]
[null,null,null,null,null,null,null,null,{"$f":"IF(COUNTIF(#REF!,'Results 2015'!#REF!)>COUNTIF(Points!$C$10:$C$86,'Results 2015'!#REF!),\"Not on Comps\",\"\")","v":{"$error":"#REF!"}}]
[null,null,null,null,null,null,null,null,{"$f":"IF(COUNTIF(#REF!,'Results 2015'!#REF!)>COUNTIF(Points!$C$10:$C$86,'Results 2015'!#REF!),\"Not on Comps\",\"\")","v":{"$error":"#REF!"}}]
[null,null,null,null,null,null,null,null,{"$f":"IF(COUNTIF(#REF!,'Results 2015'!#REF!)>COUNTIF(Points!$C$10:$C$86,'Results 2015'!#REF!),\"Not on Comps\",\"\")","v":{"$error":"#REF!"}}]
[null,null,null,null,null,null,null,null,{"$f":"IF(COUNTIF(#REF!,'Results 2015'!#REF!)>COUNTIF(Points!$C$10:$C$86,'Results 2015'!#REF!),\"Not on Comps\",\"\")","v":{"$error":"#REF!"}}]
[null,null,null,null,null,null,null,null,{"$f":"IF(COUNTIF(#REF!,'Results 2015'!#REF!)>COUNTIF(Points!$C$10:$C$86,'Results 2015'!#REF!),\"Not on Comps\",\"\")","v":{"$error":"#REF!"}}]
[null,null,null,null,null,null,null,null,{"$f":"IF(COUNTIF(#REF!,'Results 2015'!#REF!)>COUNTIF(Points!$C$10:$C$86,'Results 2015'!#REF!),\"Not on Comps\",\"\")","v":{"$error":"#REF!"}}]
[null,null,null,null,null,null,null,null,{"$f":"IF(COUNTIF(#REF!,'Results 2015'!#REF!)>COUNTIF(Points!$C$10:$C$86,'Results 2015'!#REF!),\"Not on Comps\",\"\")","v":{"$error":"#REF!"}}]
[null,null,null,null,null,null,null,null,{"$f":"IF(COUNTIF(#REF!,'Results 2015'!#REF!)>COUNTIF(Points!$C$10:$C$86,'Results 2015'!#REF!),\"Not on Comps\",\"\")","v":{"$error":"#REF!"}}]
[null,null,null,null,null,null,null,null,{"$f":"IF(COUNTIF(#REF!,'Results 2015'!#REF!)>COUNTIF(Points!$C$10:$C$86,'Results 2015'!#REF!),\"Not on Comps\",\"\")","v":{"$error":"#REF!"}}]
[null,null,null,null,null,null,null,null,{"$f":"IF(COUNTIF(#REF!,'Results 2015'!#REF!)>COUNTIF(Points!$C$10:$C$86,'Results 2015'!#REF!),\"Not on Comps\",\"\")","v":{"$error":"#REF!"}}]
[null,null,null,null,null,null,null,null,{"$f":"IF(COUNTIF(#REF!,'Results 2015'!#REF!)>COUNTIF(Points!$C$10:$C$86,'Results 2015'!#REF!),\"Not on Comps\",\"\")","v":{"$error":"#REF!"}}]
[null,null,null,null,null,null,null,null,{"$f":"IF(COUNTIF(#REF!,'Results 2015'!#REF!)>COUNTIF(Points!$C$10:$C$86,'Results 2015'!#REF!),\"Not on Comps\",\"\")","v":{"$error":"#REF!"}}]
[null,null,null,null,null,null,null,null,{"$f":"IF(COUNTIF(#REF!,'Results 2015'!#REF!)>COUNTIF(Points!$C$10:$C$86,'Results 2015'!#REF!),\"Not on Comps\",\"\")","v":{"$error":"#REF!"}}]
[null,null,null,null,null,null,null,null,{"$f":"IF(COUNTIF(#REF!,'Results 2015'!#REF!)>COUNTIF(Points!$C$10:$C$86,'Results 2015'!#REF!),\"Not on Comps\",\"\")","v":{"$error":"#REF!"}}]
[null,null,null,null,null,null,null,null,{"$f":"IF(COUNTIF(#REF!,'Results 2015'!#REF!)>COUNTIF(Points!$C$10:$C$86,'Results 2015'!#REF!),\"Not on Comps\",\"\")","v":{"$error":"#REF!"}}]
[null,null,null,null,null,null,null,null,{"$f":"IF(COUNTIF(#REF!,'Results 2015'!#REF!)>COUNTIF(Points!$C$10:$C$86,'Results 2015'!#REF!),\"Not on Comps\",\"\")","v":{"$error":"#REF!"}}]
[null,null,null,null,null,null,null,null,{"$f":"IF(COUNTIF(#REF!,'Results 2015'!#REF!)>COUNTIF(Points!$C$10:$C$86,'Results 2015'!#REF!),\"Not on Comps\",\"\")","v":{"$error":"#REF!"}}]
[null,null,null,null,null,null,null,null,{"$f":"IF(COUNTIF(#REF!,'Results 2015'!#REF!)>COUNTIF(Points!$C$10:$C$86,'Results 2015'!#REF!),\"Not on Comps\",\"\")","v":{"$error":"#REF!"}}]
[null,null,null,null,null,null,null,null,{"$f":"IF(COUNTIF(#REF!,'Results 2015'!#REF!)>COUNTIF(Points!$C$10:$C$86,'Results 2015'!#REF!),\"Not on Comps\",\"\")","v":{"$error":"#REF!"}}]
[null,null,null,null,null,null,null,null,{"$f":"IF(COUNTIF(#REF!,'Results 2015'!#REF!)>COUNTIF(Points!$C$10:$C$86,'Results 2015'!#REF!),\"Not on Comps\",\"\")","v":{"$error":"#REF!"}}]
[null,null,null,null,null,null,null,null,{"$f":"IF(COUNTIF(#REF!,'Results 2015'!#REF!)>COUNTIF(Points!$C$10:$C$86,'Results 2015'!#REF!),\"Not on Comps\",\"\")","v":{"$error":"#REF!"}}]
[null,null,null,null,null,null,null,null,{"$f":"IF(COUNTIF(#REF!,'Results 2015'!#REF!)>COUNTIF(Points!$C$10:$C$86,'Results 2015'!#REF!),\"Not on Comps\",\"\")","v":{"$error":"#REF!"}}]
[null,null,null,null,null,null,null,null,{"$f":"IF(COUNTIF(#REF!,'Results 2015'!#REF!)>COUNTIF(Points!$C$10:$C$86,'Results 2015'!#REF!),\"Not on Comps\",\"\")","v":{"$error":"#REF!"}}]
[null,null,null,null,null,null,null,null,{"$f":"IF(COUNTIF(#REF!,'Results 2015'!#REF!)>COUNTIF(Points!$C$10:$C$86,'Results 2015'!#REF!),\"Not on Comps\",\"\")","v":{"$error":"#REF!"}}]
[null,null,null,null,null,null,null,null,{"$f":"IF(COUNTIF(#REF!,'Results 2015'!#REF!)>COUNTIF(Points!$C$10:$C$86,'Results 2015'!#REF!),\"Not on Comps\",\"\")","v":{"$error":"#REF!"}}]
[null,null,null,null,null,null,null,null,{"$f":"IF(COUNTIF(#REF!,'Results 2015'!#REF!)>COUNTIF(Points!$C$10:$C$86,'Results 2015'!#REF!),\"Not on Comps\",\"\")","v":{"$error":"#REF!"}}]
[null,null,null,null,null,null,null,null,{"$f":"IF(COUNTIF(#REF!,'Results 2015'!#REF!)>COUNTIF(Points!$C$10:$C$86,'Results 2015'!#REF!),\"Not on Comps\",\"\")","v":{"$error":"#REF!"}}]
[null,null,null,null,null,null,null,null,{"$f":"IF(COUNTIF(#REF!,'Results 2015'!#REF!)>COUNTIF(Points!$C$10:$C$86,'Results 2015'!#REF!),\"Not on Comps\",\"\")","v":{"$error":"#REF!"}}]
[null,null,null,null,null,null,null,null,{"$f":"IF(COUNTIF(#REF!,'Results 2015'!#REF!)>COUNTIF(Points!$C$10:$C$86,'Results 2015'!#REF!),\"Not on Comps\",\"\")","v":{"$error":"#REF!"}}]
[null,null,null,null,null,null,null,null,{"$f":"IF(COUNTIF(#REF!,'Results 2015'!#REF!)>COUNTIF(Points!$C$10:$C$86,'Results 2015'!#REF!),\"Not on Comps\",\"\")","v":{"$error":"#REF!"}}]
[null,null,null,null,null,null,null,null,{"$f":"IF(COUNTIF(#REF!,'Results 2015'!#REF!)>COUNTIF(Points!$C$10:$C$86,'Results 2015'!#REF!),\"Not on Comps\",\"\")","v":{"$error":"#REF!"}}]
[null,null,null,null,null,null,null,null,{"$f":"IF(COUNTIF(#REF!,'Results 2015'!#REF!)>COUNTIF(Points!$C$10:$C$86,'Results 2015'!#REF!),\"Not on Comps\",\"\")","v":{"$error":"#REF!"}}]
[null,null,null,null,null,null,null,null,{"$f":"IF(COUNTIF(#REF!,'Results 2015'!#REF!)>COUNTIF(Points!$C$10:$C$86,'Results 2015'!#REF!),\"Not on Comps\",\"\")","v":{"$error":"#REF!"}}]
[null,null,null,null,null,null,null,null,{"$f":"IF(COUNTIF(#REF!,'Results 2015'!#REF!)>COUNTIF(Points!$C$10:$C$86,'Results 2015'!#REF!),\"Not on Comps\",\"\")","v":{"$error":"#REF!"}}]
[null,null,null,null,null,null,null,null,{"$f":"IF(COUNTIF(#REF!,'Results 2015'!#REF!)>COUNTIF(Points!$C$10:$C$86,'Results 2015'!#REF!),\"Not on Comps\",\"\")","v":{"$error":"#REF!"}}]
[null,null,null,null,null,null,null,null,{"$f":"IF(COUNTIF(#REF!,'Results 2015'!#REF!)>COUNTIF(Points!$C$10:$C$86,'Results 2015'!#REF!),\"Not on Comps\",\"\")","v":{"$error":"#REF!"}}]
[null,null,null,null,null,null,null,null,{"$f":"IF(COUNTIF(#REF!,'Results 2015'!#REF!)>COUNTIF(Points!$C$10:$C$86,'Results 2015'!#REF!),\"Not on Comps\",\"\")","v":{"$error":"#REF!"}}]
[null,null,null,null,null,null,null,null,{"$f":"IF(COUNTIF(#REF!,'Results 2015'!#REF!)>COUNTIF(Points!$C$10:$C$86,'Results 2015'!#REF!),\"Not on Comps\",\"\")","v":{"$error":"#REF!"}}]
[null,null,null,null,null,null,null,null,{"$f":"IF(COUNTIF(#REF!,'Results 2015'!#REF!)>COUNTIF(Points!$C$10:$C$86,'Results 2015'!#REF!),\"Not on Comps\",\"\")","v":{"$error":"#REF!"}}]
[null,null,null,null,null,null,null,null,{"$f":"IF(COUNTIF(#REF!,'Results 2015'!#REF!)>COUNTIF(Points!$C$10:$C$86,'Results 2015'!#REF!),\"Not on Comps\",\"\")","v":{"$error":"#REF!"}}]
[null,null,null,null,null,null,null,null,{"$f":"IF(COUNTIF(#REF!,'Results 2015'!#REF!)>COUNTIF(Points!$C$10:$C$86,'Results 2015'!#REF!),\"Not on Comps\",\"\")","v":{"$error":"#REF!"}}]
[null,null,null,null,null,null,null,null,{"$f":"IF(COUNTIF(#REF!,'Results 2015'!#REF!)>COUNTIF(Points!$C$10:$C$86,'Results 2015'!#REF!),\"Not on Comps\",\"\")","v":{"$error":"#REF!"}}]
[null,null,null,null,null,null,null,null,{"$f":"IF(COUNTIF(#REF!,'Results 2015'!#REF!)>COUNTIF(Points!$C$10:$C$86,'Results 2015'!#REF!),\"Not on Comps\",\"\")","v":{"$error":"#REF!"}}]
[null,null,null,null,null,null,null,null,{"$f":"IF(COUNTIF(#REF!,'Results 2015'!#REF!)>COUNTIF(Points!$C$10:$C$86,'Results 2015'!#REF!),\"Not on Comps\",\"\")","v":{"$error":"#REF!"}}]
[null,null,null,null,null,null,null,null,{"$f":"IF(COUNTIF(#REF!,'Results 2015'!#REF!)>COUNTIF(Points!$C$10:$C$86,'Results 2015'!#REF!),\"Not on Comps\",\"\")","v":{"$error":"#REF!"}}]
[null,null,null,null,null,null,null,null,{"$f":"IF(COUNTIF(#REF!,'Results 2015'!#REF!)>COUNTIF(Points!$C$10:$C$86,'Results 2015'!#REF!),\"Not on Comps\",\"\")","v":{"$error":"#REF!"}}]
[null,null,null,null,null,null,null,null,{"$f":"IF(COUNTIF(#REF!,'Results 2015'!#REF!)>COUNTIF(Points!$C$10:$C$86,'Results 2015'!#REF!),\"Not on Comps\",\"\")","v":{"$error":"#REF!"}}]
[null,null,null,null,null,null,null,null,{"$f":"IF(COUNTIF(#REF!,'Results 2015'!#REF!)>COUNTIF(Points!$C$10:$C$86,'Results 2015'!#REF!),\"Not on Comps\",\"\")","v":{"$error":"#REF!"}}]
[null,null,null,null,null,null,null,null,{"$f":"IF(COUNTIF(#REF!,'Results 2015'!#REF!)>COUNTIF(Points!$C$10:$C$86,'Results 2015'!#REF!),\"Not on Comps\",\"\")","v":{"$error":"#REF!"}}]
[null,null,null,null,null,null,null,null,{"$f":"IF(COUNTIF(#REF!,'Results 2015'!#REF!)>COUNTIF(Points!$C$10:$C$86,'Results 2015'!#REF!),\"Not on Comps\",\"\")","v":{"$error":"#REF!"}}]
[null,null,null,null,null,null,null,null,{"$f":"IF(COUNTIF(#REF!,'Results 2015'!#REF!)>COUNTIF(Points!$C$10:$C$86,'Results 2015'!#REF!),\"Not on Comps\",\"\")","v":{"$error":"#REF!"}}]
[null,null,null,null,null,null,null,null,{"$f":"IF(COUNTIF(#REF!,'Results 2015'!#REF!)>COUNTIF(Points!$C$10:$C$86,'Results 2015'!#REF!),\"Not on Comps\",\"\")","v":{"$error":"#REF!"}}]
[null,null,null,null,null,null,null,null,{"$f":"IF(COUNTIF(#REF!,'Results 2015'!#REF!)>COUNTIF(Points!$C$10:$C$86,'Results 2015'!#REF!),\"Not on Comps\",\"\")","v":{"$error":"#REF!"}}]
[null,null,null,null,null,null,null,null,{"$f":"IF(COUNTIF(#REF!,'Results 2015'!#REF!)>COUNTIF(Points!$C$10:$C$86,'Results 2015'!#REF!),\"Not on Comps\",\"\")","v":{"$error":"#REF!"}}]
[null,null,null,null,null,null,null,null,{"$f":"IF(COUNTIF(#REF!,'Results 2015'!#REF!)>COUNTIF(Points!$C$10:$C$86,'Results 2015'!#REF!),\"Not on Comps\",\"\")","v":{"$error":"#REF!"}}]
[null,null,null,null,null,null,null,null,{"$f":"IF(COUNTIF(#REF!,'Results 2015'!#REF!)>COUNTIF(Points!$C$10:$C$86,'Results 2015'!#REF!),\"Not on Comps\",\"\")","v":{"$error":"#REF!"}}]
[null,null,null,null,null,null,null,null,{"$f":"IF(COUNTIF(#REF!,'Results 2015'!#REF!)>COUNTIF(Points!$C$10:$C$86,'Results 2015'!#REF!),\"Not on Comps\",\"\")","v":{"$error":"#REF!"}}]
[null,null,null,null,null,null,null,null,{"$f":"IF(COUNTIF(#REF!,'Results 2015'!#REF!)>COUNTIF(Points!$C$10:$C$86,'Results 2015'!#REF!),\"Not on Comps\",\"\")","v":{"$error":"#REF!"}}]
[null,null,null,null,null,null,null,null,{"$f":"IF(COUNTIF(#REF!,'Results 2015'!#REF!)>COUNTIF(Points!$C$10:$C$86,'Results 2015'!#REF!),\"Not on Comps\",\"\")","v":{"$error":"#REF!"}}]
[null,null,null,null,null,null,null,null,{"$f":"IF(COUNTIF(#REF!,'Results 2015'!#REF!)>COUNTIF(Points!$C$10:$C$86,'Results 2015'!#REF!),\"Not on Comps\",\"\")","v":{"$error":"#REF!"}}]
[null,null,null,null,null,null,null,null,{"$f":"IF(COUNTIF(#REF!,'Results 2015'!#REF!)>COUNTIF(Points!$C$10:$C$86,'Results 2015'!#REF!),\"Not on Comps\",\"\")","v":{"$error":"#REF!"}}]
[null,null,null,null,null,null,null,null,{"$f":"IF(COUNTIF(#REF!,'Results 2015'!#REF!)>COUNTIF(Points!$C$10:$C$86,'Results 2015'!#REF!),\"Not on Comps\",\"\")","v":{"$error":"#REF!"}}]
[null,null,null,null,null,null,null,null,{"$f":"IF(COUNTIF(#REF!,'Results 2015'!#REF!)>COUNTIF(Points!$C$10:$C$86,'Results 2015'!#REF!),\"Not on Comps\",\"\")","v":{"$error":"#REF!"}}]
[null,null,null,null,null,null,null,null,{"$f":"IF(COUNTIF(#REF!,'Results 2015'!#REF!)>COUNTIF(Points!$C$10:$C$86,'Results 2015'!#REF!),\"Not on Comps\",\"\")","v":{"$error":"#REF!"}}]
[null,null,null,null,null,null,null,null,{"$f":"IF(COUNTIF(#REF!,'Results 2015'!#REF!)>COUNTIF(Points!$C$10:$C$86,'Results 2015'!#REF!),\"Not on Comps\",\"\")","v":{"$error":"#REF!"}}]
[null,null,null,null,null,null,null,null,{"$f":"IF(COUNTIF(#REF!,'Results 2015'!#REF!)>COUNTIF(Points!$C$10:$C$86,'Results 2015'!#REF!),\"Not on Comps\",\"\")","v":{"$error":"#REF!"}}]
[null,null,null,null,null,null,null,null,{"$f":"IF(COUNTIF(#REF!,'Results 2015'!#REF!)>COUNTIF(Points!$C$10:$C$86,'Results 2015'!#REF!),\"Not on Comps\",\"\")","v":{"$error":"#REF!"}}]
[null,null,null,null,null,null,null,null,{"$f":"IF(COUNTIF(#REF!,'Results 2015'!#REF!)>COUNTIF(Points!$C$10:$C$86,'Results 2015'!#REF!),\"Not on Comps\",\"\")","v":{"$error":"#REF!"}}]
[null,null,null,null,null,null,null,null,{"$f":"IF(COUNTIF(#REF!,'Results 2015'!#REF!)>COUNTIF(Points!$C$10:$C$86,'Results 2015'!#REF!),\"Not on Comps\",\"\")","v":{"$error":"#REF!"}}]
[null,null,null,null,null,null,null,null,{"$f":"IF(COUNTIF(#REF!,'Results 2015'!#REF!)>COUNTIF(Points!$C$10:$C$86,'Results 2015'!#REF!),\"Not on Comps\",\"\")","v":{"$error":"#REF!"}}]
[null,null,null,null,null,null,null,null,{"$f":"IF(COUNTIF(#REF!,'Results 2015'!#REF!)>COUNTIF(Points!$C$10:$C$86,'Results 2015'!#REF!),\"Not on Comps\",\"\")","v":{"$error":"#REF!"}}]
[null,null,null,null,null,null,null,null,{"$f":"IF(COUNTIF(#REF!,'Results 2015'!#REF!)>COUNTIF(Points!$C$10:$C$86,'Results 2015'!#REF!),\"Not on Comps\",\"\")","v":{"$error":"#REF!"}}]
[null,null,null,null,null,null,null,null,{"$f":"IF(COUNTIF(#REF!,'Results 2015'!#REF!)>COUNTIF(Points!$C$10:$C$86,'Results 2015'!#REF!),\"Not on Comps\",\"\")","v":{"$error":"#REF!"}}]
[null,null,null,null,null,null,null,null,{"$f":"IF(COUNTIF(#REF!,'Results 2015'!#REF!)>COUNTIF(Points!$C$10:$C$86,'Results 2015'!#REF!),\"Not on Comps\",\"\")","v":{"$error":"#REF!"}}]
[null,null,null,null,null,null,null,null,{"$f":"IF(COUNTIF(#REF!,'Results 2015'!#REF!)>COUNTIF(Points!$C$10:$C$86,'Results 2015'!#REF!),\"Not on Comps\",\"\")","v":{"$error":"#REF!"}}]
[null,null,null,null,null,null,null,null,{"$f":"IF(COUNTIF(#REF!,'Results 2015'!#REF!)>COUNTIF(Points!$C$10:$C$86,'Results 2015'!#REF!),\"Not on Comps\",\"\")","v":{"$error":"#REF!"}}]
[null,null,null,null,null,null,null,null,{"$f":"IF(COUNTIF(#REF!,'Results 2015'!#REF!)>COUNTIF(Points!$C$10:$C$86,'Results 2015'!#REF!),\"Not on Comps\",\"\")","v":{"$error":"#REF!"}}]
[null,null,null,null,null,null,null,null,{"$f":"IF(COUNTIF(#REF!,'Results 2015'!#REF!)>COUNTIF(Points!$C$10:$C$86,'Results 2015'!#REF!),\"Not on Comps\",\"\")","v":{"$error":"#REF!"}}]
[null,null,null,null,null,null,null,null,{"$f":"IF(COUNTIF(#REF!,'Results 2015'!#REF!)>COUNTIF(Points!$C$10:$C$86,'Results 2015'!#REF!),\"Not on Comps\",\"\")","v":{"$error":"#REF!"}}]
[null,null,null,null,null,null,null,null,{"$f":"IF(COUNTIF(#REF!,'Results 2015'!#REF!)>COUNTIF(Points!$C$10:$C$86,'Results 2015'!#REF!),\"Not on Comps\",\"\")","v":{"$error":"#REF!"}}]
[null,null,null,null,null,null,null,null,{"$f":"IF(COUNTIF(#REF!,'Results 2015'!#REF!)>COUNTIF(Points!$C$10:$C$86,'Results 2015'!#REF!),\"Not on Comps\",\"\")","v":{"$error":"#REF!"}}]
[null,null,null,null,null,null,null,null,{"$f":"IF(COUNTIF(#REF!,'Results 2015'!#REF!)>COUNTIF(Points!$C$10:$C$86,'Results 2015'!#REF!),\"Not on Comps\",\"\")","v":{"$error":"#REF!"}}]
[null,null,null,null,null,null,null,null,{"$f":"IF(COUNTIF(#REF!,'Results 2015'!#REF!)>COUNTIF(Points!$C$10:$C$86,'Results 2015'!#REF!),\"Not on Comps\",\"\")","v":{"$error":"#REF!"}}]
[null,null,null,null,null,null,null,null,{"$f":"IF(COUNTIF(#REF!,'Results 2015'!#REF!)>COUNTIF(Points!$C$10:$C$86,'Results 2015'!#REF!),\"Not on Comps\",\"\")","v":{"$error":"#REF!"}}]
[null,null,null,null,null,null,null,null,{"$f":"IF(COUNTIF(#REF!,'Results 2015'!#REF!)>COUNTIF(Points!$C$10:$C$86,'Results 2015'!#REF!),\"Not on Comps\",\"\")","v":{"$error":"#REF!"}}]
[null,null,null,null,null,null,null,null,{"$f":"IF(COUNTIF(#REF!,'Results 2015'!#REF!)>COUNTIF(Points!$C$10:$C$86,'Results 2015'!#REF!),\"Not on Comps\",\"\")","v":{"$error":"#REF!"}}]
[null,null,null,null,null,null,null,null,{"$f":"IF(COUNTIF(#REF!,'Results 2015'!#REF!)>COUNTIF(Points!$C$10:$C$86,'Results 2015'!#REF!),\"Not on Comps\",\"\")","v":{"$error":"#REF!"}}]
[null,null,null,null,null,null,null,null,{"$f":"IF(COUNTIF(#REF!,'Results 2015'!#REF!)>COUNTIF(Points!$C$10:$C$86,'Results 2015'!#REF!),\"Not on Comps\",\"\")","v":{"$error":"#REF!"}}]
[null,null,null,null,null,null,null,null,{"$f":"IF(COUNTIF(#REF!,'Results 2015'!#REF!)>COUNTIF(Points!$C$10:$C$86,'Results 2015'!#REF!),\"Not on Comps\",\"\")","v":{"$error":"#REF!"}}]
[null,null,null,null,null,null,null,null,{"$f":"IF(COUNTIF(#REF!,'Results 2015'!#REF!)>COUNTIF(Points!$C$10:$C$86,'Results 2015'!#REF!),\"Not on Comps\",\"\")","v":{"$error":"#REF!"}}]
[null,null,null,null,null,null,null,null,{"$f":"IF(COUNTIF(#REF!,'Results 2015'!#REF!)>COUNTIF(Points!$C$10:$C$86,'Results 2015'!#REF!),\"Not on Comps\",\"\")","v":{"$error":"#REF!"}}]
[null,null,null,null,null,null,null,null,{"$f":"IF(COUNTIF(#REF!,'Results 2015'!#REF!)>COUNTIF(Points!$C$10:$C$86,'Results 2015'!#REF!),\"Not on Comps\",\"\")","v":{"$error":"#REF!"}}]
[null,null,null,null,null,null,null,null,{"$f":"IF(COUNTIF(#REF!,'Results 2015'!#REF!)>COUNTIF(Points!$C$10:$C$86,'Results 2015'!#REF!),\"Not on Comps\",\"\")","v":{"$error":"#REF!"}}]
[null,null,null,null,null,null,null,null,{"$f":"IF(COUNTIF(#REF!,'Results 2015'!#REF!)>COUNTIF(Points!$C$10:$C$86,'Results 2015'!#REF!),\"Not on Comps\",\"\")","v":{"$error":"#REF!"}}]
[null,null,null,null,null,null,null,null,{"$f":"IF(COUNTIF(#REF!,'Results 2015'!#REF!)>COUNTIF(Points!$C$10:$C$86,'Results 2015'!#REF!),\"Not on Comps\",\"\")","v":{"$error":"#REF!"}}]
[null,null,null,null,null,null,null,null,{"$f":"IF(COUNTIF(#REF!,'Results 2015'!#REF!)>COUNTIF(Points!$C$10:$C$86,'Results 2015'!#REF!),\"Not on Comps\",\"\")","v":{"$error":"#REF!"}}]
[null,null,null,null,null,null,null,null,{"$f":"IF(COUNTIF(#REF!,'Results 2015'!#REF!)>COUNTIF(Points!$C$10:$C$86,'Results 2015'!#REF!),\"Not on Comps\",\"\")","v":{"$error":"#REF!"}}]
[null,null,null,null,null,null,null,null,{"$f":"IF(COUNTIF(#REF!,'Results 2015'!#REF!)>COUNTIF(Points!$C$10:$C$86,'Results 2015'!#REF!),\"Not on Comps\",\"\")","v":{"$error":"#REF!"}}]
[null,null,null,null,null,null,null,null,{"$f":"IF(COUNTIF(#REF!,'Results 2015'!#REF!)>COUNTIF(Points!$C$10:$C$86,'Results 2015'!#REF!),\"Not on Comps\",\"\")","v":{"$error":"#REF!"}}]
[null,null,null,null,null,null,null,null,{"$f":"IF(COUNTIF(#REF!,'Results 2015'!#REF!)>COUNTIF(Points!$C$10:$C$86,'Results 2015'!#REF!),\"Not on Comps\",\"\")","v":{"$error":"#REF!"}}]
[null,null,null,null,null,null,null,null,{"$f":"IF(COUNTIF(#REF!,'Results 2015'!#REF!)>COUNTIF(Points!$C$10:$C$86,'Results 2015'!#REF!),\"Not on Comps\",\"\")","v":{"$error":"#REF!"}}]
[null,null,null,null,null,null,null,null,{"$f":"IF(COUNTIF(#REF!,'Results 2015'!#REF!)>COUNTIF(Points!$C$10:$C$86,'Results 2015'!#REF!),\"Not on Comps\",\"\")","v":{"$error":"#REF!"}}]
[null,null,null,null,null,null,null,null,{"$f":"IF(COUNTIF(#REF!,'Results 2015'!#REF!)>COUNTIF(Points!$C$10:$C$86,'Results 2015'!#REF!),\"Not on Comps\",\"\")","v":{"$error":"#REF!"}}]
[null,null,null,null,null,null,null,null,{"$f":"IF(COUNTIF(#REF!,'Results 2015'!#REF!)>COUNTIF(Points!$C$10:$C$86,'Results 2015'!#REF!),\"Not on Comps\",\"\")","v":{"$error":"#REF!"}}]
[null,null,null,null,null,null,null,null,{"$f":"IF(COUNTIF(#REF!,'Results 2015'!#REF!)>COUNTIF(Points!$C$10:$C$86,'Results 2015'!#REF!),\"Not on Comps\",\"\")","v":{"$error":"#REF!"}}]
[null,null,null,null,null,null,null,null,{"$f":"IF(COUNTIF(#REF!,'Results 2015'!#REF!)>COUNTIF(Points!$C$10:$C$86,'Results 2015'!#REF!),\"Not on Comps\",\"\")","v":{"$error":"#REF!"}}]
[null,null,null,null,null,null,null,null,{"$f":"IF(COUNTIF(#REF!,'Results 2015'!#REF!)>COUNTIF(Points!$C$10:$C$86,'Results 2015'!#REF!),\"Not on Comps\",\"\")","v":{"$error":"#REF!"}}]
[null,null,null,null,null,null,null,null,{"$f":"IF(COUNTIF(#REF!,'Results 2015'!#REF!)>COUNTIF(Points!$C$10:$C$86,'Results 2015'!#REF!),\"Not on Comps\",\"\")","v":{"$error":"#REF!"}}]
[null,null,null,null,null,null,null,null,{"$f":"IF(COUNTIF(#REF!,'Results 2015'!#REF!)>COUNTIF(Points!$C$10:$C$86,'Results 2015'!#REF!),\"Not on Comps\",\"\")","v":{"$error":"#REF!"}}]
[null,null,null,null,null,null,null,null,{"$f":"IF(COUNTIF(#REF!,'Results 2015'!#REF!)>COUNTIF(Points!$C$10:$C$86,'Results 2015'!#REF!),\"Not on Comps\",\"\")","v":{"$error":"#REF!"}}]
[null,null,null,null,null,null,null,null,{"$f":"IF(COUNTIF(#REF!,'Results 2015'!#REF!)>COUNTIF(Points!$C$10:$C$86,'Results 2015'!#REF!),\"Not on Comps\",\"\")","v":{"$error":"#REF!"}}]
[null,null,null,null,null,null,null,null,{"$f":"IF(COUNTIF(#REF!,'Results 2015'!#REF!)>COUNTIF(Points!$C$10:$C$86,'Results 2015'!#REF!),\"Not on Comps\",\"\")","v":{"$error":"#REF!"}}]
[null,null,null,null,null,null,null,null,{"$f":"IF(COUNTIF(#REF!,'Results 2015'!#REF!)>COUNTIF(Points!$C$10:$C$86,'Results 2015'!#REF!),\"Not on Comps\",\"\")","v":{"$error":"#REF!"}}]
[null,null,null,null,null,null,null,null,{"$f":"IF(COUNTIF(#REF!,'Results 2015'!#REF!)>COUNTIF(Points!$C$10:$C$86,'Results 2015'!#REF!),\"Not on Comps\",\"\")","v":{"$error":"#REF!"}}]
[null,null,null,null,null,null,null,null,{"$f":"IF(COUNTIF(#REF!,'Results 2015'!#REF!)>COUNTIF(Points!$C$10:$C$86,'Results 2015'!#REF!),\"Not on Comps\",\"\")","v":{"$error":"#REF!"}}]
[null,null,null,null,null,null,null,null,{"$f":"IF(COUNTIF(#REF!,'Results 2015'!#REF!)>COUNTIF(Points!$C$10:$C$86,'Results 2015'!#REF!),\"Not on Comps\",\"\")","v":{"$error":"#REF!"}}]
[null,null,null,null,null,null,null,null,{"$f":"IF(COUNTIF(#REF!,'Results 2015'!#REF!)>COUNTIF(Points!$C$10:$C$86,'Results 2015'!#REF!),\"Not on Comps\",\"\")","v":{"$error":"#REF!"}}]
[null,null,null,null,null,null,null,null,{"$f":"IF(COUNTIF(#REF!,'Results 2015'!#REF!)>COUNTIF(Points!$C$10:$C$86,'Results 2015'!#REF!),\"Not on Comps\",\"\")","v":{"$error":"#REF!"}}]
[null,null,null,null,null,null,null,null,{"$f":"IF(COUNTIF(#REF!,'Results 2015'!#REF!)>COUNTIF(Points!$C$10:$C$86,'Results 2015'!#REF!),\"Not on Comps\",\"\")","v":{"$error":"#REF!"}}]
[null,null,null,null,null,null,null,null,{"$f":"IF(COUNTIF(#REF!,'Results 2015'!#REF!)>COUNTIF(Points!$C$10:$C$86,'Results 2015'!#REF!),\"Not on Comps\",\"\")","v":{"$error":"#REF!"}}]
[null,null,null,null,null,null,null,null,{"$f":"IF(COUNTIF(#REF!,'Results 2015'!#REF!)>COUNTIF(Points!$C$10:$C$86,'Results 2015'!#REF!),\"Not on Comps\",\"\")","v":{"$error":"#REF!"}}]
[null,null,null,null,null,null,null,null,{"$f":"IF(COUNTIF(#REF!,'Results 2015'!#REF!)>COUNTIF(Points!$C$10:$C$86,'Results 2015'!#REF!),\"Not on Comps\",\"\")","v":{"$error":"#REF!"}}]
[null,null,null,null,null,null,null,null,{"$f":"IF(COUNTIF(#REF!,'Results 2015'!#REF!)>COUNTIF(Points!$C$10:$C$86,'Results 2015'!#REF!),\"Not on Comps\",\"\")","v":{"$error":"#REF!"}}]
[null,null,null,null,null,null,null,null,{"$f":"IF(COUNTIF(#REF!,'Results 2015'!#REF!)>COUNTIF(Points!$C$10:$C$86,'Results 2015'!#REF!),\"Not on Comps\",\"\")","v":{"$error":"#REF!"}}]
[null,null,null,null,null,null,null,null,{"$f":"IF(COUNTIF(#REF!,'Results 2015'!#REF!)>COUNTIF(Points!$C$10:$C$86,'Results 2015'!#REF!),\"Not on Comps\",\"\")","v":{"$error":"#REF!"}}]
[null,null,null,null,null,null,null,null,{"$f":"IF(COUNTIF(#REF!,'Results 2015'!#REF!)>COUNTIF(Points!$C$10:$C$86,'Results 2015'!#REF!),\"Not on Comps\",\"\")","v":{"$error":"#REF!"}}]
[null,null,null,null,null,null,null,null,{"$f":"IF(COUNTIF(#REF!,'Results 2015'!#REF!)>COUNTIF(Points!$C$10:$C$86,'Results 2015'!#REF!),\"Not on Comps\",\"\")","v":{"$error":"#REF!"}}]
[null,null,null,null,null,null,null,null,{"$f":"IF(COUNTIF(#REF!,'Results 2015'!#REF!)>COUNTIF(Points!$C$10:$C$86,'Results 2015'!#REF!),\"Not on Comps\",\"\")","v":{"$error":"#REF!"}}]
[null,null,null,null,null,null,null,null,{"$f":"IF(COUNTIF(#REF!,'Results 2015'!#REF!)>COUNTIF(Points!$C$10:$C$86,'Results 2015'!#REF!),\"Not on Comps\",\"\")","v":{"$error":"#REF!"}}]
[null,null,null,null,null,null,null,null,{"$f":"IF(COUNTIF(#REF!,'Results 2015'!#REF!)>COUNTIF(Points!$C$10:$C$86,'Results 2015'!#REF!),\"Not on Comps\",\"\")","v":{"$error":"#REF!"}}]
[null,null,null,null,null,null,null,null,{"$f":"IF(COUNTIF(#REF!,'Results 2015'!#REF!)>COUNTIF(Points!$C$10:$C$86,'Results 2015'!#REF!),\"Not on Comps\",\"\")","v":{"$error":"#REF!"}}]
[null,null,null,null,null,null,null,null,{"$f":"IF(COUNTIF(#REF!,'Results 2015'!#REF!)>COUNTIF(Points!$C$10:$C$86,'Results 2015'!#REF!),\"Not on Comps\",\"\")","v":{"$error":"#REF!"}}]
[null,null,null,null,null,null,null,null,{"$f":"IF(COUNTIF(#REF!,'Results 2015'!#REF!)>COUNTIF(Points!$C$10:$C$86,'Results 2015'!#REF!),\"Not on Comps\",\"\")","v":{"$error":"#REF!"}}]
[null,null,null,null,null,null,null,null,{"$f":"IF(COUNTIF(#REF!,'Results 2015'!#REF!)>COUNTIF(Points!$C$10:$C$86,'Results 2015'!#REF!),\"Not on Comps\",\"\")","v":{"$error":"#REF!"}}]
[null,null,null,null,null,null,null,null,{"$f":"IF(COUNTIF(#REF!,'Results 2015'!#REF!)>COUNTIF(Points!$C$10:$C$86,'Results 2015'!#REF!),\"Not on Comps\",\"\")","v":{"$error":"#REF!"}}]
[null,null,null,null,null,null,null,null,{"$f":"IF(COUNTIF(#REF!,'Results 2015'!#REF!)>COUNTIF(Points!$C$10:$C$86,'Results 2015'!#REF!),\"Not on Comps\",\"\")","v":{"$error":"#REF!"}}]
[null,null,null,null,null,null,null,null,{"$f":"IF(COUNTIF(#REF!,'Results 2015'!#REF!)>COUNTIF(Points!$C$10:$C$86,'Results 2015'!#REF!),\"Not on Comps\",\"\")","v":{"$error":"#REF!"}}]
[null,null,null,null,null,null,null,null,{"$f":"IF(COUNTIF(#REF!,'Results 2015'!#REF!)>COUNTIF(Points!$C$10:$C$86,'Results 2015'!#REF!),\"Not on Comps\",\"\")","v":{"$error":"#REF!"}}]
[null,null,null,null,null,null,null,null,{"$f":"IF(COUNTIF(#REF!,'Results 2015'!#REF!)>COUNTIF(Points!$C$10:$C$86,'Results 2015'!#REF!),\"Not on Comps\",\"\")","v":{"$error":"#REF!"}}]
[null,null,null,null,null,null,null,null,{"$f":"IF(COUNTIF(#REF!,'Results 2015'!#REF!)>COUNTIF(Points!$C$10:$C$86,'Results 2015'!#REF!),\"Not on Comps\",\"\")","v":{"$error":"#REF!"}}]
[null,null,null,null,null,null,null,null,{"$f":"IF(COUNTIF(#REF!,'Results 2015'!#REF!)>COUNTIF(Points!$C$10:$C$86,'Results 2015'!#REF!),\"Not on Comps\",\"\")","v":{"$error":"#REF!"}}]
[null,null,null,null,null,null,null,null,{"$f":"IF(COUNTIF(#REF!,'Results 2015'!#REF!)>COUNTIF(Points!$C$10:$C$86,'Results 2015'!#REF!),\"Not on Comps\",\"\")","v":{"$error":"#REF!"}}]
[null,null,null,null,null,null,null,null,{"$f":"IF(COUNTIF(#REF!,'Results 2015'!#REF!)>COUNTIF(Points!$C$10:$C$86,'Results 2015'!#REF!),\"Not on Comps\",\"\")","v":{"$error":"#REF!"}}]
[null,null,null,null,null,null,null,null,{"$f":"IF(COUNTIF(#REF!,'Results 2015'!#REF!)>COUNTIF(Points!$C$10:$C$86,'Results 2015'!#REF!),\"Not on Comps\",\"\")","v":{"$error":"#REF!"}}]
[null,null,null,null,null,null,null,null,{"$f":"IF(COUNTIF(#REF!,'Results 2015'!#REF!)>COUNTIF(Points!$C$10:$C$86,'Results 2015'!#REF!),\"Not on Comps\",\"\")","v":{"$error":"#REF!"}}]
[null,null,null,null,null,null,null,null,{"$f":"IF(COUNTIF(#REF!,'Results 2015'!#REF!)>COUNTIF(Points!$C$10:$C$86,'Results 2015'!#REF!),\"Not on Comps\",\"\")","v":{"$error":"#REF!"}}]
[null,null,null,null,null,null,null,null,{"$f":"IF(COUNTIF(#REF!,'Results 2015'!#REF!)>COUNTIF(Points!$C$10:$C$86,'Results 2015'!#REF!),\"Not on Comps\",\"\")","v":{"$error":"#REF!"}}]
[null,null,null,null,null,null,null,null,{"$f":"IF(COUNTIF(#REF!,'Results 2015'!#REF!)>COUNTIF(Points!$C$10:$C$86,'Results 2015'!#REF!),\"Not on Comps\",\"\")","v":{"$error":"#REF!"}}]
[null,null,null,null,null,null,null,null,{"$f":"IF(COUNTIF(#REF!,'Results 2015'!#REF!)>COUNTIF(Points!$C$10:$C$86,'Results 2015'!#REF!),\"Not on Comps\",\"\")","v":{"$error":"#REF!"}}]
[null,null,null,null,null,null,null,null,{"$f":"IF(COUNTIF(#REF!,'Results 2015'!#REF!)>COUNTIF(Points!$C$10:$C$86,'Results 2015'!#REF!),\"Not on Comps\",\"\")","v":{"$error":"#REF!"}}]
[null,null,null,null,null,null,null,null,{"$f":"IF(COUNTIF(#REF!,'Results 2015'!#REF!)>COUNTIF(Points!$C$10:$C$86,'Results 2015'!#REF!),\"Not on Comps\",\"\")","v":{"$error":"#REF!"}}]
[null,null,null,null,null,null,null,null,{"$f":"IF(COUNTIF(#REF!,'Results 2015'!#REF!)>COUNTIF(Points!$C$10:$C$86,'Results 2015'!#REF!),\"Not on Comps\",\"\")","v":{"$error":"#REF!"}}]
[null,null,null,null,null,null,null,null,{"$f":"IF(COUNTIF(#REF!,'Results 2015'!#REF!)>COUNTIF(Points!$C$10:$C$86,'Results 2015'!#REF!),\"Not on Comps\",\"\")","v":{"$error":"#REF!"}}]
[null,null,null,null,null,null,null,null,{"$f":"IF(COUNTIF(#REF!,'Results 2015'!#REF!)>COUNTIF(Points!$C$10:$C$86,'Results 2015'!#REF!),\"Not on Comps\",\"\")","v":{"$error":"#REF!"}}]
[null,null,null,null,null,null,null,null,{"$f":"IF(COUNTIF(#REF!,'Results 2015'!#REF!)>COUNTIF(Points!$C$10:$C$86,'Results 2015'!#REF!),\"Not on Comps\",\"\")","v":{"$error":"#REF!"}}]
[null,null,null,null,null,null,null,null,{"$f":"IF(COUNTIF(#REF!,'Results 2015'!#REF!)>COUNTIF(Points!$C$10:$C$86,'Results 2015'!#REF!),\"Not on Comps\",\"\")","v":{"$error":"#REF!"}}]
[null,null,null,null,null,null,null,null,{"$f":"IF(COUNTIF(#REF!,'Results 2015'!#REF!)>COUNTIF(Points!$C$10:$C$86,'Results 2015'!#REF!),\"Not on Comps\",\"\")","v":{"$error":"#REF!"}}]
[null,null,null,null,null,null,null,null,{"$f":"IF(COUNTIF(#REF!,'Results 2015'!#REF!)>COUNTIF(Points!$C$10:$C$86,'Results 2015'!#REF!),\"Not on Comps\",\"\")","v":{"$error":"#REF!"}}]
[null,null,null,null,null,null,null,null,{"$f":"IF(COUNTIF(#REF!,'Results 2015'!#REF!)>COUNTIF(Points!$C$10:$C$86,'Results 2015'!#REF!),\"Not on Comps\",\"\")","v":{"$error":"#REF!"}}]
[null,null,null,null,null,null,null,null,{"$f":"IF(COUNTIF(#REF!,'Results 2015'!#REF!)>COUNTIF(Points!$C$10:$C$86,'Results 2015'!#REF!),\"Not on Comps\",\"\")","v":{"$error":"#REF!"}}]
[null,null,null,null,null,null,null,null,{"$f":"IF(COUNTIF(#REF!,'Results 2015'!#REF!)>COUNTIF(Points!$C$10:$C$86,'Results 2015'!#REF!),\"Not on Comps\",\"\")","v":{"$error":"#REF!"}}]
[null,null,null,null,null,null,null,null,{"$f":"IF(COUNTIF(#REF!,'Results 2015'!#REF!)>COUNTIF(Points!$C$10:$C$86,'Results 2015'!#REF!),\"Not on Comps\",\"\")","v":{"$error":"#REF!"}}]
[null,null,null,null,null,null,null,null,{"$f":"IF(COUNTIF(#REF!,'Results 2015'!#REF!)>COUNTIF(Points!$C$10:$C$86,'Results 2015'!#REF!),\"Not on Comps\",\"\")","v":{"$error":"#REF!"}}]
[null,null,null,null,null,null,null,null,{"$f":"IF(COUNTIF(#REF!,'Results 2015'!#REF!)>COUNTIF(Points!$C$10:$C$86,'Results 2015'!#REF!),\"Not on Comps\",\"\")","v":{"$error":"#REF!"}}]
[null,null,null,null,null,null,null,null,{"$f":"IF(COUNTIF(#REF!,'Results 2015'!#REF!)>COUNTIF(Points!$C$10:$C$86,'Results 2015'!#REF!),\"Not on Comps\",\"\")","v":{"$error":"#REF!"}}]
[null,null,null,null,null,null,null,null,{"$f":"IF(COUNTIF(#REF!,'Results 2015'!#REF!)>COUNTIF(Points!$C$10:$C$86,'Results 2015'!#REF!),\"Not on Comps\",\"\")","v":{"$error":"#REF!"}}]
[null,null,null,null,null,null,null,null,{"$f":"IF(COUNTIF(#REF!,'Results 2015'!#REF!)>COUNTIF(Points!$C$10:$C$86,'Results 2015'!#REF!),\"Not on Comps\",\"\")","v":{"$error":"#REF!"}}]
[null,null,null,null,null,null,null,null,{"$f":"IF(COUNTIF(#REF!,'Results 2015'!#REF!)>COUNTIF(Points!$C$10:$C$86,'Results 2015'!#REF!),\"Not on Comps\",\"\")","v":{"$error":"#REF!"}}]
[null,null,null,null,null,null,null,null,{"$f":"IF(COUNTIF(#REF!,'Results 2015'!#REF!)>COUNTIF(Points!$C$10:$C$86,'Results 2015'!#REF!),\"Not on Comps\",\"\")","v":{"$error":"#REF!"}}]
[null,null,null,null,null,null,null,null,{"$f":"IF(COUNTIF(#REF!,'Results 2015'!#REF!)>COUNTIF(Points!$C$10:$C$86,'Results 2015'!#REF!),\"Not on Comps\",\"\")","v":{"$error":"#REF!"}}]
[null,null,null,null,null,null,null,null,{"$f":"IF(COUNTIF(#REF!,'Results 2015'!#REF!)>COUNTIF(Points!$C$10:$C$86,'Results 2015'!#REF!),\"Not on Comps\",\"\")","v":{"$error":"#REF!"}}]
[null,null,null,null,null,null,null,null,{"$f":"IF(COUNTIF(#REF!,'Results 2015'!#REF!)>COUNTIF(Points!$C$10:$C$86,'Results 2015'!#REF!),\"Not on Comps\",\"\")","v":{"$error":"#REF!"}}]
[null,null,null,null,null,null,null,null,{"$f":"IF(COUNTIF(#REF!,'Results 2015'!#REF!)>COUNTIF(Points!$C$10:$C$86,'Results 2015'!#REF!),\"Not on Comps\",\"\")","v":{"$error":"#REF!"}}]
[null,null,null,null,null,null,null,null,{"$f":"IF(COUNTIF(#REF!,'Results 2015'!#REF!)>COUNTIF(Points!$C$10:$C$86,'Results 2015'!#REF!),\"Not on Comps\",\"\")","v":{"$error":"#REF!"}}]
[null,null,null,null,null,null,null,null,{"$f":"IF(COUNTIF(#REF!,'Results 2015'!#REF!)>COUNTIF(Points!$C$10:$C$86,'Results 2015'!#REF!),\"Not on Comps\",\"\")","v":{"$error":"#REF!"}}]
[null,null,null,null,null,null,null,null,{"$f":"IF(COUNTIF(#REF!,'Results 2015'!#REF!)>COUNTIF(Points!$C$10:$C$86,'Results 2015'!#REF!),\"Not on Comps\",\"\")","v":{"$error":"#REF!"}}]
[null,null,null,null,null,null,null,null,{"$f":"IF(COUNTIF(#REF!,'Results 2015'!#REF!)>COUNTIF(Points!$C$10:$C$86,'Results 2015'!#REF!),\"Not on Comps\",\"\")","v":{"$error":"#REF!"}}]
[null,null,null,null,null,null,null,null,{"$f":"IF(COUNTIF(#REF!,'Results 2015'!#REF!)>COUNTIF(Points!$C$10:$C$86,'Results 2015'!#REF!),\"Not on Comps\",\"\")","v":{"$error":"#REF!"}}]
[null,null,null,null,null,null,null,null,{"$f":"IF(COUNTIF(#REF!,'Results 2015'!#REF!)>COUNTIF(Points!$C$10:$C$86,'Results 2015'!#REF!),\"Not on Comps\",\"\")","v":{"$error":"#REF!"}}]
[null,null,null,null,null,null,null,null,{"$f":"IF(COUNTIF(#REF!,'Results 2015'!#REF!)>COUNTIF(Points!$C$10:$C$86,'Results 2015'!#REF!),\"Not on Comps\",\"\")","v":{"$error":"#REF!"}}]
[null,null,null,null,null,null,null,null,{"$f":"IF(COUNTIF(#REF!,'Results 2015'!#REF!)>COUNTIF(Points!$C$10:$C$86,'Results 2015'!#REF!),\"Not on Comps\",\"\")","v":{"$error":"#REF!"}}]
[null,null,null,null,null,null,null,null,{"$f":"IF(COUNTIF(#REF!,'Results 2015'!#REF!)>COUNTIF(Points!$C$10:$C$86,'Results 2015'!#REF!),\"Not on Comps\",\"\")","v":{"$error":"#REF!"}}]
[null,null,null,null,null,null,null,null,{"$f":"IF(COUNTIF(#REF!,'Results 2015'!#REF!)>COUNTIF(Points!$C$10:$C$86,'Results 2015'!#REF!),\"Not on Comps\",\"\")","v":{"$error":"#REF!"}}]
[null,null,null,null,null,null,null,null,{"$f":"IF(COUNTIF(#REF!,'Results 2015'!#REF!)>COUNTIF(Points!$C$10:$C$86,'Results 2015'!#REF!),\"Not on Comps\",\"\")","v":{"$error":"#REF!"}}]
[null,null,null,null,null,null,null,null,{"$f":"IF(COUNTIF(#REF!,'Results 2015'!#REF!)>COUNTIF(Points!$C$10:$C$86,'Results 2015'!#REF!),\"Not on Comps\",\"\")","v":{"$error":"#REF!"}}]
[null,null,null,null,null,null,null,null,{"$f":"IF(COUNTIF(#REF!,'Results 2015'!#REF!)>COUNTIF(Points!$C$10:$C$86,'Results 2015'!#REF!),\"Not on Comps\",\"\")","v":{"$error":"#REF!"}}]
[null,null,null,null,null,null,null,null,{"$f":"IF(COUNTIF(#REF!,'Results 2015'!#REF!)>COUNTIF(Points!$C$10:$C$86,'Results 2015'!#REF!),\"Not on Comps\",\"\")","v":{"$error":"#REF!"}}]
[null,null,null,null,null,null,null,null,{"$f":"IF(COUNTIF(#REF!,'Results 2015'!#REF!)>COUNTIF(Points!$C$10:$C$86,'Results 2015'!#REF!),\"Not on Comps\",\"\")","v":{"$error":"#REF!"}}]
[null,null,null,null,null,null,null,null,{"$f":"IF(COUNTIF(#REF!,'Results 2015'!#REF!)>COUNTIF(Points!$C$10:$C$86,'Results 2015'!#REF!),\"Not on Comps\",\"\")","v":{"$error":"#REF!"}}]
[null,null,null,null,null,null,null,null,{"$f":"IF(COUNTIF(#REF!,'Results 2015'!#REF!)>COUNTIF(Points!$C$10:$C$86,'Results 2015'!#REF!),\"Not on Comps\",\"\")","v":{"$error":"#REF!"}}]
[null,null,null,null,null,null,null,null,{"$f":"IF(COUNTIF(#REF!,'Results 2015'!#REF!)>COUNTIF(Points!$C$10:$C$86,'Results 2015'!#REF!),\"Not on Comps\",\"\")","v":{"$error":"#REF!"}}]
[null,null,null,null,null,null,null,null,{"$f":"IF(COUNTIF(#REF!,'Results 2015'!#REF!)>COUNTIF(Points!$C$10:$C$86,'Results 2015'!#REF!),\"Not on Comps\",\"\")","v":{"$error":"#REF!"}}]
[null,null,null,null,null,null,null,null,{"$f":"IF(COUNTIF(#REF!,'Results 2015'!#REF!)>COUNTIF(Points!$C$10:$C$86,'Results 2015'!#REF!),\"Not on Comps\",\"\")","v":{"$error":"#REF!"}}]
[null,null,null,null,null,null,null,null,{"$f":"IF(COUNTIF(#REF!,'Results 2015'!#REF!)>COUNTIF(Points!$C$10:$C$86,'Results 2015'!#REF!),\"Not on Comps\",\"\")","v":{"$error":"#REF!"}}]
[null,null,null,null,null,null,null,null,{"$f":"IF(COUNTIF(#REF!,'Results 2015'!#REF!)>COUNTIF(Points!$C$10:$C$86,'Results 2015'!#REF!),\"Not on Comps\",\"\")","v":{"$error":"#REF!"}}]
[null,null,null,null,null,null,null,null,{"$f":"IF(COUNTIF(#REF!,'Results 2015'!#REF!)>COUNTIF(Points!$C$10:$C$86,'Results 2015'!#REF!),\"Not on Comps\",\"\")","v":{"$error":"#REF!"}}]
[null,null,null,null,null,null,null,null,{"$f":"IF(COUNTIF(#REF!,'Results 2015'!#REF!)>COUNTIF(Points!$C$10:$C$86,'Results 2015'!#REF!),\"Not on Comps\",\"\")","v":{"$error":"#REF!"}}]
[null,null,null,null,null,null,null,null,{"$f":"IF(COUNTIF(#REF!,'Results 2015'!#REF!)>COUNTIF(Points!$C$10:$C$86,'Results 2015'!#REF!),\"Not on Comps\",\"\")","v":{"$error":"#REF!"}}]
[null,null,null,null,null,null,null,null,{"$f":"IF(COUNTIF(#REF!,'Results 2015'!#REF!)>COUNTIF(Points!$C$10:$C$86,'Results 2015'!#REF!),\"Not on Comps\",\"\")","v":{"$error":"#REF!"}}]
[null,null,null,null,null,null,null,null,{"$f":"IF(COUNTIF(#REF!,'Results 2015'!#REF!)>COUNTIF(Points!$C$10:$C$86,'Results 2015'!#REF!),\"Not on Comps\",\"\")","v":{"$error":"#REF!"}}]
[null,null,null,null,null,null,null,null,{"$f":"IF(COUNTIF(#REF!,'Results 2015'!#REF!)>COUNTIF(Points!$C$10:$C$86,'Results 2015'!#REF!),\"Not on Comps\",\"\")","v":{"$error":"#REF!"}}]
[null,null,null,null,null,null,null,null,{"$f":"IF(COUNTIF(#REF!,'Results 2015'!#REF!)>COUNTIF(Points!$C$10:$C$86,'Results 2015'!#REF!),\"Not on Comps\",\"\")","v":{"$error":"#REF!"}}]
[null,null,null,null,null,null,null,null,{"$f":"IF(COUNTIF(#REF!,'Results 2015'!#REF!)>COUNTIF(Points!$C$10:$C$86,'Results 2015'!#REF!),\"Not on Comps\",\"\")","v":{"$error":"#REF!"}}]
[null,null,null,null,null,null,null,null,{"$f":"IF(COUNTIF(#REF!,'Results 2015'!#REF!)>COUNTIF(Points!$C$10:$C$86,'Results 2015'!#REF!),\"Not on Comps\",\"\")","v":{"$error":"#REF!"}}]
[null,null,null,null,null,null,null,null,{"$f":"IF(COUNTIF(#REF!,'Results 2015'!#REF!)>COUNTIF(Points!$C$10:$C$86,'Results 2015'!#REF!),\"Not on Comps\",\"\")","v":{"$error":"#REF!"}}]
[null,null,null,null,null,null,null,null,{"$f":"IF(COUNTIF(#REF!,'Results 2015'!#REF!)>COUNTIF(Points!$C$10:$C$86,'Results 2015'!#REF!),\"Not on Comps\",\"\")","v":{"$error":"#REF!"}}]
[null,null,null,null,null,null,null,null,{"$f":"IF(COUNTIF(#REF!,'Results 2015'!#REF!)>COUNTIF(Points!$C$10:$C$86,'Results 2015'!#REF!),\"Not on Comps\",\"\")","v":{"$error":"#REF!"}}]
[null,null,null,null,null,null,null,null,{"$f":"IF(COUNTIF(#REF!,'Results 2015'!#REF!)>COUNTIF(Points!$C$10:$C$86,'Results 2015'!#REF!),\"Not on Comps\",\"\")","v":{"$error":"#REF!"}}]
[null,null,null,null,null,null,null,null,{"$f":"IF(COUNTIF(#REF!,'Results 2015'!#REF!)>COUNTIF(Points!$C$10:$C$86,'Results 2015'!#REF!),\"Not on Comps\",\"\")","v":{"$error":"#REF!"}}]
[null,null,null,null,null,null,null,null,{"$f":"IF(COUNTIF(#REF!,'Results 2015'!#REF!)>COUNTIF(Points!$C$10:$C$86,'Results 2015'!#REF!),\"Not on Comps\",\"\")","v":{"$error":"#REF!"}}]
[null,null,null,null,null,null,null,null,{"$f":"IF(COUNTIF(#REF!,'Results 2015'!#REF!)>COUNTIF(Points!$C$10:$C$86,'Results 2015'!#REF!),\"Not on Comps\",\"\")","v":{"$error":"#REF!"}}]
[null,null,null,null,null,null,null,null,{"$f":"IF(COUNTIF(#REF!,'Results 2015'!#REF!)>COUNTIF(Points!$C$10:$C$86,'Results 2015'!#REF!),\"Not on Comps\",\"\")","v":{"$error":"#REF!"}}]
[null,null,null,null,null,null,null,null,{"$f":"IF(COUNTIF(#REF!,'Results 2015'!#REF!)>COUNTIF(Points!$C$10:$C$86,'Results 2015'!#REF!),\"Not on Comps\",\"\")","v":{"$error":"#REF!"}}]
[null,null,null,null,null,null,null,null,{"$f":"IF(COUNTIF(#REF!,'Results 2015'!#REF!)>COUNTIF(Points!$C$10:$C$86,'Results 2015'!#REF!),\"Not on Comps\",\"\")","v":{"$error":"#REF!"}}]
[null,null,null,null,null,null,null,null,{"$f":"IF(COUNTIF(#REF!,'Results 2015'!#REF!)>COUNTIF(Points!$C$10:$C$86,'Results 2015'!#REF!),\"Not on Comps\",\"\")","v":{"$error":"#REF!"}}]
[null,null,null,null,null,null,null,null,{"$f":"IF(COUNTIF(#REF!,'Results 2015'!#REF!)>COUNTIF(Points!$C$10:$C$86,'Results 2015'!#REF!),\"Not on Comps\",\"\")","v":{"$error":"#REF!"}}]
[null,null,null,null,null,null,null,null,{"$f":"IF(COUNTIF(#REF!,'Results 2015'!#REF!)>COUNTIF(Points!$C$10:$C$86,'Results 2015'!#REF!),\"Not on Comps\",\"\")","v":{"$error":"#REF!"}}]
[null,null,null,null,null,null,null,null,{"$f":"IF(COUNTIF(#REF!,'Results 2015'!#REF!)>COUNTIF(Points!$C$10:$C$86,'Results 2015'!#REF!),\"Not on Comps\",\"\")","v":{"$error":"#REF!"}}]
[null,null,null,null,null,null,null,null,{"$f":"IF(COUNTIF(#REF!,'Results 2015'!#REF!)>COUNTIF(Points!$C$10:$C$86,'Results 2015'!#REF!),\"Not on Comps\",\"\")","v":{"$error":"#REF!"}}]
[null,null,null,null,null,null,null,null,{"$f":"IF(COUNTIF(#REF!,'Results 2015'!#REF!)>COUNTIF(Points!$C$10:$C$86,'Results 2015'!#REF!),\"Not on Comps\",\"\")","v":{"$error":"#REF!"}}]
[null,null,null,null,null,null,null,null,{"$f":"IF(COUNTIF(#REF!,'Results 2015'!#REF!)>COUNTIF(Points!$C$10:$C$86,'Results 2015'!#REF!),\"Not on Comps\",\"\")","v":{"$error":"#REF!"}}]
[null,null,null,null,null,null,null,null,{"$f":"IF(COUNTIF(#REF!,'Results 2015'!#REF!)>COUNTIF(Points!$C$10:$C$86,'Results 2015'!#REF!),\"Not on Comps\",\"\")","v":{"$error":"#REF!"}}]
[null,null,null,null,null,null,null,null,{"$f":"IF(COUNTIF(#REF!,'Results 2015'!#REF!)>COUNTIF(Points!$C$10:$C$86,'Results 2015'!#REF!),\"Not on Comps\",\"\")","v":{"$error":"#REF!"}}]
[null,null,null,null,null,null,null,null,{"$f":"IF(COUNTIF(#REF!,'Results 2015'!#REF!)>COUNTIF(Points!$C$10:$C$86,'Results 2015'!#REF!),\"Not on Comps\",\"\")","v":{"$error":"#REF!"}}]
[null,null,null,null,null,null,null,null,{"$f":"IF(COUNTIF(#REF!,'Results 2015'!#REF!)>COUNTIF(Points!$C$10:$C$86,'Results 2015'!#REF!),\"Not on Comps\",\"\")","v":{"$error":"#REF!"}}]
[null,null,null,null,null,null,null,null,{"$f":"IF(COUNTIF(#REF!,'Results 2015'!#REF!)>COUNTIF(Points!$C$10:$C$86,'Results 2015'!#REF!),\"Not on Comps\",\"\")","v":{"$error":"#REF!"}}]
[null,null,null,null,null,null,null,null,{"$f":"IF(COUNTIF(#REF!,'Results 2015'!#REF!)>COUNTIF(Points!$C$10:$C$86,'Results 2015'!#REF!),\"Not on Comps\",\"\")","v":{"$error":"#REF!"}}]
[null,null,null,null,null,null,null,null,{"$f":"IF(COUNTIF(#REF!,'Results 2015'!#REF!)>COUNTIF(Points!$C$10:$C$86,'Results 2015'!#REF!),\"Not on Comps\",\"\")","v":{"$error":"#REF!"}}]
[null,null,null,null,null,null,null,null,{"$f":"IF(COUNTIF(#REF!,'Results 2015'!#REF!)>COUNTIF(Points!$C$10:$C$86,'Results 2015'!#REF!),\"Not on Comps\",\"\")","v":{"$error":"#REF!"}}]
[null,null,null,null,null,null,null,null,{"$f":"IF(COUNTIF(#REF!,'Results 2015'!#REF!)>COUNTIF(Points!$C$10:$C$86,'Results 2015'!#REF!),\"Not on Comps\",\"\")","v":{"$error":"#REF!"}}]
[null,null,null,null,null,null,null,null,{"$f":"IF(COUNTIF(#REF!,'Results 2015'!#REF!)>COUNTIF(Points!$C$10:$C$86,'Results 2015'!#REF!),\"Not on Comps\",\"\")","v":{"$error":"#REF!"}}]
[null,null,null,null,null,null,null,null,{"$f":"IF(COUNTIF(#REF!,'Results 2015'!#REF!)>COUNTIF(Points!$C$10:$C$86,'Results 2015'!#REF!),\"Not on Comps\",\"\")","v":{"$error":"#REF!"}}]
[null,null,null,null,null,null,null,null,{"$f":"IF(COUNTIF(#REF!,'Results 2015'!#REF!)>COUNTIF(Points!$C$10:$C$86,'Results 2015'!#REF!),\"Not on Comps\",\"\")","v":{"$error":"#REF!"}}]
[null,null,null,null,null,null,null,null,{"$f":"IF(COUNTIF(#REF!,'Results 2015'!#REF!)>COUNTIF(Points!$C$10:$C$86,'Results 2015'!#REF!),\"Not on Comps\",\"\")","v":{"$error":"#REF!"}}]
[null,null,null,null,null,null,null,null,{"$f":"IF(COUNTIF(#REF!,'Results 2015'!#REF!)>COUNTIF(Points!$C$10:$C$86,'Results 2015'!#REF!),\"Not on Comps\",\"\")","v":{"$error":"#REF!"}}]
[null,null,null,null,null,null,null,null,{"$f":"IF(COUNTIF(#REF!,'Results 2015'!#REF!)>COUNTIF(Points!$C$10:$C$86,'Results 2015'!#REF!),\"Not on Comps\",\"\")","v":{"$error":"#REF!"}}]
[null,null,null,null,null,null,null,null,{"$f":"IF(COUNTIF(#REF!,'Results 2015'!#REF!)>COUNTIF(Points!$C$10:$C$86,'Results 2015'!#REF!),\"Not on Comps\",\"\")","v":{"$error":"#REF!"}}]
[null,null,null,null,null,null,null,null,{"$f":"IF(COUNTIF(#REF!,'Results 2015'!#REF!)>COUNTIF(Points!$C$10:$C$86,'Results 2015'!#REF!),\"Not on Comps\",\"\")","v":{"$error":"#REF!"}}]
[null,null,null,null,null,null,null,null,{"$f":"IF(COUNTIF(#REF!,'Results 2015'!#REF!)>COUNTIF(Points!$C$10:$C$86,'Results 2015'!#REF!),\"Not on Comps\",\"\")","v":{"$error":"#REF!"}}]
[null,null,null,null,null,null,null,null,{"$f":"IF(COUNTIF(#REF!,'Results 2015'!#REF!)>COUNTIF(Points!$C$10:$C$86,'Results 2015'!#REF!),\"Not on Comps\",\"\")","v":{"$error":"#REF!"}}]
[null,null,null,null,null,null,null,null,{"$f":"IF(COUNTIF(#REF!,'Results 2015'!#REF!)>COUNTIF(Points!$C$10:$C$86,'Results 2015'!#REF!),\"Not on Comps\",\"\")","v":{"$error":"#REF!"}}]
[null,null,null,null,null,null,null,null,{"$f":"IF(COUNTIF(#REF!,'Results 2015'!#REF!)>COUNTIF(Points!$C$10:$C$86,'Results 2015'!#REF!),\"Not on Comps\",\"\")","v":{"$error":"#REF!"}}]
[null,null,null,null,null,null,null,null,{"$f":"IF(COUNTIF(#REF!,'Results 2015'!#REF!)>COUNTIF(Points!$C$10:$C$86,'Results 2015'!#REF!),\"Not on Comps\",\"\")","v":{"$error":"#REF!"}}]
[null,null,null,null,null,null,null,null,{"$f":"IF(COUNTIF(#REF!,'Results 2015'!#REF!)>COUNTIF(Points!$C$10:$C$86,'Results 2015'!#REF!),\"Not on Comps\",\"\")","v":{"$error":"#REF!"}}]
[null,null,null,null,null,null,null,null,{"$f":"IF(COUNTIF(#REF!,'Results 2015'!#REF!)>COUNTIF(Points!$C$10:$C$86,'Results 2015'!#REF!),\"Not on Comps\",\"\")","v":{"$error":"#REF!"}}]
[null,null,null,null,null,null,null,null,{"$f":"IF(COUNTIF(#REF!,'Results 2015'!#REF!)>COUNTIF(Points!$C$10:$C$86,'Results 2015'!#REF!),\"Not on Comps\",\"\")","v":{"$error":"#REF!"}}]
[null,null,null,null,null,null,null,null,{"$f":"IF(COUNTIF(#REF!,'Results 2015'!#REF!)>COUNTIF(Points!$C$10:$C$86,'Results 2015'!#REF!),\"Not on Comps\",\"\")","v":{"$error":"#REF!"}}]
[null,null,null,null,null,null,null,null,{"$f":"IF(COUNTIF(#REF!,'Results 2015'!#REF!)>COUNTIF(Points!$C$10:$C$86,'Results 2015'!#REF!),\"Not on Comps\",\"\")","v":{"$error":"#REF!"}}]
[null,null,null,null,null,null,null,null,{"$f":"IF(COUNTIF(#REF!,'Results 2015'!#REF!)>COUNTIF(Points!$C$10:$C$86,'Results 2015'!#REF!),\"Not on Comps\",\"\")","v":{"$error":"#REF!"}}]
[null,null,null,null,null,null,null,null,{"$f":"IF(COUNTIF(#REF!,'Results 2015'!#REF!)>COUNTIF(Points!$C$10:$C$86,'Results 2015'!#REF!),\"Not on Comps\",\"\")","v":{"$error":"#REF!"}}]
[null,null,null,null,null,null,null,null,{"$f":"IF(COUNTIF(#REF!,'Results 2015'!#REF!)>COUNTIF(Points!$C$10:$C$86,'Results 2015'!#REF!),\"Not on Comps\",\"\")","v":{"$error":"#REF!"}}]
[null,null,null,null,null,null,null,null,{"$f":"IF(COUNTIF(#REF!,'Results 2015'!#REF!)>COUNTIF(Points!$C$10:$C$86,'Results 2015'!#REF!),\"Not on Comps\",\"\")","v":{"$error":"#REF!"}}]
[null,null,null,null,null,null,null,null,{"$f":"IF(COUNTIF(#REF!,'Results 2015'!#REF!)>COUNTIF(Points!$C$10:$C$86,'Results 2015'!#REF!),\"Not on Comps\",\"\")","v":{"$error":"#REF!"}}]
[null,null,null,null,null,null,null,null,{"$f":"IF(COUNTIF(#REF!,'Results 2015'!#REF!)>COUNTIF(Points!$C$10:$C$86,'Results 2015'!#REF!),\"Not on Comps\",\"\")","v":{"$error":"#REF!"}}]
[null,null,null,null,null,null,null,null,{"$f":"IF(COUNTIF(#REF!,'Results 2015'!#REF!)>COUNTIF(Points!$C$10:$C$86,'Results 2015'!#REF!),\"Not on Comps\",\"\")","v":{"$error":"#REF!"}}]
[null,null,null,null,null,null,null,null,{"$f":"IF(COUNTIF(#REF!,'Results 2015'!#REF!)>COUNTIF(Points!$C$10:$C$86,'Results 2015'!#REF!),\"Not on Comps\",\"\")","v":{"$error":"#REF!"}}]
[null,null,null,null,null,null,null,null,{"$f":"IF(COUNTIF(#REF!,'Results 2015'!#REF!)>COUNTIF(Points!$C$10:$C$86,'Results 2015'!#REF!),\"Not on Comps\",\"\")","v":{"$error":"#REF!"}}]
[null,null,null,null,null,null,null,null,{"$f":"IF(COUNTIF(#REF!,'Results 2015'!#REF!)>COUNTIF(Points!$C$10:$C$86,'Results 2015'!#REF!),\"Not on Comps\",\"\")","v":{"$error":"#REF!"}}]
[null,null,null,null,null,null,null,null,{"$f":"IF(COUNTIF(#REF!,'Results 2015'!#REF!)>COUNTIF(Points!$C$10:$C$86,'Results 2015'!#REF!),\"Not on Comps\",\"\")","v":{"$error":"#REF!"}}]
[null,null,null,null,null,null,null,null,{"$f":"IF(COUNTIF(#REF!,'Results 2015'!#REF!)>COUNTIF(Points!$C$10:$C$86,'Results 2015'!#REF!),\"Not on Comps\",\"\")","v":{"$error":"#REF!"}}]
[null,null,null,null,null,null,null,null,{"$f":"IF(COUNTIF(#REF!,'Results 2015'!#REF!)>COUNTIF(Points!$C$10:$C$86,'Results 2015'!#REF!),\"Not on Comps\",\"\")","v":{"$error":"#REF!"}}]
[null,null,null,null,null,null,null,null,{"$f":"IF(COUNTIF(#REF!,'Results 2015'!#REF!)>COUNTIF(Points!$C$10:$C$86,'Results 2015'!#REF!),\"Not on Comps\",\"\")","v":{"$error":"#REF!"}}]
[null,null,null,null,null,null,null,null,{"$f":"IF(COUNTIF(#REF!,'Results 2015'!#REF!)>COUNTIF(Points!$C$10:$C$86,'Results 2015'!#REF!),\"Not on Comps\",\"\")","v":{"$error":"#REF!"}}]
[null,null,null,null,null,null,null,null,{"$f":"IF(COUNTIF(#REF!,'Results 2015'!#REF!)>COUNTIF(Points!$C$10:$C$86,'Results 2015'!#REF!),\"Not on Comps\",\"\")","v":{"$error":"#REF!"}}]
[null,null,null,null,null,null,null,null,{"$f":"IF(COUNTIF(#REF!,'Results 2015'!#REF!)>COUNTIF(Points!$C$10:$C$86,'Results 2015'!#REF!),\"Not on Comps\",\"\")","v":{"$error":"#REF!"}}]
[null,null,null,null,null,null,null,null,{"$f":"IF(COUNTIF(#REF!,'Results 2015'!#REF!)>COUNTIF(Points!$C$10:$C$86,'Results 2015'!#REF!),\"Not on Comps\",\"\")","v":{"$error":"#REF!"}}]
[null,null,null,null,null,null,null,null,{"$f":"IF(COUNTIF(#REF!,'Results 2015'!#REF!)>COUNTIF(Points!$C$10:$C$86,'Results 2015'!#REF!),\"Not on Comps\",\"\")","v":{"$error":"#REF!"}}]
[null,null,null,null,null,null,null,null,{"$f":"IF(COUNTIF(#REF!,'Results 2015'!#REF!)>COUNTIF(Points!$C$10:$C$86,'Results 2015'!#REF!),\"Not on Comps\",\"\")","v":{"$error":"#REF!"}}]
[null,null,null,null,null,null,null,null,{"$f":"IF(COUNTIF(#REF!,'Results 2015'!#REF!)>COUNTIF(Points!$C$10:$C$86,'Results 2015'!#REF!),\"Not on Comps\",\"\")","v":{"$error":"#REF!"}}]
[null,null,null,null,null,null,null,null,{"$f":"IF(COUNTIF(#REF!,'Results 2015'!#REF!)>COUNTIF(Points!$C$10:$C$86,'Results 2015'!#REF!),\"Not on Comps\",\"\")","v":{"$error":"#REF!"}}]
[null,null,null,null,null,null,null,null,{"$f":"IF(COUNTIF(#REF!,'Results 2015'!#REF!)>COUNTIF(Points!$C$10:$C$86,'Results 2015'!#REF!),\"Not on Comps\",\"\")","v":{"$error":"#REF!"}}]
[null,null,null,null,null,null,null,null,{"$f":"IF(COUNTIF(#REF!,'Results 2015'!#REF!)>COUNTIF(Points!$C$10:$C$86,'Results 2015'!#REF!),\"Not on Comps\",\"\")","v":{"$error":"#REF!"}}]
[null,null,null,null,null,null,null,null,{"$f":"IF(COUNTIF(#REF!,'Results 2015'!#REF!)>COUNTIF(Points!$C$10:$C$86,'Results 2015'!#REF!),\"Not on Comps\",\"\")","v":{"$error":"#REF!"}}]
[null,null,null,null,null,null,null,null,{"$f":"IF(COUNTIF(#REF!,'Results 2015'!#REF!)>COUNTIF(Points!$C$10:$C$86,'Results 2015'!#REF!),\"Not on Comps\",\"\")","v":{"$error":"#REF!"}}]
[null,null,null,null,null,null,null,null,{"$f":"IF(COUNTIF(#REF!,'Results 2015'!#REF!)>COUNTIF(Points!$C$10:$C$86,'Results 2015'!#REF!),\"Not on Comps\",\"\")","v":{"$error":"#REF!"}}]
[null,null,null,null,null,null,null,null,{"$f":"IF(COUNTIF(#REF!,'Results 2015'!#REF!)>COUNTIF(Points!$C$10:$C$86,'Results 2015'!#REF!),\"Not on Comps\",\"\")","v":{"$error":"#REF!"}}]
[null,null,null,null,null,null,null,null,{"$f":"IF(COUNTIF(#REF!,'Results 2015'!#REF!)>COUNTIF(Points!$C$10:$C$86,'Results 2015'!#REF!),\"Not on Comps\",\"\")","v":{"$error":"#REF!"}}]
[null,null,null,null,null,null,null,null,{"$f":"IF(COUNTIF(#REF!,'Results 2015'!#REF!)>COUNTIF(Points!$C$10:$C$86,'Results 2015'!#REF!),\"Not on Comps\",\"\")","v":{"$error":"#REF!"}}]
[null,null,null,null,null,null,null,null,{"$f":"IF(COUNTIF(#REF!,'Results 2015'!#REF!)>COUNTIF(Points!$C$10:$C$86,'Results 2015'!#REF!),\"Not on Comps\",\"\")","v":{"$error":"#REF!"}}]
[null,null,null,null,null,null,null,null,{"$f":"IF(COUNTIF(#REF!,'Results 2015'!#REF!)>COUNTIF(Points!$C$10:$C$86,'Results 2015'!#REF!),\"Not on Comps\",\"\")","v":{"$error":"#REF!"}}]
[null,null,null,null,null,null,null,null,{"$f":"IF(COUNTIF(#REF!,'Results 2015'!#REF!)>COUNTIF(Points!$C$10:$C$86,'Results 2015'!#REF!),\"Not on Comps\",\"\")","v":{"$error":"#REF!"}}]
[null,null,null,null,null,null,null,null,{"$f":"IF(COUNTIF(#REF!,'Results 2015'!#REF!)>COUNTIF(Points!$C$10:$C$86,'Results 2015'!#REF!),\"Not on Comps\",\"\")","v":{"$error":"#REF!"}}]
[null,null,null,null,null,null,null,null,{"$f":"IF(COUNTIF(#REF!,'Results 2015'!#REF!)>COUNTIF(Points!$C$10:$C$86,'Results 2015'!#REF!),\"Not on Comps\",\"\")","v":{"$error":"#REF!"}}]
[null,null,null,null,null,null,null,null,{"$f":"IF(COUNTIF(#REF!,'Results 2015'!#REF!)>COUNTIF(Points!$C$10:$C$86,'Results 2015'!#REF!),\"Not on Comps\",\"\")","v":{"$error":"#REF!"}}]
[null,null,null,null,null,null,null,null,{"$f":"IF(COUNTIF(#REF!,'Results 2015'!#REF!)>COUNTIF(Points!$C$10:$C$86,'Results 2015'!#REF!),\"Not on Comps\",\"\")","v":{"$error":"#REF!"}}]
[null,null,null,null,null,null,null,null,{"$f":"IF(COUNTIF(#REF!,'Results 2015'!#REF!)>COUNTIF(Points!$C$10:$C$86,'Results 2015'!#REF!),\"Not on Comps\",\"\")","v":{"$error":"#REF!"}}]
[null,null,null,null,null,null,null,null,{"$f":"IF(COUNTIF(#REF!,'Results 2015'!#REF!)>COUNTIF(Points!$C$10:$C$86,'Results 2015'!#REF!),\"Not on Comps\",\"\")","v":{"$error":"#REF!"}}]
[null,null,null,null,null,null,null,null,{"$f":"IF(COUNTIF(#REF!,'Results 2015'!#REF!)>COUNTIF(Points!$C$10:$C$86,'Results 2015'!#REF!),\"Not on Comps\",\"\")","v":{"$error":"#REF!"}}]
[null,null,null,null,null,null,null,null,{"$f":"IF(COUNTIF(#REF!,'Results 2015'!#REF!)>COUNTIF(Points!$C$10:$C$86,'Results 2015'!#REF!),\"Not on Comps\",\"\")","v":{"$error":"#REF!"}}]
[null,null,null,null,null,null,null,null,{"$f":"IF(COUNTIF(#REF!,'Results 2015'!#REF!)>COUNTIF(Points!$C$10:$C$86,'Results 2015'!#REF!),\"Not on Comps\",\"\")","v":{"$error":"#REF!"}}]
[null,null,null,null,null,null,null,null,{"$f":"IF(COUNTIF(#REF!,'Results 2015'!#REF!)>COUNTIF(Points!$C$10:$C$86,'Results 2015'!#REF!),\"Not on Comps\",\"\")","v":{"$error":"#REF!"}}]
[null,null,null,null,null,null,null,null,{"$f":"IF(COUNTIF(#REF!,'Results 2015'!#REF!)>COUNTIF(Points!$C$10:$C$86,'Results 2015'!#REF!),\"Not on Comps\",\"\")","v":{"$error":"#REF!"}}]
[null,null,null,null,null,null,null,null,{"$f":"IF(COUNTIF(#REF!,'Results 2015'!#REF!)>COUNTIF(Points!$C$10:$C$86,'Results 2015'!#REF!),\"Not on Comps\",\"\")","v":{"$error":"#REF!"}}]
[null,null,null,null,null,null,null,null,{"$f":"IF(COUNTIF(#REF!,'Results 2015'!#REF!)>COUNTIF(Points!$C$10:$C$86,'Results 2015'!#REF!),\"Not on Comps\",\"\")","v":{"$error":"#REF!"}}]
[null,null,null,null,null,null,null,null,{"$f":"IF(COUNTIF(#REF!,'Results 2015'!#REF!)>COUNTIF(Points!$C$10:$C$86,'Results 2015'!#REF!),\"Not on Comps\",\"\")","v":{"$error":"#REF!"}}]
[null,null,null,null,null,null,null,null,{"$f":"IF(COUNTIF(#REF!,'Results 2015'!#REF!)>COUNTIF(Points!$C$10:$C$86,'Results 2015'!#REF!),\"Not on Comps\",\"\")","v":{"$error":"#REF!"}}]
[null,null,null,null,null,null,null,null,{"$f":"IF(COUNTIF(#REF!,'Results 2015'!#REF!)>COUNTIF(Points!$C$10:$C$86,'Results 2015'!#REF!),\"Not on Comps\",\"\")","v":{"$error":"#REF!"}}]
[null,null,null,null,null,null,null,null,{"$f":"IF(COUNTIF(#REF!,'Results 2015'!#REF!)>COUNTIF(Points!$C$10:$C$86,'Results 2015'!#REF!),\"Not on Comps\",\"\")","v":{"$error":"#REF!"}}]
[null,null,null,null,null,null,null,null,{"$f":"IF(COUNTIF(#REF!,'Results 2015'!#REF!)>COUNTIF(Points!$C$10:$C$86,'Results 2015'!#REF!),\"Not on Comps\",\"\")","v":{"$error":"#REF!"}}]
[null,null,null,null,null,null,null,null,{"$f":"IF(COUNTIF(#REF!,'Results 2015'!#REF!)>COUNTIF(Points!$C$10:$C$86,'Results 2015'!#REF!),\"Not on Comps\",\"\")","v":{"$error":"#REF!"}}]
[null,null,null,null,null,null,null,null,{"$f":"IF(COUNTIF(#REF!,'Results 2015'!#REF!)>COUNTIF(Points!$C$10:$C$86,'Results 2015'!#REF!),\"Not on Comps\",\"\")","v":{"$error":"#REF!"}}]
[null,null,null,null,null,null,null,null,{"$f":"IF(COUNTIF(#REF!,'Results 2015'!#REF!)>COUNTIF(Points!$C$10:$C$86,'Results 2015'!#REF!),\"Not on Comps\",\"\")","v":{"$error":"#REF!"}}]
[null,null,null,null,null,null,null,null,{"$f":"IF(COUNTIF(#REF!,'Results 2015'!#REF!)>COUNTIF(Points!$C$10:$C$86,'Results 2015'!#REF!),\"Not on Comps\",\"\")","v":{"$error":"#REF!"}}]
[null,null,null,null,null,null,null,null,{"$f":"IF(COUNTIF(#REF!,'Results 2015'!#REF!)>COUNTIF(Points!$C$10:$C$86,'Results 2015'!#REF!),\"Not on Comps\",\"\")","v":{"$error":"#REF!"}}]
[null,null,null,null,null,null,null,null,{"$f":"IF(COUNTIF(#REF!,'Results 2015'!#REF!)>COUNTIF(Points!$C$10:$C$86,'Results 2015'!#REF!),\"Not on Comps\",\"\")","v":{"$error":"#REF!"}}]
[null,null,null,null,null,null,null,null,{"$f":"IF(COUNTIF(#REF!,'Results 2015'!#REF!)>COUNTIF(Points!$C$10:$C$86,'Results 2015'!#REF!),\"Not on Comps\",\"\")","v":{"$error":"#REF!"}}]
[null,null,null,null,null,null,null,null,{"$f":"IF(COUNTIF(#REF!,'Results 2015'!#REF!)>COUNTIF(Points!$C$10:$C$86,'Results 2015'!#REF!),\"Not on Comps\",\"\")","v":{"$error":"#REF!"}}]
[null,null,null,null,null,null,null,null,{"$f":"IF(COUNTIF(#REF!,'Results 2015'!#REF!)>COUNTIF(Points!$C$10:$C$86,'Results 2015'!#REF!),\"Not on Comps\",\"\")","v":{"$error":"#REF!"}}]
[null,null,null,null,null,null,null,null,{"$f":"IF(COUNTIF(#REF!,'Results 2015'!#REF!)>COUNTIF(Points!$C$10:$C$86,'Results 2015'!#REF!),\"Not on Comps\",\"\")","v":{"$error":"#REF!"}}]
[null,null,null,null,null,null,null,null,{"$f":"IF(COUNTIF(#REF!,'Results 2015'!#REF!)>COUNTIF(Points!$C$10:$C$86,'Results 2015'!#REF!),\"Not on Comps\",\"\")","v":{"$error":"#REF!"}}]
[null,null,null,null,null,null,null,null,{"$f":"IF(COUNTIF(#REF!,'Results 2015'!#REF!)>COUNTIF(Points!$C$10:$C$86,'Results 2015'!#REF!),\"Not on Comps\",\"\")","v":{"$error":"#REF!"}}]
[null,null,null,null,null,null,null,null,{"$f":"IF(COUNTIF(#REF!,'Results 2015'!#REF!)>COUNTIF(Points!$C$10:$C$86,'Results 2015'!#REF!),\"Not on Comps\",\"\")","v":{"$error":"#REF!"}}]
[null,null,null,null,null,null,null,null,{"$f":"IF(COUNTIF(#REF!,'Results 2015'!#REF!)>COUNTIF(Points!$C$10:$C$86,'Results 2015'!#REF!),\"Not on Comps\",\"\")","v":{"$error":"#REF!"}}]
[null,null,null,null,null,null,null,null,{"$f":"IF(COUNTIF(#REF!,'Results 2015'!#REF!)>COUNTIF(Points!$C$10:$C$86,'Results 2015'!#REF!),\"Not on Comps\",\"\")","v":{"$error":"#REF!"}}]
[null,null,null,null,null,null,null,null,{"$f":"IF(COUNTIF(#REF!,'Results 2015'!#REF!)>COUNTIF(Points!$C$10:$C$86,'Results 2015'!#REF!),\"Not on Comps\",\"\")","v":{"$error":"#REF!"}}]
[null,null,null,null,null,null,null,null,{"$f":"IF(COUNTIF(#REF!,'Results 2015'!#REF!)>COUNTIF(Points!$C$10:$C$86,'Results 2015'!#REF!),\"Not on Comps\",\"\")","v":{"$error":"#REF!"}}]
[null,null,null,null,null,null,null,null,{"$f":"IF(COUNTIF(#REF!,'Results 2015'!#REF!)>COUNTIF(Points!$C$10:$C$86,'Results 2015'!#REF!),\"Not on Comps\",\"\")","v":{"$error":"#REF!"}}]
[null,null,null,null,null,null,null,null,{"$f":"IF(COUNTIF(#REF!,'Results 2015'!#REF!)>COUNTIF(Points!$C$10:$C$86,'Results 2015'!#REF!),\"Not on Comps\",\"\")","v":{"$error":"#REF!"}}]
[null,null,null,null,null,null,null,null,{"$f":"IF(COUNTIF(#REF!,'Results 2015'!#REF!)>COUNTIF(Points!$C$10:$C$86,'Results 2015'!#REF!),\"Not on Comps\",\"\")","v":{"$error":"#REF!"}}]
[null,null,null,null,null,null,null,null,{"$f":"IF(COUNTIF(#REF!,'Results 2015'!#REF!)>COUNTIF(Points!$C$10:$C$86,'Results 2015'!#REF!),\"Not on Comps\",\"\")","v":{"$error":"#REF!"}}]
[null,null,null,null,null,null,null,null,{"$f":"IF(COUNTIF(#REF!,'Results 2015'!#REF!)>COUNTIF(Points!$C$10:$C$86,'Results 2015'!#REF!),\"Not on Comps\",\"\")","v":{"$error":"#REF!"}}]
[null,null,null,null,null,null,null,null,{"$f":"IF(COUNTIF(#REF!,'Results 2015'!#REF!)>COUNTIF(Points!$C$10:$C$86,'Results 2015'!#REF!),\"Not on Comps\",\"\")","v":{"$error":"#REF!"}}]
[null,null,null,null,null,null,null,null,{"$f":"IF(COUNTIF(#REF!,'Results 2015'!#REF!)>COUNTIF(Points!$C$10:$C$86,'Results 2015'!#REF!),\"Not on Comps\",\"\")","v":{"$error":"#REF!"}}]
[null,null,null,null,null,null,null,null,{"$f":"IF(COUNTIF(#REF!,'Results 2015'!#REF!)>COUNTIF(Points!$C$10:$C$86,'Results 2015'!#REF!),\"Not on Comps\",\"\")","v":{"$error":"#REF!"}}]
[null,null,null,null,null,null,null,null,{"$f":"IF(COUNTIF(#REF!,'Results 2015'!#REF!)>COUNTIF(Points!$C$10:$C$86,'Results 2015'!#REF!),\"Not on Comps\",\"\")","v":{"$error":"#REF!"}}]
[null,null,null,null,null,null,null,null,{"$f":"IF(COUNTIF(#REF!,'Results 2015'!#REF!)>COUNTIF(Points!$C$10:$C$86,'Results 2015'!#REF!),\"Not on Comps\",\"\")","v":{"$error":"#REF!"}}]
[null,null,null,null,null,null,null,null,{"$f":"IF(COUNTIF(#REF!,'Results 2015'!#REF!)>COUNTIF(Points!$C$10:$C$86,'Results 2015'!#REF!),\"Not on Comps\",\"\")","v":{"$error":"#REF!"}}]
[null,null,null,null,null,null,null,null,{"$f":"IF(COUNTIF(#REF!,'Results 2015'!#REF!)>COUNTIF(Points!$C$10:$C$86,'Results 2015'!#REF!),\"Not on Comps\",\"\")","v":{"$error":"#REF!"}}]
[null,null,null,null,null,null,null,null,{"$f":"IF(COUNTIF(#REF!,'Results 2015'!#REF!)>COUNTIF(Points!$C$10:$C$86,'Results 2015'!#REF!),\"Not on Comps\",\"\")","v":{"$error":"#REF!"}}]
[null,null,null,null,null,null,null,null,{"$f":"IF(COUNTIF(#REF!,'Results 2015'!#REF!)>COUNTIF(Points!$C$10:$C$86,'Results 2015'!#REF!),\"Not on Comps\",\"\")","v":{"$error":"#REF!"}}]
[null,null,null,null,null,null,null,null,{"$f":"IF(COUNTIF(#REF!,'Results 2015'!#REF!)>COUNTIF(Points!$C$10:$C$86,'Results 2015'!#REF!),\"Not on Comps\",\"\")","v":{"$error":"#REF!"}}]
[null,null,null,null,null,null,null,null,{"$f":"IF(COUNTIF(#REF!,'Results 2015'!#REF!)>COUNTIF(Points!$C$10:$C$86,'Results 2015'!#REF!),\"Not on Comps\",\"\")","v":{"$error":"#REF!"}}]
[null,null,null,null,null,null,null,null,{"$f":"IF(COUNTIF(#REF!,'Results 2015'!#REF!)>COUNTIF(Points!$C$10:$C$86,'Results 2015'!#REF!),\"Not on Comps\",\"\")","v":{"$error":"#REF!"}}]
[null,null,null,null,null,null,null,null,{"$f":"IF(COUNTIF(#REF!,'Results 2015'!#REF!)>COUNTIF(Points!$C$10:$C$86,'Results 2015'!#REF!),\"Not on Comps\",\"\")","v":{"$error":"#REF!"}}]
[null,null,null,null,null,null,null,null,{"$f":"IF(COUNTIF(#REF!,'Results 2015'!#REF!)>COUNTIF(Points!$C$10:$C$86,'Results 2015'!#REF!),\"Not on Comps\",\"\")","v":{"$error":"#REF!"}}]
[null,null,null,null,null,null,null,null,{"$f":"IF(COUNTIF(#REF!,'Results 2015'!#REF!)>COUNTIF(Points!$C$10:$C$86,'Results 2015'!#REF!),\"Not on Comps\",\"\")","v":{"$error":"#REF!"}}]
[null,null,null,null,null,null,null,null,{"$f":"IF(COUNTIF(#REF!,'Results 2015'!#REF!)>COUNTIF(Points!$C$10:$C$86,'Results 2015'!#REF!),\"Not on Comps\",\"\")","v":{"$error":"#REF!"}}]
[null,null,null,null,null,null,null,null,{"$f":"IF(COUNTIF(#REF!,'Results 2015'!#REF!)>COUNTIF(Points!$C$10:$C$86,'Results 2015'!#REF!),\"Not on Comps\",\"\")","v":{"$error":"#REF!"}}]
[null,null,null,null,null,null,null,null,{"$f":"IF(COUNTIF(#REF!,'Results 2015'!#REF!)>COUNTIF(Points!$C$10:$C$86,'Results 2015'!#REF!),\"Not on Comps\",\"\")","v":{"$error":"#REF!"}}]
[null,null,null,null,null,null,null,null,{"$f":"IF(COUNTIF(#REF!,'Results 2015'!#REF!)>COUNTIF(Points!$C$10:$C$86,'Results 2015'!#REF!),\"Not on Comps\",\"\")","v":{"$error":"#REF!"}}]
[null,null,null,null,null,null,null,null,{"$f":"IF(COUNTIF(#REF!,'Results 2015'!#REF!)>COUNTIF(Points!$C$10:$C$86,'Results 2015'!#REF!),\"Not on Comps\",\"\")","v":{"$error":"#REF!"}}]
[null,null,null,null,null,null,null,null,{"$f":"IF(COUNTIF(#REF!,'Results 2015'!#REF!)>COUNTIF(Points!$C$10:$C$86,'Results 2015'!#REF!),\"Not on Comps\",\"\")","v":{"$error":"#REF!"}}]
[null,null,null,null,null,null,null,null,{"$f":"IF(COUNTIF(#REF!,'Results 2015'!#REF!)>COUNTIF(Points!$C$10:$C$86,'Results 2015'!#REF!),\"Not on Comps\",\"\")","v":{"$error":"#REF!"}}]
[null,null,null,null,null,null,null,null,{"$f":"IF(COUNTIF(#REF!,'Results 2015'!#REF!)>COUNTIF(Points!$C$10:$C$86,'Results 2015'!#REF!),\"Not on Comps\",\"\")","v":{"$error":"#REF!"}}]
[null,null,null,null,null,null,null,null,{"$f":"IF(COUNTIF(#REF!,'Results 2015'!#REF!)>COUNTIF(Points!$C$10:$C$86,'Results 2015'!#REF!),\"Not on Comps\",\"\")","v":{"$error":"#REF!"}}]
[null,null,null,null,null,null,null,null,{"$f":"IF(COUNTIF(#REF!,'Results 2015'!#REF!)>COUNTIF(Points!$C$10:$C$86,'Results 2015'!#REF!),\"Not on Comps\",\"\")","v":{"$error":"#REF!"}}]
[null,null,null,null,null,null,null,null,{"$f":"IF(COUNTIF(#REF!,'Results 2015'!#REF!)>COUNTIF(Points!$C$10:$C$86,'Results 2015'!#REF!),\"Not on Comps\",\"\")","v":{"$error":"#REF!"}}]
[null,null,null,null,null,null,null,null,{"$f":"IF(COUNTIF(#REF!,'Results 2015'!#REF!)>COUNTIF(Points!$C$10:$C$86,'Results 2015'!#REF!),\"Not on Comps\",\"\")","v":{"$error":"#REF!"}}]
[null,null,null,null,null,null,null,null,{"$f":"IF(COUNTIF(#REF!,'Results 2015'!#REF!)>COUNTIF(Points!$C$10:$C$86,'Results 2015'!#REF!),\"Not on Comps\",\"\")","v":{"$error":"#REF!"}}]
[null,null,null,null,null,null,null,null,{"$f":"IF(COUNTIF(#REF!,'Results 2015'!#REF!)>COUNTIF(Points!$C$10:$C$86,'Results 2015'!#REF!),\"Not on Comps\",\"\")","v":{"$error":"#REF!"}}]
[null,null,null,null,null,null,null,null,{"$f":"IF(COUNTIF(#REF!,'Results 2015'!#REF!)>COUNTIF(Points!$C$10:$C$86,'Results 2015'!#REF!),\"Not on Comps\",\"\")","v":{"$error":"#REF!"}}]
[null,null,null,null,null,null,null,null,{"$f":"IF(COUNTIF(#REF!,'Results 2015'!#REF!)>COUNTIF(Points!$C$10:$C$86,'Results 2015'!#REF!),\"Not on Comps\",\"\")","v":{"$error":"#REF!"}}]
[null,null,null,null,null,null,null,null,{"$f":"IF(COUNTIF(#REF!,'Results 2015'!#REF!)>COUNTIF(Points!$C$10:$C$86,'Results 2015'!#REF!),\"Not on Comps\",\"\")","v":{"$error":"#REF!"}}]
[null,null,null,null,null,null,null,null,{"$f":"IF(COUNTIF(#REF!,'Results 2015'!#REF!)>COUNTIF(Points!$C$10:$C$86,'Results 2015'!#REF!),\"Not on Comps\",\"\")","v":{"$error":"#REF!"}}]
[null,null,null,null,null,null,null,null,{"$f":"IF(COUNTIF(#REF!,'Results 2015'!#REF!)>COUNTIF(Points!$C$10:$C$86,'Results 2015'!#REF!),\"Not on Comps\",\"\")","v":{"$error":"#REF!"}}]
[null,null,null,null,null,null,null,null,{"$f":"IF(COUNTIF(#REF!,'Results 2015'!#REF!)>COUNTIF(Points!$C$10:$C$86,'Results 2015'!#REF!),\"Not on Comps\",\"\")","v":{"$error":"#REF!"}}]
[null,null,null,null,null,null,null,null,{"$f":"IF(COUNTIF(#REF!,'Results 2015'!#REF!)>COUNTIF(Points!$C$10:$C$86,'Results 2015'!#REF!),\"Not on Comps\",\"\")","v":{"$error":"#REF!"}}]
[null,null,null,null,null,null,null,null,{"$f":"IF(COUNTIF(#REF!,'Results 2015'!#REF!)>COUNTIF(Points!$C$10:$C$86,'Results 2015'!#REF!),\"Not on Comps\",\"\")","v":{"$error":"#REF!"}}]
[null,null,null,null,null,null,null,null,{"$f":"IF(COUNTIF(#REF!,'Results 2015'!#REF!)>COUNTIF(Points!$C$10:$C$86,'Results 2015'!#REF!),\"Not on Comps\",\"\")","v":{"$error":"#REF!"}}]
[null,null,null,null,null,null,null,null,{"$f":"IF(COUNTIF(#REF!,'Results 2015'!#REF!)>COUNTIF(Points!$C$10:$C$86,'Results 2015'!#REF!),\"Not on Comps\",\"\")","v":{"$error":"#REF!"}}]
[null,null,null,null,null,null,null,null,{"$f":"IF(COUNTIF(#REF!,'Results 2015'!#REF!)>COUNTIF(Points!$C$10:$C$86,'Results 2015'!#REF!),\"Not on Comps\",\"\")","v":{"$error":"#REF!"}}]
[null,null,null,null,null,null,null,null,{"$f":"IF(COUNTIF(#REF!,'Results 2015'!#REF!)>COUNTIF(Points!$C$10:$C$86,'Results 2015'!#REF!),\"Not on Comps\",\"\")","v":{"$error":"#REF!"}}]
[null,null,null,null,null,null,null,null,{"$f":"IF(COUNTIF(#REF!,'Results 2015'!#REF!)>COUNTIF(Points!$C$10:$C$86,'Results 2015'!#REF!),\"Not on Comps\",\"\")","v":{"$error":"#REF!"}}]
[null,null,null,null,null,null,null,null,{"$f":"IF(COUNTIF(#REF!,'Results 2015'!#REF!)>COUNTIF(Points!$C$10:$C$86,'Results 2015'!#REF!),\"Not on Comps\",\"\")","v":{"$error":"#REF!"}}]
[null,null,null,null,null,null,null,null,{"$f":"IF(COUNTIF(#REF!,'Results 2015'!#REF!)>COUNTIF(Points!$C$10:$C$86,'Results 2015'!#REF!),\"Not on Comps\",\"\")","v":{"$error":"#REF!"}}]
[null,null,null,null,null,null,null,null,{"$f":"IF(COUNTIF(#REF!,'Results 2015'!#REF!)>COUNTIF(Points!$C$10:$C$86,'Results 2015'!#REF!),\"Not on Comps\",\"\")","v":{"$error":"#REF!"}}]
[null,null,null,null,null,null,null,null,{"$f":"IF(COUNTIF(#REF!,'Results 2015'!#REF!)>COUNTIF(Points!$C$10:$C$86,'Results 2015'!#REF!),\"Not on Comps\",\"\")","v":{"$error":"#REF!"}}]
[null,null,null,null,null,null,null,null,{"$f":"IF(COUNTIF(#REF!,'Results 2015'!#REF!)>COUNTIF(Points!$C$10:$C$86,'Results 2015'!#REF!),\"Not on Comps\",\"\")","v":{"$error":"#REF!"}}]
[null,null,null,null,null,null,null,null,{"$f":"IF(COUNTIF(#REF!,'Results 2015'!#REF!)>COUNTIF(Points!$C$10:$C$86,'Results 2015'!#REF!),\"Not on Comps\",\"\")","v":{"$error":"#REF!"}}]
[null,null,null,null,null,null,null,null,{"$f":"IF(COUNTIF(#REF!,'Results 2015'!#REF!)>COUNTIF(Points!$C$10:$C$86,'Results 2015'!#REF!),\"Not on Comps\",\"\")","v":{"$error":"#REF!"}}]
[null,null,null,null,null,null,null,null,{"$f":"IF(COUNTIF(#REF!,'Results 2015'!#REF!)>COUNTIF(Points!$C$10:$C$86,'Results 2015'!#REF!),\"Not on Comps\",\"\")","v":{"$error":"#REF!"}}]
[null,null,null,null,null,null,null,null,{"$f":"IF(COUNTIF(#REF!,'Results 2015'!#REF!)>COUNTIF(Points!$C$10:$C$86,'Results 2015'!#REF!),\"Not on Comps\",\"\")","v":{"$error":"#REF!"}}]
[null,null,null,null,null,null,null,null,{"$f":"IF(COUNTIF(#REF!,'Results 2015'!#REF!)>COUNTIF(Points!$C$10:$C$86,'Results 2015'!#REF!),\"Not on Comps\",\"\")","v":{"$error":"#REF!"}}]
[null,null,null,null,null,null,null,null,{"$f":"IF(COUNTIF(#REF!,'Results 2015'!#REF!)>COUNTIF(Points!$C$10:$C$86,'Results 2015'!#REF!),\"Not on Comps\",\"\")","v":{"$error":"#REF!"}}]
[null,null,null,null,null,null,null,null,{"$f":"IF(COUNTIF(#REF!,'Results 2015'!#REF!)>COUNTIF(Points!$C$10:$C$86,'Results 2015'!#REF!),\"Not on Comps\",\"\")","v":{"$error":"#REF!"}}]
[null,null,null,null,null,null,null,null,{"$f":"IF(COUNTIF(#REF!,'Results 2015'!#REF!)>COUNTIF(Points!$C$10:$C$86,'Results 2015'!#REF!),\"Not on Comps\",\"\")","v":{"$error":"#REF!"}}]
[null,null,null,null,null,null,null,null,{"$f":"IF(COUNTIF(#REF!,'Results 2015'!#REF!)>COUNTIF(Points!$C$10:$C$86,'Results 2015'!#REF!),\"Not on Comps\",\"\")","v":{"$error":"#REF!"}}]
[null,null,null,null,null,null,null,null,{"$f":"IF(COUNTIF(#REF!,'Results 2015'!#REF!)>COUNTIF(Points!$C$10:$C$86,'Results 2015'!#REF!),\"Not on Comps\",\"\")","v":{"$error":"#REF!"}}]
[null,null,null,null,null,null,null,null,{"$f":"IF(COUNTIF(#REF!,'Results 2015'!#REF!)>COUNTIF(Points!$C$10:$C$86,'Results 2015'!#REF!),\"Not on Comps\",\"\")","v":{"$error":"#REF!"}}]
[null,null,null,null,null,null,null,null,{"$f":"IF(COUNTIF(#REF!,'Results 2015'!#REF!)>COUNTIF(Points!$C$10:$C$86,'Results 2015'!#REF!),\"Not on Comps\",\"\")","v":{"$error":"#REF!"}}]
[null,null,null,null,null,null,null,null,{"$f":"IF(COUNTIF(#REF!,'Results 2015'!#REF!)>COUNTIF(Points!$C$10:$C$86,'Results 2015'!#REF!),\"Not on Comps\",\"\")","v":{"$error":"#REF!"}}]
[null,null,null,null,null,null,null,null,{"$f":"IF(COUNTIF(#REF!,'Results 2015'!#REF!)>COUNTIF(Points!$C$10:$C$86,'Results 2015'!#REF!),\"Not on Comps\",\"\")","v":{"$error":"#REF!"}}]
[null,null,null,null,null,null,null,null,{"$f":"IF(COUNTIF(#REF!,'Results 2015'!#REF!)>COUNTIF(Points!$C$10:$C$86,'Results 2015'!#REF!),\"Not on Comps\",\"\")","v":{"$error":"#REF!"}}]
[null,null,null,null,null,null,null,null,{"$f":"IF(COUNTIF(#REF!,'Results 2015'!#REF!)>COUNTIF(Points!$C$10:$C$86,'Results 2015'!#REF!),\"Not on Comps\",\"\")","v":{"$error":"#REF!"}}]
[null,null,null,null,null,null,null,null,{"$f":"IF(COUNTIF(#REF!,'Results 2015'!#REF!)>COUNTIF(Points!$C$10:$C$86,'Results 2015'!#REF!),\"Not on Comps\",\"\")","v":{"$error":"#REF!"}}]
[null,null,null,null,null,null,null,null,{"$f":"IF(COUNTIF(#REF!,'Results 2015'!#REF!)>COUNTIF(Points!$C$10:$C$86,'Results 2015'!#REF!),\"Not on Comps\",\"\")","v":{"$error":"#REF!"}}]
[null,null,null,null,null,null,null,null,{"$f":"IF(COUNTIF(#REF!,'Results 2015'!#REF!)>COUNTIF(Points!$C$10:$C$86,'Results 2015'!#REF!),\"Not on Comps\",\"\")","v":{"$error":"#REF!"}}]
[null,null,null,null,null,null,null,null,{"$f":"IF(COUNTIF(#REF!,'Results 2015'!#REF!)>COUNTIF(Points!$C$10:$C$86,'Results 2015'!#REF!),\"Not on Comps\",\"\")","v":{"$error":"#REF!"}}]
[null,null,null,null,null,null,null,null,{"$f":"IF(COUNTIF(#REF!,'Results 2015'!#REF!)>COUNTIF(Points!$C$10:$C$86,'Results 2015'!#REF!),\"Not on Comps\",\"\")","v":{"$error":"#REF!"}}]
[null,null,null,null,null,null,null,null,{"$f":"IF(COUNTIF(#REF!,'Results 2015'!#REF!)>COUNTIF(Points!$C$10:$C$86,'Results 2015'!#REF!),\"Not on Comps\",\"\")","v":{"$error":"#REF!"}}]
[null,null,null,null,null,null,null,null,{"$f":"IF(COUNTIF(#REF!,'Results 2015'!#REF!)>COUNTIF(Points!$C$10:$C$86,'Results 2015'!#REF!),\"Not on Comps\",\"\")","v":{"$error":"#REF!"}}]
[null,null,null,null,null,null,null,null,{"$f":"IF(COUNTIF(#REF!,'Results 2015'!#REF!)>COUNTIF(Points!$C$10:$C$86,'Results 2015'!#REF!),\"Not on Comps\",\"\")","v":{"$error":"#REF!"}}]
[null,null,null,null,null,null,null,null,{"$f":"IF(COUNTIF(#REF!,'Results 2015'!#REF!)>COUNTIF(Points!$C$10:$C$86,'Results 2015'!#REF!),\"Not on Comps\",\"\")","v":{"$error":"#REF!"}}]
[null,null,null,null,null,null,null,null,{"$f":"IF(COUNTIF(#REF!,'Results 2015'!#REF!)>COUNTIF(Points!$C$10:$C$86,'Results 2015'!#REF!),\"Not on Comps\",\"\")","v":{"$error":"#REF!"}}]
[null,null,null,null,null,null,null,null,{"$f":"IF(COUNTIF(#REF!,'Results 2015'!#REF!)>COUNTIF(Points!$C$10:$C$86,'Results 2015'!#REF!),\"Not on Comps\",\"\")","v":{"$error":"#REF!"}}]
[null,null,null,null,null,null,null,null,{"$f":"IF(COUNTIF(#REF!,'Results 2015'!#REF!)>COUNTIF(Points!$C$10:$C$86,'Results 2015'!#REF!),\"Not on Comps\",\"\")","v":{"$error":"#REF!"}}]
[null,null,null,null,null,null,null,null,{"$f":"IF(COUNTIF(#REF!,'Results 2015'!#REF!)>COUNTIF(Points!$C$10:$C$86,'Results 2015'!#REF!),\"Not on Comps\",\"\")","v":{"$error":"#REF!"}}]
[null,null,null,null,null,null,null,null,{"$f":"IF(COUNTIF(#REF!,'Results 2015'!#REF!)>COUNTIF(Points!$C$10:$C$86,'Results 2015'!#REF!),\"Not on Comps\",\"\")","v":{"$error":"#REF!"}}]
[null,null,null,null,null,null,null,null,{"$f":"IF(COUNTIF(#REF!,'Results 2015'!#REF!)>COUNTIF(Points!$C$10:$C$86,'Results 2015'!#REF!),\"Not on Comps\",\"\")","v":{"$error":"#REF!"}}]
[null,null,null,null,null,null,null,null,{"$f":"IF(COUNTIF(#REF!,'Results 2015'!#REF!)>COUNTIF(Points!$C$10:$C$86,'Results 2015'!#REF!),\"Not on Comps\",\"\")","v":{"$error":"#REF!"}}]
[null,null,null,null,null,null,null,null,{"$f":"IF(COUNTIF(#REF!,'Results 2015'!#REF!)>COUNTIF(Points!$C$10:$C$86,'Results 2015'!#REF!),\"Not on Comps\",\"\")","v":{"$error":"#REF!"}}]
[null,null,null,null,null,null,null,null,{"$f":"IF(COUNTIF(#REF!,'Results 2015'!#REF!)>COUNTIF(Points!$C$10:$C$86,'Results 2015'!#REF!),\"Not on Comps\",\"\")","v":{"$error":"#REF!"}}]
[null,null,null,null,null,null,null,null,{"$f":"IF(COUNTIF(#REF!,'Results 2015'!#REF!)>COUNTIF(Points!$C$10:$C$86,'Results 2015'!#REF!),\"Not on Comps\",\"\")","v":{"$error":"#REF!"}}]
[null,null,null,null,null,null,null,null,{"$f":"IF(COUNTIF(#REF!,'Results 2015'!#REF!)>COUNTIF(Points!$C$10:$C$86,'Results 2015'!#REF!),\"Not on Comps\",\"\")","v":{"$error":"#REF!"}}]
[null,null,null,null,null,null,null,null,{"$f":"IF(COUNTIF(#REF!,'Results 2015'!#REF!)>COUNTIF(Points!$C$10:$C$86,'Results 2015'!#REF!),\"Not on Comps\",\"\")","v":{"$error":"#REF!"}}]
[null,null,null,null,null,null,null,null,{"$f":"IF(COUNTIF(#REF!,'Results 2015'!#REF!)>COUNTIF(Points!$C$10:$C$86,'Results 2015'!#REF!),\"Not on Comps\",\"\")","v":{"$error":"#REF!"}}]
[null,null,null,null,null,null,null,null,{"$f":"IF(COUNTIF(#REF!,'Results 2015'!#REF!)>COUNTIF(Points!$C$10:$C$86,'Results 2015'!#REF!),\"Not on Comps\",\"\")","v":{"$error":"#REF!"}}]
[null,null,null,null,null,null,null,null,{"$f":"IF(COUNTIF(#REF!,'Results 2015'!#REF!)>COUNTIF(Points!$C$10:$C$86,'Results 2015'!#REF!),\"Not on Comps\",\"\")","v":{"$error":"#REF!"}}]
[null,null,null,null,null,null,null,null,{"$f":"IF(COUNTIF(#REF!,'Results 2015'!#REF!)>COUNTIF(Points!$C$10:$C$86,'Results 2015'!#REF!),\"Not on Comps\",\"\")","v":{"$error":"#REF!"}}]
[null,null,null,null,null,null,null,null,{"$f":"IF(COUNTIF(#REF!,'Results 2015'!#REF!)>COUNTIF(Points!$C$10:$C$86,'Results 2015'!#REF!),\"Not on Comps\",\"\")","v":{"$error":"#REF!"}}]
[null,null,null,null,null,null,null,null,{"$f":"IF(COUNTIF(#REF!,'Results 2015'!#REF!)>COUNTIF(Points!$C$10:$C$86,'Results 2015'!#REF!),\"Not on Comps\",\"\")","v":{"$error":"#REF!"}}]
[null,null,null,null,null,null,null,null,{"$f":"IF(COUNTIF(#REF!,'Results 2015'!#REF!)>COUNTIF(Points!$C$10:$C$86,'Results 2015'!#REF!),\"Not on Comps\",\"\")","v":{"$error":"#REF!"}}]
[null,null,null,null,null,null,null,null,{"$f":"IF(COUNTIF(#REF!,'Results 2015'!#REF!)>COUNTIF(Points!$C$10:$C$86,'Results 2015'!#REF!),\"Not on Comps\",\"\")","v":{"$error":"#REF!"}}]
[null,null,null,null,null,null,null,null,{"$f":"IF(COUNTIF(#REF!,'Results 2015'!#REF!)>COUNTIF(Points!$C$10:$C$86,'Results 2015'!#REF!),\"Not on Comps\",\"\")","v":{"$error":"#REF!"}}]
[null,null,null,null,null,null,null,null,{"$f":"IF(COUNTIF(#REF!,'Results 2015'!#REF!)>COUNTIF(Points!$C$10:$C$86,'Results 2015'!#REF!),\"Not on Comps\",\"\")","v":{"$error":"#REF!"}}]
[null,null,null,null,null,null,null,null,{"$f":"IF(COUNTIF(#REF!,'Results 2015'!#REF!)>COUNTIF(Points!$C$10:$C$86,'Results 2015'!#REF!),\"Not on Comps\",\"\")","v":{"$error":"#REF!"}}]
[null,null,null,null,null,null,null,null,{"$f":"IF(COUNTIF(#REF!,'Results 2015'!#REF!)>COUNTIF(Points!$C$10:$C$86,'Results 2015'!#REF!),\"Not on Comps\",\"\")","v":{"$error":"#REF!"}}]
[null,null,null,null,null,null,null,null,{"$f":"IF(COUNTIF(#REF!,'Results 2015'!#REF!)>COUNTIF(Points!$C$10:$C$86,'Results 2015'!#REF!),\"Not on Comps\",\"\")","v":{"$error":"#REF!"}}]
[null,null,null,null,null,null,null,null,{"$f":"IF(COUNTIF(#REF!,'Results 2015'!#REF!)>COUNTIF(Points!$C$10:$C$86,'Results 2015'!#REF!),\"Not on Comps\",\"\")","v":{"$error":"#REF!"}}]
[null,null,null,null,null,null,null,null,{"$f":"IF(COUNTIF(#REF!,'Results 2015'!#REF!)>COUNTIF(Points!$C$10:$C$86,'Results 2015'!#REF!),\"Not on Comps\",\"\")","v":{"$error":"#REF!"}}]
[null,null,null,null,null,null,null,null,{"$f":"IF(COUNTIF(#REF!,'Results 2015'!#REF!)>COUNTIF(Points!$C$10:$C$86,'Results 2015'!#REF!),\"Not on Comps\",\"\")","v":{"$error":"#REF!"}}]
[null,null,null,null,null,null,null,null,{"$f":"IF(COUNTIF(#REF!,'Results 2015'!#REF!)>COUNTIF(Points!$C$10:$C$86,'Results 2015'!#REF!),\"Not on Comps\",\"\")","v":{"$error":"#REF!"}}]
[null,null,null,null,null,null,null,null,{"$f":"IF(COUNTIF(#REF!,'Results 2015'!#REF!)>COUNTIF(Points!$C$10:$C$86,'Results 2015'!#REF!),\"Not on Comps\",\"\")","v":{"$error":"#REF!"}}]
[null,null,null,null,null,null,null,null,{"$f":"IF(COUNTIF(#REF!,'Results 2015'!#REF!)>COUNTIF(Points!$C$10:$C$86,'Results 2015'!#REF!),\"Not on Comps\",\"\")","v":{"$error":"#REF!"}}]
[null,null,null,null,null,null,null,null,{"$f":"IF(COUNTIF(#REF!,'Results 2015'!#REF!)>COUNTIF(Points!$C$10:$C$86,'Results 2015'!#REF!),\"Not on Comps\",\"\")","v":{"$error":"#REF!"}}]
[null,null,null,null,null,null,null,null,{"$f":"IF(COUNTIF(#REF!,'Results 2015'!#REF!)>COUNTIF(Points!$C$10:$C$86,'Results 2015'!#REF!),\"Not on Comps\",\"\")","v":{"$error":"#REF!"}}]
[null,null,null,null,null,null,null,null,{"$f":"IF(COUNTIF(#REF!,'Results 2015'!#REF!)>COUNTIF(Points!$C$10:$C$86,'Results 2015'!#REF!),\"Not on Comps\",\"\")","v":{"$error":"#REF!"}}]
[null,null,null,null,null,null,null,null,{"$f":"IF(COUNTIF(#REF!,'Results 2015'!#REF!)>COUNTIF(Points!$C$10:$C$86,'Results 2015'!#REF!),\"Not on Comps\",\"\")","v":{"$error":"#REF!"}}]
[null,null,null,null,null,null,null,null,{"$f":"IF(COUNTIF(#REF!,'Results 2015'!#REF!)>COUNTIF(Points!$C$10:$C$86,'Results 2015'!#REF!),\"Not on Comps\",\"\")","v":{"$error":"#REF!"}}]
[null,null,null,null,null,null,null,null,{"$f":"IF(COUNTIF(#REF!,'Results 2015'!#REF!)>COUNTIF(Points!$C$10:$C$86,'Results 2015'!#REF!),\"Not on Comps\",\"\")","v":{"$error":"#REF!"}}]
[null,null,null,null,null,null,null,null,{"$f":"IF(COUNTIF(#REF!,'Results 2015'!#REF!)>COUNTIF(Points!$C$10:$C$86,'Results 2015'!#REF!),\"Not on Comps\",\"\")","v":{"$error":"#REF!"}}]
[null,null,null,null,null,null,null,null,{"$f":"IF(COUNTIF(#REF!,'Results 2015'!#REF!)>COUNTIF(Points!$C$10:$C$86,'Results 2015'!#REF!),\"Not on Comps\",\"\")","v":{"$error":"#REF!"}}]
[null,null,null,null,null,null,null,null,{"$f":"IF(COUNTIF(#REF!,'Results 2015'!#REF!)>COUNTIF(Points!$C$10:$C$86,'Results 2015'!#REF!),\"Not on Comps\",\"\")","v":{"$error":"#REF!"}}]
[null,null,null,null,null,null,null,null,{"$f":"IF(COUNTIF(#REF!,'Results 2015'!#REF!)>COUNTIF(Points!$C$10:$C$86,'Results 2015'!#REF!),\"Not on Comps\",\"\")","v":{"$error":"#REF!"}}]
[null,null,null,null,null,null,null,null,{"$f":"IF(COUNTIF(#REF!,'Results 2015'!#REF!)>COUNTIF(Points!$C$10:$C$86,'Results 2015'!#REF!),\"Not on Comps\",\"\")","v":{"$error":"#REF!"}}]
[null,null,null,null,null,null,null,null,{"$f":"IF(COUNTIF(#REF!,'Results 2015'!#REF!)>COUNTIF(Points!$C$10:$C$86,'Results 2015'!#REF!),\"Not on Comps\",\"\")","v":{"$error":"#REF!"}}]
[null,null,null,null,null,null,null,null,{"$f":"IF(COUNTIF(#REF!,'Results 2015'!#REF!)>COUNTIF(Points!$C$10:$C$86,'Results 2015'!#REF!),\"Not on Comps\",\"\")","v":{"$error":"#REF!"}}]
[null,null,null,null,null,null,null,null,{"$f":"IF(COUNTIF(#REF!,'Results 2015'!#REF!)>COUNTIF(Points!$C$10:$C$86,'Results 2015'!#REF!),\"Not on Comps\",\"\")","v":{"$error":"#REF!"}}]
[null,null,null,null,null,null,null,null,{"$f":"IF(COUNTIF(#REF!,'Results 2015'!#REF!)>COUNTIF(Points!$C$10:$C$86,'Results 2015'!#REF!),\"Not on Comps\",\"\")","v":{"$error":"#REF!"}}]
[null,null,null,null,null,null,null,null,{"$f":"IF(COUNTIF(#REF!,'Results 2015'!#REF!)>COUNTIF(Points!$C$10:$C$86,'Results 2015'!#REF!),\"Not on Comps\",\"\")","v":{"$error":"#REF!"}}]
[null,null,null,null,null,null,null,null,{"$f":"IF(COUNTIF(#REF!,'Results 2015'!#REF!)>COUNTIF(Points!$C$10:$C$86,'Results 2015'!#REF!),\"Not on Comps\",\"\")","v":{"$error":"#REF!"}}]
[null,null,null,null,null,null,null,null,{"$f":"IF(COUNTIF(#REF!,'Results 2015'!#REF!)>COUNTIF(Points!$C$10:$C$86,'Results 2015'!#REF!),\"Not on Comps\",\"\")","v":{"$error":"#REF!"}}]
[null,null,null,null,null,null,null,null,{"$f":"IF(COUNTIF(#REF!,'Results 2015'!#REF!)>COUNTIF(Points!$C$10:$C$86,'Results 2015'!#REF!),\"Not on Comps\",\"\")","v":{"$error":"#REF!"}}]
[null,null,null,null,null,null,null,null,{"$f":"IF(COUNTIF(#REF!,'Results 2015'!#REF!)>COUNTIF(Points!$C$10:$C$86,'Results 2015'!#REF!),\"Not on Comps\",\"\")","v":{"$error":"#REF!"}}]
[null,null,null,null,null,null,null,null,{"$f":"IF(COUNTIF(#REF!,'Results 2015'!#REF!)>COUNTIF(Points!$C$10:$C$86,'Results 2015'!#REF!),\"Not on Comps\",\"\")","v":{"$error":"#REF!"}}]
[null,null,null,null,null,null,null,null,{"$f":"IF(COUNTIF(#REF!,'Results 2015'!#REF!)>COUNTIF(Points!$C$10:$C$86,'Results 2015'!#REF!),\"Not on Comps\",\"\")","v":{"$error":"#REF!"}}]
[null,null,null,null,null,null,null,null,{"$f":"IF(COUNTIF(#REF!,'Results 2015'!#REF!)>COUNTIF(Points!$C$10:$C$86,'Results 2015'!#REF!),\"Not on Comps\",\"\")","v":{"$error":"#REF!"}}]
[null,null,null,null,null,null,null,null,{"$f":"IF(COUNTIF(#REF!,'Results 2015'!#REF!)>COUNTIF(Points!$C$10:$C$86,'Results 2015'!#REF!),\"Not on Comps\",\"\")","v":{"$error":"#REF!"}}]
[null,null,null,null,null,null,null,null,{"$f":"IF(COUNTIF(#REF!,'Results 2015'!#REF!)>COUNTIF(Points!$C$10:$C$86,'Results 2015'!#REF!),\"Not on Comps\",\"\")","v":{"$error":"#REF!"}}]
[null,null,null,null,null,null,null,null,{"$f":"IF(COUNTIF(#REF!,'Results 2015'!#REF!)>COUNTIF(Points!$C$10:$C$86,'Results 2015'!#REF!),\"Not on Comps\",\"\")","v":{"$error":"#REF!"}}]
[null,null,null,null,null,null,null,null,{"$f":"IF(COUNTIF(#REF!,'Results 2015'!#REF!)>COUNTIF(Points!$C$10:$C$86,'Results 2015'!#REF!),\"Not on Comps\",\"\")","v":{"$error":"#REF!"}}]
[null,null,null,null,null,null,null,null,{"$f":"IF(COUNTIF(#REF!,'Results 2015'!#REF!)>COUNTIF(Points!$C$10:$C$86,'Results 2015'!#REF!),\"Not on Comps\",\"\")","v":{"$error":"#REF!"}}]
[null,null,null,null,null,null,null,null,{"$f":"IF(COUNTIF(#REF!,'Results 2015'!#REF!)>COUNTIF(Points!$C$10:$C$86,'Results 2015'!#REF!),\"Not on Comps\",\"\")","v":{"$error":"#REF!"}}]
[null,null,null,null,null,null,null,null,{"$f":"IF(COUNTIF(#REF!,'Results 2015'!#REF!)>COUNTIF(Points!$C$10:$C$86,'Results 2015'!#REF!),\"Not on Comps\",\"\")","v":{"$error":"#REF!"}}]
[null,null,null,null,null,null,null,null,{"$f":"IF(COUNTIF(#REF!,'Results 2015'!#REF!)>COUNTIF(Points!$C$10:$C$86,'Results 2015'!#REF!),\"Not on Comps\",\"\")","v":{"$error":"#REF!"}}]
[null,null,null,null,null,null,null,null,{"$f":"IF(COUNTIF(#REF!,'Results 2015'!#REF!)>COUNTIF(Points!$C$10:$C$86,'Results 2015'!#REF!),\"Not on Comps\",\"\")","v":{"$error":"#REF!"}}]
[null,null,null,null,null,null,null,null,{"$f":"IF(COUNTIF(#REF!,'Results 2015'!#REF!)>COUNTIF(Points!$C$10:$C$86,'Results 2015'!#REF!),\"Not on Comps\",\"\")","v":{"$error":"#REF!"}}]
[null,null,null,null,null,null,null,null,{"$f":"IF(COUNTIF(#REF!,'Results 2015'!#REF!)>COUNTIF(Points!$C$10:$C$86,'Results 2015'!#REF!),\"Not on Comps\",\"\")","v":{"$error":"#REF!"}}]
[null,null,null,null,null,null,null,null,{"$f":"IF(COUNTIF(#REF!,'Results 2015'!#REF!)>COUNTIF(Points!$C$10:$C$86,'Results 2015'!#REF!),\"Not on Comps\",\"\")","v":{"$error":"#REF!"}}]
[null,null,null,null,null,null,null,null,{"$f":"IF(COUNTIF(#REF!,'Results 2015'!#REF!)>COUNTIF(Points!$C$10:$C$86,'Results 2015'!#REF!),\"Not on Comps\",\"\")","v":{"$error":"#REF!"}}]
[null,null,null,null,null,null,null,null,{"$f":"IF(COUNTIF(#REF!,'Results 2015'!#REF!)>COUNTIF(Points!$C$10:$C$86,'Results 2015'!#REF!),\"Not on Comps\",\"\")","v":{"$error":"#REF!"}}]
[null,null,null,null,null,null,null,null,{"$f":"IF(COUNTIF(#REF!,'Results 2015'!#REF!)>COUNTIF(Points!$C$10:$C$86,'Results 2015'!#REF!),\"Not on Comps\",\"\")","v":{"$error":"#REF!"}}]
[null,null,null,null,null,null,null,null,{"$f":"IF(COUNTIF(#REF!,'Results 2015'!#REF!)>COUNTIF(Points!$C$10:$C$86,'Results 2015'!#REF!),\"Not on Comps\",\"\")","v":{"$error":"#REF!"}}]
[null,null,null,null,null,null,null,null,{"$f":"IF(COUNTIF(#REF!,'Results 2015'!#REF!)>COUNTIF(Points!$C$10:$C$86,'Results 2015'!#REF!),\"Not on Comps\",\"\")","v":{"$error":"#REF!"}}]
[null,null,null,null,null,null,null,null,{"$f":"IF(COUNTIF(#REF!,'Results 2015'!#REF!)>COUNTIF(Points!$C$10:$C$86,'Results 2015'!#REF!),\"Not on Comps\",\"\")","v":{"$error":"#REF!"}}]
[null,null,null,null,null,null,null,null,{"$f":"IF(COUNTIF(#REF!,'Results 2015'!#REF!)>COUNTIF(Points!$C$10:$C$86,'Results 2015'!#REF!),\"Not on Comps\",\"\")","v":{"$error":"#REF!"}}]
[null,null,null,null,null,null,null,null,{"$f":"IF(COUNTIF(#REF!,'Results 2015'!#REF!)>COUNTIF(Points!$C$10:$C$86,'Results 2015'!#REF!),\"Not on Comps\",\"\")","v":{"$error":"#REF!"}},null,null,null,null,null,null,null,"Min","Max"]
[null,null,null,null,null,null,null,null,{"$f":"IF(COUNTIF(#REF!,'Results 2015'!#REF!)>COUNTIF(Points!$C$10:$C$86,'Results 2015'!#REF!),\"Not on Comps\",\"\")","v":{"$error":"#REF!"}},null,1,1,1,"00:24:05",{"$f":"VLOOKUP(M646,$K$646:$L$698,2,FALSE)","v":1},{"$f":"VLOOKUP(M646,#REF!,4,FALSE)","v":{"$error":"#REF!"}},{"$f":"N645-M646*$E$1","v":-6.9444444444444447E-4},{"$f":"N647-M646*$E$1","v":"00:26:20"}]
[null,null,null,null,null,null,null,null,{"$f":"IF(COUNTIF(#REF!,'Results 2015'!#REF!)>COUNTIF(Points!$C$10:$C$86,'Results 2015'!#REF!),\"Not on Comps\",\"\")","v":{"$error":"#REF!"}},null,2,2,2,"00:27:20",2,{"$f":"VLOOKUP(M647,#REF!,4,FALSE)","v":{"$error":"#REF!"}},{"$f":"N646-M647*$E$1","v":"00:22:05"},{"$f":"N648-M647*$E$1","v":"00:25:49"}]
[null,null,null,null,null,null,null,null,{"$f":"IF(COUNTIF(#REF!,'Results 2015'!#REF!)>COUNTIF(Points!$C$10:$C$86,'Results 2015'!#REF!),\"Not on Comps\",\"\")","v":{"$error":"#REF!"}},null,3,3,3,"00:27:49",3,{"$f":"VLOOKUP(M648,#REF!,4,FALSE)","v":{"$error":"#REF!"}},{"$f":"N647-M648*$E$1","v":"00:24:20"},{"$f":"N649-M648*$E$1","v":"00:27:47"}]
[null,null,null,null,null,null,null,{"$f":"VLOOKUP(#REF!,$M$646:$R$698,6,FALSE)","v":{"$error":"#REF!"}},{"$f":"IF(COUNTIF(#REF!,'Results 2015'!#REF!)>COUNTIF(Points!$C$10:$C$86,'Results 2015'!#REF!),\"Not on Comps\",\"\")","v":{"$error":"#REF!"}},null,4,4,4,"00:30:47",4,{"$f":"VLOOKUP(M649,#REF!,4,FALSE)","v":{"$error":"#REF!"}},{"$f":"N648-M649*$E$1","v":"00:23:49"},{"$f":"N652-M649*$E$1","v":"00:27:54"}]
[null,null,null,null,null,null,null,null,{"$f":"IF(COUNTIF(#REF!,'Results 2015'!#REF!)>COUNTIF(Points!$C$10:$C$86,'Results 2015'!#REF!),\"Not on Comps\",\"\")","v":{"$error":"#REF!"}},null,10,5,10,null,5,{"$f":"VLOOKUP(M650,#REF!,4,FALSE)","v":{"$error":"#REF!"}},{"$f":"N649-M650*$E$1","v":"00:20:47"},{"$f":"N652-M650*$E$1","v":"00:21:54"}]
[null,null,null,null,null,null,null,null,{"$f":"IF(COUNTIF(#REF!,'Results 2015'!#REF!)>COUNTIF(Points!$C$10:$C$86,'Results 2015'!#REF!),\"Not on Comps\",\"\")","v":{"$error":"#REF!"}},null,6,6,6,null,6,{"$f":"VLOOKUP(M651,#REF!,4,FALSE)","v":{"$error":"#REF!"}},{"$f":"N649-M651*$E$1","v":"00:24:47"},{"$f":"N652-M651*$E$1","v":"00:25:54"}]
[null,null,null,null,null,null,null,null,{"$f":"IF(COUNTIF(#REF!,'Results 2015'!#REF!)>COUNTIF(Points!$C$10:$C$86,'Results 2015'!#REF!),\"Not on Comps\",\"\")","v":{"$error":"#REF!"}},null,5,7,5,"00:31:54",7,{"$f":"VLOOKUP(M652,#REF!,4,FALSE)","v":{"$error":"#REF!"}},{"$f":"N649-M652*$E$1","v":"00:25:47"},{"$f":"N654-M652*$E$1","v":"00:27:36"}]
[null,null,null,null,null,null,null,null,{"$f":"IF(COUNTIF(#REF!,'Results 2015'!#REF!)>COUNTIF(Points!$C$10:$C$86,'Results 2015'!#REF!),\"Not on Comps\",\"\")","v":{"$error":"#REF!"}},null,8,8,8,null,8,{"$f":"VLOOKUP(M653,#REF!,4,FALSE)","v":{"$error":"#REF!"}},{"$f":"N652-M653*$E$1","v":"00:23:54"},{"$f":"N654-M653*$E$1","v":"00:24:36"}]
[null,null,null,null,null,null,null,null,{"$f":"IF(COUNTIF(#REF!,'Results 2015'!#REF!)>COUNTIF(Points!$C$10:$C$86,'Results 2015'!#REF!),\"Not on Comps\",\"\")","v":{"$error":"#REF!"}},null,7,9,7,"00:32:36",9,{"$f":"VLOOKUP(M654,#REF!,4,FALSE)","v":{"$error":"#REF!"}},{"$f":"N652-M654*$E$1","v":"00:24:54"},{"$f":"N655-M654*$E$1","v":"00:27:56"}]
[null,null,null,null,null,null,null,null,{"$f":"IF(COUNTIF(#REF!,'Results 2015'!#REF!)>COUNTIF(Points!$C$10:$C$86,'Results 2015'!#REF!),\"Not on Comps\",\"\")","v":{"$error":"#REF!"}},null,9,10,9,"00:34:56",10,{"$f":"VLOOKUP(M655,#REF!,4,FALSE)","v":{"$error":"#REF!"}},{"$f":"N654-M655*$E$1","v":"00:23:36"},"00:27:00"]
[null,null,null,null,null,null,null,null,{"$f":"IF(COUNTIF(#REF!,'Results 2015'!#REF!)>COUNTIF(Points!$C$10:$C$86,'Results 2015'!#REF!),\"Not on Comps\",\"\")","v":{"$error":"#REF!"}},null,14,11,14,"00:36:00",11,{"$f":"VLOOKUP(M656,#REF!,4,FALSE)","v":{"$error":"#REF!"}},"00:20:56","00:22:22"]
[null,null,null,null,null,null,null,null,{"$f":"IF(COUNTIF(#REF!,'Results 2015'!#REF!)>COUNTIF(Points!$C$10:$C$86,'Results 2015'!#REF!),\"Not on Comps\",\"\")","v":{"$error":"#REF!"}},null,11,12,11,"00:36:22",12,{"$f":"VLOOKUP(M657,#REF!,4,FALSE)","v":{"$error":"#REF!"}},"00:25:00","00:26:47"]
[null,null,null,null,null,null,null,null,{"$f":"IF(COUNTIF(#REF!,'Results 2015'!#REF!)>COUNTIF(Points!$C$10:$C$86,'Results 2015'!#REF!),\"Not on Comps\",\"\")","v":{"$error":"#REF!"}},null,13,13,13,"00:37:47",13,{"$f":"VLOOKUP(M658,#REF!,4,FALSE)","v":{"$error":"#REF!"}},"00:23:22","00:25:37"]
[null,null,null,null,null,null,null,null,{"$f":"IF(COUNTIF(#REF!,'Results 2015'!#REF!)>COUNTIF(Points!$C$10:$C$86,'Results 2015'!#REF!),\"Not on Comps\",\"\")","v":{"$error":"#REF!"}},null,12,14,12,"00:38:37",14,{"$f":"VLOOKUP(M659,#REF!,4,FALSE)","v":{"$error":"#REF!"}},"00:25:47","00:29:35"]
[null,null,null,null,null,null,null,null,{"$f":"IF(COUNTIF(#REF!,'Results 2015'!#REF!)>COUNTIF(Points!$C$10:$C$86,'Results 2015'!#REF!),\"Not on Comps\",\"\")","v":{"$error":"#REF!"}},null,19,15,19,"00:41:35",15,{"$f":"VLOOKUP(M660,#REF!,4,FALSE)","v":{"$error":"#REF!"}},"00:19:37","00:24:13"]
[null,null,null,null,null,null,null,null,{"$f":"IF(COUNTIF(#REF!,'Results 2015'!#REF!)>COUNTIF(Points!$C$10:$C$86,'Results 2015'!#REF!),\"Not on Comps\",\"\")","v":{"$error":"#REF!"}},null,17,16,17,"00:43:13",16,{"$f":"VLOOKUP(M661,#REF!,4,FALSE)","v":{"$error":"#REF!"}},"00:24:35",{"$f":"N663-M661*$E$1","v":"00:26:53"}]
[null,null,null,null,null,null,null,null,{"$f":"IF(COUNTIF(#REF!,'Results 2015'!#REF!)>COUNTIF(Points!$C$10:$C$86,'Results 2015'!#REF!),\"Not on Comps\",\"\")","v":{"$error":"#REF!"}},null,21,17,21,null,17,{"$f":"VLOOKUP(M662,#REF!,4,FALSE)","v":{"$error":"#REF!"}},{"$f":"N661-M662*$E$1","v":"00:22:13"},{"$f":"N663-M662*$E$1","v":"00:22:53"}]
[null,null,null,null,null,null,null,null,{"$f":"IF(COUNTIF(#REF!,'Results 2015'!#REF!)>COUNTIF(Points!$C$10:$C$86,'Results 2015'!#REF!),\"Not on Comps\",\"\")","v":{"$error":"#REF!"}},null,15,18,15,"00:43:53",18,{"$f":"VLOOKUP(M663,#REF!,4,FALSE)","v":{"$error":"#REF!"}},{"$f":"N661-M663*$E$1","v":"00:28:13"},{"$f":"N664-M663*$E$1","v":"00:28:21"}]
[null,null,null,null,null,null,null,null,{"$f":"IF(COUNTIF(#REF!,'Results 2015'!#REF!)>COUNTIF(Points!$C$10:$C$86,'Results 2015'!#REF!),\"Not on Comps\",\"\")","v":{"$error":"#REF!"}},null,16,19,16,"00:43:21",19,{"$f":"VLOOKUP(M664,#REF!,4,FALSE)","v":{"$error":"#REF!"}},{"$f":"N663-M664*$E$1","v":"00:27:53"},"00:31:15"]
[null,null,null,null,null,null,null,null,{"$f":"IF(COUNTIF(#REF!,'Results 2015'!#REF!)>COUNTIF(Points!$C$10:$C$86,'Results 2015'!#REF!),\"Not on Comps\",\"\")","v":{"$error":"#REF!"}},null,22,20,22,"00:47:15",20,{"$f":"VLOOKUP(M665,#REF!,4,FALSE)","v":{"$error":"#REF!"}},"00:21:21","00:25:33"]
[null,null,null,null,null,null,null,null,{"$f":"IF(COUNTIF(#REF!,'Results 2015'!#REF!)>COUNTIF(Points!$C$10:$C$86,'Results 2015'!#REF!),\"Not on Comps\",\"\")","v":{"$error":"#REF!"}},null,20,21,20,"00:47:33",21,{"$f":"VLOOKUP(M666,#REF!,4,FALSE)","v":{"$error":"#REF!"}},"00:27:15","00:27:57"]
[null,null,null,null,null,null,null,null,{"$f":"IF(COUNTIF(#REF!,'Results 2015'!#REF!)>COUNTIF(Points!$C$10:$C$86,'Results 2015'!#REF!),\"Not on Comps\",\"\")","v":{"$error":"#REF!"}},null,24,22,24,"00:47:57",22,{"$f":"VLOOKUP(M667,#REF!,4,FALSE)","v":{"$error":"#REF!"}},"00:23:33","00:26:31"]
[null,null,null,null,null,null,null,null,{"$f":"IF(COUNTIF(#REF!,'Results 2015'!#REF!)>COUNTIF(Points!$C$10:$C$86,'Results 2015'!#REF!),\"Not on Comps\",\"\")","v":{"$error":"#REF!"}},null,25,23,25,"00:50:31",23,{"$f":"VLOOKUP(M668,#REF!,4,FALSE)","v":{"$error":"#REF!"}},"00:22:57","00:26:02"]
[null,null,null,null,null,null,null,null,{"$f":"IF(COUNTIF(#REF!,'Results 2015'!#REF!)>COUNTIF(Points!$C$10:$C$86,'Results 2015'!#REF!),\"Not on Comps\",\"\")","v":{"$error":"#REF!"}},null,23,24,23,"00:51:02",24,{"$f":"VLOOKUP(M669,#REF!,4,FALSE)","v":{"$error":"#REF!"}},"00:27:31",{"$f":"N672-M669*$E$1","v":"00:36:08"}]
[null,null,null,null,null,null,null,null,{"$f":"IF(COUNTIF(#REF!,'Results 2015'!#REF!)>COUNTIF(Points!$C$10:$C$86,'Results 2015'!#REF!),\"Not on Comps\",\"\")","v":{"$error":"#REF!"}},null,35,25,35,null,25,{"$f":"VLOOKUP(M670,#REF!,4,FALSE)","v":{"$error":"#REF!"}},{"$f":"N669-M670*$E$1","v":"00:16:02"},{"$f":"N672-M670*$E$1","v":"00:24:08"}]
[null,null,null,null,null,null,null,null,{"$f":"IF(COUNTIF(#REF!,'Results 2015'!#REF!)>COUNTIF(Points!$C$10:$C$86,'Results 2015'!#REF!),\"Not on Comps\",\"\")","v":{"$error":"#REF!"}},null,37,26,37,null,26,{"$f":"VLOOKUP(M671,#REF!,4,FALSE)","v":{"$error":"#REF!"}},{"$f":"N669-M671*$E$1","v":"00:14:02"},{"$f":"N672-M671*$E$1","v":"00:22:08"}]
[null,null,null,null,null,null,null,null,{"$f":"IF(COUNTIF(#REF!,'Results 2015'!#REF!)>COUNTIF(Points!$C$10:$C$86,'Results 2015'!#REF!),\"Not on Comps\",\"\")","v":{"$error":"#REF!"}},null,31,27,31,"00:59:08",27,{"$f":"VLOOKUP(M672,#REF!,4,FALSE)","v":{"$error":"#REF!"}},{"$f":"N669-M672*$E$1","v":"00:20:02"},{"$f":"N673-M672*$E$1","v":"00:28:36"}]
[null,null,null,null,null,null,null,null,{"$f":"IF(COUNTIF(#REF!,'Results 2015'!#REF!)>COUNTIF(Points!$C$10:$C$86,'Results 2015'!#REF!),\"Not on Comps\",\"\")","v":{"$error":"#REF!"}},null,27,28,27,"00:59:36",28,{"$f":"VLOOKUP(M673,#REF!,4,FALSE)","v":{"$error":"#REF!"}},{"$f":"N672-M673*$E$1","v":"00:32:08"},{"$f":"N674-M673*$E$1","v":"00:32:58"}]
[null,null,null,null,null,null,null,null,{"$f":"IF(COUNTIF(#REF!,'Results 2015'!#REF!)>COUNTIF(Points!$C$10:$C$86,'Results 2015'!#REF!),\"Not on Comps\",\"\")","v":{"$error":"#REF!"}},null,29,29,29,"00:59:58",29,{"$f":"VLOOKUP(M674,#REF!,4,FALSE)","v":{"$error":"#REF!"}},{"$f":"N673-M674*$E$1","v":"00:30:36"},{"$f":"N677-M674*$E$1","v":"00:32:35"}]
[null,null,null,null,null,null,null,null,{"$f":"IF(COUNTIF(#REF!,'Results 2015'!#REF!)>COUNTIF(Points!$C$10:$C$86,'Results 2015'!#REF!),\"Not on Comps\",\"\")","v":{"$error":"#REF!"}},null,32,30,32,null,30,{"$f":"VLOOKUP(M675,#REF!,4,FALSE)","v":{"$error":"#REF!"}},{"$f":"N674-M675*$E$1","v":"00:27:58"},{"$f":"N677-M675*$E$1","v":"00:29:35"}]
[null,null,null,null,null,null,null,null,null,null,26,31,26,null,31,{"$f":"VLOOKUP(M676,#REF!,4,FALSE)","v":{"$error":"#REF!"}},{"$f":"N674-M676*$E$1","v":"00:33:58"},{"$f":"N677-M676*$E$1","v":"00:35:35"}]
[null,null,null,null,null,null,null,null,null,null,30,32,30,"01:01:35",32,{"$f":"VLOOKUP(M677,#REF!,4,FALSE)","v":{"$error":"#REF!"}},{"$f":"N674-M677*$E$1","v":"00:29:58"},{"$f":"N679-M677*$E$1","v":"00:32:38"}]
[null,null,null,null,null,null,null,null,null,null,33,33,33,null,33,{"$f":"VLOOKUP(M678,#REF!,4,FALSE)","v":{"$error":"#REF!"}},{"$f":"N677-M678*$E$1","v":"00:28:35"},{"$f":"N679-M678*$E$1","v":"00:29:38"}]
[null,null,null,null,null,null,null,null,null,null,34,34,34,"01:02:38",34,{"$f":"VLOOKUP(M679,#REF!,4,FALSE)","v":{"$error":"#REF!"}},{"$f":"N677-M679*$E$1","v":"00:27:35"},{"$f":"N680-M679*$E$1","v":"00:29:31"}]
[null,null,null,null,null,null,null,null,null,null,40,35,40,"01:03:31",35,{"$f":"VLOOKUP(M680,#REF!,4,FALSE)","v":{"$error":"#REF!"}},{"$f":"N679-M680*$E$1","v":"00:22:38"},"00:23:50"]
[null,null,null,null,null,null,null,null,null,null,41,36,41,"01:03:50",36,{"$f":"VLOOKUP(M681,#REF!,4,FALSE)","v":{"$error":"#REF!"}},"00:22:31","00:23:41"]
[null,null,null,null,null,null,null,null,null,null,39,37,39,"01:04:41",37,{"$f":"VLOOKUP(M682,#REF!,4,FALSE)","v":{"$error":"#REF!"}},"00:24:50","00:26:00"]
[null,null,null,null,null,null,null,null,null,null,38,38,38,"01:05:00",38,{"$f":"VLOOKUP(M683,#REF!,4,FALSE)","v":{"$error":"#REF!"}},"00:26:41","00:28:36"]
[null,null,null,null,null,null,null,null,null,null,42,39,42,"01:06:36",39,{"$f":"VLOOKUP(M684,#REF!,4,FALSE)","v":{"$error":"#REF!"}},"00:23:00","00:25:15"]
[null,null,null,null,null,null,null,null,null,null,36,40,36,"01:07:15",40,{"$f":"VLOOKUP(M685,#REF!,4,FALSE)","v":{"$error":"#REF!"}},"00:30:36","00:31:58"]
[null,null,null,null,null,null,null,null,null,null,43,41,43,"01:07:58",41,{"$f":"VLOOKUP(M686,#REF!,4,FALSE)","v":{"$error":"#REF!"}},"00:24:15",{"$f":"N688-M686*$E$1","v":"00:26:44"}]
[null,null,null,null,null,null,null,null,null,null,44,42,44,null,42,{"$f":"VLOOKUP(M687,#REF!,4,FALSE)","v":{"$error":"#REF!"}},{"$f":"N686-M687*$E$1","v":"00:23:58"},{"$f":"N688-M687*$E$1","v":"00:25:44"}]
[null,null,null,null,null,null,null,{"$f":"VLOOKUP(#REF!,$M$646:$R$698,6,FALSE)","v":{"$error":"#REF!"}},null,null,45,43,45,"01:09:44",43,{"$f":"VLOOKUP(M688,#REF!,4,FALSE)","v":{"$error":"#REF!"}},{"$f":"N686-M688*$E$1","v":"00:22:58"},{"$f":"N689-M688*$E$1","v":"00:26:32"}]
[null,null,null,null,null,null,null,{"$f":"VLOOKUP(#REF!,$M$646:$R$698,6,FALSE)","v":{"$error":"#REF!"}},null,null,46,44,46,"01:11:32",44,{"$f":"VLOOKUP(M689,#REF!,4,FALSE)","v":{"$error":"#REF!"}},{"$f":"N688-M689*$E$1","v":"00:23:44"},"00:27:15"]
[null,null,null,null,null,null,null,{"$f":"VLOOKUP(#REF!,$M$646:$R$698,6,FALSE)","v":{"$error":"#REF!"}},null,null,51,45,51,"01:13:15",45,{"$f":"VLOOKUP(M690,#REF!,4,FALSE)","v":{"$error":"#REF!"}},"00:20:32","00:23:14"]
[null,null,null,null,null,null,null,{"$f":"VLOOKUP(#REF!,$M$646:$R$698,6,FALSE)","v":{"$error":"#REF!"}},null,null,50,46,50,"01:14:14",46,{"$f":"VLOOKUP(M691,#REF!,4,FALSE)","v":{"$error":"#REF!"}},"00:23:15","00:25:02"]
[null,null,null,null,null,null,null,{"$f":"VLOOKUP(#REF!,$M$646:$R$698,6,FALSE)","v":{"$error":"#REF!"}},null,null,47,47,47,"01:15:02",47,{"$f":"VLOOKUP(M692,#REF!,4,FALSE)","v":{"$error":"#REF!"}},"00:27:14","00:28:12"]
[null,null,null,null,null,null,null,{"$f":"VLOOKUP(#REF!,$M$646:$R$698,6,FALSE)","v":{"$error":"#REF!"}},null,null,53,48,53,"01:15:12",48,{"$f":"VLOOKUP(M693,#REF!,4,FALSE)","v":{"$error":"#REF!"}},"00:22:02","00:23:46"]
[null,null,null,null,null,null,null,{"$f":"VLOOKUP(#REF!,$M$646:$R$698,6,FALSE)","v":{"$error":"#REF!"}},null,null,52,49,52,"01:16:46",49,{"$f":"VLOOKUP(M694,#REF!,4,FALSE)","v":{"$error":"#REF!"}},"00:23:12","00:25:02"]
[null,null,null,null,null,null,null,{"$f":"VLOOKUP(#REF!,$M$646:$R$698,6,FALSE)","v":{"$error":"#REF!"}},null,null,48,50,48,"01:17:02",50,{"$f":"VLOOKUP(M695,#REF!,4,FALSE)","v":{"$error":"#REF!"}},"00:28:46","00:29:35"]
[null,null,null,null,null,null,null,{"$f":"VLOOKUP(#REF!,$M$646:$R$698,6,FALSE)","v":{"$error":"#REF!"}},null,null,49,51,49,"01:17:35",51,{"$f":"VLOOKUP(M696,#REF!,4,FALSE)","v":{"$error":"#REF!"}},"00:28:02",{"$f":"N697-M696*$E$1","v":-1.7824074074074131E-3}]
[null,null,null,null,null,null,null,{"$f":"VLOOKUP(#REF!,$M$646:$R$698,6,FALSE)","v":{"$error":"#REF!"}},null,null,null,52,18,"00:46:26",{"$error":"#N/A"},{"$f":"VLOOKUP(M697,#REF!,4,FALSE)","v":{"$error":"#REF!"}},{"$f":"N696-M697*$E$1","v":"00:59:35"},-1.2500000000000001E-2]
[null,null,null,null,null,null,null,null,null,null,null,53,28,null,{"$error":"#N/A"},{"$f":"VLOOKUP(M698,#REF!,4,FALSE)","v":{"$error":"#REF!"}}]

{"sheet":"Scratch 2014","index":14,"n_rows":40,"n_cols":48,"rows_kept":40,"cut":false,"hidden":true,"merged":[[2,0,2,26],[3,0,4,0],[3,2,3,8],[3,11,3,26]]}
["Counting Rides",null,null,null,null,null,null,null,null,null,7,null,7,null,null,7,null,null,5,null,null,5,null,null,5]
["Minimum Riders",null,null,null,null,null,null,null,null,null,10,{"$f":"COUNT(L7:L82)","v":34},5,null,{"$f":"COUNT(O7:O82)","v":8},5,null,{"$f":"COUNT(R7:R82)","v":9},3,null,{"$f":"COUNT(U7:U82)","v":5},3,null,{"$f":"COUNT(X7:X82)","v":3},3,null,{"$f":"COUNT(AA7:AA82)","v":8}]
["Swindon RC Club 10 Scratch Competitions 2014"]
["(names shaded grey indicate the required marshaling and/or timekeeping has not yet been completed)",null,"Best Times",null,null,null,null,null,null,null,null,"Average Speeds (m.p.h.)\n(speeds shaded grey denote the required number of rides have not yet been completed)"]
[null,"Marshal/\nTimekeep",1,2,3,4,5,6,7,null,{"$f":"COUNTIF(K7:K84,\"Y\")","v":15},"Overall \n(7 rides)","Eligible",{"$f":"COUNTIF(N7:N84,\"Y\")","v":5},"Non-Aero \n(7 rides)","Eligible",{"$f":"COUNTIF(Q7:Q84,\"Y\")","v":5},"50 & Over \n(7 rides)","Eligible",{"$f":"COUNTIF(T7:T84,\"Y\")","v":2},"Ladies \n(5 rides)","Eligible",{"$f":"COUNTIF(W7:W84,\"Y\")","v":1},"16 & Under \n(5 rides)","Eligible",{"$f":"COUNTIF(Z7:Z84,\"Y\")","v":2},"Newcomer \n(5 rides)",null,null,{"$f":"Points!J7","v":"2024-04-18"},{"$f":"AD5+7","v":"2024-04-25"},{"$f":"AE5+7","v":"2024-05-02"},"2024-05-09","2024-05-16","2024-05-23","2024-05-30","2014-06-05",{"$f":"AK5+14","v":"2014-06-19"},"2014-06-26","2014-07-03","2014-07-10","2014-07-17","2014-07-24","2014-07-31","2014-08-07","2014-08-14","2014-08-21","2014-08-28"]
[2,{"$f":"IF(V6=\"Y\",\"N/A\",COUNTIF('Rota 2014'!$B$20:$I$29,A6))","v":0},{"$f":"IF(ISERROR(SMALL($AD6:$AV6,C$5))=TRUE,\"\",SMALL($AD6:$AV6,C$5))","v":""},"","","","","","",{"$f":"COUNT(C6:I6)","v":0},{"$f":"IF($J6>=K$1,\"Y\",\"\")","v":""},{"$f":"(COUNT($C6:$I6)*10/(SUM($C6:$I6)))/24","v":{"$error":"#DIV/0!"}},null,{"$f":"IF(AND(M6=\"Y\",$J6>=M$1)=TRUE,\"Y\",\"\")","v":""},{"$f":"IF(M6=\"\",\"\",(COUNT($C6:$I6)*10/(SUM($C6:$I6)))/24)","v":""},null,{"$f":"IF(AND(P6=\"Y\",$J6>=P$1)=TRUE,\"Y\",\"\")","v":""},{"$f":"IF(P6=\"\",\"\",(COUNT($C6:$I6)*10/(SUM($C6:$I6)))/24)","v":""},null,{"$f":"IF(AND(S6=\"Y\",$J6>=S$1)=TRUE,\"Y\",\"\")","v":""},{"$f":"IF(S6=\"\",\"\",(COUNT($C6:$G6)*10/(SUM($C6:$G6)))/24)","v":""},null,{"$f":"IF(AND(V6=\"Y\",$J6>=V$1)=TRUE,\"Y\",\"\")","v":""},{"$f":"IF(V6=\"\",\"\",(COUNT($C6:$G6)*10/(SUM($C6:$G6)))/24)","v":""},null,{"$f":"IF(AND(Y6=\"Y\",$J6>=Y$1)=TRUE,\"Y\",\"\")","v":""},{"$f":"IF(Y6=\"\",\"\",(COUNT($C6:$G6)*10/(SUM($C6:$G6)))/24)","v":""}]
["Peter Garnett",{"$f":"IF(V7=\"Y\",\"N/A\",COUNTIF('Rota 2014'!$B$18:$I$29,A7))","v":8},"00:21:46","00:21:59","00:22:00","00:22:12","00:22:13","00:22:15","00:22:15",7,"Y",{"$f":"ROUNDUP((COUNT(C7:I7)*10/(SUM(C7:I7)))/24,2)","v":27.16},null,"",{"$f":"IF(M7=\"\",\"\",ROUNDUP(COUNT($C7:$I7)*10/(SUM($C7:$I7))/24,2))","v":""},null,"",{"$f":"IF(P7=\"\",\"\",ROUNDUP(COUNT($C7:$I7)*10/(SUM($C7:$I7))/24,2))","v":""},null,"",{"$f":"IF(S7=\"\",\"\",ROUNDUP(COUNT($C7:$G7)*10/(SUM($C7:$G7))/24,2))","v":""},null,"",{"$f":"IF(V7=\"\",\"\",ROUNDUP(COUNT($C7:$G7)*10/(SUM($C7:$G7))/24,2))","v":""},null,"",{"$f":"IF(Y7=\"\",\"\",ROUNDUP(COUNT($C7:$G7)*10/(SUM($C7:$G7))/24,2))","v":""},null,{"$f":"IF(B7=\"N/A\",A7,IF(B7>=$A$6,A7,\"\"))","v":"Peter Garnett"},"00:21:59","00:22:25","00:22:26",null,"00:22:13","00:22:18","00:22:17",{"$f":"VLOOKUP(A7,'Results 2014'!$C$385:$E$433,3,FALSE)","v":"00:22:20"},{"$f":"VLOOKUP(A7,'Results 2014'!$C$514:$E$565,3,FALSE)","v":"00:22:15"},null,null,"00:22:12","00:21:46","00:22:00","00:22:15","00:22:15","00:22:32","00:22:43"]
["Les Liddiard",{"$f":"IF(V8=\"Y\",\"N/A\",COUNTIF('Rota 2014'!$B$18:$I$29,A8))","v":2},"00:22:21","00:22:28","00:22:29","00:22:35","00:22:42","00:22:42","00:22:42",7,"Y",26.59,null,"","","Y","Y",26.59,null,"","",null,"","",null,"","",null,"Les Liddiard","00:22:42","00:22:29","00:22:28",null,"00:22:49","00:22:35",null,null,null,null,"00:22:46","00:22:42",null,null,null,"00:22:21","00:22:42","00:22:54"]
["Niel Dunnage",{"$f":"IF(V9=\"Y\",\"N/A\",COUNTIF('Rota 2014'!$B$18:$I$29,A9))","v":1},"00:22:21","00:22:47","","","","","",2,"",26.59,null,"","",null,"","",null,"","",null,"","",null,"","",null,"","00:22:21",null,null,null,null,null,null,null,null,"00:22:47"]
["Joe Schvartz",{"$f":"IF(V10=\"Y\",\"N/A\",COUNTIF('Rota 2014'!$B$18:$I$29,A10))","v":2},"00:22:40","00:22:49","00:22:51","00:22:51","00:22:52","00:22:59","00:23:00",7,"Y",26.25,null,"","","Y","Y",26.25,null,"","",null,"","",null,"","",null,"Joe Schvartz","00:23:27","00:22:52",null,null,"00:22:51","00:22:49","00:23:00",{"$f":"VLOOKUP(A10,'Results 2014'!$C$385:$E$433,3,FALSE)","v":"00:23:02"},null,null,null,null,"00:22:51","00:22:59","00:23:19","00:22:40","00:23:02","00:23:06"]
["Andy Claxton",{"$f":"IF(V11=\"Y\",\"N/A\",COUNTIF('Rota 2014'!$B$18:$I$29,A11))","v":3},"00:22:39","00:22:42","00:22:52","00:22:53","00:22:57","00:23:08","00:23:12",7,"Y",26.19,null,"","",null,"","",null,"","",null,"","",null,"","",null,"Andy Claxton","00:23:35",null,"00:23:45",null,"00:23:19","00:23:08",null,{"$f":"VLOOKUP(A11,'Results 2014'!$C$385:$E$433,3,FALSE)","v":"00:22:57"},"00:22:52","00:23:30",null,null,"00:22:53","00:22:42","00:22:39",null,null,"00:23:12"]
["Chris Broad-Drake",{"$f":"IF(V12=\"Y\",\"N/A\",COUNTIF('Rota 2014'!$B$18:$I$29,A12))","v":8},"00:23:19","00:23:45","00:23:50","00:23:50","00:23:53","00:23:56","00:24:00",7,"Y",25.220000000000002,null,"","","Y","Y",25.220000000000002,null,"","",null,"","",null,"","",null,"Chris Broad-Drake","00:24:43","00:25:07","00:24:13",null,"00:23:56","00:23:53","00:23:50",{"$f":"VLOOKUP(A12,'Results 2014'!$C$385:$E$433,3,FALSE)","v":"00:24:15"},"00:23:45","00:24:39",null,null,"00:23:19","00:24:06","00:24:07","00:24:00","00:24:10","00:23:50"]
["Richard Cooper",{"$f":"IF(V13=\"Y\",\"N/A\",COUNTIF('Rota 2014'!$B$18:$I$29,A13))","v":0},"00:23:17","00:23:30","00:23:39","00:23:44","00:24:53","","",5,"",25.200000000000003,null,"","","Y","",25.200000000000003,null,"","",null,"","",null,"","",null,"",null,"00:24:53",null,null,"00:23:44","00:23:30",null,null,null,null,null,null,"00:23:17",null,null,"00:23:39"]
["Chris Lowe",{"$f":"IF(V14=\"Y\",\"N/A\",COUNTIF('Rota 2014'!$B$18:$I$29,A14))","v":1},"00:23:51","","","","","","",1,"",25.16,null,"","","Y","",25.16,null,"","",null,"","","Y","",25.16,null,"",null,null,null,null,null,null,null,{"$f":"VLOOKUP(A14,'Results 2014'!$C$385:$E$433,3,FALSE)","v":"00:23:51"}]
["Paul O'Driscoll",{"$f":"IF(V15=\"Y\",\"N/A\",COUNTIF('Rota 2014'!$B$18:$I$29,A15))","v":0},"00:23:54","00:24:18","","","","","",2,"",24.900000000000002,null,"","",null,"","",null,"","",null,"","",null,"","",null,"",null,"00:23:54","00:24:18"]
["Rob Merrison",{"$f":"IF(V16=\"Y\",\"N/A\",COUNTIF('Rota 2014'!$B$18:$I$29,A16))","v":0},"00:23:28","00:23:58","00:24:03","00:24:24","00:24:44","","",5,"",24.880000000000003,null,"","",null,"","",null,"","",null,"","",null,"","",null,"",null,null,"00:24:44",null,"00:23:58","00:24:24",null,{"$f":"VLOOKUP(A16,'Results 2014'!$C$385:$E$433,3,FALSE)","v":"00:24:03"},"00:23:28"]
["Leigh Schvartz",{"$f":"IF(V17=\"Y\",\"N/A\",COUNTIF('Rota 2014'!$B$18:$I$29,A17))","v":0},"00:23:11","00:23:46","00:25:30","","","","",3,"",24.85,null,"","",null,"","",null,"","",null,"","","Y","",24.85,null,"",null,"00:25:30",null,null,null,null,null,null,null,null,null,null,null,"00:23:46",null,"00:23:11"]
["Marc Allen",{"$f":"IF(V18=\"Y\",\"N/A\",COUNTIF('Rota 2014'!$B$18:$I$29,A18))","v":2},"00:23:43","00:23:55","00:24:00","00:24:16","00:24:38","00:24:39","00:24:41",7,"Y",24.73,"Y","Y",24.73,null,"","",null,"","",null,"","",null,"","",null,"Marc Allen","00:26:02","00:25:09","00:24:56","00:25:12","00:25:13","00:24:44","00:24:41",{"$f":"VLOOKUP(A18,'Results 2014'!$C$385:$E$433,3,FALSE)","v":"00:24:38"},"00:24:39","00:24:44",null,null,"00:23:55","00:24:00","00:24:16","00:23:43","00:24:46","00:24:56"]
["Dave Gibson",{"$f":"IF(V19=\"Y\",\"N/A\",COUNTIF('Rota 2014'!$B$18:$I$29,A19))","v":3},"00:24:00","00:24:06","00:24:15","00:24:23","00:24:29","00:24:34","00:24:36",7,"Y",24.66,"Y","Y",24.66,null,"","",null,"","",null,"","",null,"","",null,"Dave Gibson","00:24:15",null,"00:25:21","00:24:51","00:24:38","00:24:36",null,{"$f":"VLOOKUP(A19,'Results 2014'!$C$385:$E$433,3,FALSE)","v":"00:24:29"},null,null,null,"00:24:49","00:24:06",null,"00:24:00","00:24:34","00:24:23"]
["Steve Davies",{"$f":"IF(V20=\"Y\",\"N/A\",COUNTIF('Rota 2014'!$B$18:$I$29,A20))","v":5},"00:23:59","00:24:09","00:24:12","00:24:18","00:24:28","00:24:43","00:24:54",7,"Y",24.610000000000003,null,"","",null,"","",null,"","",null,"","",null,"","",null,"Steve Davies",null,"00:25:26",null,null,"00:25:06",null,null,{"$f":"VLOOKUP(A20,'Results 2014'!$C$385:$E$433,3,FALSE)","v":"00:24:12"},"00:24:28","00:24:54","00:24:18",null,"00:24:43","00:23:59",null,"00:24:09"]
["Tom Longland",{"$f":"IF(V21=\"Y\",\"N/A\",COUNTIF('Rota 2014'!$B$18:$I$29,A21))","v":0},"00:24:23","00:24:58","","","","","",2,"",24.32,null,"","",null,"","",null,"","",null,"","",null,"","",null,null,null,null,null,null,"00:24:23",null,null,null,null,null,null,"00:24:58"]
["Adriano dos Santos",{"$f":"IF(V22=\"Y\",\"N/A\",COUNTIF('Rota 2014'!$B$18:$I$29,A22))","v":1},{"$f":"IF(ISERROR(SMALL($AD22:$AV22,C$5))=TRUE,\"\",SMALL($AD22:$AV22,C$5))","v":"00:23:52"},"00:24:05","00:24:18","00:24:19","00:25:07","00:25:07","00:26:08",7,"Y",24.290000000000003,null,"","",null,"","",null,"","",null,"","",null,"","",null,{"$f":"IF(B22=\"N/A\",A22,IF(B22>=$A$6,A22,\"\"))","v":""},"00:25:07","00:24:18",null,"00:25:07","00:23:52",null,"00:26:08",null,null,null,null,null,null,null,null,null,"00:24:05","00:24:19"]
["Malcolm Walklett",{"$f":"IF(V23=\"Y\",\"N/A\",COUNTIF('Rota 2014'!$B$18:$I$29,A23))","v":0},"00:24:56","","","","","","",1,"",24.07,null,"","",null,"","",null,"","",null,"","","Y","",24.07,null,"","00:24:56"]
["Keith Waller",{"$f":"IF(V24=\"Y\",\"N/A\",COUNTIF('Rota 2014'!$B$18:$I$29,A24))","v":2},"00:24:49","00:24:52","00:25:02","00:25:05","00:25:20","00:25:21","00:25:25",7,"Y",23.880000000000003,null,"","",null,"","",null,"","",null,"","",null,"","",null,"Keith Waller",null,null,"00:25:53",null,"00:25:05","00:25:25",null,null,null,"00:25:37",null,null,"00:25:02","00:25:20","00:24:49","00:24:52","00:25:41","00:25:21"]
["Jeff Smith",{"$f":"IF(V25=\"Y\",\"N/A\",COUNTIF('Rota 2014'!$B$18:$I$29,A25))","v":2},"00:24:39","00:24:55","00:25:20","00:25:21","00:25:23","00:25:24","00:25:25",7,"Y",23.810000000000002,"Y","Y",23.810000000000002,"Y","Y",23.810000000000002,null,"","",null,"","",null,"","",null,"Jeff Smith","00:25:24",null,"00:27:09","00:26:53","00:25:49","00:25:58","00:26:22",null,"00:26:17",null,null,"00:25:20","00:25:23","00:25:21","00:24:55","00:24:39","00:25:25"]
["Tom Sewell",{"$f":"IF(V26=\"Y\",\"N/A\",COUNTIF('Rota 2014'!$B$18:$I$29,A26))","v":"N/A"},"00:25:01","00:25:29","00:25:33","00:25:37","00:26:05","00:26:20","",6,"",23.37,null,"","",null,"","",null,"","","Y","Y",23.490000000000002,null,"","",null,"Tom Sewell",null,"00:25:33","00:26:20","00:26:05","00:25:29","00:25:37",null,null,null,null,null,null,null,null,null,null,null,"00:25:01"]
["Rob Patterson",{"$f":"IF(V27=\"Y\",\"N/A\",COUNTIF('Rota 2014'!$B$18:$I$29,A27))","v":2},"00:25:14","00:25:41","00:25:45","00:25:52","00:26:04","00:26:16","00:26:18",7,"Y",23.19,null,"","","Y","Y",23.19,null,"","",null,"","",null,"","",null,"Rob Patterson",null,null,null,"00:26:50","00:26:20",null,"00:26:18",null,"00:26:16",null,"00:26:04","00:25:41","00:25:45",null,"00:25:52","00:25:14"]
["Kim Lassiter",{"$f":"IF(V28=\"Y\",\"N/A\",COUNTIF('Rota 2014'!$B$18:$I$29,A28))","v":0},"00:26:10","","","","","","",1,"",22.930000000000003,null,"","",null,"","",null,"","",null,"","",null,"","",null,null,null,null,null,null,"00:26:10"]
["Daniel Darby",{"$f":"IF(V29=\"Y\",\"N/A\",COUNTIF('Rota 2014'!$B$18:$I$29,A29))","v":3},"00:26:00","00:26:28","00:26:30","00:26:38","00:26:42","00:26:46","00:26:47",7,"Y",22.6,"Y","Y",22.6,null,"","",null,"","",null,"","",null,"","",null,{"$f":"IF(B29=\"N/A\",A29,IF(B29>=$A$6,A29,\"\"))","v":"Daniel Darby"},"00:26:51",null,null,null,"00:27:19","00:27:07",null,{"$f":"VLOOKUP(A29,'Results 2014'!$C$385:$E$433,3,FALSE)","v":"00:26:46"},"00:26:38",null,"00:26:28","00:26:47","00:26:30",null,"00:26:42","00:26:00",null,"00:28:01"]
["Sharon Dolman",{"$f":"IF(V30=\"Y\",\"N/A\",COUNTIF('Rota 2014'!$B$18:$I$29,A30))","v":0},"00:26:36","00:27:27","","","","","",2,"",22.21,null,"","","Y","",22.21,"Y","",22.21,null,"","","Y","",22.21,null,"",null,null,null,null,null,null,null,null,{"$f":"VLOOKUP(A30,'Results 2014'!$C$514:$E$565,3,FALSE)","v":"00:26:36"},null,null,null,null,null,null,null,null,"00:27:27"]
["Archie Scott",{"$f":"IF(V31=\"Y\",\"N/A\",COUNTIF('Rota 2014'!$B$18:$I$29,A31))","v":"N/A"},"00:26:54","00:26:57","00:27:11","00:27:18","","","",4,"",22.16,"Y","",22.16,null,"","",null,"","","Y","",22.16,null,"","",null,"Archie Scott","00:27:18","00:26:57",null,null,"00:27:11",null,null,null,null,null,null,null,null,null,"00:26:54"]
["Paul Adams",{"$f":"IF(V32=\"Y\",\"N/A\",COUNTIF('Rota 2014'!$B$18:$I$29,A32))","v":0},"00:26:35","00:26:54","00:27:22","00:27:24","00:27:28","00:27:55","00:28:04",7,"Y",21.91,"Y","Y",21.91,null,"","",null,"","",null,"","","Y","Y",22.110000000000003,null,"","00:27:55","00:28:04",null,null,null,"00:27:28","00:27:22",null,null,null,null,"00:26:54","00:26:35",null,null,null,null,"00:27:24"]
["Stuart Longhurst",{"$f":"IF(V33=\"Y\",\"N/A\",COUNTIF('Rota 2014'!$B$18:$I$29,A33))","v":0},"00:26:52","00:27:28","00:27:48","00:27:49","00:28:24","","",5,"",21.69,null,"","",null,"","",null,"","",null,"","","Y","Y",21.69,null,"","00:28:24",null,null,null,"00:27:49","00:27:48","00:27:28",{"$f":"VLOOKUP(A33,'Results 2014'!$C$385:$E$433,3,FALSE)","v":"00:26:52"}]
["Kieran Golding",{"$f":"IF(V34=\"Y\",\"N/A\",COUNTIF('Rota 2014'!$B$18:$I$29,A34))","v":3},"00:27:41","00:27:47","00:27:52","00:27:54","00:27:59","00:28:12","00:28:21",7,"Y",21.46,null,"","",null,"","",null,"","",null,"","",null,"","",null,"Kieran Golding","00:29:13","00:28:21",null,null,"00:28:31",null,"00:27:52",{"$f":"VLOOKUP(A34,'Results 2014'!$C$385:$E$433,3,FALSE)","v":"00:27:41"},null,null,null,null,null,"00:27:47","00:28:12",null,"00:27:54","00:27:59"]
["Oisin Kelly",{"$f":"IF(V35=\"Y\",\"N/A\",COUNTIF('Rota 2014'!$B$18:$I$29,A35))","v":0},"00:29:28","","","","","","",1,"",20.37,null,"","",null,"","",null,"","",null,"","","Y","",20.37,null,"",null,null,null,null,null,null,null,null,{"$f":"VLOOKUP(A35,'Results 2014'!$C$514:$E$565,3,FALSE)","v":"00:29:28"}]
["David Parkin",{"$f":"IF(V36=\"Y\",\"N/A\",COUNTIF('Rota 2014'!$B$18:$I$29,A36))","v":0},"00:29:34","","","","","","",1,"",20.3,null,"","","Y","",20.3,null,"","",null,"","",null,"","",null,"",null,"00:29:34"]
["Mandy Scott",{"$f":"IF(V37=\"Y\",\"N/A\",COUNTIF('Rota 2014'!$B$18:$I$29,A37))","v":0},"00:28:39","00:30:21","00:30:25","00:31:21","00:32:33","","",5,"",19.57,"Y","",19.57,null,"","","Y","Y",19.57,null,"","",null,"","",null,"","00:31:21","00:30:25",null,null,"00:28:39",null,"00:30:21",null,null,null,null,null,null,null,"00:32:33"]
["Amanda Adams",{"$f":"IF(V38=\"Y\",\"N/A\",COUNTIF('Rota 2014'!$B$18:$I$29,A38))","v":2},{"$f":"IF(ISERROR(SMALL($AD38:$AV38,C$5))=TRUE,\"\",SMALL($AD38:$AV38,C$5))","v":"00:31:12"},"00:31:24","00:31:41","00:31:48","00:32:27","00:32:30","",6,"",18.850000000000001,"Y","",18.850000000000001,null,"","","Y","Y",18.930000000000003,null,"","",null,"","",null,"Amanda Adams",null,"00:32:30",null,"00:31:12","00:31:24",null,"00:31:48",null,null,null,"00:31:41",null,null,null,null,null,null,"00:32:27"]
["Katie Scott",{"$f":"IF(V39=\"Y\",\"N/A\",COUNTIF('Rota 2014'!$B$18:$I$29,A39))","v":"N/A"},"00:29:45","00:30:59","00:32:55","00:33:51","","","",4,"",18.830000000000002,null,"","",null,"","","Y","",18.830000000000002,"Y","",18.830000000000002,null,"","",null,"Katie Scott","00:32:55","00:33:51",null,null,null,null,"00:30:59",null,null,null,null,null,null,"00:29:45"]
["Laura Chadwick",{"$f":"IF(V40=\"Y\",\"N/A\",COUNTIF('Rota 2014'!$B$18:$I$29,A40))","v":0},"00:31:37","00:32:11","00:32:42","","","","",3,"",18.66,null,"","",null,"","","Y","",18.66,null,"","","Y","",18.66,null,"",null,"00:32:42",null,null,"00:31:37",null,"00:32:11"]

{"sheet":"Rota 2014","index":15,"n_rows":29,"n_cols":9,"rows_kept":29,"cut":false,"hidden":true,"merged":[[0,0,0,6]]}
["Swindon RC Club 10 Rota 2014"]
[null,"Start Timekeeper","Finish Timekeeper","Marshal 1","Marshal 2","Marshal 3","Pusher Off"]
["Saturday\n5 April\nCome & Try It","Chris Lowe","Chris Broad-Drake","Pete Jeans",null,null,"Paul Sewell"]
["Thursday\n10 April\nPrologue","Peter Garnett","Chris Broad-Drake","Andy Claxton","Bernie Beale","Steve Davies","Les Liddiard"]
["Wroughton - Beckhampton\nSun 20 April","Peter Garnett","Chris Broad-Drake",null,null,null,"Peter Garnett."]
["Thursday\n24 April","Peter Garnett","Chris Broad-Drake","Niel Dunnage","Keith Waller","Bernie Beale"]
["Thursday\n8 May","Chris Broad-Drake","Peter Garnett","Peter Garnett.",null,null,"Steve Davies"]
["Thursday\n22 May","Steve Davies","Chris Broad-Drake","Amanda Adams","Kieran Golding",null,"Nick Fiore","Dave Gibson","Jeff Smith"]
["Thursday\n5 June\nInterclub",null,null,"Adriano dos Santos","Keith Waller","Bernie Beale","Joe Schvartz",null,"Steve Davies"]
["Thursday\n12 June\nCome & Try It","Marc Allen","Chris Broad Drake","Chris Lowe",null,null,"Joe Schvartz","Peter Garnett"]
["Thursday\n26 June","Les Liddiard","Peter Garnett","Kieran Golding","Daniel Darby"]
["Thursday\n10 July","Marc Allen","Chris Broad-Drake","Amanda Adams",null,null,"Steve Davies","Dave Gibson","Jeff Smith"]
["Thursday\n24 July",null,"Chris Broad-Drake","Rob Patterson",null,null,null,"Peter Garnett"]
["Thursday\n7 August","Andy Claxton","Chris Broad-Drake","Kieran Golding","Allan Norwood",null,"Daniel Darby","Peter Garnett"]
["Thursday\n21 August","Andy Claxton","Chris Broad-Drake","Rob Patterson","Allan Norwood",null,"Daniel Darby","Peter Garnett","Dave Gibson"]
[{"$f":"TODAY()","v":"2024-05-24"}]
[]
["2014-04-05",{"$f":"IF($A18<=$A$16,B4,\"\")","v":"Peter Garnett"},"Chris Broad-Drake","Andy Claxton","Bernie Beale","Steve Davies","Les Liddiard",0,0]
[]
["2014-04-24",{"$f":"IF($A20<=$A$16,B6,\"\")","v":"Peter Garnett"},"Chris Broad-Drake","Niel Dunnage","Keith Waller","Bernie Beale",0,0,0]
["2014-05-08","Chris Broad-Drake","Peter Garnett","Peter Garnett.",0,0,"Steve Davies",0,0]
["2014-05-22","Steve Davies","Chris Broad-Drake","Amanda Adams","Kieran Golding",0,"Nick Fiore","Dave Gibson","Jeff Smith"]
["2014-06-05",0,0,"Adriano dos Santos","Keith Waller","Bernie Beale","Joe Schvartz",0,"Steve Davies"]
["2014-06-12","Marc Allen","Chris Broad Drake","Chris Lowe",0,0,"Joe Schvartz","Peter Garnett",0]
["2014-06-26","Les Liddiard","Peter Garnett","Kieran Golding","Daniel Darby",0,0,0,0]
["2014-07-10","Marc Allen","Chris Broad-Drake","Amanda Adams",0,0,"Steve Davies","Dave Gibson","Jeff Smith"]
["2014-07-24",0,"Chris Broad-Drake","Rob Patterson",0,0,0,"Peter Garnett",0]
["2014-08-07","Andy Claxton","Chris Broad-Drake","Kieran Golding","Allan Norwood",0,"Daniel Darby","Peter Garnett",0]
["2014-08-21","Andy Claxton","Chris Broad-Drake","Rob Patterson","Allan Norwood",0,"Daniel Darby","Peter Garnett","Dave Gibson"]

{"sheet":"Accounts","index":16,"n_rows":67,"n_cols":14,"rows_kept":67,"cut":false,"hidden":true,"merged":[]}
["Date","Event","Income\nEntries & Donations","Entrants","Levies","HQ cost","Event balance","Expenses","Balance","Banked","Cash","Reimbursed","PG Owed"]
[null,null,{"$f":"SUM(C3:C37)","v":1793.35},471,942,470,431.35,113.45000000000002,{"$f":"C2-E2-F2-H2","v":267.89999999999986},{"$f":"SUM(J3:J390)","v":1500},{"$f":"C2-C5-J2-H2","v":79.899999999999892},{"$f":"SUM(L3:L37)","v":91.19},{"$f":"H2-L2","v":22.260000000000019}]
["2013-04-03",null,null,null,null,null,null,17.329999999999998]
["2013-04-06",null,null,null,null,null,null,2.58]
["2013-04-06","Come & Try It",100,47,{"$f":"D5*2","v":94},35,{"$f":"C5-E5-F5","v":-29}]
["2013-04-07","Wroughton Beckhampton",44,22,{"$f":"D6*2","v":44},null,{"$f":"C6-E6-F6","v":0}]
["2013-04-07",null,null,null,null,null,null,null,null,null,null,20]
["2013-04-09",null,null,null,null,null,null,2.42]
["2013-04-11","Prologue",105,25,{"$f":"D9*2","v":50},35,{"$f":"C9-E9-F9","v":20},null,null,null,null,null,null,{"$f":"C9/D9","v":4.2}]
["2013-04-24",null,null,null,null,null,null,5.75,null,null,null,10]
["2013-04-25","Round 2",253.04,57,{"$f":"D11*2","v":114},35,{"$f":"C11-E11-F11","v":104.03999999999999},null,null,null,null,null,null,{"$f":"C11/D11","v":4.4392982456140349}]
["2013-05-08",null,null,null,null,null,null,12.15,null,null,null,10]
["2013-05-09","Round 4",36.5,9,18,35,{"$f":"C13-E13-F13","v":-16.5},null,null,null,null,null,null,{"$f":"C13/D13","v":4.0555555555555554}]
["2013-05-23","Round 6",124,30,60,35,{"$f":"C14-E14-F14","v":29},11.42,null,null,null,11.42,null,{"$f":"C14/D14","v":4.1333333333333337}]
["2013-06-05",null,null,null,null,null,null,5.03,null,null,null,5]
["2013-06-06","Interclub",194.5,45,90,35,{"$f":"C16-E16-F16","v":69.5},null,null,null,null,null,null,{"$f":"C16/D16","v":4.322222222222222}]
["2013-06-12",null,null,null,null,null,null,9.9499999999999993,null,null,null,10]
["2013-06-13",null,null,null,null,null,null,1.62]
["2013-06-13","Come & Try It",51.39,27,{"$f":"D19*2","v":54},35,{"$f":"C19-E19-F19","v":-37.61}]
["2013-06-26",null,null,null,null,null,null,1.04]
["2013-06-26",null,null,null,null,null,null,6.31]
["2013-06-27",null,null,null,null,null,null,1.29]
["2013-06-27","Round 9",63.5,15,{"$f":"D23*2","v":30},35,{"$f":"C23-E23-F23","v":-1.5},null,null,null,null,15,null,{"$f":"C23/D23","v":4.2333333333333334}]
["2013-07-08",null,null,null,null,null,null,null,null,600]
["2013-07-11",null,null,null,null,null,null,1.29]
["2013-07-11","Round 11",193.22,47,{"$f":"D26*2","v":94},35,{"$f":"C26-E26-F26","v":64.22},null,null,null,null,null,null,{"$f":"C26/D26","v":4.1110638297872342}]
["2013-07-24",null,null,null,null,null,null,9.77]
["2013-07-24",null,null,null,null,null,null,null,null,null,null,9.77]
["2013-07-25","Round 13",177.66,41,{"$f":"D29*2","v":82},35,{"$f":"C29-E29-F29","v":60.66},null,null,null,null,null,null,{"$f":"C29/D29","v":4.3331707317073169}]
["2013-07-25",null,null,null,null,null,null,1.39]
["2013-07-25","Donation",null,null,null,50]
["2013-07-27","Open",null,null,null,null,null,13.77]
["2013-08-08","Round 15",234.26,57,{"$f":"D33*2","v":114},35,{"$f":"C33-E33-F33","v":85.259999999999991},null,null,null,null,null,null,{"$f":"C33/D33","v":4.1098245614035083}]
["2013-08-13",null,null,null,null,null,null,8.34]
["2013-08-22",null,null,null,null,null,null,2]
["2013-08-22","Round 17",216.28,49,{"$f":"D36*2","v":98},35,{"$f":"C36-E36-F36","v":83.28},null,null,null,null,null,null,{"$f":"C36/D36","v":4.4138775510204082}]
["2013-10-06",null,null,null,null,null,null,null,null,900]
[null,null,{"$f":"SUM(C39:C426)","v":2228.9699999999998},581,1162,434,632.96999999999991,131.41,{"$f":"C38-E38-F38-H38","v":501.55999999999983},0,{"$f":"C38-C41-J38-H38","v":2097.56},{"$f":"SUM(L39:L426)","v":0},{"$f":"H38-L38","v":131.41}]
["2014-01-01","NYD",12,6,{"$f":"D39*2","v":12},null,{"$f":"C39-E39-F39","v":0},null,null,null,null,null,null,{"$f":"C39/D39","v":2}]
["2014-04-02",null,null,null,null,null,null,12.23,null,null,null,null,null,{"$f":"C40/D40","v":{"$error":"#DIV/0!"}}]
["2014-04-03",null,null,null,null,null,null,13.82,null,null,null,null,null,{"$error":"#DIV/0!"}]
["2014-04-05",null,19,26,{"$f":"D42*2","v":52},36,{"$f":"C42-E42-F42","v":-69},null,null,null,null,null,null,0.73076923076923073]
["2014-04-09",null,null,null,null,null,null,11.37,null,null,null,null,null,{"$error":"#DIV/0!"}]
["2014-04-10",null,95.98,23,{"$f":"D44*2","v":46},36,{"$f":"C44-E44-F44","v":13.980000000000004},null,null,null,null,null,null,4.1730434782608699]
["2014-04-16",null,null,null,null,null,null,3,null,null,null,null,null,{"$error":"#DIV/0!"}]
["2014-04-20",null,34,16,{"$f":"D46*2","v":32},null,{"$f":"C46-E46-F46","v":2},null,null,null,null,null,null,2.125]
["2014-04-24",null,225.71999999999997,54,{"$f":"D47*2","v":108},36,{"$f":"C47-E47-F47","v":81.71999999999997},null,null,null,null,null,null,4.18]
["2014-05-07",null,null,null,null,null,null,14.24,null,null,null,null,null,{"$error":"#DIV/0!"}]
["2014-05-08",null,91.52000000000001,21,{"$f":"D49*2","v":42},36,{"$f":"C49-E49-F49","v":13.52000000000001},null,null,null,null,null,null,4.3580952380952382]
["2014-05-21",null,null,null,null,null,null,7.51,null,null,null,null,null,{"$error":"#DIV/0!"}]
["2014-05-22",null,231,49,{"$f":"D51*2","v":98},36,{"$f":"C51-E51-F51","v":97},null,null,null,null,null,null,4.7142857142857144]
["2014-06-04",null,null,null,null,null,null,11.42,null,null,null,null,null,{"$error":"#DIV/0!"}]
["2014-06-05",null,225,24,{"$f":"D53*2","v":48},36,{"$f":"C53-E53-F53","v":141},null,null,null,null,null,null,9.375]
["2014-06-11",null,null,null,null,null,null,6.62,null,null,null,null,null,{"$error":"#DIV/0!"}]
["2014-06-12",null,null,78,{"$f":"D55*2","v":156},38,{"$f":"C55-E55-F55","v":-194}]
["2014-06-19",null,120,25,{"$f":"D56*2","v":50},null,{"$f":"C56-E56-F56","v":70},null,null,null,null,null,null,4.8]
["2014-06-21",null,null,null,null,null,null,5.96,null,null,null,null,null,{"$error":"#DIV/0!"}]
["2014-06-26",null,null,null,null,null,null,14.24,null,null,null,null,null,{"$error":"#DIV/0!"}]
["2014-06-26",null,140,31,{"$f":"D59*2","v":62},36,{"$f":"C59-E59-F59","v":42},null,null,null,null,null,null,4.5161290322580649]
["2014-07-09",null,null,null,null,null,null,8.5,null,null,null,null,null,{"$error":"#DIV/0!"}]
["2014-07-10",null,240,52,{"$f":"D61*2","v":104},36,{"$f":"C61-E61-F61","v":100},null,null,null,null,null,null,4.615384615384615]
["2014-07-23",null,null,null,null,null,null,11,null,null,null,null,null,{"$error":"#DIV/0!"}]
["2014-07-24",null,259.89999999999998,59,{"$f":"D63*2","v":118},36,{"$f":"C63-E63-F63","v":105.89999999999998},null,null,null,null,null,null,4.4050847457627116]
["2014-08-06",null,null,null,null,null,null,3]
["2014-08-07",null,269.7,61,{"$f":"D65*2","v":122},36,{"$f":"C65-E65-F65","v":111.69999999999999},null,null,null,null,null,null,4.4213114754098362]
["2014-08-20",null,null,null,null,null,null,8.5]
["2014-08-21",null,265.14999999999998,56,{"$f":"D67*2","v":112},36,{"$f":"C67-E67-F67","v":117.14999999999998},null,null,null,null,null,null,4.7348214285714283]

{"sheet":"Scratch 13","index":17,"n_rows":54,"n_cols":47,"rows_kept":54,"cut":false,"hidden":true,"merged":[[2,0,2,25],[3,1,3,7],[3,10,3,25]]}
[null,null,null,null,null,null,null,null,null,7,null,5,null,null,6,null,null,5,null,null,5,null,null,5]
[null,null,null,null,null,null,null,null,null,10,{"$f":"COUNT(K7:K102)","v":48},5,null,{"$f":"COUNT(N7:N102)","v":15},5,null,{"$f":"COUNT(Q7:Q102)","v":9},3,null,{"$f":"COUNT(T7:T102)","v":3},3,null,{"$f":"COUNT(W7:W102)","v":4},3,null,{"$f":"COUNT(Z7:Z102)","v":25}]
["Swindon RC Club 10 Scratch Competitions 2013"]
[null,"Best Times",null,null,null,null,null,null,null,null,"Average Speeds (m.p.h.)\n(speeds shaded grey denote the required number of rides have not yet been completed)"]
[null,1,2,3,4,5,6,7,null,{"$f":"COUNTIF(J7:J104,\"Y\")","v":15},"Overall \n(7 rides)","Eligible",{"$f":"COUNTIF(M7:M104,\"Y\")","v":7},"Non-Aero \n(5 rides)","Eligible",{"$f":"COUNTIF(P7:P104,\"Y\")","v":5},"50 & Over \n(6 rides)","Eligible",{"$f":"COUNTIF(S7:S104,\"Y\")","v":3},"Ladies \n(5 rides)","Eligible",{"$f":"COUNTIF(V7:V104,\"Y\")","v":2},"16 & Under \n(5 rides)","Eligible",{"$f":"COUNTIF(Y7:Y104,\"Y\")","v":12},"Newcomer \n(5 rides)",null,null,"2013-04-18","2013-04-25","2013-05-02","2013-05-09","2013-05-16","2013-05-23","2013-05-30","2013-06-06","2013-06-13","2013-06-20","2013-06-27","2013-07-04","2013-07-11","2013-07-18","2013-07-25","2013-08-01","2013-08-08","2013-08-15","2013-08-22"]
["x\n\n",{"$f":"IF(ISERROR(SMALL($AC6:$AU6,B$5))=TRUE,\"\",SMALL($AC6:$AU6,B$5))","v":""},"","","","","","",{"$f":"COUNT(B6:H6)","v":0},{"$f":"IF($I6>=J$1,\"Y\",\"\")","v":""},{"$f":"(COUNT($B6:$H6)*10/(SUM($B6:$H6)))/24","v":{"$error":"#DIV/0!"}},null,{"$f":"IF(AND(L6=\"Y\",$I6>=L$1)=TRUE,\"Y\",\"\")","v":""},{"$f":"IF(L6=\"\",\"\",(COUNT($B6:$H6)*10/(SUM($B6:$H6)))/24)","v":""},null,{"$f":"IF(AND(O6=\"Y\",$I6>=O$1)=TRUE,\"Y\",\"\")","v":""},{"$f":"IF(O6=\"\",\"\",(COUNT($B6:$H6)*10/(SUM($B6:$H6)))/24)","v":""},null,{"$f":"IF(AND(R6=\"Y\",$I6>=R$1)=TRUE,\"Y\",\"\")","v":""},{"$f":"IF(R6=\"\",\"\",(COUNT($B6:$F6)*10/(SUM($B6:$F6)))/24)","v":""},null,{"$f":"IF(AND(U6=\"Y\",$I6>=U$1)=TRUE,\"Y\",\"\")","v":""},{"$f":"IF(U6=\"\",\"\",(COUNT($B6:$F6)*10/(SUM($B6:$F6)))/24)","v":""},null,{"$f":"IF(AND(X6=\"Y\",$I6>=X$1)=TRUE,\"Y\",\"\")","v":""},{"$f":"IF(X6=\"\",\"\",(COUNT($B6:$F6)*10/(SUM($B6:$F6)))/24)","v":""}]
["Peter Garnett",{"$f":"IF(ISERROR(SMALL($AC7:$AU7,B$5))=TRUE,\"\",SMALL($AC7:$AU7,B$5))","v":"00:21:48"},"00:21:51","00:21:53","00:22:03","00:22:04","00:22:06","00:22:08",{"$f":"COUNT(B7:H7)","v":7},{"$f":"IF($I7>=J$1,\"Y\",\"\")","v":"Y"},{"$f":"ROUNDUP((COUNT(B7:H7)*10/(SUM(B7:H7)))/24,2)","v":27.3},null,{"$f":"IF(AND(L7=\"Y\",$I7>=L$1)=TRUE,\"Y\",\"\")","v":""},{"$f":"IF(L7=\"\",\"\",ROUNDUP(COUNT($B7:$F7)*10/(SUM($B7:$F7))/24,2))","v":""},null,{"$f":"IF(AND(O7=\"Y\",$I7>=O$1)=TRUE,\"Y\",\"\")","v":""},{"$f":"IF(O7=\"\",\"\",ROUNDUP(COUNT($B7:$G7)*10/(SUM($B7:$G7))/24,2))","v":""},null,{"$f":"IF(AND(R7=\"Y\",$I7>=R$1)=TRUE,\"Y\",\"\")","v":""},{"$f":"IF(R7=\"\",\"\",ROUNDUP(COUNT($B7:$F7)*10/(SUM($B7:$F7))/24,2))","v":""},null,{"$f":"IF(AND(U7=\"Y\",$I7>=U$1)=TRUE,\"Y\",\"\")","v":""},{"$f":"IF(U7=\"\",\"\",ROUNDUP(COUNT($B7:$F7)*10/(SUM($B7:$F7))/24,2))","v":""},null,{"$f":"IF(AND(X7=\"Y\",$I7>=X$1)=TRUE,\"Y\",\"\")","v":""},{"$f":"IF(X7=\"\",\"\",ROUNDUP(COUNT($B7:$F7)*10/(SUM($B7:$F7))/24,2))","v":""},null,null,"00:23:02","00:22:41","00:22:14",null,null,"00:22:48","00:22:03",null,null,"00:22:04",null,"00:22:06","00:22:13","00:21:48","00:21:53","00:21:51","00:22:08"]
["Niel Dunnage","00:21:53","00:22:14","00:22:49","","","","",3,"",26.900000000000002,null,"","",null,"","",null,"","",null,"","",null,"","",null,null,null,null,null,null,null,null,null,null,null,"00:22:14","00:22:49",null,null,null,"00:21:53"]
["Joe Schvartz","00:22:34","00:22:35","00:22:37","00:22:40","00:22:42","00:23:08","00:23:09",7,"Y",26.35,null,"","","Y","Y",26.42,null,"","",null,"","",null,"","",null,null,"00:24:01",null,null,null,"00:23:46","00:23:25",null,null,null,"00:23:09","00:23:08","00:22:35",null,"00:22:34",null,"00:22:42","00:22:37","00:22:40"]
["Paul O'Driscoll","00:23:20","00:23:32","00:23:34","00:23:46","00:23:49","00:23:57","00:23:59",7,"Y",25.310000000000002,null,"","",null,"","",null,"","",null,"","",null,"","",null,null,"","00:23:32","00:23:20",null,"00:23:59","00:24:07","00:23:34",null,null,null,null,null,"00:23:46",null,null,null,"00:23:57","00:23:49"]
["Chris Broad-Drake","00:23:25","00:23:43","00:23:51","00:23:52","00:23:56","00:24:04","00:24:18",7,"Y",25.130000000000003,null,"","","Y","Y",25.21,null,"","",null,"","",null,"","",null,null,"00:25:09",null,"00:24:31",null,null,null,"00:25:08",null,null,"00:24:18",null,"00:24:04","00:23:51","00:23:25","00:23:43","00:23:52","00:24:40","00:23:56","00:24:19"]
["Rob Merrison","00:23:07","00:23:09","00:23:25","00:24:05","00:24:21","00:25:37","",6,"",25.05,null,"","",null,"","",null,"","",null,"","","Y","Y",25.400000000000002,null,null,null,null,null,null,null,null,null,null,null,null,"00:25:37",null,null,null,"00:24:21","00:24:05","00:23:25","00:23:07","00:23:09"]
["Pete Jeans","00:23:39","00:23:43","00:23:52","00:23:59","00:24:00","00:24:16","00:24:25",7,"Y",25.020000000000003,null,"","","Y","Y",25.1,null,"","",null,"","",null,"","",null,null,null,null,"00:24:26",null,null,"00:24:25","00:24:57",null,null,"00:24:28",null,"00:23:59","00:24:00","00:23:39","00:23:43",null,"00:24:16","00:23:52"]
["Andy Bentley","00:24:04","","","","","","",1,"",24.94,null,"","",null,"","",null,"","",null,"","","Y","",24.94,null,null,null,null,null,null,null,null,null,null,null,"00:24:04"]
["David Ryan","00:24:23","","","","","","",1,"",24.610000000000003,null,"","",null,"","",null,"","",null,"","",null,"","",null,null,"","00:24:23"]
["Marc Allen","00:23:57","00:24:17","00:24:26","00:24:30","00:24:37","00:24:39","00:24:49",7,"Y",24.53,"Y","Y",24.64,null,"","",null,"","",null,"","",null,"","",null,null,"00:27:03","00:25:44","00:25:21","00:26:56","00:26:22","00:26:17","00:25:31",null,null,"00:24:49",null,"00:24:17",null,"00:23:57",null,"00:24:30","00:24:39","00:24:37","00:24:26"]
["Clive Hayter",{"$f":"IF(ISERROR(SMALL($AC17:$AU17,B$5))=TRUE,\"\",SMALL($AC17:$AU17,B$5))","v":"00:24:25"},"00:24:53","","","","","",2,"",24.35,null,"","",null,"","",null,"","",null,"","","Y","",24.35,null,null,"00:24:53","00:24:25"]
["Adriano dos Santos","00:24:10","00:24:27","00:24:34","00:24:43","00:24:47","00:24:54","00:25:17",7,"Y",24.3,null,"","",null,"","",null,"","",null,"","","Y","Y",24.46,null,null,null,null,null,null,"00:28:06","00:27:07",null,null,null,"00:24:54","00:24:47","00:25:17",null,null,null,"00:24:43","00:24:34","00:24:27","00:24:10"]
["Aaron Collins","00:24:14","00:24:16","00:24:23","00:24:57","00:25:19","00:25:58","",6,"",24.150000000000002,null,"","",null,"","",null,"","",null,"","",null,"","",null,null,"00:24:23","00:24:16",null,null,"00:25:19",null,null,null,null,null,null,"00:24:14","00:25:58",null,null,"00:24:57"]
["Nick Mawson","00:24:37","00:25:09","","","","","",2,"",24.12,null,"","",null,"","",null,"","",null,"","",null,"","",null,null,null,null,"00:25:09",null,null,null,null,null,null,null,null,null,"00:24:37"]
["Dave Gibson","00:24:36","00:24:43","00:24:47","00:24:49","00:24:50","00:24:57","00:26:10",7,"Y",24.020000000000003,"Y","Y",24.25,null,"","",null,"","",null,"","","Y","Y",24.25,null,null,"","00:26:10",null,null,null,null,null,null,null,null,null,"00:24:57",null,"00:24:49","00:24:36","00:24:43","00:24:47","00:24:50"]
["Ross Harvey","00:24:52","00:24:54","00:24:59","00:25:05","00:25:15","00:25:25","00:25:32",7,"Y",23.860000000000003,null,"","",null,"","",null,"","",null,"","",null,"","",null,null,"00:25:25","00:25:05","00:25:15",null,"00:24:54","00:25:32",null,null,null,null,null,null,null,null,null,null,"00:25:55","00:24:52","00:24:59"]
["Elliot Lassiter","00:24:53","00:25:27","","","","","",2,"",23.85,"Y","",23.85,null,"","",null,"","","Y","",23.85,"Y","",23.85,null,null,null,null,null,null,null,null,null,null,null,null,null,null,null,null,null,"00:25:27","00:24:53"]
["Steve Davies","00:25:05","00:25:11","00:25:14","00:25:15","00:25:16","00:25:19","00:25:26",7,"Y",23.770000000000003,null,"","",null,"","",null,"","",null,"","","Y","Y",23.810000000000002,null,null,null,null,null,null,null,"00:27:34","00:26:56",null,null,"00:25:48",null,"00:25:29","00:25:19","00:25:11","00:25:05","00:25:26","00:25:15","00:25:16","00:25:14"]
["Richard Cooper","00:24:16","00:26:19","","","","","",2,"",23.73,null,"","",null,"","",null,"","",null,"","",null,"","",null,null,null,null,"00:24:16",null,null,null,null,null,null,null,null,null,"00:26:19"]
["Rob Patterson","00:25:17","00:25:21","00:25:22","00:25:33","00:25:48","00:25:58","00:26:03",7,"Y",23.42,null,"","","Y","Y",23.490000000000002,null,"","",null,"","",null,"","",null,null,"","00:26:23","00:26:09",null,"00:26:45",null,"00:26:49",null,null,"00:26:07","00:25:58","00:25:17","00:25:21","00:25:22","00:25:48","00:25:33","00:26:03"]
["Jeff Smith",{"$f":"IF(ISERROR(SMALL($AC27:$AU27,B$5))=TRUE,\"\",SMALL($AC27:$AU27,B$5))","v":"00:25:41"},"00:25:50","00:25:57","00:25:58","","","",4,"",23.21,"Y","",23.21,"Y","",23.21,null,"","",null,"","","Y","",23.21,null,null,null,null,null,null,null,null,null,null,null,null,null,null,null,null,null,"00:25:57","00:25:50","00:25:41","00:25:58"]
["Keith Waller","00:25:31","00:25:42","00:25:45","00:25:46","00:25:58","00:26:36","",6,"",23.19,null,"","",null,"","",null,"","",null,"","",null,"","",null,null,null,null,"00:25:31",null,null,"00:26:36",null,null,null,null,null,"00:25:42",null,null,"00:25:45","00:25:46","00:25:58"]
["Matt Cooper","00:25:35","00:26:51","","","","","",2,"",22.89,null,"","",null,"","",null,"","",null,"","","Y","",22.89,null,null,"","00:25:35",null,null,null,"00:26:51"]
["Tom Longland","00:25:38","00:26:54","","","","","",2,"",22.85,null,"","",null,"","",null,"","",null,"","",null,"","",null,null,"00:26:54",null,null,null,null,null,null,null,null,null,null,null,"00:25:38"]
["Bernie Beale","00:26:26","00:26:27","","","","","",2,"",22.700000000000003,null,"","",null,"","",null,"","",null,"","",null,"","",null,null,null,null,"00:26:27",null,"00:26:26"]
["Lee Rayfield","00:26:37","00:27:01","","","","","",2,"",22.380000000000003,"Y","",22.380000000000003,"Y","",22.380000000000003,null,"","",null,"","",null,"","",null,null,null,null,null,null,null,null,null,null,null,null,null,null,"00:27:01",null,"00:26:37"]
["Andy Bent","00:26:58","00:26:59","","","","","",2,"",22.25,"Y","",22.25,null,"","",null,"","",null,"","","Y","",22.25,null,null,null,null,null,null,null,null,null,null,null,null,null,null,null,"00:26:59","00:26:58"]
["Mark Chick","00:26:25","00:27:53","","","","","",2,"",22.1,"Y","",22.1,null,"","",null,"","",null,"","","Y","",22.1,null,null,"00:27:53","00:26:25"]
["Paul Adams","00:27:12","","","","","","",1,"",22.060000000000002,"Y","",22.060000000000002,null,"","",null,"","",null,"","","Y","",22.060000000000002,null,null,null,null,null,null,null,null,null,null,null,null,null,null,null,null,null,"00:27:12"]
["Craig Scott","00:27:16","","","","","","",1,"",22.01,null,"","",null,"","",null,"","",null,"","","Y","",22.01,null,null,null,null,"00:27:16"]
["Michael Ponzo",{"$f":"IF(ISERROR(SMALL($AC37:$AU37,B$5))=TRUE,\"\",SMALL($AC37:$AU37,B$5))","v":"00:27:29"},"","","","","","",1,"",21.84,null,"","",null,"","",null,"","",null,"","",null,"","",null,null,"","00:27:29"]
["Dave Newton","00:27:09","00:27:56","","","","","",2,"",21.790000000000003,null,"","",null,"","",null,"","",null,"","",null,"","",null,null,"00:27:09",null,"00:27:56"]
["Daniel Watt","00:27:39","","","","","","",1,"",21.700000000000003,"Y","",21.700000000000003,null,"","",null,"","","Y","",21.700000000000003,"Y","",21.700000000000003,null,null,null,null,null,null,null,null,null,null,null,null,null,null,null,null,null,"00:27:39"]
["Daniel Darby","00:27:24","00:27:34","00:28:01","00:28:30","00:28:34","00:28:50","",6,"",21.32,"Y","Y",21.430000000000003,null,"","",null,"","",null,"","","Y","Y",21.430000000000003,null,null,null,null,null,null,null,null,null,null,null,null,null,null,null,"00:28:50","00:27:34","00:28:34","00:28:01","00:28:30","00:27:24"]
["Steve Harvey","00:27:52","00:28:09","00:28:14","00:28:18","00:28:33","","",5,"",21.270000000000003,null,"","","Y","",21.270000000000003,null,"","",null,"","",null,"","",null,null,"","00:28:09","00:27:52",null,null,null,null,null,null,null,"00:28:33",null,null,null,null,"00:28:18",null,"00:28:14"]
["Alex McIntosh","00:27:02","00:27:11","00:27:32","00:27:42","00:28:31","00:29:32","00:31:04",7,"Y",21.16,null,"","",null,"","",null,"","",null,"","","Y","Y",21.75,null,null,"00:31:04","00:29:32","00:27:42",null,"00:28:31",null,null,null,null,null,null,"00:27:32","00:27:02","00:27:11"]
["Nick Fiore","00:27:56","00:28:02","00:28:19","00:28:25","00:28:53","00:29:12","00:29:19",7,"Y",20.990000000000002,null,"","",null,"","",null,"","",null,"","","Y","Y",21.19,null,null,"00:29:19",null,null,"00:31:15","00:29:42","00:29:12","00:28:53",null,null,"00:28:25",null,"00:28:02","00:27:56",null,null,null,"00:28:19"]
["Kieran Golding","00:28:11","00:28:36","00:28:57","00:29:00","","","",4,"",20.92,null,"","",null,"","",null,"","",null,"","",null,"","",null,null,null,null,null,null,null,null,null,null,null,null,"00:29:00",null,"00:28:11",null,null,null,"00:28:36",null,"00:28:57"]
["Bernie McPhail","00:28:08","00:29:17","","","","","",2,"",20.900000000000002,null,"","","Y","",20.900000000000002,null,"","",null,"","",null,"","",null,null,null,null,null,null,null,null,null,null,null,null,null,null,"00:29:17","00:28:08"]
["Marc Roberts","00:27:51","00:27:53","00:28:07","00:28:34","00:29:20","00:29:36","00:29:43",7,"Y",20.89,null,"","",null,"","",null,"","",null,"","","Y","Y",21.17,null,null,"00:30:33","00:29:20",null,null,"00:31:20",null,null,null,null,null,null,"00:29:43","00:27:51","00:28:07","00:27:53","00:28:34","00:29:36"]
["Dave Roper",{"$f":"IF(ISERROR(SMALL($AC47:$AU47,B$5))=TRUE,\"\",SMALL($AC47:$AU47,B$5))","v":"00:29:00"},"","","","","","",1,"",20.69,"Y","",20.69,null,"","",null,"","",null,"","","Y","",20.69,null,null,null,null,null,null,null,null,null,null,null,null,null,null,null,null,null,null,null,"00:29:00"]
["Trevor Sherwood","00:28:46","00:29:19","","","","","",2,"",20.66,null,"","",null,"","",null,"","",null,"","","Y","",20.66,null,null,"00:29:19",null,null,null,"00:28:46"]
["Keith Williams","00:28:31","00:29:04","00:29:15","00:29:23","00:29:25","00:29:37","00:30:55",7,"Y",20.380000000000003,null,"","","Y","Y",20.55,null,"","",null,"","",null,"","",null,null,null,null,"00:29:37",null,null,"00:30:55",null,null,null,null,null,"00:29:04",null,null,null,"00:29:25","00:28:31","00:29:15","00:29:23"]
["Archie Scott","00:29:10","00:30:27","00:31:00","00:31:11","00:31:52","","",5,"",19.53,"Y","Y",19.53,null,"","",null,"","","Y","Y",19.53,"Y","Y",19.53,null,null,"","00:30:27",null,null,"00:31:11",null,null,null,null,"00:31:00",null,null,"00:29:10",null,null,"00:31:52"]
["Chris Fox","00:30:46","00:31:13","","","","","",2,"",19.37,null,"","",null,"","",null,"","",null,"","","Y","",19.37,null,null,null,null,null,null,null,null,null,null,null,null,null,null,"00:31:13","00:30:46"]
["Mandy Scott","00:32:36","00:34:56","00:35:38","00:36:18","00:37:36","","",5,"",16.950000000000003,"Y","Y",16.950000000000003,null,"","","Y","Y",16.950000000000003,null,"","","Y","Y",16.950000000000003,null,null,"","00:34:56",null,null,"00:37:36",null,null,null,null,"00:35:38",null,null,null,null,"00:32:36","00:36:18"]
["Amanda Dickson","00:34:05","00:34:12","00:35:48","00:35:53","00:38:06","","",5,"",16.850000000000001,"Y","Y",16.850000000000001,null,"","","Y","Y",16.850000000000001,null,"","","Y","Y",16.850000000000001,null,null,null,null,null,null,null,null,null,null,null,"00:35:53","00:38:06",null,"00:35:48",null,null,"00:34:12","00:34:05"]
["Katie Scott","00:33:53","00:36:47","00:37:11","00:37:13","00:37:48","","",5,"",16.41,"Y","Y",16.41,null,"","","Y","Y",16.41,"Y","Y",16.41,"Y","Y",16.41,null,null,"","00:33:53",null,null,"00:37:48",null,null,null,null,null,null,null,"00:37:11",null,"00:36:47","00:37:13"]

{"sheet":"Points 13","index":18,"n_rows":106,"n_cols":63,"rows_kept":106,"cut":false,"hidden":true,"merged":[[5,1,5,62]]}
[null,null,86400]
[null,null,"Start Points",60]
[null,null,"Max Points",75]
[null,null,"Min Points",45,null,null,null,null,null,null,null,null,null,null,null,null,{"$f":"75*7","v":525}]
[null,null,"Counting Rides",7]
[null,"Swindon RC Club 10 Points Competition 2013"]
[null,null,null,null,null,null,null,"2013-04-18",null,null,{"$f":"H7+7","v":"2013-04-25"},null,null,{"$f":"K7+7","v":"2013-05-02"},null,null,{"$f":"N7+7","v":"2013-05-09"},null,null,{"$f":"Q7+7","v":"2013-05-16"},null,null,{"$f":"T7+7","v":"2013-05-23"},null,null,{"$f":"W7+7","v":"2013-05-30"},null,null,{"$f":"Z7+21","v":"2013-06-20"},null,null,{"$f":"AC7+7","v":"2013-06-27"},null,null,{"$f":"AF7+7","v":"2013-07-04"},null,null,{"$f":"AI7+7","v":"2013-07-11"},null,null,{"$f":"AL7+7","v":"2013-07-18"},null,null,{"$f":"AO7+7","v":"2013-07-25"},null,null,{"$f":"AR7+7","v":"2013-08-01"},null,null,{"$f":"AU7+7","v":"2013-08-08"},null,null,{"$f":"AX7+7","v":"2013-08-15"},null,null,{"$f":"BA7+7","v":"2013-08-22"},null,null,{"$f":"BD7+7","v":"2013-08-29"},null,null,{"$f":"BG7+7","v":"2013-09-05"}]
[null,null,null,"Rides","Total Points (Best 7)","Season's Best","Time","Points","Best\nto date","Time","Points","Best\nto date","Time","Points","Best\nto date","Time","Points","Best\nto date","Time","Points","Best\nto date","Time","Points","Best\nto date","Time","Points","Best\nto date","Time","Points","Best\nto date","Time","Points","Best\nto date","Time","Points","Best\nto date","Time","Points","Best\nto date","Time","Points","Best\nto date","Time","Points","Best\nto date","Time","Points","Best\nto date","Time","Points","Best\nto date","Time","Points","Best\nto date","Time","Points","Best\nto date","Time","Points","Best\nto date","Time","Points","Best\nto date"]
[null,{"$f":"IF(C9=\"\",\"\",IF(E9=E8,\"=\",A9))","v":""},null,{"$f":"COUNT(G9,J9,M9,P9,S9,V9,Y9,AB9,AE9,AH9,AK9,AN9,AQ9,AT9,AW9,AZ9,BC9,BF9,BI9)","v":0},{"$f":"ROUNDDOWN(LARGE(G9:BJ9,1)+(IF($D$5>1,LARGE(G9:BJ9,2),0))+(IF($D$5>2,LARGE(G9:BJ9,3),0))+(IF($D$5>3,LARGE(G9:BJ9,4),0))+(IF($D$5>4,LARGE(G9:BJ9,5),0))+(IF($D$5>5,LARGE(G9:BJ9,6),0))+(IF($D$5>6,LARGE(G9:BJ9,7),0)),0)","v":0},{"$f":"IF(D9=0,999,MIN(G9,J9,M9,P9,S9,V9,Y9,AB9,AE9,AH9,AK9,AN9,AQ9,AT9,AW9,AZ9,BC9,BF9,BI9))","v":999},null,{"$f":"IF(G9=\"\",0,$D$2)","v":0},{"$f":"IF(G9=\"\",\"\",G9)","v":""},null,{"$f":"IF(J9=\"\",0,IF(I9=\"\",$D$2,IF((I9-J9)*$C$1+$D$2<$D$4,$D$4,IF((I9-J9)*$C$1+$D$2>$D$3,$D$3,IF((I9-J9)*$C$1+$D$2<$D$3,(I9-J9)*$C$1+$D$2,0)))))","v":0},{"$f":"IF(AND(I9=\"\",J9=\"\")=TRUE,\"\",MIN(I9,J9))","v":""},null,{"$f":"IF(M9=\"\",0,IF(L9=\"\",$D$2,IF((L9-M9)*$C$1+$D$2<$D$4,$D$4,IF((L9-M9)*$C$1+$D$2>$D$3,$D$3,IF((L9-M9)*$C$1+$D$2<$D$3,(L9-M9)*$C$1+$D$2,0)))))","v":0},{"$f":"IF(AND(L9=\"\",M9=\"\")=TRUE,\"\",MIN(L9,M9))","v":""},null,{"$f":"IF(P9=\"\",0,IF(O9=\"\",$D$2,IF((O9-P9)*$C$1+$D$2<$D$4,$D$4,IF((O9-P9)*$C$1+$D$2>$D$3,$D$3,IF((O9-P9)*$C$1+$D$2<$D$3,(O9-P9)*$C$1+$D$2,0)))))","v":0},{"$f":"IF(AND(O9=\"\",P9=\"\")=TRUE,\"\",MIN(O9,P9))","v":""},null,{"$f":"IF(S9=\"\",0,IF(R9=\"\",$D$2,IF((R9-S9)*$C$1+$D$2<$D$4,$D$4,IF((R9-S9)*$C$1+$D$2>$D$3,$D$3,IF((R9-S9)*$C$1+$D$2<$D$3,(R9-S9)*$C$1+$D$2,0)))))","v":0},{"$f":"IF(AND(R9=\"\",S9=\"\")=TRUE,\"\",MIN(R9,S9))","v":""},null,{"$f":"IF(V9=\"\",0,IF(U9=\"\",$D$2,IF((U9-V9)*$C$1+$D$2<$D$4,$D$4,IF((U9-V9)*$C$1+$D$2>$D$3,$D$3,IF((U9-V9)*$C$1+$D$2<$D$3,(U9-V9)*$C$1+$D$2,0)))))","v":0},{"$f":"IF(AND(U9=\"\",V9=\"\")=TRUE,\"\",MIN(U9,V9))","v":""},null,{"$f":"IF(Y9=\"\",0,IF(X9=\"\",$D$2,IF((X9-Y9)*$C$1+$D$2<$D$4,$D$4,IF((X9-Y9)*$C$1+$D$2>$D$3,$D$3,IF((X9-Y9)*$C$1+$D$2<$D$3,(X9-Y9)*$C$1+$D$2,0)))))","v":0},{"$f":"IF(AND(X9=\"\",Y9=\"\")=TRUE,\"\",MIN(X9,Y9))","v":""},null,{"$f":"IF(AB9=\"\",0,IF(AA9=\"\",$D$2,IF((AA9-AB9)*$C$1+$D$2<$D$4,$D$4,IF((AA9-AB9)*$C$1+$D$2>$D$3,$D$3,IF((AA9-AB9)*$C$1+$D$2<$D$3,(AA9-AB9)*$C$1+$D$2,0)))))","v":0},{"$f":"IF(AND(AA9=\"\",AB9=\"\")=TRUE,\"\",MIN(AA9,AB9))","v":""},null,{"$f":"IF(AE9=\"\",0,IF(AD9=\"\",$D$2,IF((AD9-AE9)*$C$1+$D$2<$D$4,$D$4,IF((AD9-AE9)*$C$1+$D$2>$D$3,$D$3,IF((AD9-AE9)*$C$1+$D$2<$D$3,(AD9-AE9)*$C$1+$D$2,0)))))","v":0},{"$f":"IF(AND(AD9=\"\",AE9=\"\")=TRUE,\"\",MIN(AD9,AE9))","v":""},null,{"$f":"IF(AH9=\"\",0,IF(AG9=\"\",$D$2,IF((AG9-AH9)*$C$1+$D$2<$D$4,$D$4,IF((AG9-AH9)*$C$1+$D$2>$D$3,$D$3,IF((AG9-AH9)*$C$1+$D$2<$D$3,(AG9-AH9)*$C$1+$D$2,0)))))","v":0},{"$f":"IF(AND(AG9=\"\",AH9=\"\")=TRUE,\"\",MIN(AG9,AH9))","v":""},null,{"$f":"IF(AK9=\"\",0,IF(AJ9=\"\",$D$2,IF((AJ9-AK9)*$C$1+$D$2<$D$4,$D$4,IF((AJ9-AK9)*$C$1+$D$2>$D$3,$D$3,IF((AJ9-AK9)*$C$1+$D$2<$D$3,(AJ9-AK9)*$C$1+$D$2,0)))))","v":0},{"$f":"IF(AND(AJ9=\"\",AK9=\"\")=TRUE,\"\",MIN(AJ9,AK9))","v":""},null,{"$f":"IF(AN9=\"\",0,IF(AM9=\"\",$D$2,IF((AM9-AN9)*$C$1+$D$2<$D$4,$D$4,IF((AM9-AN9)*$C$1+$D$2>$D$3,$D$3,IF((AM9-AN9)*$C$1+$D$2<$D$3,(AM9-AN9)*$C$1+$D$2,0)))))","v":0},{"$f":"IF(AND(AM9=\"\",AN9=\"\")=TRUE,\"\",MIN(AM9,AN9))","v":""},null,{"$f":"IF(AQ9=\"\",0,IF(AP9=\"\",$D$2,IF((AP9-AQ9)*$C$1+$D$2<$D$4,$D$4,IF((AP9-AQ9)*$C$1+$D$2>$D$3,$D$3,IF((AP9-AQ9)*$C$1+$D$2<$D$3,(AP9-AQ9)*$C$1+$D$2,0)))))","v":0},{"$f":"IF(AND(AP9=\"\",AQ9=\"\")=TRUE,\"\",MIN(AP9,AQ9))","v":""},null,{"$f":"IF(AT9=\"\",0,IF(AS9=\"\",$D$2,IF((AS9-AT9)*$C$1+$D$2<$D$4,$D$4,IF((AS9-AT9)*$C$1+$D$2>$D$3,$D$3,IF((AS9-AT9)*$C$1+$D$2<$D$3,(AS9-AT9)*$C$1+$D$2,0)))))","v":0},{"$f":"IF(AND(AS9=\"\",AT9=\"\")=TRUE,\"\",MIN(AS9,AT9))","v":""},null,{"$f":"IF(AW9=\"\",0,IF(AV9=\"\",$D$2,IF((AV9-AW9)*$C$1+$D$2<$D$4,$D$4,IF((AV9-AW9)*$C$1+$D$2>$D$3,$D$3,IF((AV9-AW9)*$C$1+$D$2<$D$3,(AV9-AW9)*$C$1+$D$2,0)))))","v":0},{"$f":"IF(AND(AV9=\"\",AW9=\"\")=TRUE,\"\",MIN(AV9,AW9))","v":""},null,{"$f":"IF(AZ9=\"\",0,IF(AY9=\"\",$D$2,IF((AY9-AZ9)*$C$1+$D$2<$D$4,$D$4,IF((AY9-AZ9)*$C$1+$D$2>$D$3,$D$3,IF((AY9-AZ9)*$C$1+$D$2<$D$3,(AY9-AZ9)*$C$1+$D$2,0)))))","v":0},{"$f":"IF(AND(AY9=\"\",AZ9=\"\")=TRUE,\"\",MIN(AY9,AZ9))","v":""},null,{"$f":"IF(BC9=\"\",0,IF(BB9=\"\",$D$2,IF((BB9-BC9)*$C$1+$D$2<$D$4,$D$4,IF((BB9-BC9)*$C$1+$D$2>$D$3,$D$3,IF((BB9-BC9)*$C$1+$D$2<$D$3,(BB9-BC9)*$C$1+$D$2,0)))))","v":0},{"$f":"IF(AND(BB9=\"\",BC9=\"\")=TRUE,\"\",MIN(BB9,BC9))","v":""},null,{"$f":"IF(BF9=\"\",0,IF(BE9=\"\",$D$2,IF((BE9-BF9)*$C$1+$D$2<$D$4,$D$4,IF((BE9-BF9)*$C$1+$D$2>$D$3,$D$3,IF((BE9-BF9)*$C$1+$D$2<$D$3,(BE9-BF9)*$C$1+$D$2,0)))))","v":0},{"$f":"IF(AND(BE9=\"\",BF9=\"\")=TRUE,\"\",MIN(BE9,BF9))","v":""},null,{"$f":"IF(BI9=\"\",0,IF(BH9=\"\",$D$2,IF((BH9-BI9)*$C$1+$D$2<$D$4,$D$4,IF((BH9-BI9)*$C$1+$D$2>$D$3,$D$3,IF((BH9-BI9)*$C$1+$D$2<$D$3,(BH9-BI9)*$C$1+$D$2,0)))))","v":0},{"$f":"IF(AND(BH9=\"\",BI9=\"\")=TRUE,\"\",MIN(BH9,BI9))","v":""}]
[1,{"$f":"IF(C10=\"\",\"\",IF(E10=E9,\"=\",A10))","v":1},"Adriano dos Santos",{"$f":"COUNT(G10,J10,M10,P10,S10,V10,Y10,AB10,AE10,AH10,AK10,AN10,AQ10,AT10,AW10,AZ10,BC10,BF10,BI10)","v":9},{"$f":"ROUNDDOWN(LARGE(G10:BJ10,1)+(IF($D$5>1,LARGE(G10:BJ10,2),0))+(IF($D$5>2,LARGE(G10:BJ10,3),0))+(IF($D$5>3,LARGE(G10:BJ10,4),0))+(IF($D$5>4,LARGE(G10:BJ10,5),0))+(IF($D$5>5,LARGE(G10:BJ10,6),0))+(IF($D$5>6,LARGE(G10:BJ10,7),0)),0)","v":492},{"$f":"IF(D10=0,999,MIN(G10,J10,M10,P10,S10,V10,Y10,AB10,AE10,AH10,AK10,AN10,AQ10,AT10,AW10,AZ10,BC10,BF10,BI10))","v":"00:24:10"},null,{"$f":"IF(G10=\"\",0,$D$2)","v":0},{"$f":"IF(G10=\"\",\"\",G10)","v":""},null,0,{"$f":"IF(AND(I10=\"\",J10=\"\")=TRUE,\"\",MIN(I10,J10))","v":""},null,{"$f":"IF(M10=\"\",0,IF(L10=\"\",$D$2,IF((L10-M10)*$C$1+$D$2<$D$4,$D$4,IF((L10-M10)*$C$1+$D$2>$D$3,$D$3,IF((L10-M10)*$C$1+$D$2<$D$3,(L10-M10)*$C$1+$D$2,0)))))","v":0},{"$f":"IF(AND(L10=\"\",M10=\"\")=TRUE,\"\",MIN(L10,M10))","v":""},null,{"$f":"IF(P10=\"\",0,IF(O10=\"\",$D$2,IF((O10-P10)*$C$1+$D$2<$D$4,$D$4,IF((O10-P10)*$C$1+$D$2>$D$3,$D$3,IF((O10-P10)*$C$1+$D$2<$D$3,(O10-P10)*$C$1+$D$2,0)))))","v":0},{"$f":"IF(AND(O10=\"\",P10=\"\")=TRUE,\"\",MIN(O10,P10))","v":""},"00:28:06",{"$f":"IF(S10=\"\",0,IF(R10=\"\",$D$2,IF((R10-S10)*$C$1+$D$2<$D$4,$D$4,IF((R10-S10)*$C$1+$D$2>$D$3,$D$3,IF((R10-S10)*$C$1+$D$2<$D$3,(R10-S10)*$C$1+$D$2,0)))))","v":60},{"$f":"IF(AND(R10=\"\",S10=\"\")=TRUE,\"\",MIN(R10,S10))","v":"00:28:06"},"00:27:07",{"$f":"IF(V10=\"\",0,IF(U10=\"\",$D$2,IF((U10-V10)*$C$1+$D$2<$D$4,$D$4,IF((U10-V10)*$C$1+$D$2>$D$3,$D$3,IF((U10-V10)*$C$1+$D$2<$D$3,(U10-V10)*$C$1+$D$2,0)))))","v":75},{"$f":"IF(AND(U10=\"\",V10=\"\")=TRUE,\"\",MIN(U10,V10))","v":"00:27:07"},null,{"$f":"IF(Y10=\"\",0,IF(X10=\"\",$D$2,IF((X10-Y10)*$C$1+$D$2<$D$4,$D$4,IF((X10-Y10)*$C$1+$D$2>$D$3,$D$3,IF((X10-Y10)*$C$1+$D$2<$D$3,(X10-Y10)*$C$1+$D$2,0)))))","v":0},{"$f":"IF(AND(X10=\"\",Y10=\"\")=TRUE,\"\",MIN(X10,Y10))","v":"00:27:07"},"00:24:54",{"$f":"IF(AB10=\"\",0,IF(AA10=\"\",$D$2,IF((AA10-AB10)*$C$1+$D$2<$D$4,$D$4,IF((AA10-AB10)*$C$1+$D$2>$D$3,$D$3,IF((AA10-AB10)*$C$1+$D$2<$D$3,(AA10-AB10)*$C$1+$D$2,0)))))","v":75},{"$f":"IF(AND(AA10=\"\",AB10=\"\")=TRUE,\"\",MIN(AA10,AB10))","v":"00:24:54"},"00:24:47",{"$f":"IF(AE10=\"\",0,IF(AD10=\"\",$D$2,IF((AD10-AE10)*$C$1+$D$2<$D$4,$D$4,IF((AD10-AE10)*$C$1+$D$2>$D$3,$D$3,IF((AD10-AE10)*$C$1+$D$2<$D$3,(AD10-AE10)*$C$1+$D$2,0)))))","v":67},{"$f":"IF(AND(AD10=\"\",AE10=\"\")=TRUE,\"\",MIN(AD10,AE10))","v":"00:24:47"},"00:25:17",{"$f":"IF(AH10=\"\",0,IF(AG10=\"\",$D$2,IF((AG10-AH10)*$C$1+$D$2<$D$4,$D$4,IF((AG10-AH10)*$C$1+$D$2>$D$3,$D$3,IF((AG10-AH10)*$C$1+$D$2<$D$3,(AG10-AH10)*$C$1+$D$2,0)))))","v":45},{"$f":"IF(AND(AG10=\"\",AH10=\"\")=TRUE,\"\",MIN(AG10,AH10))","v":"00:24:47"},null,{"$f":"IF(AK10=\"\",0,IF(AJ10=\"\",$D$2,IF((AJ10-AK10)*$C$1+$D$2<$D$4,$D$4,IF((AJ10-AK10)*$C$1+$D$2>$D$3,$D$3,IF((AJ10-AK10)*$C$1+$D$2<$D$3,(AJ10-AK10)*$C$1+$D$2,0)))))","v":0},{"$f":"IF(AND(AJ10=\"\",AK10=\"\")=TRUE,\"\",MIN(AJ10,AK10))","v":"00:24:47"},null,{"$f":"IF(AN10=\"\",0,IF(AM10=\"\",$D$2,IF((AM10-AN10)*$C$1+$D$2<$D$4,$D$4,IF((AM10-AN10)*$C$1+$D$2>$D$3,$D$3,IF((AM10-AN10)*$C$1+$D$2<$D$3,(AM10-AN10)*$C$1+$D$2,0)))))","v":0},{"$f":"IF(AND(AM10=\"\",AN10=\"\")=TRUE,\"\",MIN(AM10,AN10))","v":"00:24:47"},null,{"$f":"IF(AQ10=\"\",0,IF(AP10=\"\",$D$2,IF((AP10-AQ10)*$C$1+$D$2<$D$4,$D$4,IF((AP10-AQ10)*$C$1+$D$2>$D$3,$D$3,IF((AP10-AQ10)*$C$1+$D$2<$D$3,(AP10-AQ10)*$C$1+$D$2,0)))))","v":0},{"$f":"IF(AND(AP10=\"\",AQ10=\"\")=TRUE,\"\",MIN(AP10,AQ10))","v":"00:24:47"},"00:24:43",{"$f":"IF(AT10=\"\",0,IF(AS10=\"\",$D$2,IF((AS10-AT10)*$C$1+$D$2<$D$4,$D$4,IF((AS10-AT10)*$C$1+$D$2>$D$3,$D$3,IF((AS10-AT10)*$C$1+$D$2<$D$3,(AS10-AT10)*$C$1+$D$2,0)))))","v":64.000000000000128},{"$f":"IF(AND(AS10=\"\",AT10=\"\")=TRUE,\"\",MIN(AS10,AT10))","v":"00:24:43"},"00:24:34",{"$f":"IF(AW10=\"\",0,IF(AV10=\"\",$D$2,IF((AV10-AW10)*$C$1+$D$2<$D$4,$D$4,IF((AV10-AW10)*$C$1+$D$2>$D$3,$D$3,IF((AV10-AW10)*$C$1+$D$2<$D$3,(AV10-AW10)*$C$1+$D$2,0)))))","v":68.999999999999915},{"$f":"IF(AND(AV10=\"\",AW10=\"\")=TRUE,\"\",MIN(AV10,AW10))","v":"00:24:34"},"00:24:27",{"$f":"IF(AZ10=\"\",0,IF(AY10=\"\",$D$2,IF((AY10-AZ10)*$C$1+$D$2<$D$4,$D$4,IF((AY10-AZ10)*$C$1+$D$2>$D$3,$D$3,IF((AY10-AZ10)*$C$1+$D$2<$D$3,(AY10-AZ10)*$C$1+$D$2,0)))))","v":67},{"$f":"IF(AND(AY10=\"\",AZ10=\"\")=TRUE,\"\",MIN(AY10,AZ10))","v":"00:24:27"},"00:24:10",{"$f":"IF(BC10=\"\",0,IF(BB10=\"\",$D$2,IF((BB10-BC10)*$C$1+$D$2<$D$4,$D$4,IF((BB10-BC10)*$C$1+$D$2>$D$3,$D$3,IF((BB10-BC10)*$C$1+$D$2<$D$3,(BB10-BC10)*$C$1+$D$2,0)))))","v":75},{"$f":"IF(AND(BB10=\"\",BC10=\"\")=TRUE,\"\",MIN(BB10,BC10))","v":"00:24:10"},null,{"$f":"IF(BF10=\"\",0,IF(BE10=\"\",$D$2,IF((BE10-BF10)*$C$1+$D$2<$D$4,$D$4,IF((BE10-BF10)*$C$1+$D$2>$D$3,$D$3,IF((BE10-BF10)*$C$1+$D$2<$D$3,(BE10-BF10)*$C$1+$D$2,0)))))","v":0},{"$f":"IF(AND(BE10=\"\",BF10=\"\")=TRUE,\"\",MIN(BE10,BF10))","v":"00:24:10"},null,{"$f":"IF(BI10=\"\",0,IF(BH10=\"\",$D$2,IF((BH10-BI10)*$C$1+$D$2<$D$4,$D$4,IF((BH10-BI10)*$C$1+$D$2>$D$3,$D$3,IF((BH10-BI10)*$C$1+$D$2<$D$3,(BH10-BI10)*$C$1+$D$2,0)))))","v":0},{"$f":"IF(AND(BH10=\"\",BI10=\"\")=TRUE,\"\",MIN(BH10,BI10))","v":"00:24:10"}]
[2,2,"Steve Davies",11,489,"00:25:05",null,0,"",null,0,"",null,0,"",null,0,"",null,0,"","00:27:34",60,"00:27:34","00:26:56",75,"00:26:56","00:25:48",75,"00:25:48",null,0,"00:25:48","00:25:29",75,"00:25:29","00:25:19",69.999999999999858,"00:25:19","00:25:11",68.000000000000256,"00:25:11","00:25:05",66.000000000000043,"00:25:05","00:25:26",45,"00:25:05","00:25:15",49.999999999999837,"00:25:05","00:25:16",48.999999999999879,"00:25:05","00:25:14",50.999999999999794,"00:25:05",null,0,"00:25:05",null,0,"00:25:05"]
[3,3,"Marc Allen",14,485,"00:23:57","00:27:03",60,"00:27:03","00:25:44",75,"00:25:44","00:25:21",75,"00:25:21","00:26:56",45,"00:25:21","00:26:22",45,"00:25:21","00:26:17",45,"00:25:21","00:25:31",50.000000000000135,"00:25:21","00:24:49",75,"00:24:49",null,0,"00:24:49","00:24:17",75,"00:24:17",null,0,"00:24:17","00:23:57",75,"00:23:57",null,0,"00:23:57","00:24:30",45,"00:23:57","00:24:39",45,"00:23:57","00:24:37",45,"00:23:57","00:24:26",45,"00:23:57",null,0,"00:23:57",null,0,"00:23:57"]
[4,4,"Joe Schvartz",10,482,"00:22:34","00:24:01",60,"00:24:01",null,0,"00:24:01",null,0,"00:24:01",null,0,"00:24:01","00:23:46",74.999999999999943,"00:23:46","00:23:25",75,"00:23:25",null,0,"00:23:25","00:23:09",75,"00:23:09","00:23:08",60.999999999999957,"00:23:08","00:22:35",75,"00:22:35",null,0,"00:22:35","00:22:34",60.999999999999957,"00:22:34",null,0,"00:22:34","00:22:42",52.000000000000348,"00:22:34","00:22:37",57.000000000000128,"00:22:34","00:22:40",53.999999999999957,"00:22:34",null,0,"00:22:34",null,0,"00:22:34",null,0,"00:22:34"]
[5,5,"Chris Broad-Drake",12,475,"00:23:25","00:25:09",60,"00:25:09",null,0,"00:25:09","00:24:31",75,"00:24:31",null,0,"00:24:31",null,0,"00:24:31",null,0,"00:24:31","00:25:08",45,"00:24:31","00:24:18",72.99999999999973,"00:24:18",null,0,"00:24:18","00:24:04",74.000000000000284,"00:24:04","00:23:51",72.99999999999973,"00:23:51","00:23:25",75,"00:23:25","00:23:43",45,"00:23:25","00:23:52",45,"00:23:25","00:24:40",45,"00:23:25","00:23:56",45,"00:23:25","00:24:19",45,"00:23:25",null,0,"00:23:25",null,0,"00:23:25"]
[6,6,"Peter Garnett",12,472,"00:21:48","00:23:02",60,"00:23:02","00:22:41",{"$f":"IF(J15=\"\",0,IF(I15=\"\",$D$2,IF((I15-J15)*$C$1+$D$2=$D$4,$D$4,IF((I15-J15)*$C$1+$D$2>$D$3,$D$3,IF((I15-J15)*$C$1+$D$2<$D$3,(I15-J15)*$C$1+$D$2,0)))))","v":75},"00:22:41","00:22:14",75,"00:22:14",null,0,"00:22:14",null,0,"00:22:14","00:22:48",45,"00:22:14","00:22:03",71.000000000000114,"00:22:03","00:22:04",59.000000000000043,"00:22:03",null,0,"00:22:03","00:22:06",56.999999999999979,"00:22:03","00:22:13",49.999999999999986,"00:22:03","00:21:48",74.999999999999943,"00:21:48","00:21:53",55.000000000000071,"00:21:48","00:21:51",56.999999999999979,"00:21:48","00:22:08",45,"00:21:48",null,0,"00:21:48",null,0,"00:21:48",null,0,"00:21:48",null,0,"00:21:48"]
[7,7,"Nick Fiore",9,463,"00:27:56","00:29:19",60,"00:29:19",null,{"$f":"IF(J16=\"\",0,IF(I16=\"\",$D$2,IF((I16-J16)*$C$1+$D$2<$D$4,$D$4,IF((I16-J16)*$C$1+$D$2>$D$3,$D$3,IF((I16-J16)*$C$1+$D$2<$D$3,(I16-J16)*$C$1+$D$2,0)))))","v":0},"00:29:19",null,0,"00:29:19","00:31:15",45,"00:29:19","00:29:42",45,"00:29:19","00:29:12",67,"00:29:12","00:28:53",75,"00:28:53","00:28:25",75,"00:28:25",null,0,"00:28:25","00:28:02",75,"00:28:02","00:27:56",66.000000000000341,"00:27:56",null,0,"00:27:56",null,0,"00:27:56",null,0,"00:27:56","00:28:19",45,"00:27:56",null,0,"00:27:56",null,0,"00:27:56",null,0,"00:27:56",null,0,"00:27:56"]
[8,8,"Rob Patterson",12,451,"00:25:17",null,0,"","00:26:23",60,"00:26:23","00:26:09",74.000000000000284,"00:26:09",null,0,"00:26:09","00:26:45",45,"00:26:09",null,0,"00:26:09","00:26:49",45,"00:26:09","00:26:07",61.999999999999915,"00:26:07","00:25:58",68.999999999999915,"00:25:58","00:25:17",75,"00:25:17","00:25:21",56.000000000000171,"00:25:17","00:25:22",55.00000000000022,"00:25:17","00:25:48",45,"00:25:17","00:25:33",45,"00:25:17","00:26:03",45,"00:25:17",null,0,"00:25:17",null,0,"00:25:17",null,0,"00:25:17",null,0,"00:25:17"]
[9,"=","Alex McIntosh",7,451,"00:27:02","00:31:04",60,"00:31:04","00:29:32",75,"00:29:32","00:27:42",75,"00:27:42",null,0,"00:27:42","00:28:31",45,"00:27:42",null,0,"00:27:42",null,0,"00:27:42",null,0,"00:27:42",null,0,"00:27:42","00:27:32",69.999999999999858,"00:27:32","00:27:02",75,"00:27:02","00:27:11",51.000000000000092,"00:27:02",null,0,"00:27:02",null,0,"00:27:02",null,0,"00:27:02",null,0,"00:27:02",null,0,"00:27:02",null,0,"00:27:02",null,0,"00:27:02"]
[10,10,"Pete Jeans",10,443,"00:23:39",null,0,"",null,0,"","00:24:26",60,"00:24:26",null,0,"00:24:26",null,0,"00:24:26","00:24:25",60.999999999999957,"00:24:25","00:24:57",45,"00:24:25","00:24:28",57.000000000000128,"00:24:25",null,0,"00:24:25","00:23:59",75,"00:23:59","00:24:00",59.000000000000043,"00:23:59","00:23:39",75,"00:23:39","00:23:43",56.000000000000171,"00:23:39",null,0,"00:23:39","00:24:16",45,"00:23:39","00:23:52",46.999999999999964,"00:23:39",null,0,"00:23:39",null,0,"00:23:39",null,0,"00:23:39"]
[11,11,"Dave Gibson",7,424,"00:24:36",null,0,"","00:26:10",60,"00:26:10",null,0,"00:26:10",null,0,"00:26:10",null,0,"00:26:10",null,0,"00:26:10",null,0,"00:26:10",null,0,"00:26:10",null,0,"00:26:10","00:24:57",75,"00:24:57",null,0,"00:24:57","00:24:49",67.999999999999957,"00:24:49","00:24:36",72.99999999999973,"00:24:36","00:24:43",53.000000000000306,"00:24:36","00:24:47",49.000000000000178,"00:24:36","00:24:50",46.000000000000313,"00:24:36",null,0,"00:24:36",null,0,"00:24:36",null,0,"00:24:36"]
[12,12,"Rob Merrison",6,418,"00:23:07",null,0,"",null,0,"",null,0,"",null,0,"",null,0,"",null,0,"",null,0,"",null,0,"","00:25:37",60,"00:25:37",null,0,"00:25:37",null,0,"00:25:37",null,0,"00:25:37","00:24:21",75,"00:24:21","00:24:05",75,"00:24:05","00:23:25",75,"00:23:25","00:23:07",75,"00:23:07","00:23:09",58.000000000000085,"00:23:07",null,0,"00:23:07",null,0,"00:23:07"]
[13,13,"Ross Harvey",8,416,"00:24:52","00:25:25",60,"00:25:25","00:25:05",75,"00:25:05","00:25:15",49.999999999999837,"00:25:05",null,0,"00:25:05","00:24:54",70.999999999999815,"00:24:54","00:25:32",45,"00:24:54",null,0,"00:24:54",null,0,"00:24:54",null,0,"00:24:54",null,0,"00:24:54",null,0,"00:24:54",null,0,"00:24:54",null,0,"00:24:54",null,0,"00:24:54","00:25:55",45,"00:24:54","00:24:52",61.999999999999915,"00:24:52","00:24:59",53.000000000000007,"00:24:52",null,0,"00:24:52",null,0,"00:24:52"]
[14,14,"Marc Roberts",9,403,"00:27:51","00:30:33",60,"00:30:33","00:29:20",75,"00:29:20",null,0,"00:29:20",null,0,"00:29:20","00:31:20",45,"00:29:20",null,0,"00:29:20",null,0,"00:29:20",null,0,"00:29:20",null,0,"00:29:20","00:29:43",45,"00:29:20","00:27:51",75,"00:27:51","00:28:07",45,"00:27:51","00:27:53",58.000000000000085,"00:27:51","00:28:34",45,"00:27:51","00:29:36",45,"00:27:51",null,0,"00:27:51",null,0,"00:27:51",null,0,"00:27:51",null,0,"00:27:51"]
[15,15,"Keith Williams",7,390,"00:28:31",null,0,"",null,0,"","00:29:37",60,"00:29:37",null,0,"00:29:37",null,0,"00:29:37","00:30:55",45,"00:29:37",null,0,"00:29:37",null,0,"00:29:37",null,0,"00:29:37","00:29:04",75,"00:29:04",null,0,"00:29:04",null,0,"00:29:04",null,0,"00:29:04","00:29:25",45,"00:29:04","00:28:31",75,"00:28:31","00:29:15",45,"00:28:31","00:29:23",45,"00:28:31",null,0,"00:28:31",null,0,"00:28:31"]
[16,16,"Paul O'Driscoll",8,358,"00:23:20",null,0,"","00:23:32",60,"00:23:32","00:23:20",72.000000000000085,"00:23:20",null,0,"00:23:20","00:23:59",45,"00:23:20","00:24:07",45,"00:23:20","00:23:34",46.000000000000014,"00:23:20",null,0,"00:23:20",null,0,"00:23:20",null,0,"00:23:20","00:23:46",45,"00:23:20",null,0,"00:23:20",null,0,"00:23:20",null,0,"00:23:20","00:23:57",45,"00:23:20","00:23:49",45,"00:23:20",null,0,"00:23:20",null,0,"00:23:20",null,0,"00:23:20"]
[17,17,"Daniel Darby",6,340,"00:27:24",null,0,"",null,0,"",null,0,"",null,0,"",null,0,"",null,0,"",null,0,"",null,0,"",null,0,"",null,0,"",null,0,"","00:28:50",60,"00:28:50","00:27:34",75,"00:27:34","00:28:34",45,"00:27:34","00:28:01",45,"00:27:34","00:28:30",45,"00:27:34","00:27:24",69.999999999999858,"00:27:24",null,0,"00:27:24",null,0,"00:27:24"]
[18,18,"Aaron Collins",6,324,"00:24:14","00:24:23",60,"00:24:23","00:24:16",67,"00:24:16",null,0,"00:24:16",null,0,"00:24:16","00:25:19",45,"00:24:16",null,0,"00:24:16",null,0,"00:24:16",null,0,"00:24:16",null,0,"00:24:16","00:24:14",61.999999999999915,"00:24:14","00:25:58",45,"00:24:14",null,0,"00:24:14",null,0,"00:24:14","00:24:57",45,"00:24:14",null,0,"00:24:14",null,0,"00:24:14",null,0,"00:24:14",null,0,"00:24:14",null,0,"00:24:14"]
[19,19,"Amanda Dickson",5,312,"00:34:05",null,0,"",null,0,"",null,0,"",null,0,"",null,0,"",null,0,"",null,0,"","00:35:53",60,"00:35:53","00:38:06",45,"00:35:53",null,0,"00:35:53","00:35:48",65.000000000000384,"00:35:48",null,0,"00:35:48",null,0,"00:35:48","00:34:12",75,"00:34:12","00:34:05",67,"00:34:05",null,0,"00:34:05",null,0,"00:34:05",null,0,"00:34:05",null,0,"00:34:05"]
[20,20,"Keith Waller",6,290,"00:25:31",null,0,"",null,0,"","00:25:31",60,"00:25:31",null,0,"00:25:31",null,0,"00:25:31","00:26:36",45,"00:25:31",null,0,"00:25:31",null,0,"00:25:31",null,0,"00:25:31","00:25:42",48.999999999999879,"00:25:31",null,0,"00:25:31",null,0,"00:25:31","00:25:45",46.000000000000014,"00:25:31","00:25:46",45.000000000000057,"00:25:31","00:25:58",45,"00:25:31",null,0,"00:25:31",null,0,"00:25:31",null,0,"00:25:31",null,0,"00:25:31"]
[21,21,"Archie Scott",5,270,"00:29:10",null,0,"","00:30:27",60,"00:30:27",null,0,"00:30:27",null,0,"00:30:27","00:31:11",45,"00:30:27",null,0,"00:30:27",null,0,"00:30:27","00:31:00",45,"00:30:27",null,0,"00:30:27",null,0,"00:30:27","00:29:10",75,"00:29:10",null,0,"00:29:10",null,0,"00:29:10","00:31:52",45,"00:29:10",null,0,"00:29:10",null,0,"00:29:10",null,0,"00:29:10",null,0,"00:29:10",null,0,"00:29:10"]
[22,"=","Mandy Scott",5,270,"00:32:36",null,0,"","00:34:56",60,"00:34:56",null,0,"00:34:56",null,0,"00:34:56","00:37:36",45,"00:34:56",null,0,"00:34:56",null,0,"00:34:56","00:35:38",45,"00:34:56",null,0,"00:34:56",null,0,"00:34:56",null,0,"00:34:56",null,0,"00:34:56","00:32:36",75,"00:32:36","00:36:18",45,"00:32:36",null,0,"00:32:36",null,0,"00:32:36",null,0,"00:32:36",null,0,"00:32:36",null,0,"00:32:36"]
[23,"=","Steve Harvey",5,270,"00:27:52",null,0,"","00:28:09",60,"00:28:09","00:27:52",75,"00:27:52",null,0,"00:27:52",null,0,"00:27:52",null,0,"00:27:52",null,0,"00:27:52",null,0,"00:27:52","00:28:33",45,"00:27:52",null,0,"00:27:52",null,0,"00:27:52",null,0,"00:27:52",null,0,"00:27:52","00:28:18",45,"00:27:52",null,0,"00:27:52","00:28:14",45,"00:27:52",null,0,"00:27:52",null,0,"00:27:52",null,0,"00:27:52"]
[24,24,"Jeff Smith",4,241,"00:25:41",null,0,"",null,0,"",null,0,"",null,0,"",null,0,"",null,0,"",null,0,"",null,0,"",null,0,"",null,0,"",null,0,"",null,0,"",null,0,"","00:25:57",60,"00:25:57","00:25:50",67,"00:25:50","00:25:41",68.999999999999915,"00:25:41","00:25:58",45,"00:25:41",null,0,"00:25:41",null,0,"00:25:41"]
[25,25,"Katie Scott",5,240,"00:33:53",null,0,"","00:33:53",60,"00:33:53",null,0,"00:33:53",null,0,"00:33:53","00:37:48",45,"00:33:53",null,0,"00:33:53",null,0,"00:33:53",null,0,"00:33:53",null,0,"00:33:53",null,0,"00:33:53","00:37:11",45,"00:33:53",null,0,"00:33:53","00:36:47",45,"00:33:53","00:37:13",45,"00:33:53",null,0,"00:33:53",null,0,"00:33:53",null,0,"00:33:53",null,0,"00:33:53",null,0,"00:33:53"]
[26,26,"Kieran Golding",4,225,"00:28:11",null,0,"",null,0,"",null,0,"",null,0,"",null,0,"",null,0,"",null,0,"",null,0,"","00:29:00",60,"00:29:00",null,0,"00:29:00","00:28:11",75,"00:28:11",null,0,"00:28:11",null,0,"00:28:11",null,0,"00:28:11","00:28:36",45,"00:28:11",null,0,"00:28:11","00:28:57",45,"00:28:11",null,0,"00:28:11",null,0,"00:28:11"]
[27,27,"Niel Dunnage",3,180,"00:21:53",null,0,"",null,0,"",null,0,"",null,0,"",null,0,"",null,0,"",null,0,"","00:22:14",60,"00:22:14","00:22:49",45,"00:22:14",null,0,"00:22:14",null,0,"00:22:14",null,0,"00:22:14","00:21:53",75,"00:21:53",null,0,"00:21:53",null,0,"00:21:53",null,0,"00:21:53",null,0,"00:21:53",null,0,"00:21:53",null,0,"00:21:53"]
[28,28,"Clive Hayter",2,135,"00:24:25","00:24:53",60,"00:24:53","00:24:25",75,"00:24:25",null,0,"00:24:25",null,0,"00:24:25",null,0,"00:24:25",null,0,"00:24:25",null,0,"00:24:25",null,0,"00:24:25",null,0,"00:24:25",null,0,"00:24:25",null,0,"00:24:25",null,0,"00:24:25",null,0,"00:24:25",null,0,"00:24:25",null,0,"00:24:25",null,0,"00:24:25",null,0,"00:24:25",null,0,"00:24:25",null,0,"00:24:25"]
[29,"=","Mark Chick",2,135,"00:26:25","00:27:53",60,"00:27:53","00:26:25",75,"00:26:25",null,0,"00:26:25",null,0,"00:26:25",null,0,"00:26:25",null,0,"00:26:25",null,0,"00:26:25",null,0,"00:26:25",null,0,"00:26:25",null,0,"00:26:25",null,0,"00:26:25",null,0,"00:26:25",null,0,"00:26:25",null,0,"00:26:25",null,0,"00:26:25",null,0,"00:26:25",null,0,"00:26:25",null,0,"00:26:25",null,0,"00:26:25"]
[30,"=","Trevor Sherwood",2,135,"00:28:46","00:29:19",60,"00:29:19",null,0,"00:29:19",null,0,"00:29:19",null,0,"00:29:19","00:28:46",75,"00:28:46",null,0,"00:28:46",null,0,"00:28:46",null,0,"00:28:46",null,0,"00:28:46",null,0,"00:28:46",null,0,"00:28:46",null,0,"00:28:46",null,0,"00:28:46",null,0,"00:28:46",null,0,"00:28:46",null,0,"00:28:46",null,0,"00:28:46",null,0,"00:28:46",null,0,"00:28:46"]
[31,"=","Nick Mawson",2,135,"00:24:37",null,0,"",null,0,"","00:25:09",60,"00:25:09",null,0,"00:25:09",null,0,"00:25:09",null,0,"00:25:09",null,0,"00:25:09",null,0,"00:25:09",null,0,"00:25:09",null,0,"00:25:09","00:24:37",75,"00:24:37",null,0,"00:24:37",null,0,"00:24:37",null,0,"00:24:37",null,0,"00:24:37",null,0,"00:24:37",null,0,"00:24:37",null,0,"00:24:37",null,0,"00:24:37"]
[32,"=","Tom Longland",2,135,"00:25:38","00:26:54",60,"00:26:54",null,0,"00:26:54",null,0,"00:26:54",null,0,"00:26:54",null,0,"00:26:54",null,0,"00:26:54",null,0,"00:26:54",null,0,"00:26:54",null,0,"00:26:54",null,0,"00:26:54","00:25:38",75,"00:25:38",null,0,"00:25:38",null,0,"00:25:38",null,0,"00:25:38",null,0,"00:25:38",null,0,"00:25:38",null,0,"00:25:38",null,0,"00:25:38",null,0,"00:25:38"]
[33,{"$f":"IF(C42=\"\",\"\",IF(E42=E41,\"=\",A42))","v":"="},"Chris Fox",{"$f":"COUNT(G42,J42,M42,P42,S42,V42,Y42,AB42,AE42,AH42,AK42,AN42,AQ42,AT42,AW42,AZ42,BC42,BF42,BI42)","v":2},{"$f":"ROUNDDOWN(LARGE(G42:BJ42,1)+(IF($D$5>1,LARGE(G42:BJ42,2),0))+(IF($D$5>2,LARGE(G42:BJ42,3),0))+(IF($D$5>3,LARGE(G42:BJ42,4),0))+(IF($D$5>4,LARGE(G42:BJ42,5),0))+(IF($D$5>5,LARGE(G42:BJ42,6),0))+(IF($D$5>6,LARGE(G42:BJ42,7),0)),0)","v":135},{"$f":"IF(D42=0,999,MIN(G42,J42,M42,P42,S42,V42,Y42,AB42,AE42,AH42,AK42,AN42,AQ42,AT42,AW42,AZ42,BC42,BF42,BI42))","v":"00:30:46"},null,{"$f":"IF(G42=\"\",0,$D$2)","v":0},{"$f":"IF(G42=\"\",\"\",G42)","v":""},null,0,{"$f":"IF(AND(I42=\"\",J42=\"\")=TRUE,\"\",MIN(I42,J42))","v":""},null,{"$f":"IF(M42=\"\",0,IF(L42=\"\",$D$2,IF((L42-M42)*$C$1+$D$2<$D$4,$D$4,IF((L42-M42)*$C$1+$D$2>$D$3,$D$3,IF((L42-M42)*$C$1+$D$2<$D$3,(L42-M42)*$C$1+$D$2,0)))))","v":0},{"$f":"IF(AND(L42=\"\",M42=\"\")=TRUE,\"\",MIN(L42,M42))","v":""},null,{"$f":"IF(P42=\"\",0,IF(O42=\"\",$D$2,IF((O42-P42)*$C$1+$D$2<$D$4,$D$4,IF((O42-P42)*$C$1+$D$2>$D$3,$D$3,IF((O42-P42)*$C$1+$D$2<$D$3,(O42-P42)*$C$1+$D$2,0)))))","v":0},{"$f":"IF(AND(O42=\"\",P42=\"\")=TRUE,\"\",MIN(O42,P42))","v":""},null,{"$f":"IF(S42=\"\",0,IF(R42=\"\",$D$2,IF((R42-S42)*$C$1+$D$2<$D$4,$D$4,IF((R42-S42)*$C$1+$D$2>$D$3,$D$3,IF((R42-S42)*$C$1+$D$2<$D$3,(R42-S42)*$C$1+$D$2,0)))))","v":0},{"$f":"IF(AND(R42=\"\",S42=\"\")=TRUE,\"\",MIN(R42,S42))","v":""},null,{"$f":"IF(V42=\"\",0,IF(U42=\"\",$D$2,IF((U42-V42)*$C$1+$D$2<$D$4,$D$4,IF((U42-V42)*$C$1+$D$2>$D$3,$D$3,IF((U42-V42)*$C$1+$D$2<$D$3,(U42-V42)*$C$1+$D$2,0)))))","v":0},{"$f":"IF(AND(U42=\"\",V42=\"\")=TRUE,\"\",MIN(U42,V42))","v":""},null,{"$f":"IF(Y42=\"\",0,IF(X42=\"\",$D$2,IF((X42-Y42)*$C$1+$D$2<$D$4,$D$4,IF((X42-Y42)*$C$1+$D$2>$D$3,$D$3,IF((X42-Y42)*$C$1+$D$2<$D$3,(X42-Y42)*$C$1+$D$2,0)))))","v":0},{"$f":"IF(AND(X42=\"\",Y42=\"\")=TRUE,\"\",MIN(X42,Y42))","v":""},null,{"$f":"IF(AB42=\"\",0,IF(AA42=\"\",$D$2,IF((AA42-AB42)*$C$1+$D$2<$D$4,$D$4,IF((AA42-AB42)*$C$1+$D$2>$D$3,$D$3,IF((AA42-AB42)*$C$1+$D$2<$D$3,(AA42-AB42)*$C$1+$D$2,0)))))","v":0},{"$f":"IF(AND(AA42=\"\",AB42=\"\")=TRUE,\"\",MIN(AA42,AB42))","v":""},null,{"$f":"IF(AE42=\"\",0,IF(AD42=\"\",$D$2,IF((AD42-AE42)*$C$1+$D$2<$D$4,$D$4,IF((AD42-AE42)*$C$1+$D$2>$D$3,$D$3,IF((AD42-AE42)*$C$1+$D$2<$D$3,(AD42-AE42)*$C$1+$D$2,0)))))","v":0},{"$f":"IF(AND(AD42=\"\",AE42=\"\")=TRUE,\"\",MIN(AD42,AE42))","v":""},null,{"$f":"IF(AH42=\"\",0,IF(AG42=\"\",$D$2,IF((AG42-AH42)*$C$1+$D$2<$D$4,$D$4,IF((AG42-AH42)*$C$1+$D$2>$D$3,$D$3,IF((AG42-AH42)*$C$1+$D$2<$D$3,(AG42-AH42)*$C$1+$D$2,0)))))","v":0},{"$f":"IF(AND(AG42=\"\",AH42=\"\")=TRUE,\"\",MIN(AG42,AH42))","v":""},"00:31:13",{"$f":"IF(AK42=\"\",0,IF(AJ42=\"\",$D$2,IF((AJ42-AK42)*$C$1+$D$2<$D$4,$D$4,IF((AJ42-AK42)*$C$1+$D$2>$D$3,$D$3,IF((AJ42-AK42)*$C$1+$D$2<$D$3,(AJ42-AK42)*$C$1+$D$2,0)))))","v":60},{"$f":"IF(AND(AJ42=\"\",AK42=\"\")=TRUE,\"\",MIN(AJ42,AK42))","v":"00:31:13"},"00:30:46",{"$f":"IF(AN42=\"\",0,IF(AM42=\"\",$D$2,IF((AM42-AN42)*$C$1+$D$2<$D$4,$D$4,IF((AM42-AN42)*$C$1+$D$2>$D$3,$D$3,IF((AM42-AN42)*$C$1+$D$2<$D$3,(AM42-AN42)*$C$1+$D$2,0)))))","v":75},{"$f":"IF(AND(AM42=\"\",AN42=\"\")=TRUE,\"\",MIN(AM42,AN42))","v":"00:30:46"},null,{"$f":"IF(AQ42=\"\",0,IF(AP42=\"\",$D$2,IF((AP42-AQ42)*$C$1+$D$2<$D$4,$D$4,IF((AP42-AQ42)*$C$1+$D$2>$D$3,$D$3,IF((AP42-AQ42)*$C$1+$D$2<$D$3,(AP42-AQ42)*$C$1+$D$2,0)))))","v":0},{"$f":"IF(AND(AP42=\"\",AQ42=\"\")=TRUE,\"\",MIN(AP42,AQ42))","v":"00:30:46"},null,{"$f":"IF(AT42=\"\",0,IF(AS42=\"\",$D$2,IF((AS42-AT42)*$C$1+$D$2<$D$4,$D$4,IF((AS42-AT42)*$C$1+$D$2>$D$3,$D$3,IF((AS42-AT42)*$C$1+$D$2<$D$3,(AS42-AT42)*$C$1+$D$2,0)))))","v":0},{"$f":"IF(AND(AS42=\"\",AT42=\"\")=TRUE,\"\",MIN(AS42,AT42))","v":"00:30:46"},null,{"$f":"IF(AW42=\"\",0,IF(AV42=\"\",$D$2,IF((AV42-AW42)*$C$1+$D$2<$D$4,$D$4,IF((AV42-AW42)*$C$1+$D$2>$D$3,$D$3,IF((AV42-AW42)*$C$1+$D$2<$D$3,(AV42-AW42)*$C$1+$D$2,0)))))","v":0},{"$f":"IF(AND(AV42=\"\",AW42=\"\")=TRUE,\"\",MIN(AV42,AW42))","v":"00:30:46"},null,{"$f":"IF(AZ42=\"\",0,IF(AY42=\"\",$D$2,IF((AY42-AZ42)*$C$1+$D$2<$D$4,$D$4,IF((AY42-AZ42)*$C$1+$D$2>$D$3,$D$3,IF((AY42-AZ42)*$C$1+$D$2<$D$3,(AY42-AZ42)*$C$1+$D$2,0)))))","v":0},{"$f":"IF(AND(AY42=\"\",AZ42=\"\")=TRUE,\"\",MIN(AY42,AZ42))","v":"00:30:46"},null,{"$f":"IF(BC42=\"\",0,IF(BB42=\"\",$D$2,IF((BB42-BC42)*$C$1+$D$2<$D$4,$D$4,IF((BB42-BC42)*$C$1+$D$2>$D$3,$D$3,IF((BB42-BC42)*$C$1+$D$2<$D$3,(BB42-BC42)*$C$1+$D$2,0)))))","v":0},{"$f":"IF(AND(BB42=\"\",BC42=\"\")=TRUE,\"\",MIN(BB42,BC42))","v":"00:30:46"},null,{"$f":"IF(BF42=\"\",0,IF(BE42=\"\",$D$2,IF((BE42-BF42)*$C$1+$D$2<$D$4,$D$4,IF((BE42-BF42)*$C$1+$D$2>$D$3,$D$3,IF((BE42-BF42)*$C$1+$D$2<$D$3,(BE42-BF42)*$C$1+$D$2,0)))))","v":0},{"$f":"IF(AND(BE42=\"\",BF42=\"\")=TRUE,\"\",MIN(BE42,BF42))","v":"00:30:46"},null,{"$f":"IF(BI42=\"\",0,IF(BH42=\"\",$D$2,IF((BH42-BI42)*$C$1+$D$2<$D$4,$D$4,IF((BH42-BI42)*$C$1+$D$2>$D$3,$D$3,IF((BH42-BI42)*$C$1+$D$2<$D$3,(BH42-BI42)*$C$1+$D$2,0)))))","v":0},{"$f":"IF(AND(BH42=\"\",BI42=\"\")=TRUE,\"\",MIN(BH42,BI42))","v":"00:30:46"}]
[34,"=","Bernie McPhail",2,135,"00:28:08",null,0,"",null,0,"",null,0,"",null,0,"",null,0,"",null,0,"",null,0,"",null,0,"",null,0,"",null,0,"","00:29:17",60,"00:29:17","00:28:08",75,"00:28:08",null,0,"00:28:08",null,0,"00:28:08",null,0,"00:28:08",null,0,"00:28:08",null,0,"00:28:08",null,0,"00:28:08",null,0,"00:28:08"]
[35,"=","Lee Rayfield",2,135,"00:26:37",null,0,"",null,0,"",null,0,"",null,0,"",null,0,"",null,0,"",null,0,"",null,0,"",null,0,"",null,0,"","00:27:01",60,"00:27:01",null,0,"00:27:01","00:26:37",75,"00:26:37",null,0,"00:26:37",null,0,"00:26:37",null,0,"00:26:37",null,0,"00:26:37",null,0,"00:26:37",null,0,"00:26:37"]
[36,"=","Elliot Lassiter",2,135,"00:24:53",null,0,"",null,0,"",null,0,"",null,0,"",null,0,"",null,0,"",null,0,"",null,0,"",null,0,"",null,0,"",null,0,"",null,0,"",null,0,"","00:25:27",60,"00:25:27","00:24:53",75,"00:24:53",null,0,"00:24:53",null,0,"00:24:53",null,0,"00:24:53",null,0,"00:24:53"]
[37,37,"Bernie Beale",2,121,"00:26:26",null,0,"",null,0,"","00:26:27",60,"00:26:27",null,0,"00:26:27","00:26:26",60.999999999999957,"00:26:26",null,0,"00:26:26",null,0,"00:26:26",null,0,"00:26:26",null,0,"00:26:26",null,0,"00:26:26",null,0,"00:26:26",null,0,"00:26:26",null,0,"00:26:26",null,0,"00:26:26",null,0,"00:26:26",null,0,"00:26:26",null,0,"00:26:26",null,0,"00:26:26",null,0,"00:26:26"]
[38,"=","Andy Bent",2,121,"00:26:58",null,0,"",null,0,"",null,0,"",null,0,"",null,0,"",null,0,"",null,0,"",null,0,"",null,0,"",null,0,"",null,0,"","00:26:59",60,"00:26:59","00:26:58",60.999999999999957,"00:26:58",null,0,"00:26:58",null,0,"00:26:58",null,0,"00:26:58",null,0,"00:26:58",null,0,"00:26:58",null,0,"00:26:58"]
[39,39,"Matt Cooper",2,105,"00:25:35",null,0,"","00:25:35",{"$f":"IF(J48=\"\",0,IF(I48=\"\",$D$2,IF((I48-J48)*$C$1+$D$2<$D$4,$D$4,IF((I48-J48)*$C$1+$D$2>$D$3,$D$3,IF((I48-J48)*$C$1+$D$2<$D$3,(I48-J48)*$C$1+$D$2,0)))))","v":60},"00:25:35",null,0,"00:25:35",null,0,"00:25:35",null,0,"00:25:35","00:26:51",45,"00:25:35",null,0,"00:25:35",null,0,"00:25:35",null,0,"00:25:35",null,0,"00:25:35",null,0,"00:25:35",null,0,"00:25:35",null,0,"00:25:35",null,0,"00:25:35",null,0,"00:25:35",null,0,"00:25:35",null,0,"00:25:35",null,0,"00:25:35",null,0,"00:25:35"]
[40,"=","Dave Newton",2,105,"00:27:09","00:27:09",60,"00:27:09",null,0,"00:27:09","00:27:56",45,"00:27:09",null,0,"00:27:09",null,0,"00:27:09",null,0,"00:27:09",null,0,"00:27:09",null,0,"00:27:09",null,0,"00:27:09",null,0,"00:27:09",null,0,"00:27:09",null,0,"00:27:09",null,0,"00:27:09",null,0,"00:27:09",null,0,"00:27:09",null,0,"00:27:09",null,0,"00:27:09",null,0,"00:27:09",null,0,"00:27:09"]
[41,"=","Richard Cooper",2,105,"00:24:16",null,0,"",null,0,"","00:24:16",60,"00:24:16",null,0,"00:24:16",null,0,"00:24:16",null,0,"00:24:16",null,0,"00:24:16",null,0,"00:24:16",null,0,"00:24:16",null,0,"00:24:16","00:26:19",45,"00:24:16",null,0,"00:24:16",null,0,"00:24:16",null,0,"00:24:16",null,0,"00:24:16",null,0,"00:24:16",null,0,"00:24:16",null,0,"00:24:16",null,0,"00:24:16"]
[42,42,"Andy Bentley",1,60,"00:24:04",null,0,"",null,0,"",null,0,"",null,0,"",null,0,"",null,0,"",null,0,"","00:24:04",60,"00:24:04",null,0,"00:24:04",null,0,"00:24:04",null,0,"00:24:04",null,0,"00:24:04",null,0,"00:24:04",null,0,"00:24:04",null,0,"00:24:04",null,0,"00:24:04",null,0,"00:24:04",null,0,"00:24:04",null,0,"00:24:04"]
[43,"=","David Ryan",1,60,"00:24:23",null,0,"","00:24:23",60,"00:24:23",null,0,"00:24:23",null,0,"00:24:23",null,0,"00:24:23",null,0,"00:24:23",null,0,"00:24:23",null,0,"00:24:23",null,0,"00:24:23",null,0,"00:24:23",null,0,"00:24:23",null,0,"00:24:23",null,0,"00:24:23",null,0,"00:24:23",null,0,"00:24:23",null,0,"00:24:23",null,0,"00:24:23",null,0,"00:24:23",null,0,"00:24:23"]
[44,"=","Craig Scott",1,60,"00:27:16",null,0,"",null,0,"","00:27:16",60,"00:27:16",null,0,"00:27:16",null,0,"00:27:16",null,0,"00:27:16",null,0,"00:27:16",null,0,"00:27:16",null,0,"00:27:16",null,0,"00:27:16",null,0,"00:27:16",null,0,"00:27:16",null,0,"00:27:16",null,0,"00:27:16",null,0,"00:27:16",null,0,"00:27:16",null,0,"00:27:16",null,0,"00:27:16",null,0,"00:27:16"]
[45,"=","Michael Ponzo",1,60,"00:27:29",null,0,"","00:27:29",60,"00:27:29",null,0,"00:27:29",null,0,"00:27:29",null,0,"00:27:29",null,0,"00:27:29",null,0,"00:27:29",null,0,"00:27:29",null,0,"00:27:29",null,0,"00:27:29",null,0,"00:27:29",null,0,"00:27:29",null,0,"00:27:29",null,0,"00:27:29",null,0,"00:27:29",null,0,"00:27:29",null,0,"00:27:29",null,0,"00:27:29",null,0,"00:27:29"]
[46,"=","Paul Adams",1,60,"00:27:12",null,0,"",null,0,"",null,0,"",null,0,"",null,0,"",null,0,"",null,0,"",null,0,"",null,0,"",null,0,"",null,0,"",null,0,"",null,0,"","00:27:12",60,"00:27:12",null,0,"00:27:12",null,0,"00:27:12",null,0,"00:27:12",null,0,"00:27:12",null,0,"00:27:12"]
[47,"=","Daniel Watt",1,60,"00:27:39",null,0,"",null,0,"",null,0,"",null,0,"",null,0,"",null,0,"",null,0,"",null,0,"",null,0,"",null,0,"",null,0,"",null,0,"",null,0,"","00:27:39",60,"00:27:39",null,0,"00:27:39",null,0,"00:27:39",null,0,"00:27:39",null,0,"00:27:39",null,0,"00:27:39"]
[48,"=","Dave Roper",1,60,"00:29:00",null,0,"",null,0,"",null,0,"",null,0,"",null,0,"",null,0,"",null,0,"",null,0,"",null,0,"",null,0,"",null,0,"",null,0,"",null,0,"",null,0,"",null,0,"","00:29:00",60,"00:29:00",null,0,"00:29:00",null,0,"00:29:00",null,0,"00:29:00"]
[49,"",null,0,0,999,null,0,"",null,0,"",null,0,"",null,0,"",null,0,"",null,0,"",null,0,"",null,0,"",null,0,"",null,0,"",null,0,"",null,0,"",null,0,"",null,0,"",null,0,"",null,0,"",null,0,"",null,0,"",null,0,""]
[50,"",null,0,0,999,null,0,"",null,0,"",null,0,"",null,0,"",null,0,"",null,0,"",null,0,"",null,0,"",null,0,"",null,0,"",null,0,"",null,0,"",null,0,"",null,0,"",null,0,"",null,0,"",null,0,"",null,0,"",null,0,""]
[51,"",null,0,0,999,null,0,"",null,0,"",null,0,"",null,0,"",null,0,"",null,0,"",null,0,"",null,0,"",null,0,"",null,0,"",null,0,"",null,0,"",null,0,"",null,0,"",null,0,"",null,0,"",null,0,"",null,0,"",null,0,""]
[52,"",null,0,0,999,null,0,"",null,0,"",null,0,"",null,0,"",null,0,"",null,0,"",null,0,"",null,0,"",null,0,"",null,0,"",null,0,"",null,0,"",null,0,"",null,0,"",null,0,"",null,0,"",null,0,"",null,0,"",null,0,""]
[53,"",null,0,0,999,null,0,"",null,0,"",null,0,"",null,0,"",null,0,"",null,0,"",null,0,"",null,0,"",null,0,"",null,0,"",null,0,"",null,0,"",null,0,"",null,0,"",null,0,"",null,0,"",null,0,"",null,0,"",null,0,""]
[54,"",null,0,0,999,null,0,"",null,0,"",null,0,"",null,0,"",null,0,"",null,0,"",null,0,"",null,0,"",null,0,"",null,0,"",null,0,"",null,0,"",null,0,"",null,0,"",null,0,"",null,0,"",null,0,"",null,0,"",null,0,""]
[55,"",null,0,0,999,null,0,"",null,0,"",null,0,"",null,0,"",null,0,"",null,0,"",null,0,"",null,0,"",null,0,"",null,0,"",null,0,"",null,0,"",null,0,"",null,0,"",null,0,"",null,0,"",null,0,"",null,0,"",null,0,""]
[56,"",null,0,0,999,null,0,"",null,0,"",null,0,"",null,0,"",null,0,"",null,0,"",null,0,"",null,0,"",null,0,"",null,0,"",null,0,"",null,0,"",null,0,"",null,0,"",null,0,"",null,0,"",null,0,"",null,0,"",null,0,""]
[57,"",null,0,0,999,null,0,"",null,0,"",null,0,"",null,0,"",null,0,"",null,0,"",null,0,"",null,0,"",null,0,"",null,0,"",null,0,"",null,0,"",null,0,"",null,0,"",null,0,"",null,0,"",null,0,"",null,0,"",null,0,""]
[58,"",null,0,0,999,null,0,"",null,0,"",null,0,"",null,0,"",null,0,"",null,0,"",null,0,"",null,0,"",null,0,"",null,0,"",null,0,"",null,0,"",null,0,"",null,0,"",null,0,"",null,0,"",null,0,"",null,0,"",null,0,""]
[59,"",null,0,0,999,null,0,"",null,0,"",null,0,"",null,0,"",null,0,"",null,0,"",null,0,"",null,0,"",null,0,"",null,0,"",null,0,"",null,0,"",null,0,"",null,0,"",null,0,"",null,0,"",null,0,"",null,0,"",null,0,""]
[60,"",null,0,0,999,null,0,"",null,0,"",null,0,"",null,0,"",null,0,"",null,0,"",null,0,"",null,0,"",null,0,"",null,0,"",null,0,"",null,0,"",null,0,"",null,0,"",null,0,"",null,0,"",null,0,"",null,0,"",null,0,""]
[61,"",null,0,0,999,null,0,"",null,0,"",null,0,"",null,0,"",null,0,"",null,0,"",null,0,"",null,0,"",null,0,"",null,0,"",null,0,"",null,0,"",null,0,"",null,0,"",null,0,"",null,0,"",null,0,"",null,0,"",null,0,""]
[62,"",null,0,0,999,null,0,"",null,0,"",null,0,"",null,0,"",null,0,"",null,0,"",null,0,"",null,0,"",null,0,"",null,0,"",null,0,"",null,0,"",null,0,"",null,0,"",null,0,"",null,0,"",null,0,"",null,0,"",null,0,""]
[63,"",null,0,0,999,null,0,"",null,0,"",null,0,"",null,0,"",null,0,"",null,0,"",null,0,"",null,0,"",null,0,"",null,0,"",null,0,"",null,0,"",null,0,"",null,0,"",null,0,"",null,0,"",null,0,"",null,0,"",null,0,""]
[64,"",null,0,0,999,null,0,"",null,0,"",null,0,"",null,0,"",null,0,"",null,0,"",null,0,"",null,0,"",null,0,"",null,0,"",null,0,"",null,0,"",null,0,"",null,0,"",null,0,"",null,0,"",null,0,"",null,0,"",null,0,""]
[65,{"$f":"IF(C74=\"\",\"\",IF(E74=E73,\"=\",A74))","v":""},null,{"$f":"COUNT(G74,J74,M74,P74,S74,V74,Y74,AB74,AE74,AH74,AK74,AN74,AQ74,AT74,AW74,AZ74,BC74,BF74,BI74)","v":0},{"$f":"ROUNDDOWN(LARGE(G74:BJ74,1)+(IF($D$5>1,LARGE(G74:BJ74,2),0))+(IF($D$5>2,LARGE(G74:BJ74,3),0))+(IF($D$5>3,LARGE(G74:BJ74,4),0))+(IF($D$5>4,LARGE(G74:BJ74,5),0))+(IF($D$5>5,LARGE(G74:BJ74,6),0))+(IF($D$5>6,LARGE(G74:BJ74,7),0)),0)","v":0},{"$f":"IF(D74=0,999,MIN(G74,J74,M74,P74,S74,V74,Y74,AB74,AE74,AH74,AK74,AN74,AQ74,AT74,AW74,AZ74,BC74,BF74,BI74))","v":999},null,{"$f":"IF(G74=\"\",0,$D$2)","v":0},{"$f":"IF(G74=\"\",\"\",G74)","v":""},null,0,{"$f":"IF(AND(I74=\"\",J74=\"\")=TRUE,\"\",MIN(I74,J74))","v":""},null,{"$f":"IF(M74=\"\",0,IF(L74=\"\",$D$2,IF((L74-M74)*$C$1+$D$2<$D$4,$D$4,IF((L74-M74)*$C$1+$D$2>$D$3,$D$3,IF((L74-M74)*$C$1+$D$2<$D$3,(L74-M74)*$C$1+$D$2,0)))))","v":0},{"$f":"IF(AND(L74=\"\",M74=\"\")=TRUE,\"\",MIN(L74,M74))","v":""},null,{"$f":"IF(P74=\"\",0,IF(O74=\"\",$D$2,IF((O74-P74)*$C$1+$D$2<$D$4,$D$4,IF((O74-P74)*$C$1+$D$2>$D$3,$D$3,IF((O74-P74)*$C$1+$D$2<$D$3,(O74-P74)*$C$1+$D$2,0)))))","v":0},{"$f":"IF(AND(O74=\"\",P74=\"\")=TRUE,\"\",MIN(O74,P74))","v":""},null,{"$f":"IF(S74=\"\",0,IF(R74=\"\",$D$2,IF((R74-S74)*$C$1+$D$2<$D$4,$D$4,IF((R74-S74)*$C$1+$D$2>$D$3,$D$3,IF((R74-S74)*$C$1+$D$2<$D$3,(R74-S74)*$C$1+$D$2,0)))))","v":0},{"$f":"IF(AND(R74=\"\",S74=\"\")=TRUE,\"\",MIN(R74,S74))","v":""},null,{"$f":"IF(V74=\"\",0,IF(U74=\"\",$D$2,IF((U74-V74)*$C$1+$D$2<$D$4,$D$4,IF((U74-V74)*$C$1+$D$2>$D$3,$D$3,IF((U74-V74)*$C$1+$D$2<$D$3,(U74-V74)*$C$1+$D$2,0)))))","v":0},{"$f":"IF(AND(U74=\"\",V74=\"\")=TRUE,\"\",MIN(U74,V74))","v":""},null,{"$f":"IF(Y74=\"\",0,IF(X74=\"\",$D$2,IF((X74-Y74)*$C$1+$D$2<$D$4,$D$4,IF((X74-Y74)*$C$1+$D$2>$D$3,$D$3,IF((X74-Y74)*$C$1+$D$2<$D$3,(X74-Y74)*$C$1+$D$2,0)))))","v":0},{"$f":"IF(AND(X74=\"\",Y74=\"\")=TRUE,\"\",MIN(X74,Y74))","v":""},null,{"$f":"IF(AB74=\"\",0,IF(AA74=\"\",$D$2,IF((AA74-AB74)*$C$1+$D$2<$D$4,$D$4,IF((AA74-AB74)*$C$1+$D$2>$D$3,$D$3,IF((AA74-AB74)*$C$1+$D$2<$D$3,(AA74-AB74)*$C$1+$D$2,0)))))","v":0},{"$f":"IF(AND(AA74=\"\",AB74=\"\")=TRUE,\"\",MIN(AA74,AB74))","v":""},null,{"$f":"IF(AE74=\"\",0,IF(AD74=\"\",$D$2,IF((AD74-AE74)*$C$1+$D$2<$D$4,$D$4,IF((AD74-AE74)*$C$1+$D$2>$D$3,$D$3,IF((AD74-AE74)*$C$1+$D$2<$D$3,(AD74-AE74)*$C$1+$D$2,0)))))","v":0},{"$f":"IF(AND(AD74=\"\",AE74=\"\")=TRUE,\"\",MIN(AD74,AE74))","v":""},null,{"$f":"IF(AH74=\"\",0,IF(AG74=\"\",$D$2,IF((AG74-AH74)*$C$1+$D$2<$D$4,$D$4,IF((AG74-AH74)*$C$1+$D$2>$D$3,$D$3,IF((AG74-AH74)*$C$1+$D$2<$D$3,(AG74-AH74)*$C$1+$D$2,0)))))","v":0},{"$f":"IF(AND(AG74=\"\",AH74=\"\")=TRUE,\"\",MIN(AG74,AH74))","v":""},null,{"$f":"IF(AK74=\"\",0,IF(AJ74=\"\",$D$2,IF((AJ74-AK74)*$C$1+$D$2<$D$4,$D$4,IF((AJ74-AK74)*$C$1+$D$2>$D$3,$D$3,IF((AJ74-AK74)*$C$1+$D$2<$D$3,(AJ74-AK74)*$C$1+$D$2,0)))))","v":0},{"$f":"IF(AND(AJ74=\"\",AK74=\"\")=TRUE,\"\",MIN(AJ74,AK74))","v":""},null,{"$f":"IF(AN74=\"\",0,IF(AM74=\"\",$D$2,IF((AM74-AN74)*$C$1+$D$2<$D$4,$D$4,IF((AM74-AN74)*$C$1+$D$2>$D$3,$D$3,IF((AM74-AN74)*$C$1+$D$2<$D$3,(AM74-AN74)*$C$1+$D$2,0)))))","v":0},{"$f":"IF(AND(AM74=\"\",AN74=\"\")=TRUE,\"\",MIN(AM74,AN74))","v":""},null,{"$f":"IF(AQ74=\"\",0,IF(AP74=\"\",$D$2,IF((AP74-AQ74)*$C$1+$D$2<$D$4,$D$4,IF((AP74-AQ74)*$C$1+$D$2>$D$3,$D$3,IF((AP74-AQ74)*$C$1+$D$2<$D$3,(AP74-AQ74)*$C$1+$D$2,0)))))","v":0},{"$f":"IF(AND(AP74=\"\",AQ74=\"\")=TRUE,\"\",MIN(AP74,AQ74))","v":""},null,{"$f":"IF(AT74=\"\",0,IF(AS74=\"\",$D$2,IF((AS74-AT74)*$C$1+$D$2<$D$4,$D$4,IF((AS74-AT74)*$C$1+$D$2>$D$3,$D$3,IF((AS74-AT74)*$C$1+$D$2<$D$3,(AS74-AT74)*$C$1+$D$2,0)))))","v":0},{"$f":"IF(AND(AS74=\"\",AT74=\"\")=TRUE,\"\",MIN(AS74,AT74))","v":""},null,{"$f":"IF(AW74=\"\",0,IF(AV74=\"\",$D$2,IF((AV74-AW74)*$C$1+$D$2<$D$4,$D$4,IF((AV74-AW74)*$C$1+$D$2>$D$3,$D$3,IF((AV74-AW74)*$C$1+$D$2<$D$3,(AV74-AW74)*$C$1+$D$2,0)))))","v":0},{"$f":"IF(AND(AV74=\"\",AW74=\"\")=TRUE,\"\",MIN(AV74,AW74))","v":""},null,{"$f":"IF(AZ74=\"\",0,IF(AY74=\"\",$D$2,IF((AY74-AZ74)*$C$1+$D$2<$D$4,$D$4,IF((AY74-AZ74)*$C$1+$D$2>$D$3,$D$3,IF((AY74-AZ74)*$C$1+$D$2<$D$3,(AY74-AZ74)*$C$1+$D$2,0)))))","v":0},{"$f":"IF(AND(AY74=\"\",AZ74=\"\")=TRUE,\"\",MIN(AY74,AZ74))","v":""},null,{"$f":"IF(BC74=\"\",0,IF(BB74=\"\",$D$2,IF((BB74-BC74)*$C$1+$D$2<$D$4,$D$4,IF((BB74-BC74)*$C$1+$D$2>$D$3,$D$3,IF((BB74-BC74)*$C$1+$D$2<$D$3,(BB74-BC74)*$C$1+$D$2,0)))))","v":0},{"$f":"IF(AND(BB74=\"\",BC74=\"\")=TRUE,\"\",MIN(BB74,BC74))","v":""},null,{"$f":"IF(BF74=\"\",0,IF(BE74=\"\",$D$2,IF((BE74-BF74)*$C$1+$D$2<$D$4,$D$4,IF((BE74-BF74)*$C$1+$D$2>$D$3,$D$3,IF((BE74-BF74)*$C$1+$D$2<$D$3,(BE74-BF74)*$C$1+$D$2,0)))))","v":0},{"$f":"IF(AND(BE74=\"\",BF74=\"\")=TRUE,\"\",MIN(BE74,BF74))","v":""},null,{"$f":"IF(BI74=\"\",0,IF(BH74=\"\",$D$2,IF((BH74-BI74)*$C$1+$D$2<$D$4,$D$4,IF((BH74-BI74)*$C$1+$D$2>$D$3,$D$3,IF((BH74-BI74)*$C$1+$D$2<$D$3,(BH74-BI74)*$C$1+$D$2,0)))))","v":0},{"$f":"IF(AND(BH74=\"\",BI74=\"\")=TRUE,\"\",MIN(BH74,BI74))","v":""}]
[66,"",null,0,0,999,null,0,"",null,0,"",null,0,"",null,0,"",null,0,"",null,0,"",null,0,"",null,0,"",null,0,"",null,0,"",null,0,"",null,0,"",null,0,"",null,0,"",null,0,"",null,0,"",null,0,"",null,0,"",null,0,""]
[67,"",null,0,0,999,null,0,"",null,0,"",null,0,"",null,0,"",null,0,"",null,0,"",null,0,"",null,0,"",null,0,"",null,0,"",null,0,"",null,0,"",null,0,"",null,0,"",null,0,"",null,0,"",null,0,"",null,0,"",null,0,""]
[68,"",null,0,0,999,null,0,"",null,0,"",null,0,"",null,0,"",null,0,"",null,0,"",null,0,"",null,0,"",null,0,"",null,0,"",null,0,"",null,0,"",null,0,"",null,0,"",null,0,"",null,0,"",null,0,"",null,0,"",null,0,""]
[69,"",null,0,0,999,null,0,"",null,0,"",null,0,"",null,0,"",null,0,"",null,0,"",null,0,"",null,0,"",null,0,"",null,0,"",null,0,"",null,0,"",null,0,"",null,0,"",null,0,"",null,0,"",null,0,"",null,0,"",null,0,""]
[70,"",null,0,0,999,null,0,"",null,0,"",null,0,"",null,0,"",null,0,"",null,0,"",null,0,"",null,0,"",null,0,"",null,0,"",null,0,"",null,0,"",null,0,"",null,0,"",null,0,"",null,0,"",null,0,"",null,0,"",null,0,""]
[71,"",null,0,0,999,null,0,"",null,{"$f":"IF(J80=\"\",0,IF(I80=\"\",$D$2,IF((I80-J80)*$C$1+$D$2<$D$4,$D$4,IF((I80-J80)*$C$1+$D$2>$D$3,$D$3,IF((I80-J80)*$C$1+$D$2<$D$3,(I80-J80)*$C$1+$D$2,0)))))","v":0},"",null,0,"",null,0,"",null,0,"",null,0,"",null,0,"",null,0,"",null,0,"",null,0,"",null,0,"",null,0,"",null,0,"",null,0,"",null,0,"",null,0,"",null,0,"",null,0,"",null,0,""]
[72,"",null,0,0,999,null,0,"",null,0,"",null,0,"",null,0,"",null,0,"",null,0,"",null,0,"",null,0,"",null,0,"",null,0,"",null,0,"",null,0,"",null,0,"",null,0,"",null,0,"",null,0,"",null,0,"",null,0,"",null,0,""]
[73,"",null,0,0,999,null,0,"",null,0,"",null,0,"",null,0,"",null,0,"",null,0,"",null,0,"",null,0,"",null,0,"",null,0,"",null,0,"",null,0,"",null,0,"",null,0,"",null,0,"",null,0,"",null,0,"",null,0,"",null,0,""]
[74,"",null,0,0,999,null,0,"",null,0,"",null,0,"",null,0,"",null,0,"",null,0,"",null,0,"",null,0,"",null,0,"",null,0,"",null,0,"",null,0,"",null,0,"",null,0,"",null,0,"",null,0,"",null,0,"",null,0,"",null,0,""]
[75,"",null,0,0,999,null,0,"",null,0,"",null,0,"",null,0,"",null,0,"",null,0,"",null,0,"",null,0,"",null,0,"",null,0,"",null,0,"",null,0,"",null,0,"",null,0,"",null,0,"",null,0,"",null,0,"",null,0,"",null,0,""]
[76,"",null,0,0,999,null,0,"",null,0,"",null,0,"",null,0,"",null,0,"",null,0,"",null,0,"",null,0,"",null,0,"",null,0,"",null,0,"",null,0,"",null,0,"",null,0,"",null,0,"",null,0,"",null,0,"",null,0,"",null,0,""]
[77,"",null,0,0,999,null,0,"",null,0,"",null,0,"",null,0,"",null,0,"",null,0,"",null,0,"",null,0,"",null,0,"",null,0,"",null,0,"",null,0,"",null,0,"",null,0,"",null,0,"",null,0,"",null,0,"",null,0,"",null,0,""]
[78,"",null,0,0,999,null,0,"",null,0,"",null,0,"",null,0,"",null,0,"",null,0,"",null,0,"",null,0,"",null,0,"",null,0,"",null,0,"",null,0,"",null,0,"",null,0,"",null,0,"",null,0,"",null,0,"",null,0,"",null,0,""]
[79,"",null,0,0,999,null,0,"",null,0,"",null,0,"",null,0,"",null,0,"",null,0,"",null,0,"",null,0,"",null,0,"",null,0,"",null,0,"",null,0,"",null,0,"",null,0,"",null,0,"",null,0,"",null,0,"",null,0,"",null,0,""]
[80,"",null,0,0,999,null,0,"",null,0,"",null,0,"",null,0,"",null,0,"",null,0,"",null,0,"",null,0,"",null,0,"",null,0,"",null,0,"",null,0,"",null,0,"",null,0,"",null,0,"",null,0,"",null,0,"",null,0,"",null,0,""]
[81,"",null,0,0,999,null,0,"",null,0,"",null,0,"",null,0,"",null,0,"",null,0,"",null,0,"",null,0,"",null,0,"",null,0,"",null,0,"",null,0,"",null,0,"",null,0,"",null,0,"",null,0,"",null,0,"",null,0,"",null,0,""]
[82,"",null,0,0,999,null,0,"",null,0,"",null,0,"",null,0,"",null,0,"",null,0,"",null,0,"",null,0,"",null,0,"",null,0,"",null,0,"",null,0,"",null,0,"",null,0,"",null,0,"",null,0,"",null,0,"",null,0,"",null,0,""]
[83,"",null,0,0,999,null,0,"",null,0,"",null,0,"",null,0,"",null,0,"",null,0,"",null,0,"",null,0,"",null,0,"",null,0,"",null,0,"",null,0,"",null,0,"",null,0,"",null,0,"",null,0,"",null,0,"",null,0,"",null,0,""]
[84,"",null,0,0,999,null,0,"",null,0,"",null,0,"",null,0,"",null,0,"",null,0,"",null,0,"",null,0,"",null,0,"",null,0,"",null,0,"",null,0,"",null,0,"",null,0,"",null,0,"",null,0,"",null,0,"",null,0,"",null,0,""]
[85,"",null,0,0,999,null,0,"",null,0,"",null,0,"",null,0,"",null,0,"",null,0,"",null,0,"",null,0,"",null,0,"",null,0,"",null,0,"",null,0,"",null,0,"",null,0,"",null,0,"",null,0,"",null,0,"",null,0,"",null,0,""]
[86,"",null,0,0,999,null,0,"",null,0,"",null,0,"",null,0,"",null,0,"",null,0,"",null,0,"",null,0,"",null,0,"",null,0,"",null,0,"",null,0,"",null,0,"",null,0,"",null,0,"",null,0,"",null,0,"",null,0,"",null,0,""]
[87,"",null,0,0,999,null,0,"",null,0,"",null,0,"",null,0,"",null,0,"",null,0,"",null,0,"",null,0,"",null,0,"",null,0,"",null,0,"",null,0,"",null,0,"",null,0,"",null,0,"",null,0,"",null,0,"",null,0,"",null,0,""]
[88,"",null,0,0,999,null,0,"",null,0,"",null,0,"",null,0,"",null,0,"",null,0,"",null,0,"",null,0,"",null,0,"",null,0,"",null,0,"",null,0,"",null,0,"",null,0,"",null,0,"",null,0,"",null,0,"",null,0,"",null,0,""]
[89,"",null,0,0,999,null,0,"",null,0,"",null,0,"",null,0,"",null,0,"",null,0,"",null,0,"",null,0,"",null,0,"",null,0,"",null,0,"",null,0,"",null,0,"",null,0,"",null,0,"",null,0,"",null,0,"",null,0,"",null,0,""]
[90,"",null,0,0,999,null,0,"",null,0,"",null,0,"",null,0,"",null,0,"",null,0,"",null,0,"",null,0,"",null,0,"",null,0,"",null,0,"",null,0,"",null,0,"",null,0,"",null,0,"",null,0,"",null,0,"",null,0,"",null,0,""]
[91,"",null,0,0,999,null,0,"",null,0,"",null,0,"",null,0,"",null,0,"",null,0,"",null,0,"",null,0,"",null,0,"",null,0,"",null,0,"",null,0,"",null,0,"",null,0,"",null,0,"",null,0,"",null,0,"",null,0,"",null,0,""]
[92,"",null,0,0,999,null,0,"",null,0,"",null,0,"",null,0,"",null,0,"",null,0,"",null,0,"",null,0,"",null,0,"",null,0,"",null,0,"",null,0,"",null,0,"",null,0,"",null,0,"",null,0,"",null,0,"",null,0,"",null,0,""]
[93,"",null,0,0,999,null,0,"",null,0,"",null,0,"",null,0,"",null,0,"",null,0,"",null,0,"",null,0,"",null,0,"",null,0,"",null,0,"",null,0,"",null,0,"",null,0,"",null,0,"",null,0,"",null,0,"",null,0,"",null,0,""]
[94,"",null,0,0,999,null,0,"",null,0,"",null,0,"",null,0,"",null,0,"",null,0,"",null,0,"",null,0,"",null,0,"",null,0,"",null,0,"",null,0,"",null,0,"",null,0,"",null,0,"",null,0,"",null,0,"",null,0,"",null,0,""]
[95,"",null,0,0,999,null,0,"",null,0,"",null,0,"",null,0,"",null,0,"",null,0,"",null,0,"",null,0,"",null,0,"",null,0,"",null,0,"",null,0,"",null,0,"",null,0,"",null,0,"",null,0,"",null,0,"",null,0,"",null,0,""]
[96,"",null,0,0,999,null,0,"",null,0,"",null,0,"",null,0,"",null,0,"",null,0,"",null,0,"",null,0,"",null,0,"",null,0,"",null,0,"",null,0,"",null,0,"",null,0,"",null,0,"",null,0,"",null,0,"",null,0,"",null,0,""]
[97]

{"sheet":"Results 2013","index":19,"n_rows":890,"n_cols":8,"rows_kept":890,"cut":false,"hidden":true,"merged":[[811,1,811,3],[810,1,810,3],[440,2,440,3],[863,1,863,4],[468,2,468,3],[809,2,809,3],[787,1,787,4],[788,1,788,4]]}
[1,1,null,null,null,null," "]
[2,{"$f":"IF(E2=E1,\"=\",A2)","v":"="},null,null,null,null,"http://www.swindon-rc.co.uk/documents/Scratch.pdf"]
[3,{"$f":"IF(E3=E2,\"=\",A3)","v":"="},null,null,null,null,"prohost19.34sp.com"]
[null,null,null,null,null,null,"swindonrccouk"]
[null,null,null,null,null,null,"wobble99"]
[null,null,null,null,null,null,"http://www.swindon-rc.co.uk/documents/Rota.pdf"]
[null,null,"Thursday 22 August"]
[null,1,"Tony Costello","Corinium CC","00:22:07"]
[null,2,"Matt Woods","Cotswold Veldrijden","00:22:20"]
[null,3,"Les Liddiard","Swindon RC 2nd claim","00:22:25"]
[null,4,"Aled Jones","Performance Cycles","00:22:36"]
[null,5,"Pete Hutchinson","Corinium CC","00:22:40"]
[null,6,"Rob Merrison","Swindon RC","00:23:09"]
[null,7,"Mark Woolford","Swindon RC 2nd claim","00:23:17"]
[null,8,"Andy Morgan","Corinium CC","00:23:28"]
[null,9,"Tony Staples","RNRMCA","00:23:34"]
[null,10,"Chris Wood","Performance Cycles","00:23:56"]
[null,11,"Nick Lowe","Swindon RC 2nd claim","00:23:57"]
[null,12,"Adriano dos Santos","Swindon RC","00:24:10"]
[null,13,"Chris Broad-Drake","Swindon RC","00:24:19"]
[null,14,"Alex King","Performance Cycles","00:24:26"]
[null,"=","Marc Allen","Swindon RC","00:24:26"]
[null,16,"Gary Smith","Ride 24/7","00:24:36"]
[null,17,"Mark Foyn","Corinium CC","00:24:40"]
[null,18,"Ross Thompson","Performance Cycles","00:24:44"]
[null,19,"Ross Harvey","Swindon RC","00:24:59"]
[null,20,"James Sharratt","Cadence","00:25:03"]
[null,21,"Mike Cashman","Corinium CC","00:25:05"]
[null,22,"Simon James","Corinium CC","00:25:06"]
[null,23,"Trevor Hodges","Corinium CC","00:25:07"]
[null,24,"Steve Davies","Swindon RC","00:25:14"]
[null,25,"Alex Foyn","Corinium CC","00:25:21"]
[null,26,"Sarah Gunn","Corinium CC","00:25:42"]
[null,27,"Jeff Smith","Swindon RC","00:25:58"]
[null,28,"Trevor Ricketts","Corinium CC","00:26:08"]
[null,29,"Wendy Nicholls","Performance Cycles","00:26:11"]
[null,30,"Derek Mitchell","Corinium CC","00:26:18"]
[null,31,"John Ashurst","Corinium CC","00:26:28"]
[null,32,"Matt Hodgson","Corinium CC","00:26:40"]
[null,33,"Allan Norwood","Corinium CC","00:26:47"]
[null,34,"Helen Grosscurth","Performance Cycles","00:26:48"]
[null,35,"Kim Lassiter","Cotswold Veldrijden","00:27:22"]
[null,36,"Daniel Darby","Swindon RC","00:27:24"]
[null,37,"Diane Moore","Corinium CC","00:27:27"]
[null,38,"Denis Hedges","Corinium CC","00:27:37"]
[null,39,"Jon Bayliss","Performance Cycles","00:27:46"]
[null,40,"Gemma Stuart","Corinium CC","00:28:09"]
[null,41,"Kieran Golding","Swindon RC","00:28:57"]
[null,42,"Rob Barry","Corinium CC","00:29:06"]
[null,43,"Keith Williams","Swindon RC","00:29:23"]
[null,44,"Ciara Hutchinson","Corinium CC","00:29:29"]
[null,45,"John Whittaker","Corinium CC","00:30:41"]
[null,46,"Ross Gregory","Corinium CC","00:31:08"]
[null,47,"Carol Clarke","Corinium CC","00:31:52"]
[null,48,"Marguerite Miatt","Corinium CC","00:32:27"]
[null,49,"Noel MacKenzie","Corinium CC","00:33:41"]
[null,null,"Thursday 15 August"]
[null,1,"Matt Woods","Cotswold Veldrijden","00:22:04"]
[null,2,"Les Liddiard","Swindon RC 2nd claim","00:22:14"]
[null,3,"Tony Costello","Corinium CC","00:22:33"]
[null,4,"Pete Scott","Cotswold Veldrijden","00:22:39"]
[null,5,"Joe Schvartz","Swindon RC","00:22:40"]
[null,6,"A James ?","Performance Cycles","00:22:47"]
[null,7,"Rob Merrison","Swindon RC","00:23:07"]
[null,8,"Andy Morgan","Corinium CC","00:23:28"]
[null,9,"Neil Lewis","Oxonian","00:23:44"]
[null,10,"Chris Wood","Performance Cycles","00:23:47"]
[null,11,"Paul O'Driscoll","Swindon RC","00:23:49"]
[null,12,"Pete Jeans","Swindon RC","00:23:52"]
[null,13,"Chris Broad-Drake","Swindon RC","00:23:56"]
[null,14,"Adriano dos Santos","Swindon RC","00:24:27"]
[null,15,"Marc Allen","Swindon RC","00:24:37"]
[null,16,"Andrew Maddison","Corinium CC","00:24:49"]
[null,17,"Mike Cashman","Corinium CC","00:24:50"]
[null,"=","Dave Gibson","Swindon RC","00:24:50"]
[null,19,"Ross Harvey","Swindon RC","00:24:52"]
[null,20,"Mark Foyn","Corinium CC","00:25:08"]
[null,21,"James Sharratt","Cadence","00:25:10"]
[null,22,"Kevin Lister","Corinium CC","00:25:15"]
[null,23,"Steve Davies","Swindon RC","00:25:16"]
[null,24,"Jeff Smith","Swindon RC","00:25:41"]
[null,25,"Wendy Nicholls","Performance Cycles","00:25:47"]
[null,"=","Paul Fuchs","Corinium CC","00:25:47"]
[null,27,"Alex Foyn","Corinium CC","00:26:09"]
[null,28,"Trevor Ricketts","Corinium CC","00:26:11"]
[null,29,"Diane Moore","Corinium CC","00:26:38"]
[null,30,"Daniel Dickson","Performance Cycles","00:26:43"]
[null,31,"John Ashurst","Corinium CC","00:26:47"]
[null,"=","Helen Grosscurth","Performance Cycles","00:26:47"]
[null,33,"Rob Barry","Corinium CC","00:26:53"]
[null,34,"Tom Sewell","Swindon RC 2nd claim","00:27:02"]
[null,35,"Allan Norwood","Corinium CC","00:27:04"]
[null,36,"Matt Hodgson","Corinium CC","00:27:06"]
[null,37,"Denis Hedges","Corinium CC","00:28:01"]
[null,"=","Gemma Stuart","Corinium CC","00:28:01"]
[null,39,"Steve Harvey","Swindon RC","00:28:14"]
[null,40,"Jon Bayliss","Performance Cycles","00:28:18"]
[null,41,"Daniel Darby","Swindon RC","00:28:30"]
[null,42,"Dave Roper","Swindon RC","00:29:00"]
[null,43,"Ciara Hutchinson","Corinium CC","00:29:05"]
[null,44,"Keith Williams","Swindon RC","00:29:15"]
[null,45,"John Whittaker","Corinium CC","00:30:42"]
[null,46,"Ross Gregory","Corinium CC","00:31:03"]
[null,47,"Carol Clarke","Corinium CC","00:34:52"]
[null,48,"Conor Hutchinson (1 Lap)","Corinium CC","00:18:23"]
[null,null,"Thursday 8 August"]
[null,1,"Pete Hutchinson","Corinium CC","00:22:03"]
[null,2,"Peter Garnett","Swindon RC","00:22:08"]
[null,3,"Joe Schvartz","Swindon RC","00:22:37"]
[null,4,"Rob Merrison","Swindon RC","00:23:25"]
[null,5,"Mark Woolford","Swindon RC 2nd claim","00:23:36"]
[null,6,"Tim Staples","RNRMCA","00:23:40"]
[null,7,"Pete Scott","Cotswold Veldrijden","00:23:42"]
[null,8,"Paul O'Driscoll","Swindon RC","00:23:57"]
[null,9,"Pete Jeans","Swindon RC","00:24:16"]
[null,10,"Alex McIntosh, Bryan Telford & Aaron Collins","Swindon RC","00:24:18"]
[null,11,"Adriano dos Santos","Swindon RC","00:24:34"]
[null,12,"Marc Allen","Swindon RC","00:24:39"]
[null,13,"Chris Broad-Drake","Swindon RC","00:24:40"]
[null,14,"Dave Gibson","Swindon RC","00:24:47"]
[null,"=","Trevor Hodges","Corinium CC","00:24:47"]
[null,16,"Elliot Lassiter","Swindon RC","00:24:53"]
[null,17,"James Sharratt","Cadence","00:24:54"]
[null,18,"Andrew Maddison","Corinium CC","00:24:57"]
[null,19,"Simon James","Corinium CC","00:25:15"]
[null,"=","Steve Davies","Swindon RC","00:25:15"]
[null,21,"Mike Cashman","Corinium CC","00:25:24"]
[null,22,"Kevin Lister","Corinium CC","00:25:28"]
[null,23,"Mark Foyn","Corinium CC","00:25:41"]
[null,24,"Jeff Smith","Swindon RC","00:25:50"]
[null,25,"Ross Harvey","Swindon RC","00:25:55"]
[null,26,"Keith Waller","Swindon RC","00:25:58"]
[null,27,"Rob Patterson","Swindon RC","00:26:03"]
[null,28,"Richard Woods","Corinium CC","00:26:04"]
[null,29,"Paul Fuchs","Corinium CC","00:26:13"]
[null,"=","Sarah Gunn","Corinium CC","00:26:13"]
[null,31,"Gerry Peppin","Corinium CC","00:26:14"]
[null,"=","Trevor Ricketts","Corinium CC","00:26:14"]
[null,33,"Paul Sewell","Swindon RC 2nd claim","00:26:25"]
[null,34,"Derek Mitchell","Corinium CC","00:26:27"]
[null,35,"Wendy Nicholls","Performance Cycles","00:26:31"]
[null,36,"Alex Foyn","Corinium CC","00:26:48"]
[null,37,"John Ashurst","Corinium CC","00:26:54"]
[null,38,"Diane Moore","Corinium CC","00:26:57"]
[null,39,"Tom Sewell","Swindon RC 2nd claim","00:27:02"]
[null,40,"Allan Norwood","Corinium CC","00:27:15"]
[null,41,"Kim Lassiter","Cotswold Veldrijden","00:27:33"]
[null,42,"Gemma Stuart","Corinium CC","00:27:40"]
[null,"=","John Kampe","Corinium CC","00:27:40"]
[null,44,"Daniel Darby","Swindon RC","00:28:01"]
[null,45,"Nick Fiore","Swindon RC","00:28:19"]
[null,46,"Keith Williams","Swindon RC","00:28:31"]
[null,47,"Kieran Golding","Swindon RC","00:28:36"]
[null,48,"Marc Roberts","Swindon RC","00:29:36"]
[null,49,"Ciara Hutchinson","Corinium CC","00:29:48"]
[null,50,"Dave Miatt","Corinium CC","00:29:54"]
[null,51,"Ross Gregory","Corinium CC","00:31:06"]
[null,52,"Marguerite Miatt","Corinium CC","00:31:50"]
[null,53,"Carol Clarke","Corinium CC","00:32:37"]
[null,54,"Amanda Dickson","Swindon RC","00:34:05"]
[null,null,"Thursday 1 August"]
[null,1,"Peter Garnett","Swindon RC","00:21:51"]
[null,2,"Joe Schvartz","Swindon RC","00:22:42"]
[null,3,"Les Liddiard","Swindon RC 2nd claim","00:22:48"]
[null,4,"Pete Hutchinson","Corinium CC","00:22:58"]
[null,5,"Mark Woolford","Swindon RC 2nd claim","00:23:31"]
[null,6,"Andy Morgan","Corinium CC","00:23:35"]
[null,7,"Chris Broad-Drake","Swindon RC","00:23:52"]
[null,8,"Pete Scott","Cotswold Veldrijden","00:24:00"]
[null,9,"Nick Ballard","Newbury RC","00:24:01"]
[null,10,"Rob Merrison","Swindon RC","00:24:05"]
[null,11,"Nick Lowe","Swindon RC 2nd claim","00:24:19"]
[null,12,"Marc Allen","Swindon RC","00:24:30"]
[null,13,"Adriano dos Santos","Swindon RC","00:24:43"]
[null,"=","Dave Gibson","Swindon RC","00:24:43"]
[null,15,"Simon James","Corinium CC","00:24:55"]
[null,16,"Aaron Collins","Swindon RC","00:24:57"]
[null,17,"Trevor Hodges","Corinium CC","00:25:03"]
[null,18,"Steve Davies","Swindon RC","00:25:26"]
[null,19,"Elliot Lassiter","Swindon RC","00:25:27"]
[null,20,"James Sharratt","Cadence","00:25:32"]
[null,21,"Rob Patterson","Swindon RC","00:25:33"]
[null,22,"Andrew Wilcox","Performance Cycles","00:25:40"]
[null,23,"Keith Waller","Swindon RC","00:25:46"]
[null,24,"Paul Fuchs","Corinium CC","00:25:51"]
[null,25,"Richard Woods","Corinium CC","00:25:56"]
[null,26,"Jeff Smith","Swindon RC","00:25:57"]
[null,"=","Matt Hodgson","Corinium CC","00:25:57"]
[null,28,"Wendy Nicholls","Performance Cycles","00:26:19"]
[null,29,"Sarah Gunn","Corinium CC","00:26:26"]
[null,30,"Derek Mitchell","Corinium CC","00:26:28"]
[null,31,"Corinne Clark","Performance Cycles","00:26:45"]
[null,32,"John Ashurst","Corinium CC","00:26:48"]
[null,"=","Trevor Ricketts","Corinium CC","00:26:48"]
[null,34,"Paul Adams","Swindon RC","00:27:12"]
[null,35,"Diane Moore","Corinium CC","00:27:18"]
[null,36,"Daniel Watt","Swindon RC","00:27:39"]
[null,37,"John Kampe","Corinium CC","00:27:40"]
[null,38,"Gemma Stuart","Corinium CC","00:27:58"]
[null,39,"Denis Hedges","Corinium CC","00:28:10"]
[null,40,"Steve Harvey","Swindon RC","00:28:18"]
[null,41,"Daniel Darby","Swindon RC","00:28:34"]
[null,"=","Marc Roberts","Swindon RC","00:28:34"]
[null,43,"Keith Williams","Swindon RC","00:29:25"]
[null,44,"Ciara Hutchinson","Corinium CC","00:30:11"]
[null,45,"Archie Scott","Swindon RC","00:31:52"]
[null,46,"Carol Clarke","Corinium CC","00:32:37"]
[null,47,"Amanda Dickson","Swindon RC","00:34:12"]
[null,48,"Mandy Scott","Swindon RC","00:36:18"]
[null,49,"Katie Scott","Swindon RC","00:37:13"]
[null,null,"Thursday 25 July"]
[null,1,"Niel Dunnage","Swindon RC","00:21:53"]
[null,"=","Peter Garnett","Swindon RC","00:21:53"]
[null,3,"Pete Hutchinson","Corinium CC","00:22:13"]
[null,4,"Les Liddiard","Swindon RC 2nd claim","00:22:36"]
[null,5,"Andy Claxton","Ride 24/7","00:23:13"]
[null,6,"Chris Wood","Performance Cycles","00:23:15"]
[null,7,"Mark Woolford","Swindon RC 2nd claim","00:23:18"]
[null,8,"Chris Broad-Drake","Swindon RC","00:23:43"]
[null,"=","Pete Jeans","Swindon RC","00:23:43"]
[null,10,"Pete Scott","Cotswold Veldrijden","00:23:47"]
[null,11,"Alex King","Performance Cycles","00:23:48"]
[null,12,"Trevor Hodges","Corinium CC","00:24:17"]
[null,13,"Rob Merrison","Swindon RC","00:24:21"]
[null,14,"Mike Cashman","Corinium CC","00:24:33"]
[null,15,"Kevin Lister","Corinium CC","00:24:35"]
[null,16,"Dave Gibson","Swindon RC","00:24:36"]
[null,17,"James Sharratt","Cadence","00:24:37"]
[null,18,"Andrew Wilcox","Performance Cycles","00:25:01"]
[null,19,"Steve Davies","Swindon RC","00:25:05"]
[null,20,"Paul Fuchs","Corinium CC","00:25:17"]
[null,21,"Gerry Peppin","Corinium CC","00:25:34"]
[null,22,"Matt Hodgson","Corinium CC","00:25:39"]
[null,23,"Keith Waller","Swindon RC","00:25:45"]
[null,24,"Rob Patterson","Swindon RC","00:25:48"]
[null,25,"Trevor Ricketts","Corinium CC","00:25:54"]
[null,26,"Corinne Clark","Performance Cycles","00:26:08"]
[null,27,"Wendy Nicholls","Performance Cycles","00:26:18"]
[null,28,"Lee Rayfield","Swindon RC","00:26:37"]
[null,29,"Diane Moore","Corinium CC","00:26:53"]
[null,30,"Allan Norwood","Corinium CC","00:26:58"]
[null,"=","Andy Bent","Swindon RC","00:26:58"]
[null,32,"Gemma Stuart","Corinium CC","00:26:59"]
[null,33,"Helen Bennett","Cadence","00:27:01"]
[null,34,"Denis Hedges","Corinium CC","00:27:14"]
[null,35,"Daniel Darby","Swindon RC","00:27:34"]
[null,36,"Marc Roberts","Swindon RC","00:27:53"]
[null,37,"John Whittaker","Corinium CC","00:29:52"]
[null,38,"Ross Gregory","Corinium CC","00:30:35"]
[null,39,"Carol Clarke","Corinium CC","00:32:23"]
[null,40,"Mandy Scott","Swindon RC","00:32:36"]
[null,41,"Katie Scott","Swindon RC","00:36:47"]
[null,null,"Thursday 18 July"]
[null,1,"Peter Garnett","Swindon RC","00:21:48"]
[null,2,"Pete Hutchinson","Corinium CC","00:22:32"]
[null,3,"Aaron Collins/Matt Cooper","Swindon RC","00:22:33"]
[null,4,"Joe Schvartz","Swindon RC","00:22:34"]
[null,5,"Mark Woolford","Swindon RC 2nd claim","00:23:03"]
[null,6,"Andy Morgan","Corinium CC","00:23:04"]
[null,7,"Chris Broad-Drake","Swindon RC","00:23:25"]
[null,8,"Chris Wood","Performance Cycles","00:23:31"]
[null,9,"Pete Jeans","Swindon RC","00:23:39"]
[null,10,"Marc Allen","Swindon RC","00:23:57"]
[null,11,"Alex King","Performance Cycles","00:24:07"]
[null,12,"Mike Cashman","Corinium CC","00:24:38"]
[null,13,"Andrew Maddison","Corinium CC","00:24:39"]
[null,14,"Dave Gibson","Swindon RC","00:24:49"]
[null,15,"Mark Foyn","Corinium CC","00:25:02"]
[null,16,"Mike Firth","Corinium CC","00:25:04"]
[null,17,"Steve Davies","Swindon RC","00:25:11"]
[null,18,"Rob Patterson","Swindon RC","00:25:22"]
[null,19,"Gerry Peppin","Corinium CC","00:25:37"]
[null,20,"Matt Hodgson","Corinium CC","00:25:43"]
[null,21,"Richard Woods","Corinium CC","00:25:55"]
[null,22,"Alex Foyn","Corinium CC","00:26:09"]
[null,"=","Derek Mitchell","Corinium CC","00:26:09"]
[null,24,"Kevin Henshaw","?","00:26:16"]
[null,25,"Andy Bent","Swindon RC","00:26:59"]
[null,26,"Gemma Stuart","Corinium CC","00:27:05"]
[null,27,"Alex McIntosh","Swindon RC","00:27:11"]
[null,28,"Denis Hedges","Corinium CC","00:27:27"]
[null,29,"Marc Roberts","Swindon RC","00:28:07"]
[null,30,"Bernie McPhail","Swindon RC","00:28:08"]
[null,31,"Tom Sewell","Swindon RC 2nd claim","00:28:25"]
[null,32,"Daniel Darby","Swindon RC","00:28:50"]
[null,33,"John Whittaker","Corinium CC","00:30:20"]
[null,34,"Chris Fox","Swindon RC","00:30:46"]
[null,35,"Ross Gregory","Corinium CC","00:30:57"]
[null,36,"Ciara Hutchinson","Corinium CC","00:30:59"]
[null,37,"Marguerite Miatt","Corinium CC","00:31:14"]
[null,38,"Carol Clarke","Corinium CC","00:32:14"]
[null,null,"Thursday 11 July"]
[null,1,"Peter Garnett","Swindon RC","00:22:13"]
[null,2,"Pete Hutchinson","Corinium CC","00:22:27"]
[null,3,"Andy Morgan","Corinium CC","00:22:59"]
[null,4,"Nick Lowe","Swindon RC 2nd claim","00:23:32"]
[null,5,"Paul O'Driscoll","Swindon RC","00:23:46"]
[null,6,"Chris Broad-Drake","Swindon RC","00:23:51"]
[null,7,"Pete Jeans","Swindon RC","00:24:00"]
[null,8,"Mike Cashman","Corinium CC","00:24:34"]
[null,9,"Nick Mawson","Swindon RC","00:24:37"]
[null,10,"Andy Smith","Swindon RC 2nd claim","00:24:41"]
[null,11,"Mark Kent","Swindon RC 2nd claim","00:24:51"]
[null,"=","Trevor Hodges","Corinium CC","00:24:51"]
[null,13,"Andrew Maddison","Corinium CC","00:24:55"]
[null,14,"Kevin Lister","Corinium CC","00:25:01"]
[null,15,"Mark Foyn","Corinium CC","00:25:04"]
[null,16,"Paul Fuchs","Corinium CC","00:25:10"]
[null,17,"Steve Davies","Swindon RC","00:25:19"]
[null,18,"Rob Patterson","Swindon RC","00:25:21"]
[null,19,"Richard Clewes","Swindon Wheelers","00:25:29"]
[null,20,"Gerry Peppin","Corinium CC","00:25:31"]
[null,21,"Tom Longland","Swindon RC","00:25:38"]
[null,22,"Derek Mitchell","Corinium CC","00:25:51"]
[null,23,"Aaron Collins","Swindon RC","00:25:58"]
[null,24,"Graham Hughes","Corinium CC","00:26:01"]
[null,"=","Matt Hodgson","Corinium CC","00:26:01"]
[null,26,"Paul Sewell","Swindon RC 2nd claim","00:26:08"]
[null,27,"Alex Foyn","Corinium CC","00:26:17"]
[null,28,"Richard Cooper","Swindon RC","00:26:19"]
[null,29,"Wendy Nicholls","Performance Cycles","00:26:28"]
[null,30,"John Ashurst","Corinium CC","00:26:42"]
[null,31,"Lee Rayfield","Swindon RC","00:27:01"]
[null,32,"Alex McIntosh","Swindon RC","00:27:02"]
[null,33,"Allan Norwood","Corinium CC","00:27:12"]
[null,34,"Tom Sewell","Swindon RC 2nd claim","00:27:19"]
[null,35,"Marc Roberts","Swindon RC","00:27:51"]
[null,36,"Nick Fiore","Swindon RC","00:27:56"]
[null,37,"Kieran Golding","Swindon RC","00:28:11"]
[null,38,"Archie Scott","Swindon RC","00:29:10"]
[null,39,"Bernie McPhail","Swindon RC","00:29:17"]
[null,40,"Marguerite Miatt","Corinium CC","00:30:51"]
[null,41,"Ross Gregory","Corinium CC","00:30:53"]
[null,42,"Paul Wood","Swindon Wheelers","00:31:01"]
[null,43,"Chris Fox","Swindon RC","00:31:13"]
[null,44,"Carol Clarke","Corinium CC","00:32:30"]
[null,45,"Dom Fiore",null,"00:33:47"]
[null,46,"Amanda Dickson","Swindon RC","00:35:48"]
[null,47,"Katie Scott","Swindon RC","00:37:11"]
[null,null,"Thursday 4 July"]
[null,1,"Peter Garnett","Swindon RC","00:22:06"]
[null,2,"Les Liddiard","Swindon RC 2nd claim","00:22:27"]
[null,"=","Pete Hutchinson","Corinium CC","00:22:27"]
[null,4,"Joe Schvartz","Swindon RC","00:22:35"]
[null,5,"Nick Lowe","Swindon RC 2nd claim","00:23:10"]
[null,6,"Mark Woolford","Swindon RC 2nd claim","00:23:11"]
[null,7,"Andy Morgan","Corinium CC","00:23:23"]
[null,8,"Pete Jeans","Swindon RC","00:23:59"]
[null,9,"Pete Scott","Cotswold Veldrijden","00:24:00"]
[null,10,"Chris Broad-Drake","Swindon RC","00:24:04"]
[null,11,"Aaron Collins","Swindon RC","00:24:14"]
[null,12,"Chris Wood","Performance Cycles","00:24:16"]
[null,13,"Marc Allen","Swindon RC","00:24:17"]
[null,14,"Alex King","Performance Cycles","00:24:18"]
[null,15,"Paul Fuchs","Corinium CC","00:24:55"]
[null,16,"Dave Gibson","Swindon RC","00:24:57"]
[null,17,"Trevor Hodges","Corinium CC","00:25:02"]
[null,18,"Andy Smith","Swindon RC 2nd claim","00:25:03"]
[null,19,"James Sharratt","Cadence","00:25:06"]
[null,20,"Mark Kent","Swindon RC 2nd claim","00:25:11"]
[null,21,"Mark Foyn","Corinium CC","00:25:12"]
[null,22,"Rob Patterson","Swindon RC","00:25:17"]
[null,"=","Adriano dos Santos","Swindon RC","00:25:17"]
[null,24,"Andrew Maddison","Corinium CC","00:25:28"]
[null,25,"Steve Davies","Swindon RC","00:25:29"]
[null,26,"Andrew Wilcox","Performance Cycles","00:25:33"]
[null,27,"Keith Waller","Swindon RC","00:25:42"]
[null,28,"Derek Mitchell","Corinium CC","00:25:59"]
[null,29,"Sarah Gunn","Corinium CC","00:26:21"]
[null,30,"Clive Rivers","Performance Cycles","00:26:29"]
[null,31,"Ian Hamilton","Corinium CC","00:26:46"]
[null,32,"Alex Foyn","Corinium CC","00:26:56"]
[null,33,"Wendy Nicholls","Performance Cycles","00:27:06"]
[null,34,"John Kampe","Corinium CC","00:27:13"]
[null,35,"Alex McIntosh","Swindon RC","00:27:32"]
[null,36,"Nick Fiore","Swindon RC","00:28:02"]
[null,37,"Denis Hedges","Corinium CC","00:28:20"]
[null,38,"Keith Williams","Swindon RC","00:29:04"]
[null,39,"Marc Roberts","Swindon RC","00:29:43"]
[null,40,"Ciara Hutchinson","Corinium CC","00:31:27"]
[null,"=","Marguerite Miatt","Corinium CC","00:31:27"]
[null,42,"Ross Gregory","Corinium CC","00:31:52"]
[null,43,"Carol Clarke","Corinium CC","00:33:29"]
[null,null,"Thursday 27 June"]
[null,1,"Niel Dunnage","Swindon RC","00:22:49"]
[null,2,"Joe Schvartz","Swindon RC","00:23:08"]
[null,3,"Andy Morgan","Corinium CC","00:23:26"]
[null,4,"Chris Wood","Performance Cycles","00:23:41"]
[null,5,"Pete Scott","Cotswold Veldrijden","00:24:12"]
[null,6,"Adriano dos Santos","Swindon RC","00:24:47"]
[null,7,"Mike Cashman","Corinium CC","00:25:07"]
[null,8,"Trevor Hodges","Corinium CC","00:25:14"]
[null,9,"Rob Merrison","Swindon RC","00:25:37"]
[null,10,"Rob Patterson","Swindon RC","00:25:58"]
[null,11,"Alex Foyn","Corinium CC","00:27:45"]
[null,12,"Steve Harvey","Swindon RC","00:28:33"]
[null,13,"Kieran Golding ","Swindon RC","00:29:00"]
[null,14,"Amanda Dickson","Swindon RC","00:38:06"]
[null,null,"Thursday 20 June"]
[null,1,"Peter Garnett","Swindon RC","00:22:04"]
[null,2,"Niel Dunnage","Swindon RC","00:22:14"]
[null,3,"Les Liddiard","Swindon RC 2nd claim","00:22:44"]
[null,4,"Joe Schvartz","Swindon RC","00:23:09"]
[null,5,"Chris Wood","Performance Cycles","00:23:55"]
[null,6,"Andy Bentley","Swindon RC","00:24:04"]
[null,7,"Andy Morgan","Corinium CC","00:24:06"]
[null,8,"Chris Broad-Drake","Swindon RC","00:24:18"]
[null,9,"Pete Jeans","Swindon RC","00:24:28"]
[null,10,"Mark Kent","Swindon RC 2nd claim","00:24:38"]
[null,"=","Mike Cashman","Corinium CC","00:24:38"]
[null,12,"Dave Gibson/Jeff Smith","Swindon RC","00:24:41"]
[null,13,"Marc Allen","Swindon RC","00:24:49"]
[null,14,"Adriano dos Santos","Swindon RC","00:24:54"]
[null,15,"Andrew Wilcox","Performance Cycles","00:25:01"]
[null,16,"Trevor Hodges","Corinium CC","00:25:18"]
[null,17,"Paul Fuchs","Corinium CC","00:25:23"]
[null,18,"Kevin Lister","Corinium CC","00:25:36"]
[null,19,"Gerry Peppin","Corinium CC","00:25:39"]
[null,20,"Mark Foyn","Corinium CC","00:25:46"]
[null,21,"Steve Davies","Swindon RC","00:25:48"]
[null,22,"Matt Hodgson","Corinium CC","00:26:01"]
[null,23,"Rob Patterson","Swindon RC","00:26:07"]
[null,24,"Derek Mitchell","Corinium CC","00:26:17"]
[null,25,"Corinne Clark","Performance Cycles","00:26:21"]
[null,26,"John Ashurst","Corinium CC","00:26:24"]
[null,27,"Sarah Gunn","Corinium CC","00:26:28"]
[null,28,"Diane Moore","Corinium CC","00:26:51"]
[null,29,"Wendy Nicholls","Performance Cycles","00:26:56"]
[null,30,"Trevor Ricketts","Corinium CC","00:27:08"]
[null,31,"Mike Firth","Corinium CC","00:27:13"]
[null,32,"Gemma Stuart","Corinium CC","00:27:40"]
[null,33,"Stephen Chapman","Corinium CC","00:27:49"]
[null,34,"Alex Foyn","Corinium CC","00:27:59"]
[null,35,"Nick Fiore","Swindon RC","00:28:25"]
[null,36,"Archie Scott","Swindon RC","00:31:00"]
[null,37,"Marguerite Miatt","Corinium CC","00:31:01"]
[null,38,"Carol Clarke","Corinium CC","00:32:28"]
[null,39,"Ciara Hutchinson","Corinium CC","00:33:11"]
[null,40,"Mandy Scott","Swindon RC","00:35:38"]
[null,41,"Amanda Dickson","Swindon RC","00:35:53"]
[null,null,"Come & Try It Time Trial - 13 June"]
[null,null,"Carol Clarke","Corinium CC","00:32:30"]
[null,null,"Mark Richards",null,"00:28:27"]
[null,null,"Julian Spadaccini",null,"00:27:12"]
[null,null,"Ross Gregory","Corinium CC","00:31:25"]
[null,null,"Pete Jeans","Swindon RC","00:24:21"]
[null,null,"Paul O'Driscoll","Swindon RC","00:23:23"]
[null,null,"Martin Veale","(Recumbent)","00:27:54"]
[null,null,"Dilwyn Evans",null,"00:30:40"]
[null,null,"Gwilym Evans",null,"00:27:22"]
[null,null,"Steve Davies","Swindon RC","00:25:42"]
[null,null,"Wendy Nicholls","Performance Cycles","00:27:21"]
[null,null,"Alex King","Performance Cycles","00:24:35"]
[null,null,"Tony Costello","Corinium CC","00:22:30"]
[null,null,"Theresa Garnett",null,"00:35:34"]
[null,null,"Richard Woods",null,"00:27:16"]
[null,null,"Amanda Dickson",null,"00:36:08"]
[null,null,"Paul Adams","Swindon RC","00:28:27"]
[null,null,"Rob Patterson","Swindon RC","00:25:51"]
[null,null,"Neil Rutter/\nJames Brown","Cotswold Veldrijden/Ireland \n(Tandem)","00:20:40"]
[null,null,"Chris Shaw",null,"00:32:09"]
[null,null,"Alan Butler","Swindon Tri Club","00:29:03"]
[null,null,"Pete Scott","Cotswold Veldrijden","00:24:03"]
[null,null,"Shaun Bosley",null,"00:27:10"]
[null,null,"Kevin Lister","Corinium CC","00:25:44"]
[null,null,"Chris Broad-Drake","Swindon RC","00:24:26"]
[null,null,"Andy Morgan","Corinium CC","00:23:39"]
[null,null,"Andy Roberts",null,"00:26:25"]
[null,null,"Interclub Competition Thursday 6 June ",null,null,"Interclub position"]
[null,1,"Lee Piercy","Corinium CC","00:21:30",1,"Swindon RC",{"$f":"SUMIF(D:D,\"Swindon RC\",F:F)+SUMIF(D:D,\"Swindon RC 2nd claim\",F:F)","v":396}]
[null,2,"Peter Garnett","Swindon RC","00:21:51",2,"Corinium CC",{"$f":"SUMIF(D:D,\"Corinium CC\",F:F)","v":422}]
[null,3,"Niel Dunnage","Swindon RC","00:22:08",3]
[null,4,"Pete Hutchinson","Corinium CC","00:22:32",4]
[null,5,"Mark Woolford","Swindon RC 2nd claim","00:23:13",5]
[null,6,"Nick Lowe","Swindon RC 2nd claim","00:23:15",6]
[null,7,"Paul O'Driscoll","Swindon RC","00:23:28",7]
[null,8,"Andy Morgan","Corinium CC","00:23:38",8]
[null,9,"Aaron Collins","Swindon RC","00:23:49",9]
[null,10,"Mark Kent","Swindon RC 2nd claim","00:24:07",10]
[null,11,"Pete Jeans","Swindon RC","00:24:11",11]
[null,12,"Mike Cashman","Corinium CC","00:24:13",12]
[null,13,"Chris Broad-Drake","Swindon RC","00:24:24",13]
[null,14,"Marc Allen","Swindon RC","00:24:33",14]
[null,15,"Paul Fuchs","Corinium CC","00:24:43",15]
[null,16,"Ross Harvey","Swindon RC","00:24:43",15]
[null,17,"Nick Barnes","Corinium CC","00:25:01",17]
[null,18,"Graham Hughes","Corinium CC","00:25:05",18]
[null,19,"Mark Foyn","Corinium CC","00:25:19",19]
[null,20,"Gerry Peppin","Corinium CC","00:25:25",20]
[null,21,"Kevin Lister","Corinium CC","00:25:38",21]
[null,22,"Rob Patterson","Swindon RC","00:25:41",22]
[null,23,"Paul Burnip","Corinium CC","00:25:50",23]
[null,24,"Steve Davies","Swindon RC","00:25:51",24]
[null,25,"Alex King","Performance Cycles","00:25:52"]
[null,26,"Corinne Clark","Performance Cycles","00:25:56"]
[null,27,"Derek Mitchell","Corinium CC","00:26:03",25]
[null,28,"Andrew Wilcox","Corinium CC","00:26:05",26]
[null,29,"Matt Hodgson","Corinium CC","00:26:22",27]
[null,30,"John Ashurst","Corinium CC","00:26:32",28]
[null,31,"Diane Moore","Corinium CC","00:26:33",29]
[null,32,"Claire Smith","Swindon RC","00:27:04",30]
[null,33,"Gemma Stuart","Corinium CC","00:27:32",31]
[null,34,"Trevor Ricketts","Corinium CC","00:27:40",32]
[null,35,"John Kampe","Corinium CC","00:27:40",32]
[null,36,"Stephen Chapman","Corinium CC","00:27:41",34]
[null,37,"Tom Sewell","Swindon RC 2nd claim","00:27:44",35]
[null,38,"Marc Roberts","Swindon RC","00:29:02",36]
[null,39,"Keith Williams","Swindon RC","00:29:26",37]
[null,40,"Archie Scott","Swindon RC","00:29:33",38]
[null,41,"Ross Gregory","Corinium CC","00:31:47"]
[null,42,"Neil Lewis","Oxonian","00:32:55"]
[null,43,"Carol Clarke","Corinium CC","00:33:23"]
[null,44,"Mandy Scott","Swindon RC","00:35:20",39]
[null,45,"Katie Scott","Swindon RC","00:37:39",40]
[null,null,"Thursday 30 May"]
[null,1,"Lee Piercy","Corinium CC","00:21:45"]
[null,2,"Peter Garnett","Swindon RC","00:22:03"]
[null,3,"Les Liddiard","Swindon RC 2nd claim","00:22:26"]
[null,4,"Pete Hutchinson","Corinium CC","00:22:43"]
[null,5,"Chris Wood","Performance Cycles","00:23:04"]
[null,6,"Paul O'Driscoll","Swindon RC","00:23:34"]
[null,7,"Nick Ballard","Newbury RC","00:24:18"]
[null,8,"Mike Cashman","Corinium CC","00:24:53"]
[null,9,"Taylor Rowe","Swindon Cycles RA","00:24:55"]
[null,10,"Pete Jeans","Swindon RC","00:24:57"]
[null,11,"Chris Broad-Drake","Swindon RC","00:25:08"]
[null,12,"Marc Allen","Swindon RC","00:25:31"]
[null,13,"James Sharratt","Cadence","00:25:32"]
[null,14,"Andrew Maddison","Corinium CC","00:25:53"]
[null,15,"Paul Fuchs","Corinium CC","00:26:01"]
[null,16,"Corinne Clark","Performance Cycles","00:26:17"]
[null,17,"Kevin Lister","Corinium CC","00:26:25"]
[null,18,"Mark Foyn","Corinium CC","00:26:26"]
[null,19,"Paul Sewell","Swindon RC 2nd claim","00:26:37"]
[null,20,"Rob Patterson","Swindon RC","00:26:49"]
[null,21,"Steve Davies","Swindon RC","00:26:56"]
[null,22,"Allan Norwood","Corinium CC","00:27:17"]
[null,23,"Paul Burnip","Corinium CC","00:27:18"]
[null,24,"Derek Mitchell","Corinium CC","00:27:19"]
[null,25,"John Ashurst","Corinium CC","00:27:33"]
[null,26,"Tom Sewell","Swindon RC 2nd claim","00:27:58"]
[null,27,"Matt Hodgson","Corinium CC","00:28:07"]
[null,28,"John Kampe","Corinium CC","00:28:24"]
[null,29,"Nick Fiore","Swindon RC","00:28:53"]
[null,30,"Paul Wood","Swindon Wheelers","00:31:35"]
[null,31,"Ross Gregory","Corinium CC","00:32:42"]
[null,32,"Neil Lewis","Oxonian","00:33:10"]
[null,null,"Thursday 23 May"]
[null,1,"Peter Garnett","Swindon RC","00:22:48"]
[null,2,"Pete Hutchinson","Corinium CC","00:22:49"]
[null,3,"Joe Schvartz","Swindon RC","00:23:25"]
[null,4,"Paul O'Driscoll","Swindon RC","00:24:07"]
[null,5,"Andy Claxton","Ride 24/7","00:24:20"]
[null,6,"Pete Jeans","Swindon RC","00:24:25"]
[null,7,"Mike Cashman","Corinium CC","00:24:37"]
[null,8,"Mark Kent","Swindon RC 2nd claim","00:25:25"]
[null,9,"Ross Harvey","Swindon RC","00:25:32"]
[null,10,"Andrew Maddison","Corinium CC","00:25:39"]
[null,11,"Gerry Peppin","Corinium CC","00:25:52"]
[null,12,"Marc Allen","Swindon RC","00:26:17"]
[null,13,"Alex King","Performance Cycles","00:26:24"]
[null,14,"Keith Waller","Swindon RC","00:26:36"]
[null,15,"Matt Cooper","Swindon RC","00:26:51"]
[null,16,"Adriano dos Santos","Swindon RC","00:27:07"]
[null,17,"Steve Davies","Swindon RC","00:27:34"]
[null,18,"Allan Norwood","Corinium CC","00:27:35"]
[null,"=","Matt Hodgson","Corinium CC","00:27:35"]
[null,20,"Gemma Stuart","Corinium CC","00:27:57"]
[null,21,"Trevor Ricketts","Corinium CC","00:28:06"]
[null,22,"Denis Hedges","Corinium CC","00:28:48"]
[null,23,"Tom Sewell","Swindon RC 2nd claim","00:28:55"]
[null,24,"Nick Fiore","Swindon RC","00:29:12"]
[null,25,"Mark Roberts","Swindon RC","00:30:46"]
[null,26,"Keith Williams","Swindon RC","00:30:55"]
[null,27,"Ross Gregory","Corinium CC","00:33:40"]
[null,28,"Neil Lewis","Oxonian","00:34:01"]
[null,null,"Thursday 16 May"]
[null,1,"Lee Piercy","Corinium CC","00:21:54"]
[null,2,"Steve Yates","Corinium CC","00:22:46"]
[null,3,"Les Liddiard","Swindon RC 2nd claim","00:22:50"]
[null,4,"Pete Hutchinson","Corinium CC","00:23:19"]
[null,5,"Mark Woolford","Swindon RC 2nd claim","00:23:28"]
[null,6,"Joe Schvartz","Swindon RC","00:23:46"]
[null,7,"Paul O'Driscoll","Swindon RC","00:23:59"]
[null,8,"Gethin Musk","Performance Cycles","00:24:31"]
[null,9,"Ross Harvey","Swindon RC","00:24:54"]
[null,10,"Aaron Collins","Swindon RC","00:25:19"]
[null,11,"Mike Cashman","Corinium CC","00:25:37"]
[null,12,"Gerry Peppin","Corinium CC","00:26:16"]
[null,13,"Marc Allen","Swindon RC","00:26:22"]
[null,"=","Andrew Maddison","Corinium CC","00:26:22"]
[null,15,"Bernie Beale","Swindon RC","00:26:26"]
[null,16,"Rob Patterson","Swindon RC","00:26:45"]
[null,17,"Alex King","Performance Cycles","00:27:02"]
[null,18,"Allan Norwood","Corinium CC","00:27:23"]
[null,19,"Derek Mitchell","Corinium CC","00:27:41"]
[null,20,"Gemma Stuart","Corinium CC","00:27:58"]
[null,21,"Matt Hodgson","Corinium CC","00:28:05"]
[null,22,"Adriano dos Santos","Swindon RC","00:28:06"]
[null,23,"David Edwards","Corinium CC","00:28:20"]
[null,24,"Alex McIntosh","Swindon RC","00:28:31"]
[null,25,"Trevor Ricketts","Corinium CC","00:28:43"]
[null,"=","John Ashurst","Corinium CC","00:28:43"]
[null,27,"Trevor Sherwood","Swindon RC","00:28:46"]
[null,28,"Tim Collins","Performance Cycles","00:29:21"]
[null,29,"Nick Fiore","Swindon RC","00:29:42"]
[null,30,"Chris Wood","Performance Cycles","00:30:08"]
[null,31,"Mervyn Cox","Performance Cycles","00:30:31"]
[null,32,"Archie Scott","Swindon RC","00:31:11"]
[null,33,"Marc Roberts","Swindon RC","00:31:20"]
[null,34,"Ross Gregory","Corinium CC","00:34:02"]
[null,35,"Mandy Scott","Swindon RC","00:37:36"]
[null,36,"Katie Scott","Swindon RC","00:37:48"]
[null,null,"Thursday 9 May"]
[null,1,"Pete Hutchinson","Corinium CC","00:23:28"]
[null,2,"Les Liddiard","Swindon RC 2nd claim","00:23:29"]
[null,3,"Mike Cashman","Corinium CC","00:26:17"]
[null,4,"Marc Allen","Swindon RC","00:26:56"]
[null,5,"Tom Sewell","Swindon RC 2nd claim","00:30:01"]
[null,6,"Nick Fiore","Swindon RC","00:31:15"]
[null,7,"Dave Miatt","Corinium CC","00:33:05"]
[null,8,"Marguerite Miatt","Corinium CC","00:35:32"]
[null,9,"Chris Wood","Performance Cycles","DNF"]
[null,null,"Thursday 2 May"]
[null,1,"Neil Rutter & James Brown (Tandem)","Swindon RC 2nd claim","00:21:44"]
[null,2,"Lee Piercy","Corinium CC","00:21:46"]
[null,3,"Steve Yates","Corinium CC","00:22:07"]
[null,4,"Peter Garnett","Swindon RC","00:22:14"]
[null,5,"Tony Costello","Corinium CC","00:22:28"]
[null,6,"Jake Coward","Rapha Condor","00:22:39"]
[null,7,"Pete Hutchinson","Corinium CC","00:22:44"]
[null,8,"Les Liddiard","Swindon RC 2nd claim","00:22:54"]
[null,9,"Paul O'Driscoll","Swindon RC","00:23:20"]
[null,10,"Mark Woolford","Swindon RC 2nd claim","00:23:46"]
[null,11,"Chris Wood","Performance Cycles","00:24:06"]
[null,12,"Taylor Rowe","Swindon Cycles RA","00:24:09"]
[null,13,"Richard Cooper","Swindon RC","00:24:16"]
[null,14,"Andy Morgan","Corinium CC","00:24:20"]
[null,15,"Pete Jeans","Swindon RC","00:24:26"]
[null,16,"Chris Broad-Drake","Swindon RC","00:24:31"]
[null,17,"Mark Kent","Swindon RC 2nd claim","00:24:50"]
[null,18,"Andy Smith","Swindon RC 2nd claim","00:24:54"]
[null,19,"Nick Mawson","Swindon RC","00:25:09"]
[null,20,"Ross Harvey","Swindon RC","00:25:15"]
[null,21,"Marc Allen","Swindon RC","00:25:21"]
[null,22,"Keith Waller","Swindon RC","00:25:31"]
[null,"=","Mark Foyn","Corinium CC","00:25:31"]
[null,24,"Gerry Peppin","Corinium CC","00:25:48"]
[null,"=","Paul Fuchs","Corinium CC","00:25:48"]
[null,26,"Mike Firth","Corinium CC","00:25:49"]
[null,27,"Rob Patterson","Swindon RC","00:26:09"]
[null,28,"Corinne Clark","Performance Cycles","00:26:12"]
[null,29,"Simon James","Corinium CC","00:26:24"]
[null,30,"Bernie Beale","Swindon RC","00:26:27"]
[null,31,"Clive Rivers","Performance Cycles","00:26:36"]
[null,32,"Kevin Lister","Corinium CC","00:26:39"]
[null,33,"Allan Norwood","Corinium CC","00:26:45"]
[null,34,"Paul Sewell","Swindon RC 2nd claim","00:26:49"]
[null,35,"Gemma Stuart","Corinium CC","00:26:52"]
[null,"=","Trevor Ricketts","Corinium CC","00:26:52"]
[null,37,"Josh Coward","Chippenham Wheelers","00:26:57"]
[null,38,"Matt Hodgson","Corinium CC","00:27:09"]
[null,39,"Craig Scott","Swindon RC","00:27:16"]
[null,40,"Alex McIntosh","Swindon RC","00:27:42"]
[null,41,"John Howells","Corinium CC","00:27:46"]
[null,42,"Tom Sewell","Swindon RC 2nd claim","00:27:48"]
[null,43,"Steve Harvey","Swindon RC","00:27:52"]
[null,44,"Dave Newton","Swindon RC","00:27:56"]
[null,45,"Mervyn Cox","Performance Cycles","00:29:37"]
[null,"=","Keith Williams","Swindon RC","00:29:37"]
[null,47,"Dave Miatt","Corinium CC","00:30:46"]
[null,48,"Mandy James","Corinium CC","00:31:43"]
[null,49,"Marguerite Miatt","Corinium CC","00:31:58"]
[null,50,"Carol Clarke","Corinium CC","00:33:44"]
[null,null,"Thursday 25 April"]
[null,1,"James Stewart","Kuota-GSG (Performance Cycles)","00:22:06"]
[null,2,"Tom Bowering","Swindon Cycles RA","00:22:14"]
[null,3,"Pete Hutchinson","Corinium CC","00:22:40"]
[null,4,"Peter Garnett","Swindon RC","00:22:41"]
[null,5,"Steve Yates","Corinium CC","00:22:53"]
[null,6,"Joe Barry","Performance Cycles","00:23:32"]
[null,"=","Paul O'Driscoll","Swindon RC","00:23:32"]
[null,"=","Jake Coward","Rapha Condor","00:23:32"]
[null,9,"Mark Woolford","Swindon RC 2nd claim","00:23:44"]
[null,10,"Neil Rutter","Swindon RC","00:23:45"]
[null,11,"Aaron Collins","Swindon RC","00:24:16"]
[null,12,"David Ryan","Swindon RC","00:24:23"]
[null,13,"Clive Hayter","Swindon RC","00:24:25"]
[null,14,"Mark Kent","Swindon RC 2nd claim","00:24:44"]
[null,15,"Andy Smith","Swindon RC 2nd claim","00:24:55"]
[null,16,"Ross Harvey","Swindon RC","00:25:05"]
[null,17,"Mike Cashman","Corinium CC","00:25:15"]
[null,18,"Paul Fuchs","Corinium CC","00:25:17"]
[null,19,"Mike Bowering","Windy Milla","00:25:19"]
[null,20,"Simon James","Corinium CC","00:25:29"]
[null,21,"Matt Cooper","Swindon RC","00:25:35"]
[null,22,"Mike Firth","Corinium CC","00:25:42"]
[null,23,"Marc Allen","Swindon RC","00:25:44"]
[null,24,"Dave Tilling","Performance Cycles","00:25:56"]
[null,25,"Mark Foyn","Corinium CC","00:25:57"]
[null,26,"Alex King","Performance Cycles","00:26:02"]
[null,27,"Corinne Clark","Performance Cycles","00:26:03"]
[null,28,"Dave Gibson","Swindon RC","00:26:10"]
[null,29,"Rob Patterson","Swindon RC","00:26:23"]
[null,30,"Mark Chick","Swindon RC","00:26:25"]
[null,31,"Trevor Hodges","Corinium CC","00:26:36"]
[null,32,"Rob Barry","Corinium CC","00:26:54"]
[null,33,"Trevor Ricketts","Corinium CC","00:26:55"]
[null,34,"Gerry Peppin","Corinium CC","00:27:03"]
[null,35,"Paul Sewell","Swindon RC 2nd claim","00:27:07"]
[null,36,"Allan Norwood","Corinium CC","00:27:17"]
[null,37,"Jon Bayliss","Performance Cycles","00:27:18"]
[null,38,"Michael Ponzo","Swindon RC","00:27:29"]
[null,39,"Matt Hodgson","Corinium CC","00:27:43"]
[null,40,"Kevin Lister","Corinium CC","00:27:49"]
[null,41,"Daniel Dickson","Performance Cycles","00:27:51"]
[null,42,"Gemma Stuart","Corinium CC","00:28:00"]
[null,43,"Steve Harvey","Swindon RC","00:28:09"]
[null,"=","Tom Sewell","Swindon RC 2nd claim","00:28:09"]
[null,45,"Josh Coward","?","00:28:44"]
[null,46,"Marc Roberts","Swindon RC","00:29:20"]
[null,47,"Alex McIntosh","Swindon RC","00:29:32"]
[null,48,"Paul Wood","Swindon Wheelers","00:29:45"]
[null,49,"Mervyn Cox","Performance Cycles","00:29:49"]
[null,50,"Archie Scott","Swindon RC","00:30:27"]
[null,51,"Kelli Salone","Sigma Sport","00:30:39"]
[null,52,"Mandy James","Corinium CC","00:31:55"]
[null,53,"Marguerite Miatt","Corinium CC","00:32:40"]
[null,54,"Katie Scott","Swindon RC","00:33:53"]
[null,55,"Mandy Scott","Swindon RC","00:34:56"]
[null,56,"Paul Ryan","Swindon RC","?"]
[null,57,"Andy Morgan","Corinium CC","DNF"]
[null,null,"Thursday 18 April"]
[null,1,"Les Liddiard","Swindon RC 2nd claim","00:22:48"]
[null,2,"Peter Garnett","Swindon RC","00:23:02"]
[null,3,"Joe Schvartz","Swindon RC","00:24:01"]
[null,4,"Aaron Collins","Swindon RC","00:24:23"]
[null,5,"Clive Hayter","Swindon RC","00:24:53"]
[null,6,"Chris Broad-Drake","Swindon RC","00:25:09"]
[null,7,"Ross Harvey","Swindon RC","00:25:25"]
[null,8,"Mike Cashman","Corinium CC","00:25:29"]
[null,9,"Paul Fuchs","Corinium CC","00:26:13"]
[null,10,"Tom Longland","Swindon RC","00:26:54"]
[null,11,"Alex King","Performance Cycles","00:26:56"]
[null,12,"Marc Allen","Swindon RC","00:27:03"]
[null,13,"Dave Newton","Swindon RC","00:27:09"]
[null,14,"Alex Joyner","Corinium CC","00:27:23"]
[null,15,"Allan Norwood","Corinium CC","00:27:43"]
[null,16,"Mark Chick","Swindon RC","00:27:53"]
[null,17,"Rob Barry","Corinium CC","00:27:59"]
[null,18,"Daniel Dickson","Performance Cycles","00:28:01"]
[null,19,"Clive Rivers","Performance Cycles","00:28:02"]
[null,20,"Mark Hodgson","Corinium CC","00:28:20"]
[null,21,"Kevin Lister","Corinium CC","00:28:28"]
[null,22,"Gemma Stuart","Corinium CC","00:28:49"]
[null,23,"Trevor Sherwood","Swindon RC","00:29:19"]
[null,"=","Nick Fiore","Swindon RC","00:29:19"]
[null,25,"Marc Roberts","Swindon RC","00:30:33"]
[null,26,"Alex McIntosh","Swindon RC","00:31:04"]
[null,27,"Mandy James","Corinium CC","00:33:22"]
[null,null,"Prologue - 11 April 2013"]
[null,1,"Joe Barry","Performance Cycles","00:12:04"]
[null,2,"Pete Hutchinson","Corinium CC","00:12:05"]
[null,3,"Andy Morgan","Corinium CC","00:12:21"]
[null,4,"Andy Claxton","Ride 24/7","00:12:24"]
[null,5,"Paul O'Driscoll","Swindon RC","00:12:25"]
[null,6,"Aaron Collins","Swindon RC","00:12:33"]
[null,7,"Clive Hayter","Swindon RC","00:12:34"]
[null,8,"Nick Lowe","Swindon RC","00:12:48"]
[null,9,"Ross Harvey","Swindon RC","00:12:57"]
[null,10,"Mike Cashman","Corinium CC","00:12:59"]
[null,11,"Matt Cooper","Swindon RC","00:13:24"]
[null,12,"Corinne Clark","Performance Cycles","00:13:49"]
[null,13,"Paul Sewell","Swindon RC 2nd claim","00:13:57"]
[null,14,"Daniel Dickson","Performance Cycles","00:14:17"]
[null,15,"Matt Hodgson","Corinium CC","00:14:31"]
[null,16,"Steve Harvey","Swindon RC","00:14:35"]
[null,17,"Walter Featherstone","Swindon RC","00:14:41"]
[null,18,"Adriano dos Santos","Swindon RC","00:14:45"]
[null,19,"Gemma Stuart","Corinium CC","00:14:47"]
[null,20,"Tom Sewell","Swindon RC 2nd claim","00:14:51"]
[null,21,"Trev Ricketts","Corinium CC","00:15:08"]
[null,22,"Alex McIntosh","Swindon RC","00:15:20"]
[null,23,"Trev Sherwood","Swindon RC","00:15:22"]
[null,24,"Marc Roberts","Swindon RC","00:15:24"]
[null,25,"Paul Wood","Swindon Wheelers","00:15:59"]
[null,null,"Wroughton Beckhampton Time Trial - 7 April 2013"]
[null,"With conditions very similar to the previous day's Come & Try It event, 22 riders took to the start line.  With a cross-headwind on the outward leg, the expected tailwind for the return leg didn't really materialise. "]
[null,"Thanks to Chrissy and Mary for the tea and cake and Chris & Sue for timekeeping."]
[null,1,"Mike Holborow",null,"00:47:02"]
[null,2,"Andy Claxton",null,"00:48:05"]
[null,3,"Malcolm Walklett",null,"00:48:18"]
[null,4,"Dan Smith",null,"00:48:22"]
[null,5,"Dave Gibson & Jeff Smith  (2 up)",null,"00:49:03"]
[null,6,"Peter Garnett",null,"00:49:17"]
[null,7,"Neil Hancock",null,"00:49:41"]
[null,8,"Justin Robbins",null,"00:50:19"]
[null,9,"Joe Schvartz",null,"00:50:48"]
[null,10,"Chris Broad-Drake",null,"00:51:32"]
[null,11,"Marc Allen",null,"00:51:58"]
[null,12,"John Smith ",null,"00:52:37"]
[null,13,"Mick Murkin",null,"00:53:26"]
[null,14,"Paul Fuchs",null,"00:54:03"]
[null,15,"Allan Semple",null,"00:55:02"]
[null,16,"David Newton",null,"00:55:25"]
[null,17,"Lee Rayfield",null,"00:57:31"]
[null,18,"Colin Wyatt",null,"00:58:13"]
[null,19,"Nick Fiore & Paul Sewell (2 up)",null,"00:58:31"]
[null,20,"Robert Hawkins",null,"01:08:19"]
[null,null,"Come & Try It Time Trial - 6 April 2013"]
[null,"On a bright, dry but cold and windy morning, 47 riders took part in the Come & Try It Time Trial.  It was good to see that the majority weren't regular TTers - hopefully this will have inspired some of the new riders to participate in the Thursday evening events throughout the summer."]
[null,"Many thanks to all those who helped out and made the event a success."]
[null,30,"M Hodgson ","Corinium CC","00:29:12"]
[null,31,"M Foyn","Corinium CC","00:28:12"]
[null,32,"A Foyn","Corinium CC","00:29:18"]
[null,33,"M Holborow","Swindon RC","00:24:13"]
[null,34,"N Fiore","Swindon RC","00:29:57"]
[null,35,"M Jones","H & R Cirencester","00:35:16"]
[null,36,"F Westall","Swindon Tri Club","00:32:37"]
[null,37,"P Adams",null,"00:30:58"]
[null,38,"A Dickson",null,"00:45:54"]
[null,39,"N Moore 1 Lap","Swindon RC","00:21:40"]
[null,40,"C Rivers","Performance Cycles","00:28:20"]
[null,41,"A Scott","Swindon RC","00:30:32"]
[null,42,"A Partl","Swindon Tri Club","00:26:29"]
[null,43,"M Ponzo","Swindon RC","00:26:32"]
[null,44,"M Cooper","Swindon RC","DNF"]
[null,45,"A Collins","Swindon RC","00:24:32"]
[null,46,"M Allen","Swindon RC","00:28:10"]
[null,47,"G Mearns",null,"00:31:19"]
[null,48,"J Miller",null,"00:29:32"]
[null,49,"M Woolford","Swindon RC","00:24:11"]
[null,50,"C Scott","Swindon RC","00:29:50"]
[null,51,"T Sewell","Swindon RC","00:30:47"]
[null,52,"M Roberts","Swindon RC","00:31:28"]
[null,53,"A McIntosh","Swindon RC","00:31:26"]
[null,54,"P Sewell","Swindon RC","00:27:58"]
[null,55,"D Parkin","Swindon RC","00:32:52"]
[null,56,"J Barstow","Swindon RC","00:32:20"]
[null,57,"A Santos",null,"00:30:05"]
[null,58,"S Longhurst","Swindon RC","00:29:26"]
[null,59,"D Longhurst",null,"00:46:20"]
[null,60,"G Chapman","Swindon RC","00:29:48"]
[null,61,"A Moran",null,"00:28:45"]
[null,62,"G Morrison","Newbury RC","00:28:11"]
[null,63]
[null,64]
[null,65,"M Richards",null,"00:30:27"]
[null,66,"P O'Driscoll","Swindon RC","00:25:21"]
[null,67,"A Bent",null,"00:29:43"]
[null,68,"A Gibbs","Swindon RC","00:34:38"]
[null,69,"H Gibbs","Swindon RC","00:34:36"]
[null,70,"P Gilbert","Swindon Tri Club","00:28:22"]
[null,71,"M Griffiths","Performance Cycles","00:26:38"]
[null,72,"T Longland","Swindon RC","00:27:14"]
[null,73,"S Purnell","Performance Cycles","00:27:58"]
[null,74,"R Gilling","Performance Cycles","00:24:41"]
[null,75,"L Liddiard","Team Jewson","00:23:10"]
[null,76]
[null,77]
[null,78,"S McGinlay",null,"00:30:15"]
[null,79,"J Fleming",null,"00:30:56"]
[null,80,"P Garnett","Swindon RC","00:23:25"]
[null,"Corinium New Years Day 10 TT 2013"]
[null,1,"Neil Rutter","Swindon RC","00:23:22"]
[null,2,"Peter Garnett","Swindon RC","00:23:41"]
[null,3,"Andy Morgan","Corinium CC","00:24:31"]
[null,4,"Nick Druce","Didcot Phoenix","00:24:55"]
[null,5,"Jeff Smith","Swindon RC (3 up)","00:25:57"]
[null,null,"Dave Gibson"]
[null,null,"Chris Broad-Drake"]
[null,6,"Mike Holborow","Swindon RC","00:26:11"]
[null,7,"Graham Hughes","Corinium CC","00:27:06"]
[null,8,"Marc Allen","Swindon RC","00:27:54"]
[null,9,"Aaron Collins","Swindon RC","00:28:07"]
[null,10,"Chris Rothwell","Cotswold Veldrijden","00:28:16"]
[null,11,"Michael Ponzo","Swindon RC","00:28:31"]
[null,12,"Mark Chick","Swindon RC","00:28:52"]
[null,13,"Keith Rothwell","Cotswold Veldrijden","00:29:04"]
[null,14,"Lee Rayfield","Swindon RC","00:29:07"]
[null,15,"Alex Foyn","Corinium CC","00:29:10"]
[null,16,"Bernie Beale","Swindon RC","00:29:24"]
[null,17,"Steve Harvey","Swindon RC","00:29:52"]
[null,18,"Andrew Wilcox","Corinium CC","00:30:01"]
[null,19,"Gemma Stuart","Corinium CC","00:30:25"]
[null,20,"Trevor Ricketts","Corinium CC","00:30:30"]
[null,21,"Mark Foyn","Corinium CC","00:30:46"]
[null,22,"Mark Roberts","Swindon RC","00:33:25"]
[null,23,"Ian Hamilton","Corinium CC","00:42:24"]
[null,24,"Ross Harvey","Swindon RC","DNF"]

{"sheet":"Points 2012","index":20,"n_rows":365,"n_cols":57,"rows_kept":365,"cut":false,"hidden":true,"merged":[[6,39,6,41],[6,6,6,8],[6,9,6,11],[6,12,6,14],[6,15,6,17],[6,18,6,20],[6,21,6,23],[6,24,6,26],[6,27,6,29],[6,30,6,32],[6,33,6,35],[6,36,6,38],[6,42,6,44],[6,45,6,47],[6,48,6,50],[6,51,6,53],[6,54,6,56]]}
[null,null,86400]
[null,null,"Start Points",60]
[null,null,"Max Points",75]
[null,null,"Min Points",45]
[null,null,"Counting Rides",7]
[]
[null,null,null,null,null,null,"2012-04-26",null,null,"2012-05-03",null,null,"2012-05-10",null,null,"2012-05-17",null,null,"2012-05-24",null,null,"2012-05-31",null,null,"2012-06-07",null,null,"2012-06-28",null,null,"2012-07-05",null,null,"2012-07-19",null,null,"2012-07-26"]
[null,null,null,null,null,null,"Time","Points","Best\nto date","Time","Points","Best\nto date","Time","Points","Best\nto date","Time","Points","Best\nto date","Time","Points","Best\nto date","Time","Points","Best\nto date","Time","Points","Best\nto date","Time","Points","Best\nto date","Time","Points","Best\nto date","Time","Points","Best\nto date","Time","Points","Best\nto date","Time","Points","Best\nto date","Time","Points","Best\nto date","Time","Points","Best\nto date","Time","Points","Best\nto date","Time","Points","Best\nto date","Time","Points","Best\nto date"]
[1,{"$f":"IF(C9=\"\",\"\",IF(E9=E8,\"=\",A9))","v":1},"Kellie Salone",{"$f":"COUNT(G9,J9,M9,P9,S9,V9,Y9,AB9,AE9,AH9,AK9,AN9,AQ9,AT9,AW9,AZ9,BC9)","v":8},{"$f":"ROUNDDOWN(LARGE(G9:BD9,1)+(IF($D$5>1,LARGE(G9:BD9,2),0))+(IF($D$5>2,LARGE(G9:BD9,3),0))+(IF($D$5>3,LARGE(G9:BD9,4),0))+(IF($D$5>4,LARGE(G9:BD9,5),0))+(IF($D$5>5,LARGE(G9:BD9,6),0))+(IF($D$5>6,LARGE(G9:BD9,7),0)),0)","v":480},{"$f":"MIN(G9,J9,M9,P9,S9,V9,Y9,AB9,AE9,AH9,AK9,AN9,AQ9,AT9,AW9,AZ9,BC9)","v":"00:27:00"},"00:33:15",{"$f":"IF(G9=\"\",0,$D$2)","v":60},{"$f":"G9","v":"00:33:15"},"00:32:00",{"$f":"IF(J9=\"\",0,IF(I9=\"\",$D$2,IF((I9-J9)*$C$1+$D$2<$D$4,$D$4,IF((I9-J9)*$C$1+$D$2>$D$3,$D$3,IF((I9-J9)*$C$1+$D$2<$D$3,(I9-J9)*$C$1+$D$2,0)))))","v":75},{"$f":"MIN(I9,J9)","v":"00:32:00"},"00:31:31",{"$f":"IF(M9=\"\",0,IF(L9=\"\",$D$2,IF((L9-M9)*$C$1+$D$2<$D$4,$D$4,IF((L9-M9)*$C$1+$D$2>$D$3,$D$3,IF((L9-M9)*$C$1+$D$2<$D$3,(L9-M9)*$C$1+$D$2,0)))))","v":75},{"$f":"MIN(L9,M9)","v":"00:31:31"},null,{"$f":"IF(P9=\"\",0,IF(O9=\"\",$D$2,IF((O9-P9)*$C$1+$D$2<$D$4,$D$4,IF((O9-P9)*$C$1+$D$2>$D$3,$D$3,IF((O9-P9)*$C$1+$D$2<$D$3,(O9-P9)*$C$1+$D$2,0)))))","v":0},{"$f":"MIN(O9,P9)","v":"00:31:31"},"00:28:49",{"$f":"IF(S9=\"\",0,IF(R9=\"\",$D$2,IF((R9-S9)*$C$1+$D$2<$D$4,$D$4,IF((R9-S9)*$C$1+$D$2>$D$3,$D$3,IF((R9-S9)*$C$1+$D$2<$D$3,(R9-S9)*$C$1+$D$2,0)))))","v":75},{"$f":"MIN(R9,S9)","v":"00:28:49"},"00:29:15",{"$f":"IF(V9=\"\",0,IF(U9=\"\",$D$2,IF((U9-V9)*$C$1+$D$2<$D$4,$D$4,IF((U9-V9)*$C$1+$D$2>$D$3,$D$3,IF((U9-V9)*$C$1+$D$2<$D$3,(U9-V9)*$C$1+$D$2,0)))))","v":45},{"$f":"MIN(U9,V9)","v":"00:28:49"},null,{"$f":"IF(Y9=\"\",0,IF(X9=\"\",$D$2,IF((X9-Y9)*$C$1+$D$2<$D$4,$D$4,IF((X9-Y9)*$C$1+$D$2>$D$3,$D$3,IF((X9-Y9)*$C$1+$D$2<$D$3,(X9-Y9)*$C$1+$D$2,0)))))","v":0},{"$f":"MIN(X9,Y9)","v":"00:28:49"},"00:28:20",{"$f":"IF(AB9=\"\",0,IF(AA9=\"\",$D$2,IF((AA9-AB9)*$C$1+$D$2<$D$4,$D$4,IF((AA9-AB9)*$C$1+$D$2>$D$3,$D$3,IF((AA9-AB9)*$C$1+$D$2<$D$3,(AA9-AB9)*$C$1+$D$2,0)))))","v":75},{"$f":"MIN(AA9,AB9)","v":"00:28:20"},"00:27:00",{"$f":"IF(AE9=\"\",0,IF(AD9=\"\",$D$2,IF((AD9-AE9)*$C$1+$D$2<$D$4,$D$4,IF((AD9-AE9)*$C$1+$D$2>$D$3,$D$3,IF((AD9-AE9)*$C$1+$D$2<$D$3,(AD9-AE9)*$C$1+$D$2,0)))))","v":75},{"$f":"MIN(AD9,AE9)","v":"00:27:00"},null,{"$f":"IF(AH9=\"\",0,IF(AG9=\"\",$D$2,IF((AG9-AH9)*$C$1+$D$2<$D$4,$D$4,IF((AG9-AH9)*$C$1+$D$2>$D$3,$D$3,IF((AG9-AH9)*$C$1+$D$2<$D$3,(AG9-AH9)*$C$1+$D$2,0)))))","v":0},{"$f":"MIN(AG9,AH9)","v":"00:27:00"},"00:28:30",{"$f":"IF(AK9=\"\",0,IF(AJ9=\"\",$D$2,IF((AJ9-AK9)*$C$1+$D$2<$D$4,$D$4,IF((AJ9-AK9)*$C$1+$D$2>$D$3,$D$3,IF((AJ9-AK9)*$C$1+$D$2<$D$3,(AJ9-AK9)*$C$1+$D$2,0)))))","v":45},{"$f":"MIN(AJ9,AK9)","v":"00:27:00"},null,{"$f":"IF(AN9=\"\",0,IF(AM9=\"\",$D$2,IF((AM9-AN9)*$C$1+$D$2<$D$4,$D$4,IF((AM9-AN9)*$C$1+$D$2>$D$3,$D$3,IF((AM9-AN9)*$C$1+$D$2<$D$3,(AM9-AN9)*$C$1+$D$2,0)))))","v":0},{"$f":"MIN(AM9,AN9)","v":"00:27:00"},null,{"$f":"IF(AQ9=\"\",0,IF(AP9=\"\",$D$2,IF((AP9-AQ9)*$C$1+$D$2<$D$4,$D$4,IF((AP9-AQ9)*$C$1+$D$2>$D$3,$D$3,IF((AP9-AQ9)*$C$1+$D$2<$D$3,(AP9-AQ9)*$C$1+$D$2,0)))))","v":0},{"$f":"MIN(AP9,AQ9)","v":"00:27:00"},null,{"$f":"IF(AT9=\"\",0,IF(AS9=\"\",$D$2,IF((AS9-AT9)*$C$1+$D$2<$D$4,$D$4,IF((AS9-AT9)*$C$1+$D$2>$D$3,$D$3,IF((AS9-AT9)*$C$1+$D$2<$D$3,(AS9-AT9)*$C$1+$D$2,0)))))","v":0},{"$f":"MIN(AS9,AT9)","v":"00:27:00"},null,{"$f":"IF(AW9=\"\",0,IF(AV9=\"\",$D$2,IF((AV9-AW9)*$C$1+$D$2<$D$4,$D$4,IF((AV9-AW9)*$C$1+$D$2>$D$3,$D$3,IF((AV9-AW9)*$C$1+$D$2<$D$3,(AV9-AW9)*$C$1+$D$2,0)))))","v":0},{"$f":"MIN(AV9,AW9)","v":"00:27:00"},null,{"$f":"IF(AZ9=\"\",0,IF(AY9=\"\",$D$2,IF((AY9-AZ9)*$C$1+$D$2<$D$4,$D$4,IF((AY9-AZ9)*$C$1+$D$2>$D$3,$D$3,IF((AY9-AZ9)*$C$1+$D$2<$D$3,(AY9-AZ9)*$C$1+$D$2,0)))))","v":0},{"$f":"MIN(AY9,AZ9)","v":"00:27:00"},null,{"$f":"IF(BC9=\"\",0,IF(BB9=\"\",$D$2,IF((BB9-BC9)*$C$1+$D$2<$D$4,$D$4,IF((BB9-BC9)*$C$1+$D$2>$D$3,$D$3,IF((BB9-BC9)*$C$1+$D$2<$D$3,(BB9-BC9)*$C$1+$D$2,0)))))","v":0},{"$f":"MIN(BB9,BC9)","v":"00:27:00"}]
[2,2,"Pete Garnett",11,476,"00:21:49","00:23:08",{"$f":"IF(G10=\"\",0,$D$2)","v":60},{"$f":"G10","v":"00:23:08"},"00:23:02",65.999999999999744,"00:23:02","00:22:56",66.000000000000043,"00:22:56","00:22:31",75,"00:22:31","00:22:03",75,"00:22:03","00:22:29",45,"00:22:03","00:23:22",45,"00:22:03","00:22:28",45,"00:22:03","00:21:59",63.999999999999829,"00:21:59","00:21:53",66.000000000000185,"00:21:53","00:21:49",63.999999999999979,"00:21:49",null,0,"00:21:49",null,0,"00:21:49",null,0,"00:21:49",null,0,"00:21:49",null,0,"00:21:49",null,0,"00:21:49"]
[3,3,"Marc Allen",8,455,"00:23:58","00:26:24",{"$f":"IF(G11=\"\",0,$D$2)","v":60},{"$f":"G11","v":"00:26:24"},"00:25:42",75,"00:25:42",null,0,"00:25:42","00:25:03",75,"00:25:03",null,0,"00:25:03",null,0,"00:25:03","00:26:58",45,"00:25:03","00:24:36",75,"00:24:36","00:23:58",75,"00:23:58","00:24:31",45,"00:23:58","00:24:08",50.000000000000135,"00:23:58",null,0,"00:23:58",null,0,"00:23:58",null,0,"00:23:58",null,0,"00:23:58",null,0,"00:23:58",null,0,"00:23:58"]
[4,4,"Chris Broad-Drake",9,452,"00:23:25","00:25:07",{"$f":"IF(G12=\"\",0,$D$2)","v":60},{"$f":"G12","v":"00:25:07"},"00:25:07",60,"00:25:07","00:25:26",45,"00:25:07","00:24:37",75,"00:24:37","00:23:46",75,"00:23:46",null,0,"00:23:46",null,0,"00:23:46","00:24:14",45,"00:23:46","00:23:50",56.000000000000171,"00:23:46","00:23:55",50.999999999999794,"00:23:46","00:23:25",75,"00:23:25",null,0,"00:23:25",null,0,"00:23:25",null,0,"00:23:25",null,0,"00:23:25",null,0,"00:23:25",null,0,"00:23:25"]
[5,5,"Les Liddiard",7,430,"00:22:19",null,null,null,"00:23:12",60,"00:23:12","00:23:12",60,"00:23:12","00:22:48",75,"00:22:48","00:22:55",53.000000000000007,"00:22:48","00:22:53",55.00000000000022,"00:22:48",null,0,"00:22:48","00:22:56",52.00000000000005,"00:22:48",null,0,"00:22:48","00:22:19",75,"00:22:19",null,0,"00:22:19",null,0,"00:22:19",null,0,"00:22:19",null,0,"00:22:19",null,0,"00:22:19",null,0,"00:22:19",null,0,"00:22:19"]
[6,6,"Joe Schwartz",6,393,"00:23:09","00:25:56",{"$f":"IF(G14=\"\",0,$D$2)","v":60},{"$f":"G14","v":"00:25:56"},"00:24:32",75,"00:24:32",null,0,"00:24:32","00:24:28",64.000000000000128,"00:24:28",null,0,"00:24:28",null,0,"00:24:28",null,0,"00:24:28","00:24:32",55.999999999999872,"00:24:28","00:23:12",75,"00:23:12",null,0,"00:23:12","00:23:09",63.000000000000171,"00:23:09",null,0,"00:23:09",null,0,"00:23:09",null,0,"00:23:09",null,0,"00:23:09",null,0,"00:23:09",null,0,"00:23:09"]
[7,7,"David Newton",6,355,"00:26:51","00:28:17",{"$f":"IF(G15=\"\",0,$D$2)","v":60},{"$f":"G15","v":"00:28:17"},"00:27:03",75,"00:27:03","00:28:11",45,"00:27:03","00:27:05",58.000000000000085,"00:27:03","00:26:51",72.000000000000085,"00:26:51",null,0,"00:26:51",null,0,"00:26:51","00:28:06",45,"00:26:51",null,0,"00:26:51",null,0,"00:26:51",null,0,"00:26:51",null,0,"00:26:51",null,0,"00:26:51",null,0,"00:26:51",null,0,"00:26:51",null,0,"00:26:51",null,0,"00:26:51"]
[8,8,"Aaron Collins",5,337,"00:23:44",null,null,null,null,null,null,"00:26:55",60,"00:26:55",null,0,"00:26:55","00:24:29",75,"00:24:29",null,0,"00:24:29",null,0,"00:24:29","00:23:53",75,"00:23:53","00:23:55",57.999999999999787,"00:23:53","00:23:44",68.999999999999915,"00:23:44",null,0,"00:23:44",null,0,"00:23:44",null,0,"00:23:44",null,0,"00:23:44",null,0,"00:23:44",null,0,"00:23:44",null,0,"00:23:44"]
[9,9,"Niel Dunnage",5,335,"00:22:19","00:23:37",{"$f":"IF(G17=\"\",0,$D$2)","v":60},{"$f":"G17","v":"00:23:37"},null,{"$f":"IF(J17=\"\",0,IF(I17=\"\",$D$2,IF((I17-J17)*$C$1+$D$2<$D$4,$D$4,IF((I17-J17)*$C$1+$D$2>$D$3,$D$3,IF((I17-J17)*$C$1+$D$2<$D$3,(I17-J17)*$C$1+$D$2,0)))))","v":0},{"$f":"MIN(I17,J17)","v":"00:23:37"},"00:23:37",60,"00:23:37","00:22:48",75,"00:22:48",null,0,"00:22:48",null,0,"00:22:48",null,0,"00:22:48","00:22:24",75,"00:22:24","00:22:19",64.999999999999787,"00:22:19",null,0,"00:22:19",null,0,"00:22:19",null,0,"00:22:19",null,0,"00:22:19",null,0,"00:22:19",null,0,"00:22:19",null,0,"00:22:19",null,0,"00:22:19"]
[10,10,"Michael Ponzo",5,300,"00:26:30",null,null,null,null,null,null,"00:28:14",60,"00:28:14",null,0,"00:28:14","00:27:33",75,"00:27:33",null,0,"00:27:33",null,0,"00:27:33","00:28:05",45,"00:27:33",null,0,"00:27:33","00:26:30",75,"00:26:30","00:26:56",45,"00:26:30",null,0,"00:26:30",null,0,"00:26:30",null,0,"00:26:30",null,0,"00:26:30",null,0,"00:26:30",null,0,"00:26:30"]
[11,11,"Nick Lowe",5,298,"00:23:35","00:24:05",{"$f":"IF(G19=\"\",0,$D$2)","v":60},{"$f":"G19","v":"00:24:05"},null,{"$f":"IF(J19=\"\",0,IF(I19=\"\",$D$2,IF((I19-J19)*$C$1+$D$2<$D$4,$D$4,IF((I19-J19)*$C$1+$D$2>$D$3,$D$3,IF((I19-J19)*$C$1+$D$2<$D$3,(I19-J19)*$C$1+$D$2,0)))))","v":0},{"$f":"MIN(I19,J19)","v":"00:24:05"},"00:24:27",45,"00:24:05",null,0,"00:24:05","00:23:40",75,"00:23:40","00:23:47",53.000000000000306,"00:23:40",null,0,"00:23:40",null,0,"00:23:40","00:23:35",65.000000000000384,"00:23:35",null,0,"00:23:35",null,0,"00:23:35",null,0,"00:23:35",null,0,"00:23:35",null,0,"00:23:35",null,0,"00:23:35",null,0,"00:23:35",null,0,"00:23:35"]
[12,"=","Jim Foster",5,298,"00:24:49","00:25:56",{"$f":"IF(G20=\"\",0,$D$2)","v":60},{"$f":"G20","v":"00:25:56"},null,{"$f":"IF(J20=\"\",0,IF(I20=\"\",$D$2,IF((I20-J20)*$C$1+$D$2<$D$4,$D$4,IF((I20-J20)*$C$1+$D$2>$D$3,$D$3,IF((I20-J20)*$C$1+$D$2<$D$3,(I20-J20)*$C$1+$D$2,0)))))","v":0},{"$f":"MIN(I20,J20)","v":"00:25:56"},"00:26:14",45,"00:25:56","00:25:43",73.000000000000028,"00:25:43","00:24:49",75,"00:24:49","00:25:10",45,"00:24:49",null,0,"00:24:49",null,0,"00:24:49",null,0,"00:24:49",null,0,"00:24:49",null,0,"00:24:49",null,0,"00:24:49",null,0,"00:24:49",null,0,"00:24:49",null,0,"00:24:49",null,0,"00:24:49",null,0,"00:24:49"]
[13,13,"Gary Major",5,297,"00:24:34",null,null,null,"00:25:25",{"$f":"IF(J21=\"\",0,IF(I21=\"\",$D$2,IF((I21-J21)*$C$1+$D$2<$D$4,$D$4,IF((I21-J21)*$C$1+$D$2>$D$3,$D$3,IF((I21-J21)*$C$1+$D$2<$D$3,(I21-J21)*$C$1+$D$2,0)))))","v":60},{"$f":"MIN(I21,J21)","v":"00:25:25"},null,0,"00:25:25","00:24:45",75,"00:24:45","00:24:34",70.999999999999815,"00:24:34",null,0,"00:24:34",null,0,"00:24:34","00:25:04",45,"00:24:34","00:24:48",46.000000000000014,"00:24:34",null,0,"00:24:34",null,0,"00:24:34",null,0,"00:24:34",null,0,"00:24:34",null,0,"00:24:34",null,0,"00:24:34",null,0,"00:24:34",null,0,"00:24:34"]
[14,14,"Mark Woolford",5,270,"00:23:08",null,null,null,null,null,null,null,null,null,"00:23:25",60,"00:23:25","00:23:08",75,"00:23:08",null,0,"00:23:08",null,0,"00:23:08",null,0,"00:23:08","00:23:31",45,"00:23:08","00:24:01",45,"00:23:08","00:23:26",45,"00:23:08",null,0,"00:23:08",null,0,"00:23:08",null,0,"00:23:08",null,0,"00:23:08",null,0,"00:23:08",null,0,"00:23:08"]
[15,"=","Keith Williams",5,270,"00:24:25",null,null,null,null,null,null,null,null,null,"00:24:58",60,"00:24:58","00:24:25",75,"00:24:25","00:28:50",45,"00:24:25",null,0,"00:24:25","00:28:38",45,"00:24:25",null,0,"00:24:25","00:28:27",45,"00:24:25",null,0,"00:24:25",null,0,"00:24:25",null,0,"00:24:25",null,0,"00:24:25",null,0,"00:24:25",null,0,"00:24:25",null,0,"00:24:25"]
[16,16,"Ross Harvey",4,265,"00:25:24",null,null,null,"00:27:35",{"$f":"IF(J24=\"\",0,IF(I24=\"\",$D$2,IF((I24-J24)*$C$1+$D$2<$D$4,$D$4,IF((I24-J24)*$C$1+$D$2>$D$3,$D$3,IF((I24-J24)*$C$1+$D$2<$D$3,(I24-J24)*$C$1+$D$2,0)))))","v":60},{"$f":"MIN(I24,J24)","v":"00:27:35"},null,{"$f":"IF(M24=\"\",0,IF(L24=\"\",$D$2,IF((L24-M24)*$C$1+$D$2<$D$4,$D$4,IF((L24-M24)*$C$1+$D$2>$D$3,$D$3,IF((L24-M24)*$C$1+$D$2<$D$3,(L24-M24)*$C$1+$D$2,0)))))","v":0},{"$f":"MIN(L24,M24)","v":"00:27:35"},"00:25:40",75,"00:25:40","00:25:24",75,"00:25:24",null,0,"00:25:24",null,0,"00:25:24",null,0,"00:25:24",null,0,"00:25:24",null,0,"00:25:24","00:25:29",54.999999999999915,"00:25:24",null,0,"00:25:24",null,0,"00:25:24",null,0,"00:25:24",null,0,"00:25:24",null,0,"00:25:24",null,0,"00:25:24"]
[17,17,"Tom Longland",4,255,"00:27:14","00:30:07",{"$f":"IF(G25=\"\",0,$D$2)","v":60},{"$f":"G25","v":"00:30:07"},null,{"$f":"IF(J25=\"\",0,IF(I25=\"\",$D$2,IF((I25-J25)*$C$1+$D$2<$D$4,$D$4,IF((I25-J25)*$C$1+$D$2>$D$3,$D$3,IF((I25-J25)*$C$1+$D$2<$D$3,(I25-J25)*$C$1+$D$2,0)))))","v":0},{"$f":"MIN(I25,J25)","v":"00:30:07"},"00:28:40",{"$f":"IF(M25=\"\",0,IF(L25=\"\",$D$2,IF((L25-M25)*$C$1+$D$2<$D$4,$D$4,IF((L25-M25)*$C$1+$D$2>$D$3,$D$3,IF((L25-M25)*$C$1+$D$2<$D$3,(L25-M25)*$C$1+$D$2,0)))))","v":75},{"$f":"MIN(L25,M25)","v":"00:28:40"},"00:27:14",75,"00:27:14",null,0,"00:27:14",null,0,"00:27:14",null,0,"00:27:14","00:27:34",45,"00:27:14",null,0,"00:27:14",null,0,"00:27:14",null,0,"00:27:14",null,0,"00:27:14",null,0,"00:27:14",null,0,"00:27:14",null,0,"00:27:14",null,0,"00:27:14",null,0,"00:27:14"]
[18,"=","Kieran Golding",4,255,"00:27:36",null,null,null,null,null,null,"00:30:27",{"$f":"IF(M26=\"\",0,IF(L26=\"\",$D$2,IF((L26-M26)*$C$1+$D$2<$D$4,$D$4,IF((L26-M26)*$C$1+$D$2>$D$3,$D$3,IF((L26-M26)*$C$1+$D$2<$D$3,(L26-M26)*$C$1+$D$2,0)))))","v":60},{"$f":"MIN(L26,M26)","v":"00:30:27"},"00:28:46",75,"00:28:46",null,0,"00:28:46",null,0,"00:28:46",null,0,"00:28:46","00:29:03",45,"00:28:46","00:27:36",75,"00:27:36",null,0,"00:27:36",null,0,"00:27:36",null,0,"00:27:36",null,0,"00:27:36",null,0,"00:27:36",null,0,"00:27:36",null,0,"00:27:36",null,0,"00:27:36"]
[19,19,"Beth George",4,236,"00:28:31",null,null,null,null,null,null,null,null,null,null,null,null,"00:29:09",60,"00:29:09",null,0,"00:29:09",null,0,"00:29:09","00:29:13",55.999999999999872,"00:29:09",null,0,"00:29:09","00:28:31",75,"00:28:31","00:28:46",45,"00:28:31",null,0,"00:28:31",null,0,"00:28:31",null,0,"00:28:31",null,0,"00:28:31",null,0,"00:28:31",null,0,"00:28:31"]
[20,20,"Steve Harvey",3,210,"00:28:31",null,null,null,"00:30:37",{"$f":"IF(J28=\"\",0,IF(I28=\"\",$D$2,IF((I28-J28)*$C$1+$D$2<$D$4,$D$4,IF((I28-J28)*$C$1+$D$2>$D$3,$D$3,IF((I28-J28)*$C$1+$D$2<$D$3,(I28-J28)*$C$1+$D$2,0)))))","v":60},{"$f":"MIN(I28,J28)","v":"00:30:37"},null,{"$f":"IF(M28=\"\",0,IF(L28=\"\",$D$2,IF((L28-M28)*$C$1+$D$2<$D$4,$D$4,IF((L28-M28)*$C$1+$D$2>$D$3,$D$3,IF((L28-M28)*$C$1+$D$2<$D$3,(L28-M28)*$C$1+$D$2,0)))))","v":0},{"$f":"MIN(L28,M28)","v":"00:30:37"},"00:29:13",{"$f":"IF(P28=\"\",0,IF(O28=\"\",$D$2,IF((O28-P28)*$C$1+$D$2<$D$4,$D$4,IF((O28-P28)*$C$1+$D$2>$D$3,$D$3,IF((O28-P28)*$C$1+$D$2<$D$3,(O28-P28)*$C$1+$D$2,0)))))","v":75},{"$f":"MIN(O28,P28)","v":"00:29:13"},null,0,"00:29:13",null,0,"00:29:13",null,0,"00:29:13",null,0,"00:29:13",null,0,"00:29:13",null,0,"00:29:13","00:28:31",75,"00:28:31",null,0,"00:28:31",null,0,"00:28:31",null,0,"00:28:31",null,0,"00:28:31",null,0,"00:28:31",null,0,"00:28:31"]
[21,21,"Mike Mason",3,183,"00:24:58",null,null,null,null,null,null,null,null,null,"00:25:26",{"$f":"IF(P29=\"\",0,IF(O29=\"\",$D$2,IF((O29-P29)*$C$1+$D$2<$D$4,$D$4,IF((O29-P29)*$C$1+$D$2>$D$3,$D$3,IF((O29-P29)*$C$1+$D$2<$D$3,(O29-P29)*$C$1+$D$2,0)))))","v":60},{"$f":"MIN(O29,P29)","v":"00:25:26"},null,0,"00:25:26",null,0,"00:25:26",null,0,"00:25:26",null,0,"00:25:26",null,0,"00:25:26","00:24:58",75,"00:24:58","00:25:10",47.999999999999922,"00:24:58",null,0,"00:24:58",null,0,"00:24:58",null,0,"00:24:58",null,0,"00:24:58",null,0,"00:24:58",null,0,"00:24:58"]
[22,22,"Rob Patterson",3,181,"00:25:43",null,null,null,null,null,null,null,null,null,null,null,null,null,null,null,"00:26:01",60,"00:26:01",null,0,"00:26:01",null,0,"00:26:01",null,0,"00:26:01","00:25:43",75,"00:25:43","00:25:57",46.000000000000014,"00:25:43",null,0,"00:25:43",null,0,"00:25:43",null,0,"00:25:43",null,0,"00:25:43",null,0,"00:25:43",null,0,"00:25:43"]
[23,23,"Pete Jeans",3,150,"00:23:41",null,null,null,null,null,null,null,null,null,null,null,null,"00:23:41",{"$f":"IF(S31=\"\",0,IF(R31=\"\",$D$2,IF((R31-S31)*$C$1+$D$2<$D$4,$D$4,IF((R31-S31)*$C$1+$D$2>$D$3,$D$3,IF((R31-S31)*$C$1+$D$2<$D$3,(R31-S31)*$C$1+$D$2,0)))))","v":60},{"$f":"MIN(R31,S31)","v":"00:23:41"},"00:24:22",45,"00:23:41",null,0,"00:23:41","00:24:46",45,"00:23:41",null,0,"00:23:41",null,0,"00:23:41",null,0,"00:23:41",null,0,"00:23:41",null,0,"00:23:41",null,0,"00:23:41",null,0,"00:23:41",null,0,"00:23:41",null,0,"00:23:41"]
[24,24,"Nick Mawson",2,135,"00:23:14",null,null,null,null,null,null,null,null,null,null,null,null,null,null,null,null,null,null,null,null,null,"00:24:25",60,"00:24:25","00:23:14",75,"00:23:14",null,0,"00:23:14",null,0,"00:23:14",null,0,"00:23:14",null,0,"00:23:14",null,0,"00:23:14",null,0,"00:23:14",null,0,"00:23:14",null,0,"00:23:14"]
[25,"=","Richard Cooper",2,135,"00:23:54",null,null,null,"00:24:17",{"$f":"IF(J33=\"\",0,IF(I33=\"\",$D$2,IF((I33-J33)*$C$1+$D$2<$D$4,$D$4,IF((I33-J33)*$C$1+$D$2>$D$3,$D$3,IF((I33-J33)*$C$1+$D$2<$D$3,(I33-J33)*$C$1+$D$2,0)))))","v":60},{"$f":"MIN(I33,J33)","v":"00:24:17"},null,{"$f":"IF(M33=\"\",0,IF(L33=\"\",$D$2,IF((L33-M33)*$C$1+$D$2<$D$4,$D$4,IF((L33-M33)*$C$1+$D$2>$D$3,$D$3,IF((L33-M33)*$C$1+$D$2<$D$3,(L33-M33)*$C$1+$D$2,0)))))","v":0},{"$f":"MIN(L33,M33)","v":"00:24:17"},"00:23:54",{"$f":"IF(P33=\"\",0,IF(O33=\"\",$D$2,IF((O33-P33)*$C$1+$D$2<$D$4,$D$4,IF((O33-P33)*$C$1+$D$2>$D$3,$D$3,IF((O33-P33)*$C$1+$D$2<$D$3,(O33-P33)*$C$1+$D$2,0)))))","v":75},{"$f":"MIN(O33,P33)","v":"00:23:54"},null,{"$f":"IF(S33=\"\",0,IF(R33=\"\",$D$2,IF((R33-S33)*$C$1+$D$2<$D$4,$D$4,IF((R33-S33)*$C$1+$D$2>$D$3,$D$3,IF((R33-S33)*$C$1+$D$2<$D$3,(R33-S33)*$C$1+$D$2,0)))))","v":0},{"$f":"MIN(R33,S33)","v":"00:23:54"},null,{"$f":"IF(V33=\"\",0,IF(U33=\"\",$D$2,IF((U33-V33)*$C$1+$D$2<$D$4,$D$4,IF((U33-V33)*$C$1+$D$2>$D$3,$D$3,IF((U33-V33)*$C$1+$D$2<$D$3,(U33-V33)*$C$1+$D$2,0)))))","v":0},{"$f":"MIN(U33,V33)","v":"00:23:54"},null,{"$f":"IF(Y33=\"\",0,IF(X33=\"\",$D$2,IF((X33-Y33)*$C$1+$D$2<$D$4,$D$4,IF((X33-Y33)*$C$1+$D$2>$D$3,$D$3,IF((X33-Y33)*$C$1+$D$2<$D$3,(X33-Y33)*$C$1+$D$2,0)))))","v":0},{"$f":"MIN(X33,Y33)","v":"00:23:54"},null,0,"00:23:54",null,0,"00:23:54",null,0,"00:23:54",null,0,"00:23:54",null,0,"00:23:54",null,0,"00:23:54",null,0,"00:23:54",null,0,"00:23:54",null,0,"00:23:54",null,0,"00:23:54"]
[26,"=","Andy Smith",2,135,"00:24:38",null,null,null,null,null,null,null,null,null,null,null,null,null,null,null,null,null,null,null,null,null,"00:27:34",60,"00:27:34",null,0,"00:27:34",null,0,"00:27:34","00:24:38",75,"00:24:38",null,0,"00:24:38",null,0,"00:24:38",null,0,"00:24:38",null,0,"00:24:38",null,0,"00:24:38",null,0,"00:24:38"]
[27,"=","Paul Greenman",2,135,"00:25:54",null,null,null,null,null,null,null,null,null,"00:26:25",{"$f":"IF(P35=\"\",0,IF(O35=\"\",$D$2,IF((O35-P35)*$C$1+$D$2<$D$4,$D$4,IF((O35-P35)*$C$1+$D$2>$D$3,$D$3,IF((O35-P35)*$C$1+$D$2<$D$3,(O35-P35)*$C$1+$D$2,0)))))","v":60},{"$f":"MIN(O35,P35)","v":"00:26:25"},null,{"$f":"IF(S35=\"\",0,IF(R35=\"\",$D$2,IF((R35-S35)*$C$1+$D$2<$D$4,$D$4,IF((R35-S35)*$C$1+$D$2>$D$3,$D$3,IF((R35-S35)*$C$1+$D$2<$D$3,(R35-S35)*$C$1+$D$2,0)))))","v":0},{"$f":"MIN(R35,S35)","v":"00:26:25"},"00:25:54",{"$f":"IF(V35=\"\",0,IF(U35=\"\",$D$2,IF((U35-V35)*$C$1+$D$2<$D$4,$D$4,IF((U35-V35)*$C$1+$D$2>$D$3,$D$3,IF((U35-V35)*$C$1+$D$2<$D$3,(U35-V35)*$C$1+$D$2,0)))))","v":75},{"$f":"MIN(U35,V35)","v":"00:25:54"},null,{"$f":"IF(Y35=\"\",0,IF(X35=\"\",$D$2,IF((X35-Y35)*$C$1+$D$2<$D$4,$D$4,IF((X35-Y35)*$C$1+$D$2>$D$3,$D$3,IF((X35-Y35)*$C$1+$D$2<$D$3,(X35-Y35)*$C$1+$D$2,0)))))","v":0},{"$f":"MIN(X35,Y35)","v":"00:25:54"},null,0,"00:25:54",null,0,"00:25:54",null,0,"00:25:54",null,0,"00:25:54",null,0,"00:25:54",null,0,"00:25:54",null,0,"00:25:54",null,0,"00:25:54",null,0,"00:25:54",null,0,"00:25:54"]
[28,28,"Mark Kent",2,118,"00:24:46",null,null,null,null,null,null,null,null,null,null,null,null,"00:24:46",{"$f":"IF(S36=\"\",0,IF(R36=\"\",$D$2,IF((R36-S36)*$C$1+$D$2<$D$4,$D$4,IF((R36-S36)*$C$1+$D$2>$D$3,$D$3,IF((R36-S36)*$C$1+$D$2<$D$3,(R36-S36)*$C$1+$D$2,0)))))","v":60},{"$f":"MIN(R36,S36)","v":"00:24:46"},"00:24:48",{"$f":"IF(V36=\"\",0,IF(U36=\"\",$D$2,IF((U36-V36)*$C$1+$D$2<$D$4,$D$4,IF((U36-V36)*$C$1+$D$2>$D$3,$D$3,IF((U36-V36)*$C$1+$D$2<$D$3,(U36-V36)*$C$1+$D$2,0)))))","v":57.999999999999787},{"$f":"MIN(U36,V36)","v":"00:24:46"},null,{"$f":"IF(Y36=\"\",0,IF(X36=\"\",$D$2,IF((X36-Y36)*$C$1+$D$2<$D$4,$D$4,IF((X36-Y36)*$C$1+$D$2>$D$3,$D$3,IF((X36-Y36)*$C$1+$D$2<$D$3,(X36-Y36)*$C$1+$D$2,0)))))","v":0},{"$f":"MIN(X36,Y36)","v":"00:24:46"},null,0,"00:24:46",null,0,"00:24:46",null,0,"00:24:46",null,0,"00:24:46",null,0,"00:24:46",null,0,"00:24:46",null,0,"00:24:46",null,0,"00:24:46",null,0,"00:24:46",null,0,"00:24:46"]
[29,29,"Claire Smith",2,113,"00:25:48",null,null,null,null,null,null,null,null,null,null,null,null,null,null,null,null,null,null,null,null,null,null,null,null,null,null,null,"00:25:48",60,"00:25:48","00:25:55",53.000000000000007,"00:25:48",null,0,"00:25:48",null,0,"00:25:48",null,0,"00:25:48",null,0,"00:25:48",null,0,"00:25:48",null,0,"00:25:48"]
[30,30,"Crispin Doyle",1,60,"00:22:41",null,null,null,null,null,null,null,null,null,null,null,null,null,null,null,null,null,null,null,null,null,"00:22:41",{"$f":"IF(AB38=\"\",0,IF(AA38=\"\",$D$2,IF((AA38-AB38)*$C$1+$D$2<$D$4,$D$4,IF((AA38-AB38)*$C$1+$D$2>$D$3,$D$3,IF((AA38-AB38)*$C$1+$D$2<$D$3,(AA38-AB38)*$C$1+$D$2,0)))))","v":60},{"$f":"MIN(AA38,AB38)","v":"00:22:41"},null,{"$f":"IF(AE38=\"\",0,IF(AD38=\"\",$D$2,IF((AD38-AE38)*$C$1+$D$2<$D$4,$D$4,IF((AD38-AE38)*$C$1+$D$2>$D$3,$D$3,IF((AD38-AE38)*$C$1+$D$2<$D$3,(AD38-AE38)*$C$1+$D$2,0)))))","v":0},{"$f":"MIN(AD38,AE38)","v":"00:22:41"},null,0,"00:22:41",null,0,"00:22:41",null,0,"00:22:41",null,0,"00:22:41",null,0,"00:22:41",null,0,"00:22:41",null,0,"00:22:41",null,0,"00:22:41"]
[31,"=","Neil Pugh",1,60,"00:23:34",null,null,null,null,null,null,null,null,null,null,null,null,null,null,null,null,null,null,null,null,null,null,null,null,null,null,null,"00:23:34",60,"00:23:34",null,0,"00:23:34",null,0,"00:23:34",null,0,"00:23:34",null,0,"00:23:34",null,0,"00:23:34",null,0,"00:23:34",null,0,"00:23:34"]
[33,"=","Mike Holborrow",1,60,"00:24:12",null,null,null,null,null,null,null,null,null,null,null,null,"00:24:12",{"$f":"IF(S40=\"\",0,IF(R40=\"\",$D$2,IF((R40-S40)*$C$1+$D$2<$D$4,$D$4,IF((R40-S40)*$C$1+$D$2>$D$3,$D$3,IF((R40-S40)*$C$1+$D$2<$D$3,(R40-S40)*$C$1+$D$2,0)))))","v":60},{"$f":"MIN(R40,S40)","v":"00:24:12"},null,{"$f":"IF(V40=\"\",0,IF(U40=\"\",$D$2,IF((U40-V40)*$C$1+$D$2<$D$4,$D$4,IF((U40-V40)*$C$1+$D$2>$D$3,$D$3,IF((U40-V40)*$C$1+$D$2<$D$3,(U40-V40)*$C$1+$D$2,0)))))","v":0},{"$f":"MIN(U40,V40)","v":"00:24:12"},null,{"$f":"IF(Y40=\"\",0,IF(X40=\"\",$D$2,IF((X40-Y40)*$C$1+$D$2<$D$4,$D$4,IF((X40-Y40)*$C$1+$D$2>$D$3,$D$3,IF((X40-Y40)*$C$1+$D$2<$D$3,(X40-Y40)*$C$1+$D$2,0)))))","v":0},{"$f":"MIN(X40,Y40)","v":"00:24:12"},null,{"$f":"IF(AB40=\"\",0,IF(AA40=\"\",$D$2,IF((AA40-AB40)*$C$1+$D$2<$D$4,$D$4,IF((AA40-AB40)*$C$1+$D$2>$D$3,$D$3,IF((AA40-AB40)*$C$1+$D$2<$D$3,(AA40-AB40)*$C$1+$D$2,0)))))","v":0},{"$f":"MIN(AA40,AB40)","v":"00:24:12"},null,{"$f":"IF(AE40=\"\",0,IF(AD40=\"\",$D$2,IF((AD40-AE40)*$C$1+$D$2<$D$4,$D$4,IF((AD40-AE40)*$C$1+$D$2>$D$3,$D$3,IF((AD40-AE40)*$C$1+$D$2<$D$3,(AD40-AE40)*$C$1+$D$2,0)))))","v":0},{"$f":"MIN(AD40,AE40)","v":"00:24:12"},null,0,"00:24:12",null,0,"00:24:12",null,0,"00:24:12",null,0,"00:24:12",null,0,"00:24:12",null,0,"00:24:12",null,0,"00:24:12",null,0,"00:24:12"]
[34,{"$f":"IF(C41=\"\",\"\",IF(E41=E40,\"=\",A41))","v":"="},"Dave Gibson",1,60,"00:25:26",null,null,null,null,null,null,null,null,null,null,null,null,"00:25:26",{"$f":"IF(S41=\"\",0,IF(R41=\"\",$D$2,IF((R41-S41)*$C$1+$D$2<$D$4,$D$4,IF((R41-S41)*$C$1+$D$2>$D$3,$D$3,IF((R41-S41)*$C$1+$D$2<$D$3,(R41-S41)*$C$1+$D$2,0)))))","v":60},{"$f":"MIN(R41,S41)","v":"00:25:26"},null,{"$f":"IF(V41=\"\",0,IF(U41=\"\",$D$2,IF((U41-V41)*$C$1+$D$2<$D$4,$D$4,IF((U41-V41)*$C$1+$D$2>$D$3,$D$3,IF((U41-V41)*$C$1+$D$2<$D$3,(U41-V41)*$C$1+$D$2,0)))))","v":0},{"$f":"MIN(U41,V41)","v":"00:25:26"},null,{"$f":"IF(Y41=\"\",0,IF(X41=\"\",$D$2,IF((X41-Y41)*$C$1+$D$2<$D$4,$D$4,IF((X41-Y41)*$C$1+$D$2>$D$3,$D$3,IF((X41-Y41)*$C$1+$D$2<$D$3,(X41-Y41)*$C$1+$D$2,0)))))","v":0},{"$f":"MIN(X41,Y41)","v":"00:25:26"},null,{"$f":"IF(AB41=\"\",0,IF(AA41=\"\",$D$2,IF((AA41-AB41)*$C$1+$D$2<$D$4,$D$4,IF((AA41-AB41)*$C$1+$D$2>$D$3,$D$3,IF((AA41-AB41)*$C$1+$D$2<$D$3,(AA41-AB41)*$C$1+$D$2,0)))))","v":0},{"$f":"MIN(AA41,AB41)","v":"00:25:26"},null,{"$f":"IF(AE41=\"\",0,IF(AD41=\"\",$D$2,IF((AD41-AE41)*$C$1+$D$2<$D$4,$D$4,IF((AD41-AE41)*$C$1+$D$2>$D$3,$D$3,IF((AD41-AE41)*$C$1+$D$2<$D$3,(AD41-AE41)*$C$1+$D$2,0)))))","v":0},{"$f":"MIN(AD41,AE41)","v":"00:25:26"},null,0,"00:25:26",null,0,"00:25:26",null,0,"00:25:26",null,0,"00:25:26",null,0,"00:25:26",null,0,"00:25:26",null,0,"00:25:26",null,0,"00:25:26"]
[35,"=","Will Blunt",1,60,"00:25:58",null,null,null,null,null,null,null,null,null,"00:25:58",{"$f":"IF(P42=\"\",0,IF(O42=\"\",$D$2,IF((O42-P42)*$C$1+$D$2<$D$4,$D$4,IF((O42-P42)*$C$1+$D$2>$D$3,$D$3,IF((O42-P42)*$C$1+$D$2<$D$3,(O42-P42)*$C$1+$D$2,0)))))","v":60},{"$f":"MIN(O42,P42)","v":"00:25:58"},null,{"$f":"IF(S42=\"\",0,IF(R42=\"\",$D$2,IF((R42-S42)*$C$1+$D$2<$D$4,$D$4,IF((R42-S42)*$C$1+$D$2>$D$3,$D$3,IF((R42-S42)*$C$1+$D$2<$D$3,(R42-S42)*$C$1+$D$2,0)))))","v":0},{"$f":"MIN(R42,S42)","v":"00:25:58"},null,{"$f":"IF(V42=\"\",0,IF(U42=\"\",$D$2,IF((U42-V42)*$C$1+$D$2<$D$4,$D$4,IF((U42-V42)*$C$1+$D$2>$D$3,$D$3,IF((U42-V42)*$C$1+$D$2<$D$3,(U42-V42)*$C$1+$D$2,0)))))","v":0},{"$f":"MIN(U42,V42)","v":"00:25:58"},null,{"$f":"IF(Y42=\"\",0,IF(X42=\"\",$D$2,IF((X42-Y42)*$C$1+$D$2<$D$4,$D$4,IF((X42-Y42)*$C$1+$D$2>$D$3,$D$3,IF((X42-Y42)*$C$1+$D$2<$D$3,(X42-Y42)*$C$1+$D$2,0)))))","v":0},{"$f":"MIN(X42,Y42)","v":"00:25:58"},null,{"$f":"IF(AB42=\"\",0,IF(AA42=\"\",$D$2,IF((AA42-AB42)*$C$1+$D$2<$D$4,$D$4,IF((AA42-AB42)*$C$1+$D$2>$D$3,$D$3,IF((AA42-AB42)*$C$1+$D$2<$D$3,(AA42-AB42)*$C$1+$D$2,0)))))","v":0},{"$f":"MIN(AA42,AB42)","v":"00:25:58"},null,{"$f":"IF(AE42=\"\",0,IF(AD42=\"\",$D$2,IF((AD42-AE42)*$C$1+$D$2<$D$4,$D$4,IF((AD42-AE42)*$C$1+$D$2>$D$3,$D$3,IF((AD42-AE42)*$C$1+$D$2<$D$3,(AD42-AE42)*$C$1+$D$2,0)))))","v":0},{"$f":"MIN(AD42,AE42)","v":"00:25:58"},null,0,"00:25:58",null,0,"00:25:58",null,0,"00:25:58",null,0,"00:25:58",null,0,"00:25:58",null,0,"00:25:58",null,0,"00:25:58",null,0,"00:25:58"]
[36,"=","Paul Sewell",1,60,"00:26:28",null,null,null,null,null,null,null,null,null,null,null,null,null,null,null,null,null,null,null,null,null,null,null,null,"00:26:28",{"$f":"IF(AE43=\"\",0,IF(AD43=\"\",$D$2,IF((AD43-AE43)*$C$1+$D$2<$D$4,$D$4,IF((AD43-AE43)*$C$1+$D$2>$D$3,$D$3,IF((AD43-AE43)*$C$1+$D$2<$D$3,(AD43-AE43)*$C$1+$D$2,0)))))","v":60},{"$f":"MIN(AD43,AE43)","v":"00:26:28"},null,0,"00:26:28",null,0,"00:26:28",null,0,"00:26:28",null,0,"00:26:28",null,0,"00:26:28",null,0,"00:26:28",null,0,"00:26:28",null,0,"00:26:28"]
[37,"=","Steve George",1,60,"00:26:58",null,null,null,null,null,null,null,null,null,null,null,null,null,null,null,null,null,null,null,null,null,null,null,null,null,null,null,"00:26:58",60,"00:26:58",null,0,"00:26:58",null,0,"00:26:58",null,0,"00:26:58",null,0,"00:26:58",null,0,"00:26:58",null,0,"00:26:58",null,0,"00:26:58"]
[38,"=","Matt Cooper",1,60,"00:27:07",null,null,null,null,null,null,null,null,null,null,null,null,null,null,null,null,null,null,null,null,null,null,null,null,null,null,null,"00:27:07",60,"00:27:07",null,0,"00:27:07",null,0,"00:27:07",null,0,"00:27:07",null,0,"00:27:07",null,0,"00:27:07",null,0,"00:27:07",null,0,"00:27:07"]
[39,"=","Bernie Beale",1,60,"00:27:17",null,null,null,null,null,null,null,null,null,null,null,null,null,null,null,"00:27:17",{"$f":"IF(V46=\"\",0,IF(U46=\"\",$D$2,IF((U46-V46)*$C$1+$D$2<$D$4,$D$4,IF((U46-V46)*$C$1+$D$2>$D$3,$D$3,IF((U46-V46)*$C$1+$D$2<$D$3,(U46-V46)*$C$1+$D$2,0)))))","v":60},{"$f":"MIN(U46,V46)","v":"00:27:17"},null,{"$f":"IF(Y46=\"\",0,IF(X46=\"\",$D$2,IF((X46-Y46)*$C$1+$D$2<$D$4,$D$4,IF((X46-Y46)*$C$1+$D$2>$D$3,$D$3,IF((X46-Y46)*$C$1+$D$2<$D$3,(X46-Y46)*$C$1+$D$2,0)))))","v":0},{"$f":"MIN(X46,Y46)","v":"00:27:17"},null,{"$f":"IF(AB46=\"\",0,IF(AA46=\"\",$D$2,IF((AA46-AB46)*$C$1+$D$2<$D$4,$D$4,IF((AA46-AB46)*$C$1+$D$2>$D$3,$D$3,IF((AA46-AB46)*$C$1+$D$2<$D$3,(AA46-AB46)*$C$1+$D$2,0)))))","v":0},{"$f":"MIN(AA46,AB46)","v":"00:27:17"},null,{"$f":"IF(AE46=\"\",0,IF(AD46=\"\",$D$2,IF((AD46-AE46)*$C$1+$D$2<$D$4,$D$4,IF((AD46-AE46)*$C$1+$D$2>$D$3,$D$3,IF((AD46-AE46)*$C$1+$D$2<$D$3,(AD46-AE46)*$C$1+$D$2,0)))))","v":0},{"$f":"MIN(AD46,AE46)","v":"00:27:17"},null,0,"00:27:17",null,0,"00:27:17",null,0,"00:27:17",null,0,"00:27:17",null,0,"00:27:17",null,0,"00:27:17",null,0,"00:27:17",null,0,"00:27:17"]
[40,"=","Philip Bayley",1,60,"00:29:57",null,null,null,null,null,null,null,null,null,null,null,null,"00:29:57",{"$f":"IF(S47=\"\",0,IF(R47=\"\",$D$2,IF((R47-S47)*$C$1+$D$2<$D$4,$D$4,IF((R47-S47)*$C$1+$D$2>$D$3,$D$3,IF((R47-S47)*$C$1+$D$2<$D$3,(R47-S47)*$C$1+$D$2,0)))))","v":60},{"$f":"MIN(R47,S47)","v":"00:29:57"},null,{"$f":"IF(V47=\"\",0,IF(U47=\"\",$D$2,IF((U47-V47)*$C$1+$D$2<$D$4,$D$4,IF((U47-V47)*$C$1+$D$2>$D$3,$D$3,IF((U47-V47)*$C$1+$D$2<$D$3,(U47-V47)*$C$1+$D$2,0)))))","v":0},{"$f":"MIN(U47,V47)","v":"00:29:57"},null,{"$f":"IF(Y47=\"\",0,IF(X47=\"\",$D$2,IF((X47-Y47)*$C$1+$D$2<$D$4,$D$4,IF((X47-Y47)*$C$1+$D$2>$D$3,$D$3,IF((X47-Y47)*$C$1+$D$2<$D$3,(X47-Y47)*$C$1+$D$2,0)))))","v":0},{"$f":"MIN(X47,Y47)","v":"00:29:57"},null,{"$f":"IF(AB47=\"\",0,IF(AA47=\"\",$D$2,IF((AA47-AB47)*$C$1+$D$2<$D$4,$D$4,IF((AA47-AB47)*$C$1+$D$2>$D$3,$D$3,IF((AA47-AB47)*$C$1+$D$2<$D$3,(AA47-AB47)*$C$1+$D$2,0)))))","v":0},{"$f":"MIN(AA47,AB47)","v":"00:29:57"},null,{"$f":"IF(AE47=\"\",0,IF(AD47=\"\",$D$2,IF((AD47-AE47)*$C$1+$D$2<$D$4,$D$4,IF((AD47-AE47)*$C$1+$D$2>$D$3,$D$3,IF((AD47-AE47)*$C$1+$D$2<$D$3,(AD47-AE47)*$C$1+$D$2,0)))))","v":0},{"$f":"MIN(AD47,AE47)","v":"00:29:57"},null,0,"00:29:57",null,0,"00:29:57",null,0,"00:29:57",null,0,"00:29:57",null,0,"00:29:57",null,0,"00:29:57",null,0,"00:29:57",null,0,"00:29:57"]
[41,"=","Rhianna Jones",1,60,"00:32:10",null,null,null,null,null,null,null,null,null,null,null,null,null,null,null,null,null,null,null,null,null,null,null,null,null,null,null,null,null,null,"00:32:10",60,"00:32:10",null,0,"00:32:10",null,0,"00:32:10",null,0,"00:32:10",null,0,"00:32:10",null,0,"00:32:10",null,0,"00:32:10"]
[42,"=","Paul Bicknell",1,60,"00:32:24","00:32:24",{"$f":"IF(G49=\"\",0,$D$2)","v":60},{"$f":"G49","v":"00:32:24"},null,{"$f":"IF(J49=\"\",0,IF(I49=\"\",$D$2,IF((I49-J49)*$C$1+$D$2<$D$4,$D$4,IF((I49-J49)*$C$1+$D$2>$D$3,$D$3,IF((I49-J49)*$C$1+$D$2<$D$3,(I49-J49)*$C$1+$D$2,0)))))","v":0},{"$f":"MIN(I49,J49)","v":"00:32:24"},null,{"$f":"IF(M49=\"\",0,IF(L49=\"\",$D$2,IF((L49-M49)*$C$1+$D$2<$D$4,$D$4,IF((L49-M49)*$C$1+$D$2>$D$3,$D$3,IF((L49-M49)*$C$1+$D$2<$D$3,(L49-M49)*$C$1+$D$2,0)))))","v":0},{"$f":"MIN(L49,M49)","v":"00:32:24"},null,{"$f":"IF(P49=\"\",0,IF(O49=\"\",$D$2,IF((O49-P49)*$C$1+$D$2<$D$4,$D$4,IF((O49-P49)*$C$1+$D$2>$D$3,$D$3,IF((O49-P49)*$C$1+$D$2<$D$3,(O49-P49)*$C$1+$D$2,0)))))","v":0},{"$f":"MIN(O49,P49)","v":"00:32:24"},null,{"$f":"IF(S49=\"\",0,IF(R49=\"\",$D$2,IF((R49-S49)*$C$1+$D$2<$D$4,$D$4,IF((R49-S49)*$C$1+$D$2>$D$3,$D$3,IF((R49-S49)*$C$1+$D$2<$D$3,(R49-S49)*$C$1+$D$2,0)))))","v":0},{"$f":"MIN(R49,S49)","v":"00:32:24"},null,{"$f":"IF(V49=\"\",0,IF(U49=\"\",$D$2,IF((U49-V49)*$C$1+$D$2<$D$4,$D$4,IF((U49-V49)*$C$1+$D$2>$D$3,$D$3,IF((U49-V49)*$C$1+$D$2<$D$3,(U49-V49)*$C$1+$D$2,0)))))","v":0},{"$f":"MIN(U49,V49)","v":"00:32:24"},null,{"$f":"IF(Y49=\"\",0,IF(X49=\"\",$D$2,IF((X49-Y49)*$C$1+$D$2<$D$4,$D$4,IF((X49-Y49)*$C$1+$D$2>$D$3,$D$3,IF((X49-Y49)*$C$1+$D$2<$D$3,(X49-Y49)*$C$1+$D$2,0)))))","v":0},{"$f":"MIN(X49,Y49)","v":"00:32:24"},null,{"$f":"IF(AB49=\"\",0,IF(AA49=\"\",$D$2,IF((AA49-AB49)*$C$1+$D$2<$D$4,$D$4,IF((AA49-AB49)*$C$1+$D$2>$D$3,$D$3,IF((AA49-AB49)*$C$1+$D$2<$D$3,(AA49-AB49)*$C$1+$D$2,0)))))","v":0},{"$f":"MIN(AA49,AB49)","v":"00:32:24"},null,{"$f":"IF(AE49=\"\",0,IF(AD49=\"\",$D$2,IF((AD49-AE49)*$C$1+$D$2<$D$4,$D$4,IF((AD49-AE49)*$C$1+$D$2>$D$3,$D$3,IF((AD49-AE49)*$C$1+$D$2<$D$3,(AD49-AE49)*$C$1+$D$2,0)))))","v":0},{"$f":"MIN(AD49,AE49)","v":"00:32:24"},null,{"$f":"IF(AH49=\"\",0,IF(AG49=\"\",$D$2,IF((AG49-AH49)*$C$1+$D$2<$D$4,$D$4,IF((AG49-AH49)*$C$1+$D$2>$D$3,$D$3,IF((AG49-AH49)*$C$1+$D$2<$D$3,(AG49-AH49)*$C$1+$D$2,0)))))","v":0},{"$f":"MIN(AG49,AH49)","v":"00:32:24"},null,0,"00:32:24",null,0,"00:32:24",null,0,"00:32:24",null,0,"00:32:24",null,0,"00:32:24",null,0,"00:32:24",null,0,"00:32:24"]
[43,"",null,null,null,null,null,null,null,null,null,"00:00:00"]
[44,"",null,null,null,null,null,null,null,null,null,"00:00:00"]
[45,"",null,null,null,null,null,null,null,null,null,"00:00:00"]
[46,"",null,null,null,null,null,null,null,null,null,"00:00:00"]
[47,"",null,null,null,null,null,null,null,null,null,"00:00:00"]
[48,"",null,null,null,null,null,null,null,null,null,"00:00:00"]
[49,"",null,null,null,null,null,null,null,null,null,"00:00:00"]
[50,"",null,null,null,null,null,null,null,null,null,"00:00:00"]
[51,"",null,null,null,null,null,null,null,null,null,"00:00:00"]
[52,"",null,null,null,null,null,null,null,null,null,"00:00:00"]
[53,"",null,null,null,null,null,null,null,null,null,"00:00:00"]
[54,"",null,null,null,null,null,null,null,null,null,"00:00:00"]
[55,"",null,null,null,null,null,null,null,null,null,"00:00:00"]
[56,"",null,null,null,null,null,null,null,null,null,"00:00:00"]
[57,"",null,null,null,null,null,null,null,null,null,"00:00:00"]
[58,"",null,null,null,null,null,null,null,null,null,"00:00:00"]
[59,"",null,null,null,null,null,null,null,null,null,"00:00:00"]
[60,"",null,null,null,null,null,null,null,null,null,"00:00:00"]
[61,"",null,null,null,null,null,null,null,null,null,"00:00:00"]
[62,"",null,null,null,null,null,null,null,null,null,"00:00:00"]
[63,"",null,null,null,null,null,null,null,null,null,"00:00:00"]
[64,"",null,null,null,null,null,null,null,null,null,"00:00:00"]
[65,"",null,null,null,null,null,null,null,null,null,"00:00:00"]
[66,{"$f":"IF(C73=\"\",\"\",IF(E73=E72,\"=\",A73))","v":""},null,null,null,null,null,null,null,null,null,"00:00:00"]
[67,"",null,null,null,null,null,null,null,null,null,"00:00:00"]
[68,"",null,null,null,null,null,null,null,null,null,"00:00:00"]
[69,"",null,null,null,null,null,null,null,null,null,"00:00:00"]
[70,"",null,null,null,null,null,null,null,null,null,"00:00:00"]
[71,"",null,null,null,null,null,null,null,null,null,"00:00:00"]
[72,"",null,null,null,null,null,null,null,null,null,"00:00:00"]
[73,"",null,null,null,null,null,null,null,null,null,"00:00:00"]
[74,"",null,null,null,null,null,null,null,null,null,{"$f":"MIN(I81,J81)","v":"00:00:00"}]
[75,"",null,null,null,null,null,null,null,null,null,"00:00:00"]
[76,"",null,null,null,null,null,null,null,null,null,"00:00:00"]
[77,"",null,null,null,null,null,null,null,null,null,"00:00:00"]
[78,"",null,null,null,null,null,null,null,null,null,"00:00:00"]
[79,"",null,null,null,null,null,null,null,null,null,"00:00:00"]
[80,"",null,null,null,null,null,null,null,null,null,"00:00:00"]
[81,"",null,null,null,null,null,null,null,null,null,"00:00:00"]
[82,"",null,null,null,null,null,null,null,null,null,"00:00:00"]
[83,"",null,null,null,null,null,null,null,null,null,"00:00:00"]
[84,"",null,null,null,null,null,null,null,null,null,"00:00:00"]
[85,"",null,null,null,null,null,null,null,null,null,"00:00:00"]
[86,"",null,null,null,null,null,null,null,null,null,"00:00:00"]
[87,"",null,null,null,null,null,null,null,null,null,"00:00:00"]
[88,"",null,null,null,null,null,null,null,null,null,"00:00:00"]
[89,"",null,null,null,null,null,null,null,null,null,"00:00:00"]
[90,"",null,null,null,null,null,null,null,null,null,"00:00:00"]
[91,"",null,null,null,null,null,null,null,null,null,"00:00:00"]
[92,"",null,null,null,null,null,null,null,null,null,"00:00:00"]
[93,"",null,null,null,null,null,null,null,null,null,"00:00:00"]
[94,"",null,null,null,null,null,null,null,null,null,"00:00:00"]
[95,"",null,null,null,null,null,null,null,null,null,"00:00:00"]
[96,"",null,null,null,null,null,null,null,null,null,"00:00:00"]
[97,"",null,null,null,null,null,null,null,null,null,"00:00:00"]
[98,{"$f":"IF(C105=\"\",\"\",IF(E105=E104,\"=\",A105))","v":""},null,null,null,null,null,null,null,null,null,"00:00:00"]
[99,"",null,null,null,null,null,null,null,null,null,"00:00:00"]
[100,"",null,null,null,null,null,null,null,null,null,"00:00:00"]
[101,"",null,null,null,null,null,null,null,null,null,"00:00:00"]
[102,"",null,null,null,null,null,null,null,null,null,"00:00:00"]
[103,"",null,null,null,null,null,null,null,null,null,"00:00:00"]
[104,"",null,null,null,null,null,null,null,null,null,"00:00:00"]
[105,"",null,null,null,null,null,null,null,null,null,"00:00:00"]
[106,"",null,null,null,null,null,null,null,null,null,{"$f":"MIN(I113,J113)","v":"00:00:00"}]
[107,"",null,null,null,null,null,null,null,null,null,"00:00:00"]
[108,"",null,null,null,null,null,null,null,null,null,"00:00:00"]
[109,"",null,null,null,null,null,null,null,null,null,"00:00:00"]
[110,"",null,null,null,null,null,null,null,null,null,"00:00:00"]
[111,"",null,null,null,null,null,null,null,null,null,"00:00:00"]
[112,"",null,null,null,null,null,null,null,null,null,"00:00:00"]
[113,"",null,null,null,null,null,null,null,null,null,"00:00:00"]
[114,"",null,null,null,null,null,null,null,null,null,"00:00:00"]
[115,"",null,null,null,null,null,null,null,null,null,"00:00:00"]
[116,"",null,null,null,null,null,null,null,null,null,"00:00:00"]
[117,"",null,null,null,null,null,null,null,null,null,"00:00:00"]
[118,"",null,null,null,null,null,null,null,null,null,"00:00:00"]
[119,"",null,null,null,null,null,null,null,null,null,"00:00:00"]
[120,"",null,null,null,null,null,null,null,null,null,"00:00:00"]
[121,"",null,null,null,null,null,null,null,null,null,"00:00:00"]
[122,"",null,null,null,null,null,null,null,null,null,"00:00:00"]
[123,"",null,null,null,null,null,null,null,null,null,"00:00:00"]
[124,"",null,null,null,null,null,null,null,null,null,"00:00:00"]
[125,"",null,null,null,null,null,null,null,null,null,"00:00:00"]
[126,"",null,null,null,null,null,null,null,null,null,"00:00:00"]
[127,"",null,null,null,null,null,null,null,null,null,"00:00:00"]
[128,"",null,null,null,null,null,null,null,null,null,"00:00:00"]
[129,"",null,null,null,null,null,null,null,null,null,"00:00:00"]
[130,{"$f":"IF(C137=\"\",\"\",IF(E137=E136,\"=\",A137))","v":""},null,null,null,null,null,null,null,null,null,"00:00:00"]
[131,"",null,null,null,null,null,null,null,null,null,"00:00:00"]
[132,"",null,null,null,null,null,null,null,null,null,"00:00:00"]
[133,"",null,null,null,null,null,null,null,null,null,"00:00:00"]
[134,"",null,null,null,null,null,null,null,null,null,"00:00:00"]
[135,"",null,null,null,null,null,null,null,null,null,"00:00:00"]
[136,"",null,null,null,null,null,null,null,null,null,"00:00:00"]
[137,"",null,null,null,null,null,null,null,null,null,"00:00:00"]
[138,"",null,null,null,null,null,null,null,null,null,{"$f":"MIN(I145,J145)","v":"00:00:00"}]
[139,"",null,null,null,null,null,null,null,null,null,"00:00:00"]
[140,"",null,null,null,null,null,null,null,null,null,"00:00:00"]
[141,"",null,null,null,null,null,null,null,null,null,"00:00:00"]
[142,"",null,null,null,null,null,null,null,null,null,"00:00:00"]
[143,"",null,null,null,null,null,null,null,null,null,"00:00:00"]
[144,"",null,null,null,null,null,null,null,null,null,"00:00:00"]
[145,"",null,null,null,null,null,null,null,null,null,"00:00:00"]
[146,"",null,null,null,null,null,null,null,null,null,"00:00:00"]
[147,"",null,null,null,null,null,null,null,null,null,"00:00:00"]
[148,"",null,null,null,null,null,null,null,null,null,"00:00:00"]
[149,"",null,null,null,null,null,null,null,null,null,"00:00:00"]
[150,"",null,null,null,null,null,null,null,null,null,"00:00:00"]
[151,"",null,null,null,null,null,null,null,null,null,"00:00:00"]
[152,"",null,null,null,null,null,null,null,null,null,"00:00:00"]
[153,"",null,null,null,null,null,null,null,null,null,"00:00:00"]
[154,"",null,null,null,null,null,null,null,null,null,"00:00:00"]
[155,"",null,null,null,null,null,null,null,null,null,"00:00:00"]
[156,"",null,null,null,null,null,null,null,null,null,"00:00:00"]
[157,"",null,null,null,null,null,null,null,null,null,"00:00:00"]
[158,"",null,null,null,null,null,null,null,null,null,"00:00:00"]
[159,"",null,null,null,null,null,null,null,null,null,"00:00:00"]
[160,"",null,null,null,null,null,null,null,null,null,"00:00:00"]
[161,"",null,null,null,null,null,null,null,null,null,"00:00:00"]
[162,{"$f":"IF(C169=\"\",\"\",IF(E169=E168,\"=\",A169))","v":""},null,null,null,null,null,null,null,null,null,"00:00:00"]
[163,"",null,null,null,null,null,null,null,null,null,"00:00:00"]
[164,"",null,null,null,null,null,null,null,null,null,"00:00:00"]
[165,"",null,null,null,null,null,null,null,null,null,"00:00:00"]
[166,"",null,null,null,null,null,null,null,null,null,"00:00:00"]
[167,"",null,null,null,null,null,null,null,null,null,"00:00:00"]
[168,"",null,null,null,null,null,null,null,null,null,"00:00:00"]
[169,"",null,null,null,null,null,null,null,null,null,"00:00:00"]
[170,"",null,null,null,null,null,null,null,null,null,{"$f":"MIN(I177,J177)","v":"00:00:00"}]
[171,"",null,null,null,null,null,null,null,null,null,"00:00:00"]
[172,"",null,null,null,null,null,null,null,null,null,"00:00:00"]
[173,"",null,null,null,null,null,null,null,null,null,"00:00:00"]
[174,"",null,null,null,null,null,null,null,null,null,"00:00:00"]
[175,"",null,null,null,null,null,null,null,null,null,"00:00:00"]
[176,"",null,null,null,null,null,null,null,null,null,"00:00:00"]
[177,"",null,null,null,null,null,null,null,null,null,"00:00:00"]
[178,"",null,null,null,null,null,null,null,null,null,"00:00:00"]
[179,"",null,null,null,null,null,null,null,null,null,"00:00:00"]
[180,"",null,null,null,null,null,null,null,null,null,"00:00:00"]
[181,"",null,null,null,null,null,null,null,null,null,"00:00:00"]
[182,"",null,null,null,null,null,null,null,null,null,"00:00:00"]
[183,"",null,null,null,null,null,null,null,null,null,"00:00:00"]
[184,"",null,null,null,null,null,null,null,null,null,"00:00:00"]
[185,"",null,null,null,null,null,null,null,null,null,"00:00:00"]
[186,"",null,null,null,null,null,null,null,null,null,"00:00:00"]
[187,"",null,null,null,null,null,null,null,null,null,"00:00:00"]
[188,"",null,null,null,null,null,null,null,null,null,"00:00:00"]
[189,"",null,null,null,null,null,null,null,null,null,"00:00:00"]
[190,"",null,null,null,null,null,null,null,null,null,"00:00:00"]
[191,"",null,null,null,null,null,null,null,null,null,"00:00:00"]
[192,"",null,null,null,null,null,null,null,null,null,"00:00:00"]
[193,"",null,null,null,null,null,null,null,null,null,"00:00:00"]
[194,{"$f":"IF(C201=\"\",\"\",IF(E201=E200,\"=\",A201))","v":""},null,null,null,null,null,null,null,null,null,{"$f":"MIN(I201,J201)","v":"00:00:00"}]
[195,""]
[196,""]
[197,""]
[198,""]
[199,""]
[200,""]
[201,""]
[202,""]
[203,""]
[204,""]
[205,""]
[206,""]
[207,""]
[208,""]
[209,""]
[210,""]
[211,""]
[212,""]
[213,""]
[214,""]
[215,""]
[216,""]
[217,""]
[218,""]
[219,""]
[220,""]
[221,""]
[222,""]
[223,""]
[224,""]
[225,""]
[226,""]
[227,""]
[228,""]
[229,""]
[230,""]
[231,""]
[232,""]
[233,""]
[234,""]
[235,""]
[236,""]
[237,""]
[238,""]
[239,""]
[240,""]
[241,""]
[242,""]
[243,""]
[244,""]
[245,""]
[246,""]
[247,""]
[248,""]
[249,""]
[250,""]
[251,""]
[252,""]
[253,""]
[254,""]
[255,""]
[256,""]
[257,""]
[258,{"$f":"IF(C265=\"\",\"\",IF(E265=E264,\"=\",A265))","v":""}]
[259,""]
[260,""]
[261,""]
[262,""]
[263,""]
[264,""]
[265,""]
[266,""]
[267,""]
[268,""]
[269,""]
[270,""]
[271,""]
[272,""]
[273,""]
[274,""]
[275,""]
[276,""]
[277,""]
[278,""]
[279,""]
[280,""]
[281,""]
[282,""]
[283,""]
[284,""]
[285,""]
[286,""]
[287,""]
[288,""]
[289,""]
[290,""]
[291,""]
[292,""]
[293,""]
[294,""]
[295,""]
[296,""]
[297,""]
[298,""]
[299,""]
[300,""]
[301,""]
[302,""]
[303,""]
[304,""]
[305,""]
[306,""]
[307,""]
[308,""]
[309,""]
[310,""]
[311,""]
[312,""]
[313,""]
[314,""]
[315,""]
[316,""]
[317,""]
[318,""]
[319,""]
[320,""]
[321,""]
[322,{"$f":"IF(C329=\"\",\"\",IF(E329=E328,\"=\",A329))","v":""}]
[323,""]
[324,""]
[325,""]
[326,""]
[327,""]
[328,""]
[329,""]
[330,""]
[331,""]
[332,""]
[333,""]
[334,""]
[335,""]
[336,""]
[337,""]
[338,""]
[339,""]
[340,""]
[341,""]
[342,""]
[343,""]
[344,""]
[345,""]
[346,""]
[347,""]
[348,""]
[349,""]
[350,""]
[351,""]
[352,""]
[353,""]
[354,""]
[355,""]
[356,""]
[357,""]
[358,""]

{"sheet":"2011&12","index":21,"n_rows":84,"n_cols":6,"rows_kept":84,"cut":false,"hidden":true,"merged":[]}
["Aaron Collins",5,null,null,"Peter Garnett",{"$f":"VLOOKUP(E1,$A$1:$B$84,2,FALSE)","v":25}]
["Andy Bentley",1,null,null,"Paul O'Driscoll",{"$f":"VLOOKUP(E2,$A$1:$B$84,2,FALSE)","v":9}]
["Andy Carnell",3,null,null,"Joe Schvartz",21]
["Andy Gibbs",1,null,null,"Aaron Collins",5]
["Andy Moran",1,null,null,"David Ryan",4]
["Andy Smith",3,null,null,"Clive Hayter",{"$error":"#N/A"}]
["Bernie Beale",7,null,null,"Chris Broad-Drake",20]
["Bernie McPhail",5,null,null,"Ross Harvey",4]
["Beth George",4,null,null,"Matt Cooper",1]
["Carl Brewer",3,null,null,"Dave Gibson",1]
["Chris Bishopp",5,null,null,"Rob Patterson",14]
["Chris Broad-Drake",20,null,null,"Marc Allen",29]
["Claire Smith",4,null,null,"Tom Longland",7]
["Craig Scott",3,null,null,"Paul Sewell",3]
["Crispin Doyle",2,null,null,"Dave Newton",6]
["Dave Gibson",1,null,null,"Mark Chick",{"$error":"#N/A"}]
["Dave Maine",2,null,null,"Michael Ponzo",6]
["Dave Woods",1,null,null,"Steve Harvey",4]
["David Firth",4,null,null,"Tom Sewell",5]
["Dave Newton",6,null,null,"Trevor Sherwood",{"$error":"#N/A"}]
["David Ryan",4,null,null,"Nick Fiore",{"$error":"#N/A"}]
["Gary Major",14,null,null,"Marc Roberts",{"$error":"#N/A"}]
["George Cooper",1,null,null,"Alex McIntosh",{"$error":"#N/A"}]
["Graham Messer",9,null,null,"Archie Scott",{"$error":"#N/A"}]
["Hannah Gibbs",2,null,null,"Katie Scott",{"$error":"#N/A"}]
["Jeff Smith",1,null,null,"Mandy Scott",{"$error":"#N/A"}]
["Jim Foster",18,null,null,"Richard Cooper",4]
["Joe Schvartz",21,null,null,"Pete Jeans",12]
["John Smith",1,null,null,"Nick Mawson",6]
["Keith Waller",9,null,null,"Keith Waller",9]
["Keith Warren",1,null,null,"Bernie Beale",7]
["Keith Williams",12,null,null,"Craig Scott",3]
["Kellie Salone",9,null,null,"Keith Williams",12]
["Keri Parton",10]
["Kieran Golding",15]
["Laura Holborow",1]
["Lee Rayfield",1]
["Les Liddiard",11]
["Marc Allen",29]
["Mark Kent",7]
["Mark Nelson",1]
["Mark Williams",2]
["Mark Woolford",22]
["Matt Cooper",1]
["Matt Woods",1]
["Mel Wadams",6]
["Mervyn Neely",1]
["Michael Ponzo",6]
["Mike Bowering",6]
["Mike Holborow",3]
["Mike Mason",12]
["Natalie Moore",8]
["Neil Pugh",1]
["Neil Rutter",2]
["Nick Lowe",19]
["Nick Mawson",6]
["Niel Dunnage",13]
["Paul Appleyard",5]
["Paul Bicknell",1]
["Paul Greenman",7]
["Paul O'Driscoll",9]
["Paul Ryan",2]
["Paul Sewell",3]
["Paul Tucker",1]
["Pete Jeans",12]
["Peter Garnett",25]
["Philip Bayley",1]
["Rhianna Jones",3]
["Richard Cooper",4]
["Richard Ryan",1]
["Rob Dentry",1]
["Rob Hall",6]
["Rob Patterson",14]
["Robert Ryan",1]
["Ross Harvey",4]
["Stefan Telford",2]
["Steve George",1]
["Steve Harvey",4]
["Steve Makin",1]
["Susanna Moore",2]
["Tom Bowering",7]
["Tom Longland",7]
["Tom Sewell",5]
["Will Blunt",1]

{"sheet":"Results 12 & 13","index":22,"n_rows":165,"n_cols":15,"rows_kept":165,"cut":false,"hidden":true,"merged":[]}
[]
[1,"Round 13 – 26th July 2012"]
[3,1,"Pete Garnett","Swindon RC","00:21:49"]
[6,4,"Joe Schvartz","Swindon RC","00:23:09"]
[7,5,"Chris Broad-Drake","Swindon RC","00:23:25"]
[8,6,"Mark Woolford","Swindon RC","00:23:26"]
[12,10,"Marc Allen","Swindon RC","00:24:08"]
[17,15,"Andy Smith","Swindon RC","00:24:38"]
[22,20,"Mike Mason","Swindon RC","00:25:10"]
[26,24,"Ross Harvey","Swindon RC","00:25:29"]
[28,26,"Tom Sewell (J)/Paul Sewell","Swindon RC","00:25:38"]
[31,{"$f":"29","v":29},"Claire Smith","Swindon RC","00:25:55"]
[33,31,"Rob Patterson","Swindon RC","00:25:57"]
[37,35,"Michael Ponzo","Swindon RC","00:26:56"]
[41,39,"Kellie Salone","Swindon RC","00:28:30"]
[42,40,"Steve Harvey","Swindon RC","00:28:31"]
[43,41,"Beth George","Swindon RC","00:28:46"]
[47,45,"Rhianna Jones","Swindon RC","00:32:10"]
[52,"Round 12 – 19th July 2012",null,null,null,null,null,null,null,null,null,null,null,null,"00:"]
[56,2,"Pete Garnett","Swindon RC","00:21:53"]
[57,3,"Les Liddiard","Swindon RC","00:22:19"]
[61,7,"Neil Pugh","Swindon RC","00:23:34"]
[62,8,"Aaron Collins","Swindon RC","00:23:44"]
[63,9,"Chris Broad-Drake","Swindon RC","00:23:55"]
[64,10,"Mark Woolford","Swindon RC","00:24:01"]
[65,11,"Marc Allen","Swindon RC","00:24:31"]
[69,15,"Mike Mason","Swindon RC","00:24:58"]
[70,16,"Rob Patterson","Swindon RC","00:25:43"]
[71,17,"Claire Smith","Swindon RC","00:25:48"]
[75,21,"Michael Ponzo","Swindon RC","00:26:30"]
[77,23,"Steve George","Swindon RC","00:26:58"]
[78,24,"Matt Cooper","Swindon RC","00:27:07"]
[82,28,"Keith Williams","Swindon RC","00:28:27"]
[83,29,"Beth George","Swindon RC","00:28:31"]
[100,"Round 10 – 5th July 2012",null,null,null,null,null,null,null,null,null,null,null,"00:"]
[103,1,"Pete Garnett","Swindon RC","00:21:59"]
[104,2,"Niel Dunnage","Swindon RC","00:22:19"]
[106,4,"Joe Schvartz","Swindon RC","00:23:12"]
[107,5,"Nick Mawson","Swindon RC","00:23:14"]
[109,{"$f":"6","v":6},"Mark Woolford","Swindon RC","00:23:31"]
[111,{"$f":"8","v":8},"Nick Lowe","Swindon RC","00:23:35"]
[113,11,"Chris Broad-Drake","Swindon RC","00:23:50"]
[114,12,"Aaron Collins","Swindon RC","00:23:55"]
[115,13,"Marc Allen","Swindon RC","00:23:58"]
[118,16,"Gary Major","Swindon RC","00:24:48"]
[123,21,"Paul Sewell","Swindon RC","00:26:28"]
[126,24,"Kellie Salone","Swindon RC","00:27:00"]
[127,25,"Kieran Golding","Swindon RC","00:27:36"]
[135,"Round 9 – 28th June 2012",null,null,null,null,null,null,null,null,null,null,"00:"]
[140,3,"Niel Dunnage","Swindon RC","00:22:24"]
[141,4,"Pete Garnett","Swindon RC","00:22:28"]
[143,6,"Les Liddiard","Swindon RC","00:22:56"]
[146,9,"Aaron Collins","Swindon RC","00:23:53"]
[147,10,"Chris Broad-Drake","Swindon RC","00:24:14"]
[148,11,"Nick Mawson","Swindon RC","00:24:25"]
[150,{"$f":"12","v":12},"Marc Allen","Swindon RC","00:24:36"]
[152,15,"Pete Jeans","Swindon RC","00:24:46"]
[153,{"$f":"16","v":16},"Gary Major","Swindon RC","00:25:04"]
[168,31,"Andy Smith","Swindon RC","00:27:34"]
[171,34,"Michael Ponzo","Swindon RC","00:28:05"]
[172,35,"David Newton","Swindon RC","00:28:06"]
[173,36,"Kellie Salone","Swindon RC","00:28:20"]
[174,37,"Keith Williams","Swindon RC","00:28:38"]
[175,38,"Beth George","Swindon RC","00:29:13"]
[187,3,"Crispin Doyle","Swindon RC","00:22:41"]
[193,9,"Joe Schvartz","Swindon RC","00:24:32"]
[196,12,"Marc Allen","Swindon RC","00:25:35"]
[201,17,"Tom Longland","Swindon RC","00:27:34"]
[202,18,"Kieran Golding","Swindon RC","00:29:03"]
[212,"Round 7 – 7th June 2012 ",null,null,null,null,null,null,null,null,"00:"]
[215,1,"Pete Garnett","Swindon RC","00:23:22"]
[220,6,"Marc Allen","Swindon RC","00:26:58"]
[230,"Round 6 – 31st May 2012",null,null,null,null,null,null,null,"00:"]
[233,2,"Pete Garnett","Swindon RC","00:22:29"]
[234,3,"Les Liddiard","Swindon RC","00:22:53"]
[237,6,"Nick Lowe","Swindon RC","00:23:47"]
[240,9,"Pete Jeans","Swindon RC","00:24:22"]
[245,14,"Mark Kent","Swindon RC","00:24:48"]
[246,15,"Jim Foster","Swindon RC","00:25:10"]
[251,20,"Paul Greenman","Swindon RC","00:25:54"]
[252,21,"Rob Patterson","Swindon RC","00:26:01"]
[257,26,"Bernie Beale","Swindon RC","00:27:17"]
[260,29,"Keith Williams","Swindon RC","00:28:50"]
[262,31,"Kellie Salone","Swindon RC","00:29:15"]
[273,"Round 5 – 24th May 2012",null,null,null,null,null,null,"00:"]
[278,3,"Pete Garnett","Swindon RC","00:22:03"]
[279,4,"Les Liddiard","Swindon RC","00:22:55"]
[281,6,"Mark Woolford","Swindon RC","00:23:08"]
[282,7,"Nick Lowe","Swindon RC","00:23:40"]
[283,8,"Pete Jeans","Swindon RC","00:23:41"]
[284,9,"Marc Allan","Swindon RC","00:23:41"]
[286,11,"Chris Broad-Drake","Swindon RC","00:23:46"]
[287,12,"Mike Holborrow","Swindon RC","00:24:12"]
[289,14,"Keith Williams","Swindon RC","00:24:25"]
[290,15,"Aaron Collins","Swindon RC","00:24:29"]
[292,17,"Gary Major","Swindon RC","00:24:34"]
[294,19,"Mark Kent","Swindon RC","00:24:46"]
[295,20,"Jim Foster","Swindon RC","00:24:49"]
[298,23,"Ross Harvey","Swindon RC","00:25:24"]
[299,24,"Dave Gibson","Swindon RC","00:25:26"]
[311,36,"David Newton","Swindon RC","00:26:51"]
[313,38,"Michael Ponzo","Swindon RC","00:27:33"]
[315,40,"Kellie Salone","Swindon RC","00:28:49"]
[317,42,"Beth George","Swindon RC","00:29:09"]
[319,44,"Philip Bayley","Swindon RC","00:29:57"]
[324,"Round 4 – 17th May 2012",null,null,null,null,null,"00:"]
[326,1,"Pete Garnett","Swindon RC","00:22:31"]
[328,{"$f":"3","v":3},"Niel Dunnage","Swindon RC","00:22:48"]
[329,{"$f":"3","v":3},"Les Liddiard","Swindon RC","00:22:48"]
[332,6,"Mark Woolford","Swindon RC","00:23:25"]
[334,8,"Richard Cooper","Swindon RC","00:23:54"]
[335,9,"Joe Schvartz","Swindon RC","00:24:28"]
[336,10,"Chris Broad-Drake","Swindon RC","00:24:37"]
[337,11,"Gary Major","Swindon RC","00:24:45"]
[339,13,"Keith Williams","Swindon RC","00:24:58"]
[340,14,"Marc Allen","Swindon RC","00:25:03"]
[343,17,"Mike Mason","Swindon RC","00:25:26"]
[344,18,"Ross Harvey","Swindon RC","00:25:40"]
[346,20,"Jim Foster","Swindon RC","00:25:43"]
[348,22,"Will Blunt","Swindon RC","00:25:58"]
[351,25,"Paul Greenman","Swindon RC","00:26:25"]
[352,26,"David Newton","Swindon RC","00:27:05"]
[353,27,"Tom Longland","Swindon RC","00:27:14"]
[356,30,"Kieran Golding","Swindon RC","00:28:46"]
[357,31,"Steve Harvey","Swindon RC","00:29:13"]
[360,null,"Tom Sewell (J)","Swindon RC","00:15:10"]
[363,"Round 3 – 10th May 2012",null,null,null,null,"00:"]
[365,1,"Pete Garnett","Swindon RC","00:22:56"]
[366,2,"Les Liddiard","Swindon RC","00:23:12"]
[369,5,"Niel Dunnage","Swindon RC","00:23:37"]
[372,8,"Nick Lowe","Swindon RC","00:24:27"]
[373,9,"Chris Broad-Drake","Swindon RC","00:25:26"]
[375,11,"Marc Allan","Swindon RC","00:25:57"]
[377,13,"Jim Foster","Swindon RC","00:26:14"]
[378,14,"Aaron Collins","Swindon RC","00:26:55"]
[380,16,"David Newton","Swindon RC","00:28:11"]
[381,17,"Michael Ponzo","Swindon RC","00:28:14"]
[382,18,"Tom Longland","Swindon RC","00:28:40"]
[384,20,"Kieran Golding","Swindon RC","00:30:27"]
[385,21,"Kellie Salone","Swindon RC","00:31:31"]
[390,"Round 2 – 3rd May 2012",null,null,null,"00:"]
[392,1,"Pete Garnett","Swindon RC","00:23:02"]
[393,2,"Les Liddiard","Swindon RC","00:23:12"]
[395,4,"Richard Cooper","Swindon RC","00:24:17"]
[396,5,"Joe Schvartz","Swindon RC","00:24:32"]
[398,7,"Chris Broad-Drake","Swindon RC","00:25:07"]
[399,8,"Gary Major","Swindon RC","00:25:25"]
[401,10,"Marc Allen","Swindon RC","00:25:42"]
[405,14,"David Newton","Swindon RC","00:27:03"]
[409,18,"Ross Harvey","Swindon RC","00:27:35"]
[413,22,"Steve Harvey","Swindon RC","00:30:37"]
[415,24,"Kellie Salone","Swindon RC","00:32:00"]
[418,null,"Natalie Moore","Swindon RC","00:23:42"]
[422,"Round 1 – 26th April 2012",null,null,"00:"]
[426,1,"Pete Garnett","Swindon RC","00:23:08"]
[427,2,"Niel Dunnage","Swindon RC","00:23:37"]
[428,3,"Nick Lowe","Swindon RC","00:24:05"]
[430,5,"Chris Broad-Drake","Swindon RC","00:25:07"]
[432,7,"Jim Foster","Swindon RC","00:25:56"]
[433,8,"Joe Schvartz","Swindon RC","00:25:56"]
[435,10,"Marc Allen","Swindon RC","00:26:24"]
[437,12,"David Newton","Swindon RC","00:28:17"]
[439,14,"Tom Longland","Swindon RC","00:30:07"]
[440,15,"Paul Bicknell","Swindon RC","00:32:24"]
[441,16,"Kellie Salone","Swindon RC","00:33:15"]

{"sheet":"Rota 13","index":23,"n_rows":80,"n_cols":13,"rows_kept":80,"cut":false,"hidden":true,"merged":[[0,0,0,12],[7,0,11,0],[13,0,14,0]]}
["Swindon RC Club 10 Rota"]
[null,"Saturday\n6 April\nCome & Try It","Thursday\n11 April\nPrologue","Thursday\n25 April","Thursday\n9 May","Thursday\n23 May","Thursday\n6 June\nInterclub","Thursday\n13 June\nCome & Try It","Thursday\n27 June","Thursday\n11 July","Thursday\n25 July\n","Thursday\n8 August","Thursday\n22 August"]
["Event Coordinator","Peter Garnett","Peter Garnett","Peter Garnett","Peter Garnett","Peter Garnett","Peter Garnett","Peter Garnett","Peter Garnett","Peter Garnett","Peter Garnett","Peter Garnett","Peter Garnett"]
["Deputy Event Coordinator"]
["Signing On Official","Theresa Garnett","Claire Smith","Jeff Smith","Jeff Smith","Peter Garnett","Jeff Smith","Claire Smith","Jeff Smith","Marc Allen","Dave Gibson","Dave Gibson","Peter Garnett"]
["Signage","Peter Garnett","Peter Garnett","Peter Garnett","Peter Garnett","Peter Garnett","Peter Garnett","Peter Garnett","Peter Garnett","Peter Garnett","Peter Garnett","Peter Garnett","Peter Garnett"]
["Start Timekeeper","Les Liddiard","Nick\nFiore","Dave Newton","Joe Schvartz","Steve Harvey","Nick Fiore","Nick Fiore","Joe Schvartz","Marc Allen","Nick Fiore","Nick Lowe","Dave Gibson"]
["Finish Timekeeper","Chris Broad-Drake","Chris Broad-Drake","Chris Broad-Drake","Steve Harvey","Chris Broad-Drake","Steve Harvey",null,"Chris Broad-Drake","Chris Broad-Drake","Chris Broad-Drake","Steve Harvey","Chris Broad-Drake"]
[null,null,null,null,"Chris Broad-Drake"]
[null,null,null,null,"Ross Harvey"]
[null,null,null,null,"Dave Gibson"]
[null,null,null,null,null,null,null,null,null,"Peter Garnett","Peter Garnett",null,"Peter Garnett"]
["Publishing Results","Peter Garnett","Peter Garnett","Peter Garnett","Peter Garnett","Peter Garnett","Peter Garnett","Peter Garnett","Peter Garnett","Peter Garnett","Peter Garnett","Peter Garnett","Peter Garnett"]
["Marshal (Spine Road Roundabout)","Clive Hayter","Peter Garnett","Kieran Golding","Paul Sewell","Paul Sewell",null,"Kieran Golding","Kieran Golding","Rob Patterson","Kieran Golding","Peter Garnett"]
[null,"Paul Fuchs",null,null,null,"Paul Sewell",null,"Marc Allen",null,null,null,"Dave Gibson"]
["Marshal (Marston Meysey Roundabout)","Allan Semple","Les Liddiard","Keith Waller","Bernie Beale","Rob Patterson",null,"Mark Chick","Peter Garnett","Sen Bolton","Aaron Collins"]
["Refreshments","Theresa Garnett","Claire Smith","Jeff Smith","Jeff Smith","Pete Jeans","Jeff Smith","Pete Jeans","Jeff Smith","Pete Jeans","Pete Jeans","Jeff Smith","Jeff Smith"]
["Pusher Off","Chris Lowe","Pete Jeans","Various","Peter Garnett","Joe Schvartz","Dave Gibson","Gerry Peppin","Jeff Smith","Various","Kieran Golding"]
["Finish Line Spotter","Jeff Smith",null,null,null,"Dave Gibson",null,null,"Jeff Smith","Marc Allen"]
[]
["Marc Allen",{"$f":"COUNTIF($B$3:$M$19,A21)","v":4},16]
["Chris Broad-Drake",9,15]
["Peter Garnett",45,15]
["Rob Patterson",2,14]
["Pete Jeans",5,12]
["Steve Davies",0,12]
["Joe Schvartz",3,11]
["Marc Roberts",0,11]
["Paul O'Driscoll",0,11]
["Tom Sewell",0,11]
["Les Liddiard",2,10]
["Ross Harvey",1,10]
["Aaron Collins",1,9]
["Adriano dos Santos",0,9]
["Mark Woolford",0,9]
["Nick Fiore",3,9]
["Alex McIntosh",0,8]
["Dave Gibson",7,8]
["Keith Williams",0,7]
["Mark Kent",0,7]
["Steve Harvey",4,7]
["Amanda Dickson",0,6]
["Archie Scott",0,6]
["Katie Scott",0,6]
["Keith Waller",1,6]
["Mandy Scott",0,6]
["Paul Sewell",3,6]
["Daniel Darby",0,5]
["Nick Lowe",1,5]
["Rob Merrison",0,5]
["Andy Smith",0,4]
["Jeff Smith",13,4]
["Lee Rayfield",0,4]
["Niel Dunnage",0,4]
["Bernie Beale",1,3]
["Clive Hayter",1,3]
["Mark Chick",1,3]
["Matt Cooper",0,3]
["Andy Bent",0,2]
["Bernie McPhail",0,2]
["Chris Fox",0,2]
["Dave Newton",1,2]
["Elliot Lassiter",0,2]
["Kieran Golding",5,2]
["Michael Ponzo",0,2]
["Mike Holborow",0,2]
["Neil Rutter",0,2]
["Nick Mawson",0,2]
["Paul Adams",0,2]
["Richard Cooper",0,2]
["Tom Longland",0,2]
["Trevor Sherwood",0,2]
["Andy Bentley",0,1]
["Claire Smith",3,1]
["Craig Scott",0,1]
["Daniel Watt",0,1]
["Dave Roper",0,1]
["David Ryan",0,1]
["Paul Ryan",0,1]
["Walter Featherstone",0,1]

{"sheet":"Club 10","index":24,"n_rows":65,"n_cols":6,"rows_kept":65,"cut":false,"hidden":true,"merged":[]}
[null,"Pete Hutchinson",null,null,null,2]
[null,"pete.hutchinson@agd-systems.com <pete.hutchinson@agd-systems.com>;",null,null,null,3]
[null,"07811 464484",null,null,null,4]
[null,null,null,null,null,5]
[null,null,null,null,null,6]
[null,null,null,null,null,7]
[null,null,null,null,null,8]
[null,null,null,null,null,9]
["S & C","Continue to alternate with Corinium? or amalgamate?",null,null,null,10]
["S & C","Help on other club's night",null,null,null,11]
["S & C","Dates/times extend with break",null,null,null,12]
[null,null,null,null,null,13]
[null,"Marshalling/help",null,null,null,14]
["S & C","Signing on",null,null,null,15]
["S & C","Signs/risk",null,null,null,16]
["S & C","Start TK",null,null,null,17]
["S & C","Pusher",null,null,null,18]
["S & C","Marshals",null,null,null,19]
["S & C","Finish TK",null,null,null,20]
["S & C","Teas",null,null,null,21]
["S & C","Optimum?",null,null,null,23]
[null,"Minimum?",null,null,null,24]
[null,null,null,null,null,25]
[null,"HQ",null,null,null,26]
["S & C","Is HQ needed?",null,null,null,27]
["S & C","Are teas needed?",null,null,null,28]
["S & C","Is there an alternative? ",null,null,null,29]
["S & C","Car park only? Cotswold Outdoor/Countrywide",null,null,null,30]
["S & C","Reserve early starts for helper riders",null,null,null,31]
["S & C","Reserve start time?",null,null,null,32]
["S & C","Sign on at start? First rider - 10 mins (trial)",null,null,null,33]
["S & C","Phone",null,null,null,34]
[null,null,null,null,null,35]
[null,"Points series/results",null,null,null,36]
["S","Publish by Friday?",null,null,null,37]
["S","Handicap alternatives calc methods",null,null,null,38]
["S","Scratch",null,null,null,39]
["S","Road bike/non aero (need to define - standard bars, no disc, road helmet?)",null,null,null,40]
["S","Newcomer",null,null,null,41]
[null,null,null,null,null,43]
[null,"Encourage newcomers",null,null,null,44]
["S","Flyers at club rides (including maps)",null,null,null,45]
["S","Ride out to HQ/start",null,null,null,46]
["S & C","Come n try it earlier in season/Saturday morning (instead of/en route to greasies)",null,null,null,47]
[null,"Club clip-ons?",null,null,null,48]
[null,null,null,null,null,48]
[null,"Cost",null,null,null,49]
["S & C","How much?",null,null,null,50]
["S & C","Reduced/free entry for helpers ",null,null,null,51]
[null,null,null,null,null,52]
[null,"Interclub",null,null,null,53]
["S & C","Include Chippenham, Wheelers, 24/7, Performance",null,null,null,54]
["S & C","Away interclub?",null,null,null,55]
[null,null,null,null,null,56]
[null,null,null,null,null,57]
["Club","Corinium PH","Pete 14/3"]
["Club","Cotswold Veldrijden - claireandandy2002@yahoo.co.uk","2013-03-20"]
["Club","Swindon Wheelers - kaymills@live.co.uk","2013-03-21"]
["Club","North Wilts "]
["Club","Swindon Tri - Clive.Hayter@epsrc.ac.uk ","Clive 14/3"]
["Club","MB Swindon - info@mbswindon.co.uk ","2013-03-21"]
["Comm","Performance Cycles - andy.kirk@performancecycles.co.uk","Simon 14/3"]
["Comm","Ride 24/7 - info@ride-247.co.uk","2013-03-16"]
["Comm","Hargroves - swindon@hargrovescycles.co.uk"]
["Comm","Swindon Cycles swindoncycles@yahoo.co.uk","2013-03-16"]

{"sheet":"Scratch Comps","index":25,"n_rows":8,"n_cols":5,"rows_kept":8,"cut":false,"hidden":true,"merged":[]}
["Competition","Eligibility","Number of counting rides","Minimum riders for award of prizes","Minimum counting rides"]
["Handicap","All first claim SRC members",7,10,5]
["Overall Scratch","All first claim SRC members",7,10,5]
["Non-Aero Scratch","First claim SRC members not using aero/TT bars, disc wheel or TT helmet",7,5,5]
["50 & Over Scratch","First claim SRC members aged 50 or over on 31 March",7,5,5]
["Ladies Scratch","Female first claim SRC members",5,3,4]
["16 & Under Scratch","First claim SRC members aged 16 or under on 31 March  (Riders must be aged 12 or over at the time of riding)",5,3,4]
["Newcomer Scratch","First claim SRC members who have ridden three or fewer SRC/CC Club 10 events (excluding Come and Try It and New Years Day events) in the preceding two seasons",5,3,4]